Workbook

Sheet Лист1
B2: СОГЛАСОВАНО | K2: УТВЕРЖДАЮ
B3: Начальник отдела образования | K3: Директор ГБОУ школа № 606
B4: администрации Пушкинского района | K4: Пушкинского района Санкт-Петербурга
B5: Санкт-Петербурга
B6: _________________И.Н. Орловская | K6: ________________ М.М. Шмулевич
B7: «___» апреля 2026 г. | K7: «____» апреля 2026 г.
B10: Расчет начальной (максимальной) цены контракта, заключаемого с единственным поставщиком (подрядчиком, исполнителем),
B11: на поставку настольных игр, спортивного инвентаря, канцелярских товаров и развивающих наборов для ГБОУ школа № 606 Пушкинского района Санкт-Петербурга в 2026 году
A12: № п/п | B12: Наименование | M12: НМЦК с НДС, руб.
A13: 1 | B13: Расчет №1 | M13: 11302.36
A14: 2 | B14: Расчет №2 | M14: 28214.55
A15: 3 | B15: Расчет №3 | M15: 49912
A16: Итого: | M16: =M15+M14+M13 -> 89428.91
A18: Расчет составил: контрактный управляющий Рыбкина О.В.
M19: Расчет №1
A20: № п/п | B20: ОКПД2/КТРУ | C20: ККН | D20: Наименование товара | E20: Характеристики товара | F20: № по приложению № 2 к ППр СПб №489 | G20: Ед. изм. | H20: Кол-во | I20: Цена из оаспоряжения КГЗ № 100-р, руб., с НДС | J20: Цена из реестра товаров, в т.ч. НДС, руб. | K20: Среднеквадратичное отклонение | L20: Коэффициент вариации | M20: Цена за ед., в т. ч. НДС, руб. | N20: Сумма, руб., с НДС
A21: 1 | B21: 17.12.14.129/17.12.14.110-00000006 | C21: 19 | D21: Бумага для офисной техники | E21: Характеристика применяется ≥ 80.00000000000 < 90.00000000000 Г (Грамм) Формат: А4 Цветность: Цветная Количество листов в пачке: ≥ 100.00000000000 шт (Штука) Количество цветов в пачке: 5 шт (Штука) Тон:Пастельный Неоновый Интенсивный Медиум Соответствие нормативно-технической документации: ТУ производителя | F21: 279 | G21: пач | H21: 10 | I21: 527.67 | J21: _ | K21: _ | L21: _ | M21: 527.67 | N21: =M21*H21 -> 5276.7
A22: 2 | B22: 25.99.23.000/25.99.23.000-00000020 | C22: 52 | D22: Скрепки металлические | E22: Длина, max:≤ 30.0000 ММ (Миллиметр) Длина, min: ≥ 26.0000 ММ (Миллиметр) Количество штук в упаковке: ≥ 100.0000 Форма:Овальная Покрытие материала: Цветное полимерное Фактура поверхности:Гладкая Вид упаковки: Картонная коробка Соответствие нормативно-технической документации: Характеристика применяется РСТ РСФСР 38-87 ТУ производителя | F22: 447 | G22: упак | H22: 11 | I22: 80.61 | J22: _ | K22: _ | L22: _ | M22: 80.61 | N22: =M22*H22 -> 886.71
A23: 3 | B23: 28.24.11.000/28.24.11.000-00000007 | C23: 41 | D23: Пистолет клеевой электрический | E23: Диаметр клеевого стержня: Характеристика применяется 7 ММ (Миллиметр) Мощность: Характеристика применяется < 30.0000 ВТ (Ватт) ≥ 30.0000 < 50.0000 ВТ (Ватт) ≥ 50.0000 < 100.0000 ВТ (Ватт) Наличие курка: Да Наличие режима регулировки температуры: Нет Производительность, г/мин: Характеристика применяется < 5.0000 ≥ 10.0000 < 15.0000 ≥ 5.0000 < 10.0000 ≥ 15.0000 < 20.0000 ≥ 20.0000 < 25.0000 Рабочая температура:< 100.0000 ГРАД ЦЕЛЬС (Градус Цельсия) ≥ 200.0000 ГРАД ЦЕЛЬС (Градус Цельсия) ≥ 100.0000 < 150.0000 ГРАД ЦЕЛЬС (Градус Цельсия) ≥ 150.0000 < 200.0000 ГРАД ЦЕЛЬС (Градус Цельсия) Стержни в комплекте: Да Нет Тип питания: Характеристика применяется от сети Соответствие нормативно-технической документации: Характеристика применяется ТУ производителя | F23: 458 | G23: шт. | H23: 5 | I23: 1027.79 | J23: _ | K23: _ | L23: _ | M23: 1027.79 | N23: =M23*H23 -> 5138.95
A24: Итого: | N24: =N23+N22+N21 -> 11302.36
A26: "В целях применения нормативного метода используются предельные цены, установленные в соответствии со статьей 19 Закона, Постановлением Правительства Санкт- Петербурга от 15.06.2016 № 489 «Об утверждении Правил определения требований к закупаемым государственными органами Санкт-Петербурга, органом управления территориальным государственным внебюджетным фондом и подведомственными им казенными учреждениями, бюджетными учреждениями и государственными унитарными предприятиями отдельным видам товаров, работ, услуг (в том числе предельных цен товаров, работ, услуг)», распоряжением Комитета по государственному заказу Санкт- Петербурга от 31.05.2018 № 100-р «Об утверждении значений потребительских свойств (в том числе характеристик качества) и иных характеристик (в том числе предельных цен) отдельных видов товаров, работ, услуг», а также №326-р от 29.06.2020 г. «Об утверждении требований к закупаемым администрацией Пушкинского района Санкт- Петербурга, подведомственными ей казенными и бюджетными учреждениями отдельным видам товаров, работ, услуг (в том числе предельных цен товаров, работ, услуг)."
M27: Расчет №2
A28: № п/п | B28: ОКПД2 | C28: ККН | D28: Наименование товара | E28: Характеристики товара | F28: Ед. изм. | G28: Кол-во | H28: Источник ценовой информации* | I28: Цена, в т.ч. НДС, руб. | J28: Среднеквадратичное отклонение | K28: Коэффициент вариации | L28: Наименьшая цена включая НДС, руб. | M28: Сумма, руб., с НДС
B29: 32.30.15.114 | C29: 1 | D29: Волан для бадминтона | E29: Вид волана: Перьевой Скорость волана: Медленная; Средняя; Быстрая Количество перьев: не менее 14 не более 16 ШТ Общая высота волана: не более 74 ММ Диаметр оперения: не более 54 ММ Диаметр пробки (основания): не менее 25 не более 28 ММ Масса волана: не менее 4,75 не более 5,5 Г Количество в упаковке: ≥12 Соответствие стандартам BWF: Нет; Да Соответствие нормативно-технической документации: ТУ производителя | F29: упак | G29: 3 | H29: =[1]расчет!I31 -> 2780113607724000141 от 11.12.2024 | I29: =[1]расчет!J31 -> 593.46 | J29: =[1]расчет!K31 -> 50.16 | K29: =[1]расчет!L31 -> 9.01 | L29: =[1]расчет!M31 -> 470 | M29: =L29*G29 -> 1410
H30: =[1]расчет!I32 -> 2781616410125000017 от 19.05.2025 | I30: =[1]расчет!J32 -> 573.03
H31: =[1]расчет!I33 -> Экранная копия от 20.01.2026 № 04-71/26-0-0 | I31: =[1]расчет!J33 -> 560
H32: =[1]расчет!I34 -> Экранная копия от 20.01.2026 № 04-90/26-0-0 | I32: =[1]расчет!J34 -> 587
H33: =[1]расчет!I35 -> Ответ на запрос от 02.02.2026 № 04-385/26-0-0 | I33: =[1]расчет!J35 -> 470
A34: 1 | B34: 32.30.15.231 | C34: 27 | D34: Мяч волейбольный | E34: Вид мяча: Любительский Вид спорта: Классический волейбол Размер: 5 Материал покрышки: Синтетический; Натуральный Материал камеры: Резина; Латекс; Поливинилхлорид; Бутил Количество панелей: ≥16; ≥12 и <16; <12 ШТ Тип соединения панелей: Клеевая; Термосшивка; Гибридная сшивка; Машинная сшивка; Ручная сшивка Наличие сертификата FIVB: Нет Соответствие нормативно-технической документации: ТУ производителя | F34: ШТ | G34: 7 | H34: =[1]расчет!I36 -> 2781015172325000008 от 17.03.2025 | I34: =[1]расчет!J36 -> 1692.87 | J34: =[1]расчет!K36 -> 117.84 | K34: =[1]расчет!L36 -> 7.53 | L34: =[1]расчет!M36 -> 1390 | M34: =L34*G34 -> 9730
H35: =[1]расчет!I37 -> 2781015179424000031 от 09.08.2024 | I35: =[1]расчет!J37 -> 1611.69
H36: =[1]расчет!I38 -> Экранная копия от 20.01.2026 № 04-73/26-0-0 | I36: =[1]расчет!J38 -> 1390
H37: =[1]расчет!I39 -> Экранная копия от 20.01.2026 № 04-89/26-0-0 | I37: =[1]расчет!J39 -> 1620
H38: =[1]расчет!I40 -> Ответ на запрос от 02.02.2026 № 04-385/26-0-0 | I38: =[1]расчет!J40 -> 1507
A39: 2 | B39: 32.30.15.231 | C39: 30 | D39: Мяч для настольного тенниса | E39: Категория: 1 Уровень игры: Начинающий; Любительский Материал: Пластик; Целлулоид Диаметр: ≥40; <40 ММ Масса: не менее 2,5 не более 2,77 Г Количество в упаковке: ≤10 ШТ Соответствие стандарту ITTF: Отсутствие Соответствие нормативно-технической документации: Приказ Минспорта России от 19.12.2017 № 1083 "Правила вида спорта "настольный теннис"; ТУ производителя | F39: УПАК | G39: 10 | H39: =[1]расчет!I41 -> 2780415789325000020 от 09.06.2025 | I39: =[1]расчет!J41 -> 250.85 | J39: =[1]расчет!K41 -> 25.02 | K39: =[1]расчет!L41 -> 9.77 | L39: =[1]расчет!M41 -> 220 | M39: =L39*G39 -> 2200
H40: =[1]расчет!I42 -> 2780433385224000028 от 20.05.2024 | I40: =[1]расчет!J42 -> 258.98
H41: =[1]расчет!I43 -> Экранная копия от 20.01.2026 № 04-73/26-0-0 | I41: =[1]расчет!J43 -> 220
H42: =[1]расчет!I44 -> Экранная копия от 20.01.2026 № 04-88/26-0-0 | I42: =[1]расчет!J44 -> 260
H43: =[1]расчет!I45 -> Ответ на запрос от 26.02.2026 № 04-2021/26-0-0 | I43: =[1]расчет!J45 -> 290
A44: 3 | B44: 32.30.15.231 | C44: 33 | D44: Мяч баскетбольный | E44: Вид мяча: Любительский Размер: 7; 6; 5; 3 Материал покрышки: Синтетический; Натуральный Материал камеры: Резина; Латекс; Поливинилхлорид; Бутил Количество панелей: ≥16; >14 и ≤16; >10 и ≤14; >6 и ≤10; ≤6 ШТ Камера с армированной нейлоновой нитью: Нет; Да Тип соединения панелей: Клееный Наличие сертификата FIBA: Нет; Да Соответствие нормативно-технической документации: ГОСТ Р 56434-2015; ТУ производителя | F44: ШТ | G44: 6 | H44: =[1]расчет!I46 -> 2781015179424000031 от 09.08.2024 | I44: =[1]расчет!J46 -> 1170.53 | J44: =[1]расчет!K46 -> 93.91 | K44: =[1]расчет!L46 -> 8.78 | L44: =[1]расчет!M46 -> 946 | M44: =L44*G44 -> 5676
H45: =[1]расчет!I47 -> 2782032979725000024 от 20.06.2025 | I45: =[1]расчет!J47 -> 1061.13
...
