Workbook

Sheet НМЦК 2 поз
A1: "ОБОСНОВАНИЕ НАЧАЛЬНОЙ (МАКСИМАЛЬНОЙ) ЦЕНЫ КОНТРАКТА Определение и обоснование начальной (максимальной) цены контракта проведено в соответствии с положениями ч.22, ст. 22 Федерального закона от 05.04.2013 № 44 – ФЗ «О контрактной системе в сфере закупок товаров, работ, услуг для обеспечения государственных и муниципальных нужд» и Порядком определения начальной (максимальной) цены контракта, цены контракта, заключаемого с единственным поставщиком (подрядчиком, исполнителем), начальной цены единицы товара, работы, услуги при осуществлении закупок лекарственных препаратов для медицинского применения, утвержденных приказом Министерства Здравоохранения РФ от 19.12.2019 № 1064н. В связи с тем, что на участие в закупке среестровым номером 2026006015979 не подано ни одной заявки по НМЦК с ценой единицы планируемых к закупке лекарственных препаратов, определенных в соответствии с п.8 Порядка определения начальной (максимальной) цены контракта, цены контракта, заключаемого с единственным поставщиком (подрядчиком, исполнителем), при осуществлении закупок лекарственных препаратов для медицинского применения, утвержденного Приказом Минздрава России от 19.12.2019 N 1064н, то в соответствии с п.12 настоящего Порядка, при объявлении следующей закупки в качестве цены единицы планируемого к закупке лекарственного препарата принимается минимальное значение начальной цены единицы лекарственного препарата, следующее после НМЦК, начальной цены единицы лекарственного препарата, на участие в закупке по которой не подано ни одной заявки.
A8: № | B8: Наименование предмета контракта | C8: Потребность (лекарственная форма, дозировка, фасовка) | D8: Ед.изм. | E8: Кол-во | F8: Коммерческие предложения | L8: Однородность совокупности значений выявленных цен, используемых в расчете цена контракта | O8: Цена единицы планируемого к закупке лекарственного средства | P8: grls.rosminzdrav.ru | Q8: Заключенные заказчиком контракты (договора) за предшествующие 12 месяцев (без учета НДС и оптовой надбавки) | T8: Средневзвешенная цена | U8: Цена единицы планируемого к закупке лекарственного средства (руб./ед.изм.) | V8: Цена единицы планируемого к закупке лекарственного средства с учетом НДС (руб./ед.изм.) | W8: Цена единицы планируемого к закупке лекарственного средства с учетом НДС и оптовой надбавки | X8: НМЦК с учетом округления цены за единицу (руб.)*
F9: Цена | G9: КП №1 | H9: Цена | I9: КП №2 | J9: Цена | K9: КП №3 | L9: Сред. арифм. цена за ед <ц> | M9: Сред. квадратич. отклонение | N9: Коэффициент вариации цен V (%) | Q9: Цена (руб. за ед. изм) | R9: кол-во закупленных лекарственных препаратов в ед изм | S9: Общая стоимость (руб.) | AA9: ВМП по НМЦК | AD9: ОМС по НМЦК | AG9: Вб по НМЦК
A10: 1 | B10: 2 | C10: 3 | D10: 4 | E10: 5 | F10: 6 | G10: 7 | H10: 8 | I10: 9 | J10: 10 | K10: 11 | L10: 12 | M10: 13 | N10: 14 | O10: 15 | P10: 16 | Q10: 17 | R10: 18 | S10: 19 | T10: 20 | U10: 21 | V10: 22 | W10: 23 | X10: 24 | AA10: к-во уп | AB10: цена за уп | AC10: сумма | AD10: к-во уп | AE10: цена за уп | AF10: сумма | AG10: к-во уп | AH10: цена за уп | AI10: сумма
A11: 1 | B11: РОКУРОНИЯ БРОМИД | C11: Раствор для внутривенного введения, 10 мг/мл | D11: мл | E11: 1800 | F11: =[1]кп!G1 -> 38.292 | G11: КП-1 | H11: =[1]кп!J1 -> 38.360909 | I11: КП-2 | J11: =[1]кп!M1 -> 42.242424 | K11: КП-29593 | L11: =AVERAGE(F11,H11,J11) -> 39.631778 | M11: =STDEV(F11,H11,J11) -> 2.2611487 | N11: =M11/L11*100 -> 5.705393 | O11: =MIN(F11,H11,J11) -> 38.292 | P11: 19.0976 | Q11: 25.87 | T11: =Q11 -> 25.87 | U11: =MIN(O11,P11,Q11) -> 19.0976 | V11: =U11*1.1 -> 21.00736 | W11: =V11*1.1 -> 23.108096 | X11: =Y11*E11 -> 41598 | Y11: =ROUND(W11,2) -> 23.11
A12: 2 | B12: ДЕКСАМЕТАЗОН | C12: Раствор для инъекций (ГРЛС: Раствор для внутривенного и внутримышечного введения), 4 мг/мл | D12: мл | E12: 220 | F12: =[1]кп!G2 -> 8.814 | G12: КП-1 | H12: =[1]кп!J2 -> 8.8144068 | I12: КП-2 | J12: =[1]кп!M2 -> 10.216071 | K12: КП-2960 | L12: =AVERAGE(F12,H12,J12) -> 9.2814927 | M12: =STDEV(F12,H12,J12) -> 0.80936892 | N12: =M12/L12*100 -> 8.7202451 | O12: =MIN(F12,H12,J12) -> 8.814 | P12: 4.0855 | Q12: 11.91 | T12: =Q12 -> 11.91 | U12: =MIN(O12,P12,Q12) -> 4.0855 | V12: =U12*1.1 -> 4.49405 | W12: =V12*1.18 -> 5.302979 | X12: =Y12*E12 -> 1166 | Y12: =ROUND(W12,2) -> 5.3
A13: 3 | B13: НЕОСТИГМИНА МЕТИЛСУЛЬФАТ ГРЛС: [3-(ДИМЕТИЛКАРБАМОИЛОКСИ)ФЕНИЛ]ТРИМЕТИЛАММОНИЯ МЕТИЛСУЛЬФАТ | C13: Раствор для инъекций (ГРЛС: Раствор для внутривенного и подкожного введения), 0.5 мг/мл | D13: мл | E13: 500 | F13: =[1]кп!G3 -> 5.092 | G13: КП-1 | H13: =[1]кп!J3 -> 5.0966102 | I13: КП-2 | J13: =[1]кп!M3 -> 5.6067797 | K13: КП-2961 | L13: =AVERAGE(F13,H13,J13) -> 5.2651299 | M13: =STDEV(F13,H13,J13) -> 0.29588631 | N13: =M13/L13*100 -> 5.6197343 | O13: =MIN(F13,H13,J13) -> 5.092 | P13: 5.099 | Q13: 9.02 | T13: =Q13 -> 9.02 | U13: =MIN(O13,P13,Q13) -> 5.092 | V13: =U13*1.1 -> 5.6012 | W13: =V13*1.18 -> 6.609416 | X13: =Y13*E13 -> 3305 | Y13: =ROUND(W13,2) -> 6.61
A14: 4 | B14: ОНДАНСЕТРОН | C14: Раствор для внутривенного и внутримышечного введения, 2 мг/мл | D14: мл | E14: 1200 | F14: =[1]кп!G4 -> 6.4935 | G14: КП-1 | H14: =[1]кп!J4 -> 6.6964286 | I14: КП-2 | J14: =[1]кп!M4 -> 7.5892857 | K14: КП-2962 | L14: =AVERAGE(F14,H14,J14) -> 6.9264048 | M14: =STDEV(F14,H14,J14) -> 0.58296944 | N14: =M14/L14*100 -> 8.4166239 | O14: =MIN(F14,H14,J14) -> 6.4935 | P14: 7.13025 | Q14: 13.69 | T14: =Q14 -> 13.69 | U14: =MIN(O14,P14,Q14) -> 6.4935 | V14: =U14*1.1 -> 7.14285 | W14: =V14*1.12 -> 7.999992 | X14: =Y14*E14 -> 9600 | Y14: =ROUND(W14,2) -> 8
A15: 5 | B15: ДРОТАВЕРИН | C15: Раствор для внутривенного и внутримышечного введения (ГРЛС: Раствор для инъекций), 20 мг/мл (ГРЛС: 40 мг) | D15: мл | E15: 1100 | F15: =[1]кп!G5 -> 6.526 | G15: КП-1 | H15: =[1]кп!J5 -> 6.5138393 | I15: КП-2 | J15: =[1]кп!M5 -> 7.1785714 | K15: КП-2963 | L15: =AVERAGE(F15,H15,J15) -> 6.7394702 | M15: =STDEV(F15,H15,J15) -> 0.38032139 | N15: =M15/L15*100 -> 5.6431942 | O15: =MIN(F15,H15,J15) -> 6.5138393 | P15: 2.546 | Q15: 4.4 | T15: =Q15 -> 4.4 | U15: =MIN(O15,P15,Q15) -> 2.546 | V15: =U15*1.1 -> 2.8006 | W15: =V15*1.12 -> 3.136672 | X15: =Y15*E15 -> 3454 | Y15: =ROUND(W15,2) -> 3.14
A16: 6 | B16: ДРОТАВЕРИН | C16: Таблетки, покрытые оболочкой (ГРЛС: Таблетки покрытые пленочной оболочкой), 40 мг | D16: шт | E16: 250 | F16: =[1]кп!G6 -> 1.359 | G16: КП-1 | H16: =[1]кп!J6 -> 1.3598305 | I16: КП-2 | J16: =[1]кп!M6 -> 1.4962712 | K16: КП-2964 | L16: =AVERAGE(F16,H16,J16) -> 1.4050339 | M16: =STDEV(F16,H16,J16) -> 0.0790149 | N16: =M16/L16*100 -> 5.6237006 | O16: =MIN(F16,H16,J16) -> 1.359 | P16: 0.6237 | Q16: 1.72 | T16: =Q16 -> 1.72 | U16: =MIN(O16,P16,Q16) -> 0.6237 | V16: =U16*1.1 -> 0.68607 | W16: =V16*1.18 -> 0.8095626 | X16: =Y16*E16 -> 202.5 | Y16: =ROUND(W16,2) -> 0.81
A17: 7 | B17: Натрия хлорид ГРЛС: ~ | C17: Растворитель для приготовления лекарственных форм для инъекций, 9 мг/мл (ГРЛС: 0.9 %) | D17: мл | E17: 7500 | F17: =[1]кп!G7 -> 1.1039 | G17: КП-1 | H17: =[1]кп!J7 -> 1.1040179 | I17: КП-2 | J17: =[1]кп!M7 -> 1.2149107 | K17: КП-2965 | L17: =AVERAGE(F17,H17,J17) -> 1.1409429 | M17: =STDEV(F17,H17,J17) -> 0.06405807 | N17: =M17/L17*100 -> 5.6144854 | O17: =MIN(F17,H17,J17) -> 1.1039 | P17: 0.3455 | Q17: 1.3 | T17: =Q17 -> 1.3 | U17: =MIN(O17,P17,Q17) -> 0.3455 | V17: =U17*1.1 -> 0.38005 | W17: =V17*1.12 -> 0.425656 | X17: =Y17*E17 -> 3225 | Y17: =ROUND(W17,2) -> 0.43
A18: 8 | B18: ЭТАМЗИЛАТ | C18: Раствор для инъекций (ГРЛС: Раствор для внутривенного и внутримышечного введения), 125 мг/мл | D18: мл | E18: 1500 | F18: =[1]кп!G8 -> 5.398 | G18: КП-1 | H18: =[1]кп!J8 -> 5.4017857 | I18: КП-2 | J18: =[1]кп!M8 -> 5.9553571 | K18: КП-2966 | L18: =AVERAGE(F18,H18,J18) -> 5.5850476 | M18: =STDEV(F18,H18,J18) -> 0.32070304 | N18: =M18/L18*100 -> 5.742172 | O18: =MIN(F18,H18,J18) -> 5.398 | P18: 3.67 | Q18: 6.3 | T18: =Q18 -> 6.3 | U18: =MIN(O18,P18,Q18) -> 3.67 | V18: =U18*1.1 -> 4.037 | W18: =V18*1.12 -> 4.52144 | X18: =Y18*E18 -> 6780 | Y18: =ROUND(W18,2) -> 4.52
A19: 9 | B19: ВОДОРОДА ПЕРОКСИД ГРЛС: ~ | C19: Раствор для местного и наружного применения (ГРЛС: Раствор для местного применения, Раствор для наружного применения), 30 мг/мл (ГРЛС: 3 %) | D19: мл | E19: 11000 | F19: =[1]кп!G9 -> 0.1348 | G19: КП-1 | H19: =[1]кп!J9 -> 0.13711864 | I19: КП-2 | J19: =[1]кп!M9 -> 0.15169492 | K19: КП-2967 | L19: =AVERAGE(F19,H19,J19) -> 0.14120452 | M19: =STDEV(F19,H19,J19) -> 0.0091586203 | N19: =M19/L19*100 -> 6.4860674 | O19: =MIN(F19,H19,J19) -> 0.1348 | P19: 0.03565 | Q19: 0.15 | T19: =Q19 -> 0.15 | U19: =MIN(O19,P19,Q19) -> 0.03565 | V19: =U19*1.1 -> 0.039215 | W19: =V19*1.18 -> 0.0462737 | X19: =Y19*E19 -> 550 | Y19: =ROUND(W19,2) -> 0.05
A20: 10 | B20: ТРАНЕКСАМОВАЯ КИСЛОТА | C20: Раствор для внутривенного введения, 50 мг/мл | D20: мл | E20: 7000 | F20: =[1]кп!G10 -> 13.8844 | G20: КП-1 | H20: =[1]кп!J10 -> 14.049636 | I20: КП-2 | J20: =[1]кп!M10 -> 15.545455 | K20: КП-2968 | L20: =AVERAGE(F20,H20,J20) -> 14.493164 | M20: =STDEV(F20,H20,J20) -> 0.91504802 | N20: =M20/L20*100 -> 6.3136527 | O20: =MIN(F20,H20,J20) -> 13.8844 | P20: 18 | Q20: 14.44 | T20: =Q20 -> 14.44 | U20: =MIN(O20,P20,Q20) -> 13.8844 | V20: =U20*1.1 -> 15.27284 | W20: =V20*1.1 -> 16.800124 | X20: =Y20*E20 -> 117600 | Y20: =ROUND(W20,2) -> 16.8
A21: 11 | B21: ТРАНЕКСАМОВАЯ КИСЛОТА | C21: Таблетки, покрытые оболочкой (ГРЛС: Таблетки покрытые пленочной оболочкой), 250 мг | D21: шт | E21: 700 | F21: =[1]кп!G11 -> 19.846 | G21: КП-1 | H21: =[1]кп!J11 -> 19.85 | I21: КП-2 | J21: =[1]кп!M11 -> 21.866071 | K21: КП-2969 | L21: =AVERAGE(F21,H21,J21) -> 20.52069 | M21: =STDEV(F21,H21,J21) -> 1.1651358 | N21: =M21/L21*100 -> 5.6778586 | O21: =MIN(F21,H21,J21) -> 19.846 | P21: 12.42 | Q21: 20.26 | T21: =Q21 -> 20.26 | U21: =MIN(O21,P21,Q21) -> 12.42 | V21: =U21*1.1 -> 13.662 | W21: =V21*1.12 -> 15.30144 | X21: =Y21*E21 -> 10710 | Y21: =ROUND(W21,2) -> 15.3
A22: 12 | B22: МАКРОГОЛ | C22: Порошок для приготовления раствора для приема внутрь, 12000 мг (ГРЛС: 12 г) | D22: г | E22: 18000 | F22: =[1]кп!G12 -> 0.99205556 | G22: КП-1 | H22: =[1]кп!J12 -> 1.0146329 | I22: КП-2 | J22: =[1]кп!M12 -> 1.1259921 | K22: КП-2970 | L22: =AVERAGE(F22,H22,J22) -> 1.0442269 | M22: =STDEV(F22,H22,J22) -> 0.071704929 | N22: =M22/L22*100 -> 6.8667962 | O22: =MIN(F22,H22,J22) -> 0.99205556 | P22: 0.94716667 | Q22: 1.17 | T22: =Q22 -> 1.17 | U22: =MIN(O22,P22,Q22) -> 0.94716667 | V22: =U22*1.1 -> 1.0418833 | W22: =V22*1.12 -> 1.1669093 | X22: =Y22*E22 -> 21060 | Y22: =ROUND(W22,2) -> 1.17
A23: 13 | B23: МЕТОКЛОПРАМИД | C23: Раствор для внутривенного и внутримышечного введения, 5 мг/мл Альтернативный вариант • Раствор для инъекций, 5 мг/мл | D23: мл | E23: 600 | F23: =[1]кп!G13 -> 3.082 | G23: КП-1 | H23: =[1]кп!J13 -> 3.1588983 | I23: КП-2 | J23: =[1]кп!M13 -> 3.559322 | K23: КП-2971 | L23: =AVERAGE(F23,H23,J23) -> 3.2667401 | M23: =STDEV(F23,H23,J23) -> 0.25628397 | N23: =M23/L23*100 -> 7.8452512 | O23: =MIN(F23,H23,J23) -> 3.082 | P23: 3.25 | Q23: 4.2 | T23: =Q23 -> 4.2 | U23: =MIN(O23,P23,Q23) -> 3.082 | V23: =U23*1.1 -> 3.3902 | W23: =V23*1.18 -> 4.000436 | X23: =Y23*E23 -> 2400 | Y23: =ROUND(W23,2) -> 4
A24: 14 | B24: АТРОПИН | C24: Раствор для инъекций, 1 мг/мл (ГРЛС: 0.1 %) Альтернативный вариант • 2 x Раствор для инъекций, 0.5 мг/мл | D24: мл | E24: 200 | F24: =[1]кп!G14 -> 4.045 | G24: КП-1 | H24: =[1]кп!J14 -> 4.0483051 | I24: КП-2 | J24: =[1]кп!M14 -> 4.4542373 | K24: КП-2972 | L24: =AVERAGE(F24,H24,J24) -> 4.1825141 | M24: =STDEV(F24,H24,J24) -> 0.23532497 | N24: =M24/L24*100 -> 5.6263998 | O24: =MIN(F24,H24,J24) -> 4.045 | P24: 3.882 | Q24: 5.02 | T24: =Q24 -> 5.02 | U24: =MIN(O24,P24,Q24) -> 3.882 | V24: =U24*1.1 -> 4.2702 | W24: =V24*1.18 -> 5.038836 | X24: =Y24*E24 -> 1008 | Y24: =ROUND(W24,2) -> 5.04
A25: 15 | B25: ДРОПЕРИДОЛ | C25: Раствор для внутривенного и внутримышечного введения (ГРЛС: Раствор для инъекций), 2.5 мг/мл | D25: мл | E25: 20 | F25: =[1]кп!G15 -> 11.079 | G25: КП-1 | H25: =[1]кп!J15 -> 11.095536 | I25: КП-2 | J25: =[1]кп!M15 -> 12.214286 | K25: КП-2973 | L25: =AVERAGE(F25,H25,J25) -> 11.46294 | M25: =STDEV(F25,H25,J25) -> 0.65073659 | N25: =M25/L25*100 -> 5.6768731 | O25: =MIN(F25,H25,J25) -> 11.079 | P25: 8.65 | Q25: - | T25: =Q25 -> - | U25: =MIN(O25,P25,Q25) -> 8.65 | V25: =U25*1.1 -> 9.515 | W25: =V25*1.12 -> 10.6568 | X25: =Y25*E25 -> 213.2 | Y25: =ROUND(W25,2) -> 10.66
A26: 16 | B26: ХЛОРГЕКСИДИН | C26: Суппозитории вагинальные, 16 мг Альтернативный вариант • 2 x Суппозитории вагинальные, 8 мг • Таблетки вагинальные, 16 мг | D26: шт | E26: 300 | F26: =[1]кп!G16 -> 20.292 | G26: КП-1 | H26: =[1]кп!J16 -> 20.535714 | I26: КП-2 | J26: =[1]кп!M16 -> 22.616071 | K26: КП-2974 | L26: =AVERAGE(F26,H26,J26) -> 21.147929 | M26: =STDEV(F26,H26,J26) -> 1.2772751 | N26: =M26/L26*100 -> 6.0397174 | O26: =MIN(F26,H26,J26) -> 20.292 | P26: 14.65 | Q26: - | T26: =Q26 -> - | U26: =MIN(O26,P26,Q26) -> 14.65 | V26: =U26*1.1 -> 16.115 | W26: =V26*1.12 -> 18.0488 | X26: =Y26*E26 -> 5415 | Y26: =ROUND(W26,2) -> 18.05
A27: 17 | B27: ПАРАЦЕТАМОЛ | C27: Раствор для инфузий, 10 мг/мл (ГРЛС: 1 %) | D27: мл | E27: 5000 | F27: =[1]кп!G17 -> 0.6934 | G27: КП-1 | H27: =[1]кп!J17 -> 0.69491525 | I27: КП-2 | J27: =[1]кп!M17 -> 0.76525424 | K27: КП-2975 | L27: =AVERAGE(F27,H27,J27) -> 0.7178565 | M27: =STDEV(F27,H27,J27) -> 0.041054638 | N27: =M27/L27*100 -> 5.7190592 | O27: =MIN(F27,H27,J27) -> 0.6934 | P27: 0.52 | Q27: 0.76 | T27: =Q27 -> 0.76 | U27: =MIN(O27,P27,Q27) -> 0.52 | V27: =U27*1.1 -> 0.572 | W27: =V27*1.18 -> 0.67496 | X27: =Y27*E27 -> 3350 | Y27: =ROUND(W27,2) -> 0.67 | AA27: 400 | AB27: =X27/(AA27+AD27+AG27) -> 8.375 | AC27: =AB27*AA27 -> 3350 | AE27: =AB27 -> 8.375 | AF27: =AE27*AD27 -> 0 | AH27: =AE27 -> 8.375 | AI27: =AH27*AG27 -> 0
A28: 18 | B28: КЕТОПРОФЕН | C28: Суппозитории ректальные, 100 мг | D28: шт | E28: 2200 | F28: =[1]кп!G18 -> 15.99 | G28: КП-1 | H28: =[1]кп!J18 -> 16.03125 | I28: КП-2 | J28: =[1]кп!M18 -> 17.650893 | K28: КП-2975 | L28: =AVERAGE(F28,H28,J28) -> 16.557381 | M28: =STDEV(F28,H28,J28) -> 0.94723366 | N28: =M28/L28*100 -> 5.7209148 | O28: =MIN(F28,H28,J28) -> 15.99 | P28: 14.098333 | Q28: - | T28: =Q28 -> - | U28: =MIN(O28,P28,Q28) -> 14.098333 | V28: =U28*1.1 -> 15.508167 | W28: =V28*1.12 -> 17.369147 | X28: =Y28*E28 -> 38214 | Y28: =ROUND(W28,2) -> 17.37 | AA28: 30 | AB28: =X28/(AA28+AD28+AG28) -> 1273.8 | AC28: =AB28*AA28 -> 38214 | AE28: =AB28 -> 1273.8 | AF28: =AE28*AD28 -> 0 | AH28: =AE28 -> 1273.8 | AI28: =AH28*AG28 -> 0
A29: 19 | B29: ЖЕЛЕЗА [III] ГИДРОКСИД САХАРОЗНЫЙ КОМПЛЕКС | C29: Раствор для внутривенного введения, 20 мг/мл | D29: мл | E29: 125 | F29: =[1]кп!G19 -> 85.9504 | G29: КП-1 | H29: =[1]кп!J19 -> 87.603273 | I29: КП-2 | J29: =[1]кп!M19 -> 98.181818 | K29: КП-2975 | L29: =AVERAGE(F29,H29,J29) -> 90.578497 | M29: =STDEV(F29,H29,J29) -> 6.6363293 | N29: =M29/L29*100 -> 7.3266057 | O29: =MIN(F29,H29,J29) -> 85.9504 | P29: 104 | Q29: - | T29: =Q29 -> - | U29: =MIN(O29,P29,Q29) -> 85.9504 | V29: =U29*1.1 -> 94.54544 | W29: =V29*1.1 -> 103.99998 | X29: =Y29*E29 -> 13000 | Y29: =ROUND(W29,2) -> 104 | AA29: 1000 | AB29: =X29/(AA29+AD29+AG29) -> 13 | AC29: =AB29*AA29 -> 13000 | AE29: =AB29 -> 13 | AF29: =AE29*AD29 -> 0 | AH29: =AE29 -> 13 | AI29: =AH29*AG29 -> 0
A30: 1 | B30: АМОКСИЦИЛЛИН+КЛАВУЛАНОВАЯ КИСЛОТА ГРЛС: ~ | C30: Таблетки, покрытые оболочкой (ГРЛС: Таблетки покрытые оболочкой, Таблетки покрытые пленочной оболочкой), 875 мг+125 мг (ГРЛС: 875 мг + 125 мг) Альтернативный вариант • Таблетки диспергируемые, 875 мг+125 мг | D30: шт | E30: 140 | F30: =[1]кп!G20 -> 24.214286 | G30: КП-1 | H30: =[1]кп!J20 -> 24.298469 | I30: КП-2 | J30: =[1]кп!M20 -> 26.729592 | K30: КП-2975 | L30: =AVERAGE(F30,H30,J30) -> 25.080782 | M30: =STDEV(F30,H30,J30) -> 1.4285312 | N30: =M30/L30*100 -> 5.6957202 | O30: =MIN(F30,H30,J30) -> 24.214286 | P30: 16.224286 | Q30: - | T30: =Q30 -> - | U30: =MIN(O30,Q30) -> 24.214286 | V30: =U30*1.1 -> 26.635714 | W30: =V30*1.12 -> 29.832 | X30: =Y30*E30 -> 4176.2 | Y30: =ROUND(W30,2) -> 29.83 | AA30: 50 | AB30: =X30/(AA30+AD30+AG30) -> 83.524 | AC30: =AB30*AA30 -> 4176.2 | AE30: =AB30 -> 83.524 | AF30: =AE30*AD30 -> 0 | AH30: =AE30 -> 83.524 | AI30: =AH30*AG30 -> 0
A31: 2 | B31: КЛИНДАМИЦИН | C31: Раствор для внутривенного и внутримышечного введения, 150 мг/мл | D31: мл | E31: 60 | F31: =[1]кп!G21 -> 24.878 | G31: КП-1 | H31: =[1]кп!J21 -> 25.392727 | I31: КП-2 | J31: =[1]кп!M21 -> 27.943182 | K31: КП-2975 | L31: =AVERAGE(F31,H31,J31) -> 26.071303 | M31: =STDEV(F31,H31,J31) -> 1.6413969 | N31: =M31/L31*100 -> 6.2957991 | O31: =MIN(F31,H31,J31) -> 24.878 | P31: 24.551 | Q31: - | T31: =Q31 -> - | U31: =MIN(O31,Q31) -> 24.878 | V31: =U31*1.1 -> 27.3658 | W31: =V31*1.12 -> 30.649696 | X31: =Y31*E31 -> 1839 | Y31: =ROUND(W31,2) -> 30.65 | AA31: 200 | AB31: =X31/(AA31+AD31+AG31) -> 9.195 | AC31: =AB31*AA31 -> 1839 | AE31: =AB31 -> 9.195 | AF31: =AE31*AD31 -> 0 | AH31: =AE31 -> 9.195 | AI31: =AH31*AG31 -> 0
X32: =SUM(X30:X31) -> 6015.2 | AC32: =SUM(AC27:AC31) -> 60579.2 | AF32: =SUM(AF27:AF31) -> 0 | AI32: =SUM(AI27:AI31) -> 0
B35: Расчет произведен с помощью стандартных функций табличного редактора EXCEL.
