Workbook
Name __bookmark_1: #REF!
Name __bookmark_1: #REF!
Name __bookmark_1: #REF!
Name __bookmark_1: #REF!
Name __bookmark_1: #REF!
Name __bookmark_1: #REF!
Name __bookmark_1: #REF!
Name __bookmark_1: #REF!
Name амикм: #REF!
Name амикм: #REF!
Name БОМЖ: #REF!
Name БОМЖ: #REF!
Name БОМЖ: #REF!
Name БОМЖ: #REF!
Name дддд: #REF!
Name дддд: #REF!
Name дддд: #REF!
Name дддд: #REF!
Name фыв: #REF!
Name фыв: #REF!
Name фыв: #REF!
Name фыв: #REF!
Name фыв: #REF!
Name фыв: #REF!
Name фыв: #REF!
Name фыв: #REF!
Name ЦВ: #REF!
Name ЦВ: #REF!
Name ЦВ: #REF!
Name ЦВ: #REF!
Name ЦВ: #REF!
Name ЦВ: #REF!
Name ЦВ: #REF!
Name ЦД: #REF!
Name ЦД: #REF!
Name ЦД: #REF!
Name ЦД: #REF!
Name цывфывафы: #REF!
Name ывапы: #REF!
Name ывапы: #REF!
Name ывапы: #REF!
Name ывапы: #REF!
Name ывапы: #REF!
Name ывапы: #REF!
Name ывапы: #REF!
Name ывапы: #REF!

Sheet Оглавление
A1: Выбор Категории
A2: 1. Учреждения социальной защиты (для взрослых)
A3: 2. Лечебно-профилактические и санаторно-курортные учреждения здравоохранения (для взрослых)
A4: 3. Лечебно-профилактические и санаторные учреждения здравоохранения (для детей)
A5: 4. Детские дома, школы-интернаты различного типа, учреждения отдыха и оздоровления детей и молодежи, детские спортивные оздоровительные лагеря
A6: 5.Образовательные учреждения (Школы и профессиональные училища)
A7: 6. Обеспечение социальным питанием граждан без определенного места жительства (бездомных)
A8: 7. Дошкольные образовательные учреждения
A9: 8. Все типы учреждений для организации питания больных целиакией (для взрослых)
A10: 9. Все типы учреждений для организации питания больных целиакией (для детей)
A11: 10. Все типы учреждений для организации питания больных фенилкетонурией
A12: 11. Список продовольственных товаров, содержащихся во всех перечнях

Sheet 1.Взрослые
A1: Дата актуализации ассортиментного перечня «03» марта 2026 г
A2: Ассортиментный перечень основных групп продовольственных товаров и сырья для обеспечения социального питания в учреждениях Санкт-Петербурга с учетом специфики и особенностей организации питания взрослого контингента
A3: Примечание! * - Продукция предназначенная для лечебного, специального питания ** - предназначенные для использования в питании после термической обработки. Информацию о действующей нормативной документации, а также изменениях вносимых в национальные стандарты можно получить в Управлении социального питания по телефонам 576-68-25, 576-68-27 и на сайте Управления по адресу: http://www.gov.spb.ru, вкладка «Нормативные документы».
A4: № | B4: Потребительское наименование товара | C4: Название товара ККН/КТРУ | D4: ОКПД2 | E4: Детализация ККН | F4: Единица измерения ККН | G4: Характеристики товара | H4: Код КТРУ
A5: 1 | B5: 2 | C5: 2 | D5: 3 | E5: 4 | F5: 5 | G5: 6 | H5: 7
A6: 1 | B6: =IFERROR(INDEX('11. Свод Перечней'!B:C,MATCH(C6,'11. Свод Перечней'!C:C,0),1),"") -> Фасоль овощная свежая | C6: {=IFERROR(INDEX('11. Свод Перечней'!$C$4:$C$603,SMALL(IF("В"='11. Свод Перечней'!$I$4:$Q$603,ROW('11. Свод Перечней'!$C$4:$C$603)-3,""),ROW()-5)),"")} -> Фасоль тип 1 | D6: =IFERROR(VLOOKUP(C6,'11. Свод Перечней'!C:H,2,0),"") -> 01.11.61.000 | E6: =IFERROR(VLOOKUP(C6,'11. Свод Перечней'!C:H,3,0),"") -> 001 | F6: =IFERROR(VLOOKUP(C6,'11. Свод Перечней'!C:H,4,0),"") -> КГ | G6: =IFERROR(VLOOKUP(C6,'11. Свод Перечней'!C:H,5,0),"") -> Тип: Овощная Вид: Свежая Сорт: Высший; Первый Фасовка: Весовая Соответствие нормативно-технической документации: Технический регламент Таможенного союза "О безопасности упаковки" от 16.08.2011 ТР ТС № 005/2011, Технический регламент Таможенного союза "О безопасности пищевой продукции" от 09.12.2011 № 021/2011, Технический регламент Таможенного союза "Пищевая продукция в части ее маркировки" от 09.12.2011 № 022/2011, ГОСТ 34299-2017 | H6: =IF(LEN(IFERROR(VLOOKUP(C6,'11. Свод Перечней'!C:H,6,0),""))>1,IFERROR(VLOOKUP(C6,'11. Свод Перечней'!C:H,6,0),""),"")
A7: =IF(LEN(C7)>0,MAX($A$5:A6)+1,"") -> 2 | B7: =IFERROR(INDEX('11. Свод Перечней'!B:C,MATCH(C7,'11. Свод Перечней'!C:C,0),1),"") -> Фасоль продовольственная | C7: Фасоль продовольственная тип 2 | D7: =IFERROR(VLOOKUP(C7,'11. Свод Перечней'!C:H,2,0),"") -> 01.11.71.110 | E7: =IFERROR(VLOOKUP(C7,'11. Свод Перечней'!C:H,3,0),"") -> 001 | F7: =IFERROR(VLOOKUP(C7,'11. Свод Перечней'!C:H,4,0),"") -> КГ | G7: =IFERROR(VLOOKUP(C7,'11. Свод Перечней'!C:H,5,0),"") -> Номер и наименование типа фасоли: III. Фасоль цветная пестрая Вес, КГ: ≤ 1 Упаковка производителя: Наличие Соответствие нормативно-технической документации: Технический регламент Таможенного союза "О безопасности упаковки" от 16.08.2011 ТР ТС № 005/2011, Технический регламент Таможенного союза "О безопасности пищевой продукции" от 09.12.2011 № 021/2011, Технический регламент Таможенного союза "Пищевая продукция в части ее маркировки" от 09.12.2011 № 022/2011, ГОСТ 7758-2020 | H7: =IF(LEN(IFERROR(VLOOKUP(C7,'11. Свод Перечней'!C:H,6,0),""))>1,IFERROR(VLOOKUP(C7,'11. Свод Перечней'!C:H,6,0),""),"") -> 01.11.71.110-00000001
A8: =IF(LEN(C8)>0,MAX($A$5:A7)+1,"") -> 3 | B8: =IFERROR(INDEX('11. Свод Перечней'!B:C,MATCH(C8,'11. Свод Перечней'!C:C,0),1),"") -> Фасоль продовольственная | C8: Фасоль продовольственная тип 3 | D8: =IFERROR(VLOOKUP(C8,'11. Свод Перечней'!C:H,2,0),"") -> 01.11.71.110 | E8: =IFERROR(VLOOKUP(C8,'11. Свод Перечней'!C:H,3,0),"") -> 003 | F8: =IFERROR(VLOOKUP(C8,'11. Свод Перечней'!C:H,4,0),"") -> КГ | G8: =IFERROR(VLOOKUP(C8,'11. Свод Перечней'!C:H,5,0),"") -> Номер и наименование типа фасоли: II. Фасоль цветная однотонная Вес, КГ: ≤ 1 Упаковка производителя: Наличие Соответствие нормативно-технической документации: Технический регламент Таможенного союза "О безопасности упаковки" от 16.08.2011 ТР ТС № 005/2011, Технический регламент Таможенного союза "О безопасности пищевой продукции" от 09.12.2011 № 021/2011, Технический регламент Таможенного союза "Пищевая продукция в части ее маркировки" от 09.12.2011 № 022/2011, ГОСТ 7758-2020 | H8: =IF(LEN(IFERROR(VLOOKUP(C8,'11. Свод Перечней'!C:H,6,0),""))>1,IFERROR(VLOOKUP(C8,'11. Свод Перечней'!C:H,6,0),""),"") -> 01.11.71.110-00000002
A9: =IF(LEN(C9)>0,MAX($A$5:A8)+1,"") -> 4 | B9: =IFERROR(INDEX('11. Свод Перечней'!B:C,MATCH(C9,'11. Свод Перечней'!C:C,0),1),"") -> Фасоль продовольственная | C9: Фасоль продовольственная тип 4 | D9: =IFERROR(VLOOKUP(C9,'11. Свод Перечней'!C:H,2,0),"") -> 01.11.71.110 | E9: =IFERROR(VLOOKUP(C9,'11. Свод Перечней'!C:H,3,0),"") -> 004 | F9: =IFERROR(VLOOKUP(C9,'11. Свод Перечней'!C:H,4,0),"") -> КГ | G9: =IFERROR(VLOOKUP(C9,'11. Свод Перечней'!C:H,5,0),"") -> Номер и наименование типа фасоли: I. Фасоль белая Вес, КГ: ≤ 1 Упаковка производителя: Наличие Соответствие нормативно-технической документации: Технический регламент Таможенного союза "О безопасности упаковки" от 16.08.2011 ТР ТС № 005/2011, Технический регламент Таможенного союза "О безопасности пищевой продукции" от 09.12.2011 № 021/2011, Технический регламент Таможенного союза "Пищевая продукция в части ее маркировки" от 09.12.2011 № 022/2011, ГОСТ 7758-2020 | H9: =IF(LEN(IFERROR(VLOOKUP(C9,'11. Свод Перечней'!C:H,6,0),""))>1,IFERROR(VLOOKUP(C9,'11. Свод Перечней'!C:H,6,0),""),"") -> 01.11.71.110-00000003
A10: =IF(LEN(C10)>0,MAX($A$5:A9)+1,"") -> 5 | B10: =IFERROR(INDEX('11. Свод Перечней'!B:C,MATCH(C10,'11. Свод Перечней'!C:C,0),1),"") -> Чечевица | C10: Чечевица продовольственная тип 2 | D10: =IFERROR(VLOOKUP(C10,'11. Свод Перечней'!C:H,2,0),"") -> 01.11.74.110 | E10: =IFERROR(VLOOKUP(C10,'11. Свод Перечней'!C:H,3,0),"") -> 001 | F10: =IFERROR(VLOOKUP(C10,'11. Свод Перечней'!C:H,4,0),"") -> КГ | G10: =IFERROR(VLOOKUP(C10,'11. Свод Перечней'!C:H,5,0),"") -> Тип чечевицы: Красная Вес, КГ: ≤ 1 Упаковка производителя: Наличие Соответствие нормативно-технической документации: Технический регламент Таможенного союза "О безопасности упаковки" от 16.08.2011 ТР ТС № 005/2011, Технический регламент Таможенного союза "О безопасности пищевой продукции" от 09.12.2011 № 021/2011, Технический регламент Таможенного союза "Пищевая продукция в части ее маркировки" от 09.12.2011 № 022/2011, ГОСТ 7066-2019 | H10: =IF(LEN(IFERROR(VLOOKUP(C10,'11. Свод Перечней'!C:H,6,0),""))>1,IFERROR(VLOOKUP(C10,'11. Свод Перечней'!C:H,6,0),""),"") -> 01.11.74.110-00000001
A11: =IF(LEN(C11)>0,MAX($A$5:A10)+1,"") -> 6 | B11: =IFERROR(INDEX('11. Свод Перечней'!B:C,MATCH(C11,'11. Свод Перечней'!C:C,0),1),"") -> Чечевица | C11: Чечевица продовольственная тип 3 | D11: =IFERROR(VLOOKUP(C11,'11. Свод Перечней'!C:H,2,0),"") -> 01.11.74.110 | E11: =IFERROR(VLOOKUP(C11,'11. Свод Перечней'!C:H,3,0),"") -> 003 | F11: =IFERROR(VLOOKUP(C11,'11. Свод Перечней'!C:H,4,0),"") -> КГ | G11: =IFERROR(VLOOKUP(C11,'11. Свод Перечней'!C:H,5,0),"") -> Тип чечевицы: Коричневая Вес, КГ: ≤ 1 Упаковка производителя: Наличие Соответствие нормативно-технической документации: Технический регламент Таможенного союза "О безопасности упаковки" от 16.08.2011 ТР ТС № 005/2011, Технический регламент Таможенного союза "О безопасности пищевой продукции" от 09.12.2011 № 021/2011, Технический регламент Таможенного союза "Пищевая продукция в части ее маркировки" от 09.12.2011 № 022/2011, ГОСТ 7066-2019 | H11: =IF(LEN(IFERROR(VLOOKUP(C11,'11. Свод Перечней'!C:H,6,0),""))>1,IFERROR(VLOOKUP(C11,'11. Свод Перечней'!C:H,6,0),""),"") -> 01.11.74.110-00000002
A12: =IF(LEN(C12)>0,MAX($A$5:A11)+1,"") -> 7 | B12: =IFERROR(INDEX('11. Свод Перечней'!B:C,MATCH(C12,'11. Свод Перечней'!C:C,0),1),"") -> Чечевица | C12: Чечевица продовольственная тип 4 | D12: =IFERROR(VLOOKUP(C12,'11. Свод Перечней'!C:H,2,0),"") -> 01.11.74.110 | E12: =IFERROR(VLOOKUP(C12,'11. Свод Перечней'!C:H,3,0),"") -> 004 | F12: =IFERROR(VLOOKUP(C12,'11. Свод Перечней'!C:H,4,0),"") -> КГ | G12: =IFERROR(VLOOKUP(C12,'11. Свод Перечней'!C:H,5,0),"") -> Тип чечевицы: Неоднородная Вес, КГ: ≤ 1 Упаковка производителя: Наличие Соответствие нормативно-технической документации: Технический регламент Таможенного союза "О безопасности упаковки" от 16.08.2011 ТР ТС № 005/2011, Технический регламент Таможенного союза "О безопасности пищевой продукции" от 09.12.2011 № 021/2011, Технический регламент Таможенного союза "Пищевая продукция в части ее маркировки" от 09.12.2011 № 022/2011, ГОСТ 7066-2019 | H12: =IF(LEN(IFERROR(VLOOKUP(C12,'11. Свод Перечней'!C:H,6,0),""))>1,IFERROR(VLOOKUP(C12,'11. Свод Перечней'!C:H,6,0),""),"") -> 01.11.74.110-00000003
A13: =IF(LEN(C13)>0,MAX($A$5:A12)+1,"") -> 8 | B13: =IFERROR(INDEX('11. Свод Перечней'!B:C,MATCH(C13,'11. Свод Перечней'!C:C,0),1),"") -> Чечевица | C13: Чечевица продовольственная тип 5 | D13: =IFERROR(VLOOKUP(C13,'11. Свод Перечней'!C:H,2,0),"") -> 01.11.74.110 | E13: =IFERROR(VLOOKUP(C13,'11. Свод Перечней'!C:H,3,0),"") -> 005 | F13: =IFERROR(VLOOKUP(C13,'11. Свод Перечней'!C:H,4,0),"") -> КГ | G13: =IFERROR(VLOOKUP(C13,'11. Свод Перечней'!C:H,5,0),"") -> Тип чечевицы: Светло-зеленая Вес, КГ: ≤ 1 Упаковка производителя: Наличие Соответствие нормативно-технической документации: Технический регламент Таможенного союза "О безопасности упаковки" от 16.08.2011 ТР ТС № 005/2011, Технический регламент Таможенного союза "О безопасности пищевой продукции" от 09.12.2011 № 021/2011, Технический регламент Таможенного союза "Пищевая продукция в части ее маркировки" от 09.12.2011 № 022/2011, ГОСТ 7066-2019 | H13: =IF(LEN(IFERROR(VLOOKUP(C13,'11. Свод Перечней'!C:H,6,0),""))>1,IFERROR(VLOOKUP(C13,'11. Свод Перечней'!C:H,6,0),""),"") -> 01.11.74.110-00000004
A14: =IF(LEN(C14)>0,MAX($A$5:A13)+1,"") -> 9 | B14: =IFERROR(INDEX('11. Свод Перечней'!B:C,MATCH(C14,'11. Свод Перечней'!C:C,0),1),"") -> Чечевица | C14: Чечевица продовольственная тип 6 | D14: =IFERROR(VLOOKUP(C14,'11. Свод Перечней'!C:H,2,0),"") -> 01.11.74.110 | E14: =IFERROR(VLOOKUP(C14,'11. Свод Перечней'!C:H,3,0),"") -> 006 | F14: =IFERROR(VLOOKUP(C14,'11. Свод Перечней'!C:H,4,0),"") -> КГ | G14: =IFERROR(VLOOKUP(C14,'11. Свод Перечней'!C:H,5,0),"") -> Тип чечевицы: Темно-зеленая Вес, КГ: ≤ 1 Упаковка производителя: Наличие Соответствие нормативно-технической документации: Технический регламент Таможенного союза "О безопасности упаковки" от 16.08.2011 ТР ТС № 005/2011, Технический регламент Таможенного союза "О безопасности пищевой продукции" от 09.12.2011 № 021/2011, Технический регламент Таможенного союза "Пищевая продукция в части ее маркировки" от 09.12.2011 № 022/2011, ГОСТ 7066-2019 | H14: =IF(LEN(IFERROR(VLOOKUP(C14,'11. Свод Перечней'!C:H,6,0),""))>1,IFERROR(VLOOKUP(C14,'11. Свод Перечней'!C:H,6,0),""),"") -> 01.11.74.110-00000005
A15: =IF(LEN(C15)>0,MAX($A$5:A14)+1,"") -> 10 | B15: =IFERROR(INDEX('11. Свод Перечней'!B:C,MATCH(C15,'11. Свод Перечней'!C:C,0),1),"") -> Горох шлифованный | C15: Горох шлифованный тип 1 | D15: =IFERROR(VLOOKUP(C15,'11. Свод Перечней'!C:H,2,0),"") -> 01.11.75.110 | E15: =IFERROR(VLOOKUP(C15,'11. Свод Перечней'!C:H,3,0),"") -> 001 | F15: =IFERROR(VLOOKUP(C15,'11. Свод Перечней'!C:H,4,0),"") -> КГ | G15: =IFERROR(VLOOKUP(C15,'11. Свод Перечней'!C:H,5,0),"") -> Вид зерна: Целое Сорт: Не ниже первого Вес: не более 1 КГ Упаковка производителя: Наличие Соответствие нормативно-технической документации: Технический регламент Таможенного союза "О безопасности упаковки" от 16.08.2011 ТР ТС № 005/2011, Технический регламент Таможенного союза "О безопасности пищевой продукции" от 09.12.2011 № 021/2011, Технический регламент Таможенного союза "Пищевая продукция в части ее маркировки" от 09.12.2011 № 022/2011, ГОСТ 6201-2020 | H15: =IF(LEN(IFERROR(VLOOKUP(C15,'11. Свод Перечней'!C:H,6,0),""))>1,IFERROR(VLOOKUP(C15,'11. Свод Перечней'!C:H,6,0),""),"") -> 01.11.75.110-00000002
A16: =IF(LEN(C16)>0,MAX($A$5:A15)+1,"") -> 11 | B16: =IFERROR(INDEX('11. Свод Перечней'!B:C,MATCH(C16,'11. Свод Перечней'!C:C,0),1),"") -> Горох шлифованный | C16: Горох шлифованный тип 2 | D16: =IFERROR(VLOOKUP(C16,'11. Свод Перечней'!C:H,2,0),"") -> 01.11.75.110 | E16: =IFERROR(VLOOKUP(C16,'11. Свод Перечней'!C:H,3,0),"") -> 002 | F16: =IFERROR(VLOOKUP(C16,'11. Свод Перечней'!C:H,4,0),"") -> КГ | G16: =IFERROR(VLOOKUP(C16,'11. Свод Перечней'!C:H,5,0),"") -> Вид зерна: Целое Сорт: Не ниже первого Фасовка: Весовая Соответствие нормативно-технической документации: Технический регламент Таможенного союза "О безопасности упаковки" от 16.08.2011 ТР ТС № 005/2011, Технический регламент Таможенного союза "О безопасности пищевой продукции" от 09.12.2011 № 021/2011, Технический регламент Таможенного союза "Пищевая продукция в части ее маркировки" от 09.12.2011 № 022/2011, ГОСТ 6201-2020 | H16: =IF(LEN(IFERROR(VLOOKUP(C16,'11. Свод Перечней'!C:H,6,0),""))>1,IFERROR(VLOOKUP(C16,'11. Свод Перечней'!C:H,6,0),""),"") -> 01.11.75.110-00000002
A17: =IF(LEN(C17)>0,MAX($A$5:A16)+1,"") -> 12 | B17: =IFERROR(INDEX('11. Свод Перечней'!B:C,MATCH(C17,'11. Свод Перечней'!C:C,0),1),"") -> Орехи тип 5 | C17: Орехи тип 5 | D17: =IFERROR(VLOOKUP(C17,'11. Свод Перечней'!C:H,2,0),"") -> 01.11.83.000 | E17: =IFERROR(VLOOKUP(C17,'11. Свод Перечней'!C:H,3,0),"") -> 001 | F17: =IFERROR(VLOOKUP(C17,'11. Свод Перечней'!C:H,4,0),"") -> КГ | G17: =IFERROR(VLOOKUP(C17,'11. Свод Перечней'!C:H,5,0),"") -> Тип: Арахис Вид: Ядра очищенные Вид по способу обработки: Сырой; Жареный Вес: не более 0,1 КГ Упаковка производителя: Наличие Сорт: Высший; Первый Соответствие нормативно-технической документации: Технический регламент Таможенного союза "О безопасности упаковки" от 16.08.2011 ТР ТС № 005/2011, Технический регламент Таможенного союза "О безопасности пищевой продукции" от 09.12.2011 № 021/2011, Технический регламент Таможенного союза "Пищевая продукция в части ее маркировки" от 09.12.2011 № 022/2011, ГОСТ 31784-2012; Технический регламент Таможенного союза "О безопасности упаковки" от 16.08.2011 ТР ТС № 005/2011, Технический регламент Таможенного союза "О безопасности пищевой продукции" от 09.12.2011 № 021/2011, Технический регламент Таможенного союза "Пищевая продукция в части ее маркировки" от 09.12.2011 № 022/2011, ТУ производителя | H17: =IF(LEN(IFERROR(VLOOKUP(C17,'11. Свод Перечней'!C:H,6,0),""))>1,IFERROR(VLOOKUP(C17,'11. Свод Перечней'!C:H,6,0),""),"")
A18: =IF(LEN(C18)>0,MAX($A$5:A17)+1,"") -> 13 | B18: =IFERROR(INDEX('11. Свод Перечней'!B:C,MATCH(C18,'11. Свод Перечней'!C:C,0),1),"") -> Капуста брюссельская свежая | C18: Капуста брюссельская тип 1 | D18: =IFERROR(VLOOKUP(C18,'11. Свод Перечней'!C:H,2,0),"") -> 01.13.12.110 | E18: =IFERROR(VLOOKUP(C18,'11. Свод Перечней'!C:H,3,0),"") -> 001 | F18: =IFERROR(VLOOKUP(C18,'11. Свод Перечней'!C:H,4,0),"") -> КГ | G18: =IFERROR(VLOOKUP(C18,'11. Свод Перечней'!C:H,5,0),"") -> Вид: Свежая Фасовка: Весовая Соответствие нормативно-технической документации: Технический регламент Таможенного союза "О безопасности упаковки" от 16.08.2011 ТР ТС № 005/2011, Технический регламент Таможенного союза "О безопасности пищевой продукции" от 09.12.2011 № 021/2011, Технический регламент Таможенного союза "Пищевая продукция в части ее маркировки" от 09.12.2011 № 022/2011, ГОСТ 33851-2016 | H18: =IF(LEN(IFERROR(VLOOKUP(C18,'11. Свод Перечней'!C:H,6,0),""))>1,IFERROR(VLOOKUP(C18,'11. Свод Перечней'!C:H,6,0),""),"")
... A556: =IF(LEN(C556)>0,MAX($A$5:A555)+1,"") -> 551 | B556: =IFERROR(INDEX('11. Свод Перечней'!B:C,MATCH(C556,'11. Свод Перечней'!C:C,0),1),"") -> Напиток из шиповника промышленного производства витаминизированный | C556: Напиток из шиповника витаминизированный тип 2 | D556: =IFERROR(VLOOKUP(C556,'11. Свод Перечней'!C:H,2,0),"") -> 11.07.19.190 | E556: =IFERROR(VLOOKUP(C556,'11. Свод Перечней'!C:H,3,0),"") -> 002 | F556: =IFERROR(VLOOKUP(C556,'11. Свод Перечней'!C:H,4,0),"") -> Л; ДМ3 | G556: =IFERROR(VLOOKUP(C556,'11. Свод Перечней'!C:H,5,0),"") -> Вид применяемого сырья: Плоды шиповника свежие; Плоды шиповника сушеные Объем, Л; ДМ3: > 1 Упаковка производителя: Наличие Особые условия (требования к составу пищевых продуктов): Без химических консервантов, искусственных красителей и ароматизаторов, искусственных пищевых добавок Соответствие нормативно-технической документации: Технический регламент Таможенного союза "О безопасности упаковки" от 16.08.2011 ТР ТС № 005/2011, Технический регламент Таможенного союза "О безопасности пищевой продукции" от 09.12.2011 № 021/2011, Технический регламент Таможенного союза "Пищевая продукция в части ее маркировки" от 09.12.2011 № 022/2011, ТУ производителя | H556: =IF(LEN(IFERROR(VLOOKUP(C556,'11. Свод Перечней'!C:H,6,0),""))>1,IFERROR(VLOOKUP(C556,'11. Свод Перечней'!C:H,6,0),""),"")
C557: Рыба лососевая соленая тип 5
C558: Сельдь соленая тип 2
C559: Хлеб недлительного хранения тип 5

Sheet 2. Здрав Взрослые
A1: Дата актуализации ассортиментного перечня «03» марта 2026 г
A2: Ассортиментный перечень основных групп продовольственных товаров и сырья для обеспечения социального питания в лечебно-профилактических и санаторно-курортных учреждениях здравоохранения Санкт-Петербурга (для взрослых)
A3: Примечание! * - Продукция предназначенная для лечебного, специального питания ** - предназначенные для использования в питании после термической обработки. Информацию о действующей нормативной документации, а также изменениях вносимых в национальные стандарты можно получить в Управлении социального питания по телефонам 576-68-25, 576-68-27 и на сайте Управления по адресу: http://www.gov.spb.ru, вкладка «Нормативные документы». .
A4: № | B4: Потребительское наименование товара | C4: Название товара ККН/КТРУ | D4: ОКПД2 | E4: Детализация ККН | F4: Единица измерения ККН | G4: Характеристики товара | H4: Код КТРУ
A5: 1 | B5: 2 | C5: 2 | D5: 3 | E5: 4 | F5: 5 | G5: 6 | H5: 7
A6: 1 | B6: =IFERROR(INDEX('11. Свод Перечней'!B:C,MATCH(C6,'11. Свод Перечней'!C:C,0),1),"") -> Фасоль овощная свежая | C6: {=IFERROR(INDEX('11. Свод Перечней'!$C$4:$C$603,SMALL(IF("ЗВ"='11. Свод Перечней'!$I$4:$Q$603,ROW('11. Свод Перечней'!$C$4:$C$603)-3,""),ROW()-5)),"")} -> Фасоль тип 1 | D6: =IFERROR(VLOOKUP(C6,'11. Свод Перечней'!C:H,2,0),"") -> 01.11.61.000 | E6: =IFERROR(VLOOKUP(C6,'11. Свод Перечней'!C:H,3,0),"") -> 001 | F6: =IFERROR(VLOOKUP(C6,'11. Свод Перечней'!C:H,4,0),"") -> КГ | G6: =IFERROR(VLOOKUP(C6,'11. Свод Перечней'!C:H,5,0),"") -> Тип: Овощная Вид: Свежая Сорт: Высший; Первый Фасовка: Весовая Соответствие нормативно-технической документации: Технический регламент Таможенного союза "О безопасности упаковки" от 16.08.2011 ТР ТС № 005/2011, Технический регламент Таможенного союза "О безопасности пищевой продукции" от 09.12.2011 № 021/2011, Технический регламент Таможенного союза "Пищевая продукция в части ее маркировки" от 09.12.2011 № 022/2011, ГОСТ 34299-2017 | H6: =IF(LEN(IFERROR(VLOOKUP(C6,'11. Свод Перечней'!C:H,6,0),""))>1,IFERROR(VLOOKUP(C6,'11. Свод Перечней'!C:H,6,0),""),"")
A7: =IF(LEN(C7)>0,MAX($A$5:A6)+1,"") -> 2 | B7: =IFERROR(INDEX('11. Свод Перечней'!B:C,MATCH(C7,'11. Свод Перечней'!C:C,0),1),"") -> Фасоль продовольственная | C7: Фасоль продовольственная тип 2 | D7: =IFERROR(VLOOKUP(C7,'11. Свод Перечней'!C:H,2,0),"") -> 01.11.71.110 | E7: =IFERROR(VLOOKUP(C7,'11. Свод Перечней'!C:H,3,0),"") -> 001 | F7: =IFERROR(VLOOKUP(C7,'11. Свод Перечней'!C:H,4,0),"") -> КГ | G7: =IFERROR(VLOOKUP(C7,'11. Свод Перечней'!C:H,5,0),"") -> Номер и наименование типа фасоли: III. Фасоль цветная пестрая Вес, КГ: ≤ 1 Упаковка производителя: Наличие Соответствие нормативно-технической документации: Технический регламент Таможенного союза "О безопасности упаковки" от 16.08.2011 ТР ТС № 005/2011, Технический регламент Таможенного союза "О безопасности пищевой продукции" от 09.12.2011 № 021/2011, Технический регламент Таможенного союза "Пищевая продукция в части ее маркировки" от 09.12.2011 № 022/2011, ГОСТ 7758-2020 | H7: =IF(LEN(IFERROR(VLOOKUP(C7,'11. Свод Перечней'!C:H,6,0),""))>1,IFERROR(VLOOKUP(C7,'11. Свод Перечней'!C:H,6,0),""),"") -> 01.11.71.110-00000001
A8: =IF(LEN(C8)>0,MAX($A$5:A7)+1,"") -> 3 | B8: =IFERROR(INDEX('11. Свод Перечней'!B:C,MATCH(C8,'11. Свод Перечней'!C:C,0),1),"") -> Фасоль продовольственная | C8: Фасоль продовольственная тип 3 | D8: =IFERROR(VLOOKUP(C8,'11. Свод Перечней'!C:H,2,0),"") -> 01.11.71.110 | E8: =IFERROR(VLOOKUP(C8,'11. Свод Перечней'!C:H,3,0),"") -> 003 | F8: =IFERROR(VLOOKUP(C8,'11. Свод Перечней'!C:H,4,0),"") -> КГ | G8: =IFERROR(VLOOKUP(C8,'11. Свод Перечней'!C:H,5,0),"") -> Номер и наименование типа фасоли: II. Фасоль цветная однотонная Вес, КГ: ≤ 1 Упаковка производителя: Наличие Соответствие нормативно-технической документации: Технический регламент Таможенного союза "О безопасности упаковки" от 16.08.2011 ТР ТС № 005/2011, Технический регламент Таможенного союза "О безопасности пищевой продукции" от 09.12.2011 № 021/2011, Технический регламент Таможенного союза "Пищевая продукция в части ее маркировки" от 09.12.2011 № 022/2011, ГОСТ 7758-2020 | H8: =IF(LEN(IFERROR(VLOOKUP(C8,'11. Свод Перечней'!C:H,6,0),""))>1,IFERROR(VLOOKUP(C8,'11. Свод Перечней'!C:H,6,0),""),"") -> 01.11.71.110-00000002
A9: =IF(LEN(C9)>0,MAX($A$5:A8)+1,"") -> 4 | B9: =IFERROR(INDEX('11. Свод Перечней'!B:C,MATCH(C9,'11. Свод Перечней'!C:C,0),1),"") -> Фасоль продовольственная | C9: Фасоль продовольственная тип 4 | D9: =IFERROR(VLOOKUP(C9,'11. Свод Перечней'!C:H,2,0),"") -> 01.11.71.110 | E9: =IFERROR(VLOOKUP(C9,'11. Свод Перечней'!C:H,3,0),"") -> 004 | F9: =IFERROR(VLOOKUP(C9,'11. Свод Перечней'!C:H,4,0),"") -> КГ | G9: =IFERROR(VLOOKUP(C9,'11. Свод Перечней'!C:H,5,0),"") -> Номер и наименование типа фасоли: I. Фасоль белая Вес, КГ: ≤ 1 Упаковка производителя: Наличие Соответствие нормативно-технической документации: Технический регламент Таможенного союза "О безопасности упаковки" от 16.08.2011 ТР ТС № 005/2011, Технический регламент Таможенного союза "О безопасности пищевой продукции" от 09.12.2011 № 021/2011, Технический регламент Таможенного союза "Пищевая продукция в части ее маркировки" от 09.12.2011 № 022/2011, ГОСТ 7758-2020 | H9: =IF(LEN(IFERROR(VLOOKUP(C9,'11. Свод Перечней'!C:H,6,0),""))>1,IFERROR(VLOOKUP(C9,'11. Свод Перечней'!C:H,6,0),""),"") -> 01.11.71.110-00000003
A10: =IF(LEN(C10)>0,MAX($A$5:A9)+1,"") -> 5 | B10: =IFERROR(INDEX('11. Свод Перечней'!B:C,MATCH(C10,'11. Свод Перечней'!C:C,0),1),"") -> Чечевица | C10: Чечевица продовольственная тип 2 | D10: =IFERROR(VLOOKUP(C10,'11. Свод Перечней'!C:H,2,0),"") -> 01.11.74.110 | E10: =IFERROR(VLOOKUP(C10,'11. Свод Перечней'!C:H,3,0),"") -> 001 | F10: =IFERROR(VLOOKUP(C10,'11. Свод Перечней'!C:H,4,0),"") -> КГ | G10: =IFERROR(VLOOKUP(C10,'11. Свод Перечней'!C:H,5,0),"") -> Тип чечевицы: Красная Вес, КГ: ≤ 1 Упаковка производителя: Наличие Соответствие нормативно-технической документации: Технический регламент Таможенного союза "О безопасности упаковки" от 16.08.2011 ТР ТС № 005/2011, Технический регламент Таможенного союза "О безопасности пищевой продукции" от 09.12.2011 № 021/2011, Технический регламент Таможенного союза "Пищевая продукция в части ее маркировки" от 09.12.2011 № 022/2011, ГОСТ 7066-2019 | H10: =IF(LEN(IFERROR(VLOOKUP(C10,'11. Свод Перечней'!C:H,6,0),""))>1,IFERROR(VLOOKUP(C10,'11. Свод Перечней'!C:H,6,0),""),"") -> 01.11.74.110-00000001
A11: =IF(LEN(C11)>0,MAX($A$5:A10)+1,"") -> 6 | B11: =IFERROR(INDEX('11. Свод Перечней'!B:C,MATCH(C11,'11. Свод Перечней'!C:C,0),1),"") -> Чечевица | C11: Чечевица продовольственная тип 3 | D11: =IFERROR(VLOOKUP(C11,'11. Свод Перечней'!C:H,2,0),"") -> 01.11.74.110 | E11: =IFERROR(VLOOKUP(C11,'11. Свод Перечней'!C:H,3,0),"") -> 003 | F11: =IFERROR(VLOOKUP(C11,'11. Свод Перечней'!C:H,4,0),"") -> КГ | G11: =IFERROR(VLOOKUP(C11,'11. Свод Перечней'!C:H,5,0),"") -> Тип чечевицы: Коричневая Вес, КГ: ≤ 1 Упаковка производителя: Наличие Соответствие нормативно-технической документации: Технический регламент Таможенного союза "О безопасности упаковки" от 16.08.2011 ТР ТС № 005/2011, Технический регламент Таможенного союза "О безопасности пищевой продукции" от 09.12.2011 № 021/2011, Технический регламент Таможенного союза "Пищевая продукция в части ее маркировки" от 09.12.2011 № 022/2011, ГОСТ 7066-2019 | H11: =IF(LEN(IFERROR(VLOOKUP(C11,'11. Свод Перечней'!C:H,6,0),""))>1,IFERROR(VLOOKUP(C11,'11. Свод Перечней'!C:H,6,0),""),"") -> 01.11.74.110-00000002
A12: =IF(LEN(C12)>0,MAX($A$5:A11)+1,"") -> 7 | B12: =IFERROR(INDEX('11. Свод Перечней'!B:C,MATCH(C12,'11. Свод Перечней'!C:C,0),1),"") -> Чечевица | C12: Чечевица продовольственная тип 4 | D12: =IFERROR(VLOOKUP(C12,'11. Свод Перечней'!C:H,2,0),"") -> 01.11.74.110 | E12: =IFERROR(VLOOKUP(C12,'11. Свод Перечней'!C:H,3,0),"") -> 004 | F12: =IFERROR(VLOOKUP(C12,'11. Свод Перечней'!C:H,4,0),"") -> КГ | G12: =IFERROR(VLOOKUP(C12,'11. Свод Перечней'!C:H,5,0),"") -> Тип чечевицы: Неоднородная Вес, КГ: ≤ 1 Упаковка производителя: Наличие Соответствие нормативно-технической документации: Технический регламент Таможенного союза "О безопасности упаковки" от 16.08.2011 ТР ТС № 005/2011, Технический регламент Таможенного союза "О безопасности пищевой продукции" от 09.12.2011 № 021/2011, Технический регламент Таможенного союза "Пищевая продукция в части ее маркировки" от 09.12.2011 № 022/2011, ГОСТ 7066-2019 | H12: =IF(LEN(IFERROR(VLOOKUP(C12,'11. Свод Перечней'!C:H,6,0),""))>1,IFERROR(VLOOKUP(C12,'11. Свод Перечней'!C:H,6,0),""),"") -> 01.11.74.110-00000003
A13: =IF(LEN(C13)>0,MAX($A$5:A12)+1,"") -> 8 | B13: =IFERROR(INDEX('11. Свод Перечней'!B:C,MATCH(C13,'11. Свод Перечней'!C:C,0),1),"") -> Чечевица | C13: Чечевица продовольственная тип 5 | D13: =IFERROR(VLOOKUP(C13,'11. Свод Перечней'!C:H,2,0),"") -> 01.11.74.110 | E13: =IFERROR(VLOOKUP(C13,'11. Свод Перечней'!C:H,3,0),"") -> 005 | F13: =IFERROR(VLOOKUP(C13,'11. Свод Перечней'!C:H,4,0),"") -> КГ | G13: =IFERROR(VLOOKUP(C13,'11. Свод Перечней'!C:H,5,0),"") -> Тип чечевицы: Светло-зеленая Вес, КГ: ≤ 1 Упаковка производителя: Наличие Соответствие нормативно-технической документации: Технический регламент Таможенного союза "О безопасности упаковки" от 16.08.2011 ТР ТС № 005/2011, Технический регламент Таможенного союза "О безопасности пищевой продукции" от 09.12.2011 № 021/2011, Технический регламент Таможенного союза "Пищевая продукция в части ее маркировки" от 09.12.2011 № 022/2011, ГОСТ 7066-2019 | H13: =IF(LEN(IFERROR(VLOOKUP(C13,'11. Свод Перечней'!C:H,6,0),""))>1,IFERROR(VLOOKUP(C13,'11. Свод Перечней'!C:H,6,0),""),"") -> 01.11.74.110-00000004
A14: =IF(LEN(C14)>0,MAX($A$5:A13)+1,"") -> 9 | B14: =IFERROR(INDEX('11. Свод Перечней'!B:C,MATCH(C14,'11. Свод Перечней'!C:C,0),1),"") -> Чечевица | C14: Чечевица продовольственная тип 6 | D14: =IFERROR(VLOOKUP(C14,'11. Свод Перечней'!C:H,2,0),"") -> 01.11.74.110 | E14: =IFERROR(VLOOKUP(C14,'11. Свод Перечней'!C:H,3,0),"") -> 006 | F14: =IFERROR(VLOOKUP(C14,'11. Свод Перечней'!C:H,4,0),"") -> КГ | G14: =IFERROR(VLOOKUP(C14,'11. Свод Перечней'!C:H,5,0),"") -> Тип чечевицы: Темно-зеленая Вес, КГ: ≤ 1 Упаковка производителя: Наличие Соответствие нормативно-технической документации: Технический регламент Таможенного союза "О безопасности упаковки" от 16.08.2011 ТР ТС № 005/2011, Технический регламент Таможенного союза "О безопасности пищевой продукции" от 09.12.2011 № 021/2011, Технический регламент Таможенного союза "Пищевая продукция в части ее маркировки" от 09.12.2011 № 022/2011, ГОСТ 7066-2019 | H14: =IF(LEN(IFERROR(VLOOKUP(C14,'11. Свод Перечней'!C:H,6,0),""))>1,IFERROR(VLOOKUP(C14,'11. Свод Перечней'!C:H,6,0),""),"") -> 01.11.74.110-00000005
A15: =IF(LEN(C15)>0,MAX($A$5:A14)+1,"") -> 10 | B15: =IFERROR(INDEX('11. Свод Перечней'!B:C,MATCH(C15,'11. Свод Перечней'!C:C,0),1),"") -> Горох шлифованный | C15: Горох шлифованный тип 1 | D15: =IFERROR(VLOOKUP(C15,'11. Свод Перечней'!C:H,2,0),"") -> 01.11.75.110 | E15: =IFERROR(VLOOKUP(C15,'11. Свод Перечней'!C:H,3,0),"") -> 001 | F15: =IFERROR(VLOOKUP(C15,'11. Свод Перечней'!C:H,4,0),"") -> КГ | G15: =IFERROR(VLOOKUP(C15,'11. Свод Перечней'!C:H,5,0),"") -> Вид зерна: Целое Сорт: Не ниже первого Вес: не более 1 КГ Упаковка производителя: Наличие Соответствие нормативно-технической документации: Технический регламент Таможенного союза "О безопасности упаковки" от 16.08.2011 ТР ТС № 005/2011, Технический регламент Таможенного союза "О безопасности пищевой продукции" от 09.12.2011 № 021/2011, Технический регламент Таможенного союза "Пищевая продукция в части ее маркировки" от 09.12.2011 № 022/2011, ГОСТ 6201-2020 | H15: =IF(LEN(IFERROR(VLOOKUP(C15,'11. Свод Перечней'!C:H,6,0),""))>1,IFERROR(VLOOKUP(C15,'11. Свод Перечней'!C:H,6,0),""),"") -> 01.11.75.110-00000002
A16: =IF(LEN(C16)>0,MAX($A$5:A15)+1,"") -> 11 | B16: =IFERROR(INDEX('11. Свод Перечней'!B:C,MATCH(C16,'11. Свод Перечней'!C:C,0),1),"") -> Горох шлифованный | C16: Горох шлифованный тип 2 | D16: =IFERROR(VLOOKUP(C16,'11. Свод Перечней'!C:H,2,0),"") -> 01.11.75.110 | E16: =IFERROR(VLOOKUP(C16,'11. Свод Перечней'!C:H,3,0),"") -> 002 | F16: =IFERROR(VLOOKUP(C16,'11. Свод Перечней'!C:H,4,0),"") -> КГ | G16: =IFERROR(VLOOKUP(C16,'11. Свод Перечней'!C:H,5,0),"") -> Вид зерна: Целое Сорт: Не ниже первого Фасовка: Весовая Соответствие нормативно-технической документации: Технический регламент Таможенного союза "О безопасности упаковки" от 16.08.2011 ТР ТС № 005/2011, Технический регламент Таможенного союза "О безопасности пищевой продукции" от 09.12.2011 № 021/2011, Технический регламент Таможенного союза "Пищевая продукция в части ее маркировки" от 09.12.2011 № 022/2011, ГОСТ 6201-2020 | H16: =IF(LEN(IFERROR(VLOOKUP(C16,'11. Свод Перечней'!C:H,6,0),""))>1,IFERROR(VLOOKUP(C16,'11. Свод Перечней'!C:H,6,0),""),"") -> 01.11.75.110-00000002
A17: =IF(LEN(C17)>0,MAX($A$5:A16)+1,"") -> 12 | B17: =IFERROR(INDEX('11. Свод Перечней'!B:C,MATCH(C17,'11. Свод Перечней'!C:C,0),1),"") -> Капуста брюссельская свежая | C17: Капуста брюссельская тип 1 | D17: =IFERROR(VLOOKUP(C17,'11. Свод Перечней'!C:H,2,0),"") -> 01.13.12.110 | E17: =IFERROR(VLOOKUP(C17,'11. Свод Перечней'!C:H,3,0),"") -> 001 | F17: =IFERROR(VLOOKUP(C17,'11. Свод Перечней'!C:H,4,0),"") -> КГ | G17: =IFERROR(VLOOKUP(C17,'11. Свод Перечней'!C:H,5,0),"") -> Вид: Свежая Фасовка: Весовая Соответствие нормативно-технической документации: Технический регламент Таможенного союза "О безопасности упаковки" от 16.08.2011 ТР ТС № 005/2011, Технический регламент Таможенного союза "О безопасности пищевой продукции" от 09.12.2011 № 021/2011, Технический регламент Таможенного союза "Пищевая продукция в части ее маркировки" от 09.12.2011 № 022/2011, ГОСТ 33851-2016 | H17: =IF(LEN(IFERROR(VLOOKUP(C17,'11. Свод Перечней'!C:H,6,0),""))>1,IFERROR(VLOOKUP(C17,'11. Свод Перечней'!C:H,6,0),""),"")
A18: =IF(LEN(C18)>0,MAX($A$5:A17)+1,"") -> 13 | B18: =IFERROR(INDEX('11. Свод Перечней'!B:C,MATCH(C18,'11. Свод Перечней'!C:C,0),1),"") -> Капуста белокочанная свежая | C18: Капуста белокочанная тип 1 | D18: =IFERROR(VLOOKUP(C18,'11. Свод Перечней'!C:H,2,0),"") -> 01.13.12.120 | E18: =IFERROR(VLOOKUP(C18,'11. Свод Перечней'!C:H,3,0),"") -> 001 | F18: =IFERROR(VLOOKUP(C18,'11. Свод Перечней'!C:H,4,0),"") -> КГ | G18: =IFERROR(VLOOKUP(C18,'11. Свод Перечней'!C:H,5,0),"") -> Капуста очищенная: Нет Вид капусты по сроку созревания: Среднеспелая; Позднеспелая; Среднепоздняя Товарный класс: Первый Вид: Свежая Фасовка: Весовая Соответствие нормативно-технической документации: Технический регламент Таможенного союза "О безопасности упаковки" от 16.08.2011 ТР ТС № 005/2011, Технический регламент Таможенного союза "О безопасности пищевой продукции" от 09.12.2011 № 021/2011, Технический регламент Таможенного союза "Пищевая продукция в части ее маркировки" от 09.12.2011 № 022/2011, ГОСТ Р 51809-2001 | H18: =IF(LEN(IFERROR(VLOOKUP(C18,'11. Свод Перечней'!C:H,6,0),""))>1,IFERROR(VLOOKUP(C18,'11. Свод Перечней'!C:H,6,0),""),"") -> 01.13.12.120-00000002
... A530: =IF(LEN(C530)>0,MAX($A$5:A529)+1,"") -> 525 | B530: =IFERROR(INDEX('11. Свод Перечней'!B:C,MATCH(C530,'11. Свод Перечней'!C:C,0),1),"") -> Хлеб пшенично-ржаной | C530: Хлеб недлительного хранения тип 5 | D530: =IFERROR(VLOOKUP(C530,'11. Свод Перечней'!C:H,2,0),"") -> 10.71.11.112 | E530: =IFERROR(VLOOKUP(C530,'11. Свод Перечней'!C:H,3,0),"") -> 005 | F530: =IFERROR(VLOOKUP(C530,'11. Свод Перечней'!C:H,4,0),"") -> КГ | G530: =IFERROR(VLOOKUP(C530,'11. Свод Перечней'!C:H,5,0),"") -> Вид хлеба: Пшенично-ржаной Бездрожжевая технология производства: Да; Нет Изделие нарезанное: Да; Нет Хлеб обогащенный витаминами/микроэлементами: Да; Нет Хлеб по способу производства: Формовой; Подовый Вес: не более 1 КГ Упаковка производителя: Наличие Соответствие нормативно-технической документации: Технический регламент Таможенного союза "О безопасности упаковки" от 16.08.2011 ТР ТС № 005/2011, Технический регламент Таможенного союза "О безопасности пищевой продукции" от 09.12.2011 № 021/2011, Технический регламент Таможенного союза "Пищевая продукция в части ее маркировки" от 09.12.2011 № 022/2011, ГОСТ 31807-2018; Технический регламент Таможенного союза "О безопасности упаковки" от 16.08.2011 ТР ТС № 005/2011, Технический регламент Таможенного союза "О безопасности пищевой продукции" от 09.12.2011 № 021/2011, Технический регламент Таможенного союза "Пищевая продукция в части ее маркировки" от 09.12.2011 № 022/2011, ГОСТ 2077-2023 | H530: =IF(LEN(IFERROR(VLOOKUP(C530,'11. Свод Перечней'!C:H,6,0),""))>1,IFERROR(VLOOKUP(C530,'11. Свод Перечней'!C:H,6,0),""),"") -> 10.71.11.110-00000001
A531: =IF(LEN(C531)>0,MAX($A$5:A530)+1,"") | B531: =IFERROR(INDEX('11. Свод Перечней'!B:C,MATCH(C531,'11. Свод Перечней'!C:C,0),1),"") | D531: =IFERROR(VLOOKUP(C531,'11. Свод Перечней'!C:H,2,0),"") | E531: =IFERROR(VLOOKUP(C531,'11. Свод Перечней'!C:H,3,0),"") | F531: =IFERROR(VLOOKUP(C531,'11. Свод Перечней'!C:H,4,0),"") | G531: =IFERROR(VLOOKUP(C531,'11. Свод Перечней'!C:H,5,0),"") | H531: =IF(LEN(IFERROR(VLOOKUP(C531,'11. Свод Перечней'!C:H,6,0),""))>1,IFERROR(VLOOKUP(C531,'11. Свод Перечней'!C:H,6,0),""),"")
A532: =IF(LEN(C532)>0,MAX($A$5:A531)+1,"") | B532: =IFERROR(INDEX('11. Свод Перечней'!B:C,MATCH(C532,'11. Свод Перечней'!C:C,0),1),"") | D532: =IFERROR(VLOOKUP(C532,'11. Свод Перечней'!C:H,2,0),"") | E532: =IFERROR(VLOOKUP(C532,'11. Свод Перечней'!C:H,3,0),"") | F532: =IFERROR(VLOOKUP(C532,'11. Свод Перечней'!C:H,4,0),"") | G532: =IFERROR(VLOOKUP(C532,'11. Свод Перечней'!C:H,5,0),"") | H532: =IF(LEN(IFERROR(VLOOKUP(C532,'11. Свод Перечней'!C:H,6,0),""))>1,IFERROR(VLOOKUP(C532,'11. Свод Перечней'!C:H,6,0),""),"")
A533: =IF(LEN(C533)>0,MAX($A$5:A532)+1,"") | B533: =IFERROR(INDEX('11. Свод Перечней'!B:C,MATCH(C533,'11. Свод Перечней'!C:C,0),1),"") | D533: =IFERROR(VLOOKUP(C533,'11. Свод Перечней'!C:H,2,0),"") | E533: =IFERROR(VLOOKUP(C533,'11. Свод Перечней'!C:H,3,0),"") | F533: =IFERROR(VLOOKUP(C533,'11. Свод Перечней'!C:H,4,0),"") | G533: =IFERROR(VLOOKUP(C533,'11. Свод Перечней'!C:H,5,0),"") | H533: =IF(LEN(IFERROR(VLOOKUP(C533,'11. Свод Перечней'!C:H,6,0),""))>1,IFERROR(VLOOKUP(C533,'11. Свод Перечней'!C:H,6,0),""),"")
A534: =IF(LEN(C534)>0,MAX($A$5:A533)+1,"") | B534: =IFERROR(INDEX('11. Свод Перечней'!B:C,MATCH(C534,'11. Свод Перечней'!C:C,0),1),"") | D534: =IFERROR(VLOOKUP(C534,'11. Свод Перечней'!C:H,2,0),"") | E534: =IFERROR(VLOOKUP(C534,'11. Свод Перечней'!C:H,3,0),"") | F534: =IFERROR(VLOOKUP(C534,'11. Свод Перечней'!C:H,4,0),"") | G534: =IFERROR(VLOOKUP(C534,'11. Свод Перечней'!C:H,5,0),"") | H534: =IF(LEN(IFERROR(VLOOKUP(C534,'11. Свод Перечней'!C:H,6,0),""))>1,IFERROR(VLOOKUP(C534,'11. Свод Перечней'!C:H,6,0),""),"")
A535: =IF(LEN(C535)>0,MAX($A$5:A534)+1,"") | B535: =IFERROR(INDEX('11. Свод Перечней'!B:C,MATCH(C535,'11. Свод Перечней'!C:C,0),1),"") | D535: =IFERROR(VLOOKUP(C535,'11. Свод Перечней'!C:H,2,0),"") | E535: =IFERROR(VLOOKUP(C535,'11. Свод Перечней'!C:H,3,0),"") | F535: =IFERROR(VLOOKUP(C535,'11. Свод Перечней'!C:H,4,0),"") | G535: =IFERROR(VLOOKUP(C535,'11. Свод Перечней'!C:H,5,0),"") | H535: =IF(LEN(IFERROR(VLOOKUP(C535,'11. Свод Перечней'!C:H,6,0),""))>1,IFERROR(VLOOKUP(C535,'11. Свод Перечней'!C:H,6,0),""),"")
A536: =IF(LEN(C536)>0,MAX($A$5:A535)+1,"") | B536: =IFERROR(INDEX('11. Свод Перечней'!B:C,MATCH(C536,'11. Свод Перечней'!C:C,0),1),"") | D536: =IFERROR(VLOOKUP(C536,'11. Свод Перечней'!C:H,2,0),"") | E536: =IFERROR(VLOOKUP(C536,'11. Свод Перечней'!C:H,3,0),"") | F536: =IFERROR(VLOOKUP(C536,'11. Свод Перечней'!C:H,4,0),"") | G536: =IFERROR(VLOOKUP(C536,'11. Свод Перечней'!C:H,5,0),"") | H536: =IF(LEN(IFERROR(VLOOKUP(C536,'11. Свод Перечней'!C:H,6,0),""))>1,IFERROR(VLOOKUP(C536,'11. Свод Перечней'!C:H,6,0),""),"")
A537: =IF(LEN(C537)>0,MAX($A$5:A536)+1,"") | B537: =IFERROR(INDEX('11. Свод Перечней'!B:C,MATCH(C537,'11. Свод Перечней'!C:C,0),1),"") | D537: =IFERROR(VLOOKUP(C537,'11. Свод Перечней'!C:H,2,0),"") | E537: =IFERROR(VLOOKUP(C537,'11. Свод Перечней'!C:H,3,0),"") | F537: =IFERROR(VLOOKUP(C537,'11. Свод Перечней'!C:H,4,0),"") | G537: =IFERROR(VLOOKUP(C537,'11. Свод Перечней'!C:H,5,0),"") | H537: =IF(LEN(IFERROR(VLOOKUP(C537,'11. Свод Перечней'!C:H,6,0),""))>1,IFERROR(VLOOKUP(C537,'11. Свод Перечней'!C:H,6,0),""),"")
A538: =IF(LEN(C538)>0,MAX($A$5:A537)+1,"") | B538: =IFERROR(INDEX('11. Свод Перечней'!B:C,MATCH(C538,'11. Свод Перечней'!C:C,0),1),"") | D538: =IFERROR(VLOOKUP(C538,'11. Свод Перечней'!C:H,2,0),"") | E538: =IFERROR(VLOOKUP(C538,'11. Свод Перечней'!C:H,3,0),"") | F538: =IFERROR(VLOOKUP(C538,'11. Свод Перечней'!C:H,4,0),"") | G538: =IFERROR(VLOOKUP(C538,'11. Свод Перечней'!C:H,5,0),"") | H538: =IF(LEN(IFERROR(VLOOKUP(C538,'11. Свод Перечней'!C:H,6,0),""))>1,IFERROR(VLOOKUP(C538,'11. Свод Перечней'!C:H,6,0),""),"")
A539: =IF(LEN(C539)>0,MAX($A$5:A538)+1,"") | B539: =IFERROR(INDEX('11. Свод Перечней'!B:C,MATCH(C539,'11. Свод Перечней'!C:C,0),1),"") | D539: =IFERROR(VLOOKUP(C539,'11. Свод Перечней'!C:H,2,0),"") | E539: =IFERROR(VLOOKUP(C539,'11. Свод Перечней'!C:H,3,0),"") | F539: =IFERROR(VLOOKUP(C539,'11. Свод Перечней'!C:H,4,0),"") | G539: =IFERROR(VLOOKUP(C539,'11. Свод Перечней'!C:H,5,0),"") | H539: =IF(LEN(IFERROR(VLOOKUP(C539,'11. Свод Перечней'!C:H,6,0),""))>1,IFERROR(VLOOKUP(C539,'11. Свод Перечней'!C:H,6,0),""),"")
A540: =IF(LEN(C540)>0,MAX($A$5:A539)+1,"") | B540: =IFERROR(INDEX('11. Свод Перечней'!B:C,MATCH(C540,'11. Свод Перечней'!C:C,0),1),"") | D540: =IFERROR(VLOOKUP(C540,'11. Свод Перечней'!C:H,2,0),"") | E540: =IFERROR(VLOOKUP(C540,'11. Свод Перечней'!C:H,3,0),"") | F540: =IFERROR(VLOOKUP(C540,'11. Свод Перечней'!C:H,4,0),"") | G540: =IFERROR(VLOOKUP(C540,'11. Свод Перечней'!C:H,5,0),"") | H540: =IF(LEN(IFERROR(VLOOKUP(C540,'11. Свод Перечней'!C:H,6,0),""))>1,IFERROR(VLOOKUP(C540,'11. Свод Перечней'!C:H,6,0),""),"")
A541: =IF(LEN(C541)>0,MAX($A$5:A540)+1,"") | B541: =IFERROR(INDEX('11. Свод Перечней'!B:C,MATCH(C541,'11. Свод Перечней'!C:C,0),1),"") | D541: =IFERROR(VLOOKUP(C541,'11. Свод Перечней'!C:H,2,0),"") | E541: =IFERROR(VLOOKUP(C541,'11. Свод Перечней'!C:H,3,0),"") | F541: =IFERROR(VLOOKUP(C541,'11. Свод Перечней'!C:H,4,0),"") | G541: =IFERROR(VLOOKUP(C541,'11. Свод Перечней'!C:H,5,0),"") | H541: =IF(LEN(IFERROR(VLOOKUP(C541,'11. Свод Перечней'!C:H,6,0),""))>1,IFERROR(VLOOKUP(C541,'11. Свод Перечней'!C:H,6,0),""),"")
A542: =IF(LEN(C542)>0,MAX($A$5:A541)+1,"") | B542: =IFERROR(INDEX('11. Свод Перечней'!B:C,MATCH(C542,'11. Свод Перечней'!C:C,0),1),"") | D542: =IFERROR(VLOOKUP(C542,'11. Свод Перечней'!C:H,2,0),"") | E542: =IFERROR(VLOOKUP(C542,'11. Свод Перечней'!C:H,3,0),"") | F542: =IFERROR(VLOOKUP(C542,'11. Свод Перечней'!C:H,4,0),"") | G542: =IFERROR(VLOOKUP(C542,'11. Свод Перечней'!C:H,5,0),"") | H542: =IF(LEN(IFERROR(VLOOKUP(C542,'11. Свод Перечней'!C:H,6,0),""))>1,IFERROR(VLOOKUP(C542,'11. Свод Перечней'!C:H,6,0),""),"")
... A1157: =IF(LEN(C1157)>0,MAX($A$5:A1156)+1,"") | B1157: =IFERROR(INDEX('11. Свод Перечней'!B:C,MATCH(C1157,'11. Свод Перечней'!C:C,0),1),"") | D1157: =IFERROR(VLOOKUP(C1157,'11. Свод Перечней'!C:H,2,0),"") | E1157: =IFERROR(VLOOKUP(C1157,'11. Свод Перечней'!C:H,3,0),"") | F1157: =IFERROR(VLOOKUP(C1157,'11. Свод Перечней'!C:H,4,0),"") | G1157: =IFERROR(VLOOKUP(C1157,'11. Свод Перечней'!C:H,5,0),"") | H1157: =IF(LEN(IFERROR(VLOOKUP(C1157,'11. Свод Перечней'!C:H,6,0),""))>1,IFERROR(VLOOKUP(C1157,'11. Свод Перечней'!C:H,6,0),""),"")

Sheet 3.Здрав Дети
A1: Дата актуализации ассортиментного перечня «03» марта 2026 г
A2: Ассортиментный перечень основных групп продовольственных товаров и сырья для обеспечения социального питания в лечебно-профилактических и санаторно-курортных учреждениях здравоохранения Санкт-Петербурга (для детей)
A3: Примечание! * - Продукция предназначенная для лечебного, специального питания ** - предназначенные для использования в питании после термической обработки. Информацию о действующей нормативной документации, а также изменениях вносимых в национальные стандарты можно получить в Управлении социального питания по телефонам 576-68-25, 576-68-27 и на сайте Управления по адресу: http://www.gov.spb.ru, вкладка «Нормативные документы».
A4: № | B4: Потребительское наименование товара | C4: Название товара ККН/КТРУ | D4: ОКПД2 | E4: Детализация ККН | F4: Единица измерения ККН | G4: Характеристики товара | H4: Код КТРУ
A5: 1 | B5: 2 | C5: 2 | D5: 3 | E5: 4 | F5: 5 | G5: 6 | H5: 7
A6: 1 | B6: =IFERROR(INDEX('11. Свод Перечней'!B:C,MATCH(C6,'11. Свод Перечней'!C:C,0),1),"") -> Фасоль овощная свежая | C6: {=IFERROR(INDEX('11. Свод Перечней'!$C$4:$C$603,SMALL(IF("ЗД"='11. Свод Перечней'!$I$4:$Q$603,ROW('11. Свод Перечней'!$C$4:$C$603)-3,""),ROW()-5)),"")} -> Фасоль тип 1 | D6: =IFERROR(VLOOKUP(C6,'11. Свод Перечней'!C:H,2,0),"") -> 01.11.61.000 | E6: =IFERROR(VLOOKUP(C6,'11. Свод Перечней'!C:H,3,0),"") -> 001 | F6: =IFERROR(VLOOKUP(C6,'11. Свод Перечней'!C:H,4,0),"") -> КГ | G6: =IFERROR(VLOOKUP(C6,'11. Свод Перечней'!C:H,5,0),"") -> Тип: Овощная Вид: Свежая Сорт: Высший; Первый Фасовка: Весовая Соответствие нормативно-технической документации: Технический регламент Таможенного союза "О безопасности упаковки" от 16.08.2011 ТР ТС № 005/2011, Технический регламент Таможенного союза "О безопасности пищевой продукции" от 09.12.2011 № 021/2011, Технический регламент Таможенного союза "Пищевая продукция в части ее маркировки" от 09.12.2011 № 022/2011, ГОСТ 34299-2017 | H6: =IF(LEN(IFERROR(VLOOKUP(C6,'11. Свод Перечней'!C:H,6,0),""))>1,IFERROR(VLOOKUP(C6,'11. Свод Перечней'!C:H,6,0),""),"")
A7: =IF(LEN(C7)>0,MAX($A$5:A6)+1,"") -> 2 | B7: =IFERROR(INDEX('11. Свод Перечней'!B:C,MATCH(C7,'11. Свод Перечней'!C:C,0),1),"") -> Фасоль продовольственная | C7: Фасоль продовольственная тип 2 | D7: =IFERROR(VLOOKUP(C7,'11. Свод Перечней'!C:H,2,0),"") -> 01.11.71.110 | E7: =IFERROR(VLOOKUP(C7,'11. Свод Перечней'!C:H,3,0),"") -> 001 | F7: =IFERROR(VLOOKUP(C7,'11. Свод Перечней'!C:H,4,0),"") -> КГ | G7: =IFERROR(VLOOKUP(C7,'11. Свод Перечней'!C:H,5,0),"") -> Номер и наименование типа фасоли: III. Фасоль цветная пестрая Вес, КГ: ≤ 1 Упаковка производителя: Наличие Соответствие нормативно-технической документации: Технический регламент Таможенного союза "О безопасности упаковки" от 16.08.2011 ТР ТС № 005/2011, Технический регламент Таможенного союза "О безопасности пищевой продукции" от 09.12.2011 № 021/2011, Технический регламент Таможенного союза "Пищевая продукция в части ее маркировки" от 09.12.2011 № 022/2011, ГОСТ 7758-2020 | H7: =IF(LEN(IFERROR(VLOOKUP(C7,'11. Свод Перечней'!C:H,6,0),""))>1,IFERROR(VLOOKUP(C7,'11. Свод Перечней'!C:H,6,0),""),"") -> 01.11.71.110-00000001
A8: =IF(LEN(C8)>0,MAX($A$5:A7)+1,"") -> 3 | B8: =IFERROR(INDEX('11. Свод Перечней'!B:C,MATCH(C8,'11. Свод Перечней'!C:C,0),1),"") -> Фасоль продовольственная | C8: Фасоль продовольственная тип 3 | D8: =IFERROR(VLOOKUP(C8,'11. Свод Перечней'!C:H,2,0),"") -> 01.11.71.110 | E8: =IFERROR(VLOOKUP(C8,'11. Свод Перечней'!C:H,3,0),"") -> 003 | F8: =IFERROR(VLOOKUP(C8,'11. Свод Перечней'!C:H,4,0),"") -> КГ | G8: =IFERROR(VLOOKUP(C8,'11. Свод Перечней'!C:H,5,0),"") -> Номер и наименование типа фасоли: II. Фасоль цветная однотонная Вес, КГ: ≤ 1 Упаковка производителя: Наличие Соответствие нормативно-технической документации: Технический регламент Таможенного союза "О безопасности упаковки" от 16.08.2011 ТР ТС № 005/2011, Технический регламент Таможенного союза "О безопасности пищевой продукции" от 09.12.2011 № 021/2011, Технический регламент Таможенного союза "Пищевая продукция в части ее маркировки" от 09.12.2011 № 022/2011, ГОСТ 7758-2020 | H8: =IF(LEN(IFERROR(VLOOKUP(C8,'11. Свод Перечней'!C:H,6,0),""))>1,IFERROR(VLOOKUP(C8,'11. Свод Перечней'!C:H,6,0),""),"") -> 01.11.71.110-00000002
A9: =IF(LEN(C9)>0,MAX($A$5:A8)+1,"") -> 4 | B9: =IFERROR(INDEX('11. Свод Перечней'!B:C,MATCH(C9,'11. Свод Перечней'!C:C,0),1),"") -> Фасоль продовольственная | C9: Фасоль продовольственная тип 4 | D9: =IFERROR(VLOOKUP(C9,'11. Свод Перечней'!C:H,2,0),"") -> 01.11.71.110 | E9: =IFERROR(VLOOKUP(C9,'11. Свод Перечней'!C:H,3,0),"") -> 004 | F9: =IFERROR(VLOOKUP(C9,'11. Свод Перечней'!C:H,4,0),"") -> КГ | G9: =IFERROR(VLOOKUP(C9,'11. Свод Перечней'!C:H,5,0),"") -> Номер и наименование типа фасоли: I. Фасоль белая Вес, КГ: ≤ 1 Упаковка производителя: Наличие Соответствие нормативно-технической документации: Технический регламент Таможенного союза "О безопасности упаковки" от 16.08.2011 ТР ТС № 005/2011, Технический регламент Таможенного союза "О безопасности пищевой продукции" от 09.12.2011 № 021/2011, Технический регламент Таможенного союза "Пищевая продукция в части ее маркировки" от 09.12.2011 № 022/2011, ГОСТ 7758-2020 | H9: =IF(LEN(IFERROR(VLOOKUP(C9,'11. Свод Перечней'!C:H,6,0),""))>1,IFERROR(VLOOKUP(C9,'11. Свод Перечней'!C:H,6,0),""),"") -> 01.11.71.110-00000003
A10: =IF(LEN(C10)>0,MAX($A$5:A9)+1,"") -> 5 | B10: =IFERROR(INDEX('11. Свод Перечней'!B:C,MATCH(C10,'11. Свод Перечней'!C:C,0),1),"") -> Чечевица | C10: Чечевица продовольственная тип 2 | D10: =IFERROR(VLOOKUP(C10,'11. Свод Перечней'!C:H,2,0),"") -> 01.11.74.110 | E10: =IFERROR(VLOOKUP(C10,'11. Свод Перечней'!C:H,3,0),"") -> 001 | F10: =IFERROR(VLOOKUP(C10,'11. Свод Перечней'!C:H,4,0),"") -> КГ | G10: =IFERROR(VLOOKUP(C10,'11. Свод Перечней'!C:H,5,0),"") -> Тип чечевицы: Красная Вес, КГ: ≤ 1 Упаковка производителя: Наличие Соответствие нормативно-технической документации: Технический регламент Таможенного союза "О безопасности упаковки" от 16.08.2011 ТР ТС № 005/2011, Технический регламент Таможенного союза "О безопасности пищевой продукции" от 09.12.2011 № 021/2011, Технический регламент Таможенного союза "Пищевая продукция в части ее маркировки" от 09.12.2011 № 022/2011, ГОСТ 7066-2019 | H10: =IF(LEN(IFERROR(VLOOKUP(C10,'11. Свод Перечней'!C:H,6,0),""))>1,IFERROR(VLOOKUP(C10,'11. Свод Перечней'!C:H,6,0),""),"") -> 01.11.74.110-00000001
A11: =IF(LEN(C11)>0,MAX($A$5:A10)+1,"") -> 6 | B11: =IFERROR(INDEX('11. Свод Перечней'!B:C,MATCH(C11,'11. Свод Перечней'!C:C,0),1),"") -> Чечевица | C11: Чечевица продовольственная тип 3 | D11: =IFERROR(VLOOKUP(C11,'11. Свод Перечней'!C:H,2,0),"") -> 01.11.74.110 | E11: =IFERROR(VLOOKUP(C11,'11. Свод Перечней'!C:H,3,0),"") -> 003 | F11: =IFERROR(VLOOKUP(C11,'11. Свод Перечней'!C:H,4,0),"") -> КГ | G11: =IFERROR(VLOOKUP(C11,'11. Свод Перечней'!C:H,5,0),"") -> Тип чечевицы: Коричневая Вес, КГ: ≤ 1 Упаковка производителя: Наличие Соответствие нормативно-технической документации: Технический регламент Таможенного союза "О безопасности упаковки" от 16.08.2011 ТР ТС № 005/2011, Технический регламент Таможенного союза "О безопасности пищевой продукции" от 09.12.2011 № 021/2011, Технический регламент Таможенного союза "Пищевая продукция в части ее маркировки" от 09.12.2011 № 022/2011, ГОСТ 7066-2019 | H11: =IF(LEN(IFERROR(VLOOKUP(C11,'11. Свод Перечней'!C:H,6,0),""))>1,IFERROR(VLOOKUP(C11,'11. Свод Перечней'!C:H,6,0),""),"") -> 01.11.74.110-00000002
A12: =IF(LEN(C12)>0,MAX($A$5:A11)+1,"") -> 7 | B12: =IFERROR(INDEX('11. Свод Перечней'!B:C,MATCH(C12,'11. Свод Перечней'!C:C,0),1),"") -> Чечевица | C12: Чечевица продовольственная тип 4 | D12: =IFERROR(VLOOKUP(C12,'11. Свод Перечней'!C:H,2,0),"") -> 01.11.74.110 | E12: =IFERROR(VLOOKUP(C12,'11. Свод Перечней'!C:H,3,0),"") -> 004 | F12: =IFERROR(VLOOKUP(C12,'11. Свод Перечней'!C:H,4,0),"") -> КГ | G12: =IFERROR(VLOOKUP(C12,'11. Свод Перечней'!C:H,5,0),"") -> Тип чечевицы: Неоднородная Вес, КГ: ≤ 1 Упаковка производителя: Наличие Соответствие нормативно-технической документации: Технический регламент Таможенного союза "О безопасности упаковки" от 16.08.2011 ТР ТС № 005/2011, Технический регламент Таможенного союза "О безопасности пищевой продукции" от 09.12.2011 № 021/2011, Технический регламент Таможенного союза "Пищевая продукция в части ее маркировки" от 09.12.2011 № 022/2011, ГОСТ 7066-2019 | H12: =IF(LEN(IFERROR(VLOOKUP(C12,'11. Свод Перечней'!C:H,6,0),""))>1,IFERROR(VLOOKUP(C12,'11. Свод Перечней'!C:H,6,0),""),"") -> 01.11.74.110-00000003
A13: =IF(LEN(C13)>0,MAX($A$5:A12)+1,"") -> 8 | B13: =IFERROR(INDEX('11. Свод Перечней'!B:C,MATCH(C13,'11. Свод Перечней'!C:C,0),1),"") -> Чечевица | C13: Чечевица продовольственная тип 5 | D13: =IFERROR(VLOOKUP(C13,'11. Свод Перечней'!C:H,2,0),"") -> 01.11.74.110 | E13: =IFERROR(VLOOKUP(C13,'11. Свод Перечней'!C:H,3,0),"") -> 005 | F13: =IFERROR(VLOOKUP(C13,'11. Свод Перечней'!C:H,4,0),"") -> КГ | G13: =IFERROR(VLOOKUP(C13,'11. Свод Перечней'!C:H,5,0),"") -> Тип чечевицы: Светло-зеленая Вес, КГ: ≤ 1 Упаковка производителя: Наличие Соответствие нормативно-технической документации: Технический регламент Таможенного союза "О безопасности упаковки" от 16.08.2011 ТР ТС № 005/2011, Технический регламент Таможенного союза "О безопасности пищевой продукции" от 09.12.2011 № 021/2011, Технический регламент Таможенного союза "Пищевая продукция в части ее маркировки" от 09.12.2011 № 022/2011, ГОСТ 7066-2019 | H13: =IF(LEN(IFERROR(VLOOKUP(C13,'11. Свод Перечней'!C:H,6,0),""))>1,IFERROR(VLOOKUP(C13,'11. Свод Перечней'!C:H,6,0),""),"") -> 01.11.74.110-00000004
A14: =IF(LEN(C14)>0,MAX($A$5:A13)+1,"") -> 9 | B14: =IFERROR(INDEX('11. Свод Перечней'!B:C,MATCH(C14,'11. Свод Перечней'!C:C,0),1),"") -> Чечевица | C14: Чечевица продовольственная тип 6 | D14: =IFERROR(VLOOKUP(C14,'11. Свод Перечней'!C:H,2,0),"") -> 01.11.74.110 | E14: =IFERROR(VLOOKUP(C14,'11. Свод Перечней'!C:H,3,0),"") -> 006 | F14: =IFERROR(VLOOKUP(C14,'11. Свод Перечней'!C:H,4,0),"") -> КГ | G14: =IFERROR(VLOOKUP(C14,'11. Свод Перечней'!C:H,5,0),"") -> Тип чечевицы: Темно-зеленая Вес, КГ: ≤ 1 Упаковка производителя: Наличие Соответствие нормативно-технической документации: Технический регламент Таможенного союза "О безопасности упаковки" от 16.08.2011 ТР ТС № 005/2011, Технический регламент Таможенного союза "О безопасности пищевой продукции" от 09.12.2011 № 021/2011, Технический регламент Таможенного союза "Пищевая продукция в части ее маркировки" от 09.12.2011 № 022/2011, ГОСТ 7066-2019 | H14: =IF(LEN(IFERROR(VLOOKUP(C14,'11. Свод Перечней'!C:H,6,0),""))>1,IFERROR(VLOOKUP(C14,'11. Свод Перечней'!C:H,6,0),""),"") -> 01.11.74.110-00000005
A15: =IF(LEN(C15)>0,MAX($A$5:A14)+1,"") -> 10 | B15: =IFERROR(INDEX('11. Свод Перечней'!B:C,MATCH(C15,'11. Свод Перечней'!C:C,0),1),"") -> Горох шлифованный | C15: Горох шлифованный тип 1 | D15: =IFERROR(VLOOKUP(C15,'11. Свод Перечней'!C:H,2,0),"") -> 01.11.75.110 | E15: =IFERROR(VLOOKUP(C15,'11. Свод Перечней'!C:H,3,0),"") -> 001 | F15: =IFERROR(VLOOKUP(C15,'11. Свод Перечней'!C:H,4,0),"") -> КГ | G15: =IFERROR(VLOOKUP(C15,'11. Свод Перечней'!C:H,5,0),"") -> Вид зерна: Целое Сорт: Не ниже первого Вес: не более 1 КГ Упаковка производителя: Наличие Соответствие нормативно-технической документации: Технический регламент Таможенного союза "О безопасности упаковки" от 16.08.2011 ТР ТС № 005/2011, Технический регламент Таможенного союза "О безопасности пищевой продукции" от 09.12.2011 № 021/2011, Технический регламент Таможенного союза "Пищевая продукция в части ее маркировки" от 09.12.2011 № 022/2011, ГОСТ 6201-2020 | H15: =IF(LEN(IFERROR(VLOOKUP(C15,'11. Свод Перечней'!C:H,6,0),""))>1,IFERROR(VLOOKUP(C15,'11. Свод Перечней'!C:H,6,0),""),"") -> 01.11.75.110-00000002
A16: =IF(LEN(C16)>0,MAX($A$5:A15)+1,"") -> 11 | B16: =IFERROR(INDEX('11. Свод Перечней'!B:C,MATCH(C16,'11. Свод Перечней'!C:C,0),1),"") -> Горох шлифованный | C16: Горох шлифованный тип 2 | D16: =IFERROR(VLOOKUP(C16,'11. Свод Перечней'!C:H,2,0),"") -> 01.11.75.110 | E16: =IFERROR(VLOOKUP(C16,'11. Свод Перечней'!C:H,3,0),"") -> 002 | F16: =IFERROR(VLOOKUP(C16,'11. Свод Перечней'!C:H,4,0),"") -> КГ | G16: =IFERROR(VLOOKUP(C16,'11. Свод Перечней'!C:H,5,0),"") -> Вид зерна: Целое Сорт: Не ниже первого Фасовка: Весовая Соответствие нормативно-технической документации: Технический регламент Таможенного союза "О безопасности упаковки" от 16.08.2011 ТР ТС № 005/2011, Технический регламент Таможенного союза "О безопасности пищевой продукции" от 09.12.2011 № 021/2011, Технический регламент Таможенного союза "Пищевая продукция в части ее маркировки" от 09.12.2011 № 022/2011, ГОСТ 6201-2020 | H16: =IF(LEN(IFERROR(VLOOKUP(C16,'11. Свод Перечней'!C:H,6,0),""))>1,IFERROR(VLOOKUP(C16,'11. Свод Перечней'!C:H,6,0),""),"") -> 01.11.75.110-00000002
A17: =IF(LEN(C17)>0,MAX($A$5:A16)+1,"") -> 12 | B17: =IFERROR(INDEX('11. Свод Перечней'!B:C,MATCH(C17,'11. Свод Перечней'!C:C,0),1),"") -> Капуста брюссельская свежая | C17: Капуста брюссельская тип 1 | D17: =IFERROR(VLOOKUP(C17,'11. Свод Перечней'!C:H,2,0),"") -> 01.13.12.110 | E17: =IFERROR(VLOOKUP(C17,'11. Свод Перечней'!C:H,3,0),"") -> 001 | F17: =IFERROR(VLOOKUP(C17,'11. Свод Перечней'!C:H,4,0),"") -> КГ | G17: =IFERROR(VLOOKUP(C17,'11. Свод Перечней'!C:H,5,0),"") -> Вид: Свежая Фасовка: Весовая Соответствие нормативно-технической документации: Технический регламент Таможенного союза "О безопасности упаковки" от 16.08.2011 ТР ТС № 005/2011, Технический регламент Таможенного союза "О безопасности пищевой продукции" от 09.12.2011 № 021/2011, Технический регламент Таможенного союза "Пищевая продукция в части ее маркировки" от 09.12.2011 № 022/2011, ГОСТ 33851-2016 | H17: =IF(LEN(IFERROR(VLOOKUP(C17,'11. Свод Перечней'!C:H,6,0),""))>1,IFERROR(VLOOKUP(C17,'11. Свод Перечней'!C:H,6,0),""),"")
A18: =IF(LEN(C18)>0,MAX($A$5:A17)+1,"") -> 13 | B18: =IFERROR(INDEX('11. Свод Перечней'!B:C,MATCH(C18,'11. Свод Перечней'!C:C,0),1),"") -> Капуста белокочанная свежая | C18: Капуста белокочанная тип 1 | D18: =IFERROR(VLOOKUP(C18,'11. Свод Перечней'!C:H,2,0),"") -> 01.13.12.120 | E18: =IFERROR(VLOOKUP(C18,'11. Свод Перечней'!C:H,3,0),"") -> 001 | F18: =IFERROR(VLOOKUP(C18,'11. Свод Перечней'!C:H,4,0),"") -> КГ | G18: =IFERROR(VLOOKUP(C18,'11. Свод Перечней'!C:H,5,0),"") -> Капуста очищенная: Нет Вид капусты по сроку созревания: Среднеспелая; Позднеспелая; Среднепоздняя Товарный класс: Первый Вид: Свежая Фасовка: Весовая Соответствие нормативно-технической документации: Технический регламент Таможенного союза "О безопасности упаковки" от 16.08.2011 ТР ТС № 005/2011, Технический регламент Таможенного союза "О безопасности пищевой продукции" от 09.12.2011 № 021/2011, Технический регламент Таможенного союза "Пищевая продукция в части ее маркировки" от 09.12.2011 № 022/2011, ГОСТ Р 51809-2001 | H18: =IF(LEN(IFERROR(VLOOKUP(C18,'11. Свод Перечней'!C:H,6,0),""))>1,IFERROR(VLOOKUP(C18,'11. Свод Перечней'!C:H,6,0),""),"") -> 01.13.12.120-00000002
... A470: =IF(LEN(C470)>0,MAX($A$5:A469)+1,"") -> 465 | B470: =IFERROR(INDEX('11. Свод Перечней'!B:C,MATCH(C470,'11. Свод Перечней'!C:C,0),1),"") -> Хлеб пшенично-ржаной | C470: Хлеб недлительного хранения тип 5 | D470: =IFERROR(VLOOKUP(C470,'11. Свод Перечней'!C:H,2,0),"") -> 10.71.11.112 | E470: =IFERROR(VLOOKUP(C470,'11. Свод Перечней'!C:H,3,0),"") -> 005 | F470: =IFERROR(VLOOKUP(C470,'11. Свод Перечней'!C:H,4,0),"") -> КГ | G470: =IFERROR(VLOOKUP(C470,'11. Свод Перечней'!C:H,5,0),"") -> Вид хлеба: Пшенично-ржаной Бездрожжевая технология производства: Да; Нет Изделие нарезанное: Да; Нет Хлеб обогащенный витаминами/микроэлементами: Да; Нет Хлеб по способу производства: Формовой; Подовый Вес: не более 1 КГ Упаковка производителя: Наличие Соответствие нормативно-технической документации: Технический регламент Таможенного союза "О безопасности упаковки" от 16.08.2011 ТР ТС № 005/2011, Технический регламент Таможенного союза "О безопасности пищевой продукции" от 09.12.2011 № 021/2011, Технический регламент Таможенного союза "Пищевая продукция в части ее маркировки" от 09.12.2011 № 022/2011, ГОСТ 31807-2018; Технический регламент Таможенного союза "О безопасности упаковки" от 16.08.2011 ТР ТС № 005/2011, Технический регламент Таможенного союза "О безопасности пищевой продукции" от 09.12.2011 № 021/2011, Технический регламент Таможенного союза "Пищевая продукция в части ее маркировки" от 09.12.2011 № 022/2011, ГОСТ 2077-2023 | H470: =IF(LEN(IFERROR(VLOOKUP(C470,'11. Свод Перечней'!C:H,6,0),""))>1,IFERROR(VLOOKUP(C470,'11. Свод Перечней'!C:H,6,0),""),"") -> 10.71.11.110-00000001
A471: =IF(LEN(C471)>0,MAX($A$5:A470)+1,"") | B471: =IFERROR(INDEX('11. Свод Перечней'!B:C,MATCH(C471,'11. Свод Перечней'!C:C,0),1),"") | D471: =IFERROR(VLOOKUP(C471,'11. Свод Перечней'!C:H,2,0),"") | E471: =IFERROR(VLOOKUP(C471,'11. Свод Перечней'!C:H,3,0),"") | F471: =IFERROR(VLOOKUP(C471,'11. Свод Перечней'!C:H,4,0),"") | G471: =IFERROR(VLOOKUP(C471,'11. Свод Перечней'!C:H,5,0),"") | H471: =IF(LEN(IFERROR(VLOOKUP(C471,'11. Свод Перечней'!C:H,6,0),""))>1,IFERROR(VLOOKUP(C471,'11. Свод Перечней'!C:H,6,0),""),"")
A472: =IF(LEN(C472)>0,MAX($A$5:A471)+1,"") | B472: =IFERROR(INDEX('11. Свод Перечней'!B:C,MATCH(C472,'11. Свод Перечней'!C:C,0),1),"") | D472: =IFERROR(VLOOKUP(C472,'11. Свод Перечней'!C:H,2,0),"") | E472: =IFERROR(VLOOKUP(C472,'11. Свод Перечней'!C:H,3,0),"") | F472: =IFERROR(VLOOKUP(C472,'11. Свод Перечней'!C:H,4,0),"") | G472: =IFERROR(VLOOKUP(C472,'11. Свод Перечней'!C:H,5,0),"") | H472: =IF(LEN(IFERROR(VLOOKUP(C472,'11. Свод Перечней'!C:H,6,0),""))>1,IFERROR(VLOOKUP(C472,'11. Свод Перечней'!C:H,6,0),""),"")
A473: =IF(LEN(C473)>0,MAX($A$5:A472)+1,"") | B473: =IFERROR(INDEX('11. Свод Перечней'!B:C,MATCH(C473,'11. Свод Перечней'!C:C,0),1),"") | D473: =IFERROR(VLOOKUP(C473,'11. Свод Перечней'!C:H,2,0),"") | E473: =IFERROR(VLOOKUP(C473,'11. Свод Перечней'!C:H,3,0),"") | F473: =IFERROR(VLOOKUP(C473,'11. Свод Перечней'!C:H,4,0),"") | G473: =IFERROR(VLOOKUP(C473,'11. Свод Перечней'!C:H,5,0),"") | H473: =IF(LEN(IFERROR(VLOOKUP(C473,'11. Свод Перечней'!C:H,6,0),""))>1,IFERROR(VLOOKUP(C473,'11. Свод Перечней'!C:H,6,0),""),"")
