Workbook
Name __bookmark_1: #REF!
Name __bookmark_1: #REF!
Name __bookmark_1: #REF!
Name __bookmark_1: #REF!
Name __bookmark_1: #REF!
Name __bookmark_1: #REF!
Name __bookmark_1: #REF!
Name __bookmark_1: #REF!
Name амикм: #REF!
Name амикм: #REF!
Name БОМЖ: #REF!
Name БОМЖ: #REF!
Name БОМЖ: #REF!
Name БОМЖ: #REF!
Name дддд: #REF!
Name дддд: #REF!
Name дддд: #REF!
Name дддд: #REF!
Name фыв: #REF!
Name фыв: #REF!
Name фыв: #REF!
Name фыв: #REF!
Name фыв: #REF!
Name фыв: #REF!
Name фыв: #REF!
Name фыв: #REF!
Name ЦВ: #REF!
Name ЦВ: #REF!
Name ЦВ: #REF!
Name ЦВ: #REF!
Name ЦВ: #REF!
Name ЦВ: #REF!
Name ЦВ: #REF!
Name ЦД: #REF!
Name ЦД: #REF!
Name ЦД: #REF!
Name ЦД: #REF!
Name цывфывафы: #REF!
Name ывапы: #REF!
Name ывапы: #REF!
Name ывапы: #REF!
Name ывапы: #REF!
Name ывапы: #REF!
Name ывапы: #REF!
Name ывапы: #REF!
Name ывапы: #REF!

Sheet Оглавление
A1: Выбор Категории
A2: 1. Учреждения социальной защиты (для взрослых)
A3: 2. Лечебно-профилактические и санаторно-курортные учреждения здравоохранения (для взрослых)
A4: 3. Лечебно-профилактические и санаторные учреждения здравоохранения (для детей)
A5: 4. Детские дома, школы-интернаты различного типа, учреждения отдыха и оздоровления детей и молодежи, детские спортивные оздоровительные лагеря
A6: 5.Образовательные учреждения (Школы и профессиональные училища)
A7: 6. Обеспечение социальным питанием граждан без определенного места жительства (бездомных)
A8: 7. Дошкольные образовательные учреждения
A9: 8. Все типы учреждений для организации питания больных целиакией (для взрослых)
A10: 9. Все типы учреждений для организации питания больных целиакией (для детей)
A11: 10. Все типы учреждений для организации питания больных фенилкетонурией
A12: 11. Список продовольственных товаров, содержащихся во всех перечнях

Sheet 1.Взрослые
A1: Дата актуализации ассортиментного перечня «03» марта 2026 г
A2: Ассортиментный перечень основных групп продовольственных товаров и сырья для обеспечения социального питания в учреждениях Санкт-Петербурга с учетом специфики и особенностей организации питания взрослого контингента
A3: Примечание! * - Продукция предназначенная для лечебного, специального питания ** - предназначенные для использования в питании после термической обработки. Информацию о действующей нормативной документации, а также изменениях вносимых в национальные стандарты можно получить в Управлении социального питания по телефонам 576-68-25, 576-68-27 и на сайте Управления по адресу: http://www.gov.spb.ru, вкладка «Нормативные документы».
A4: № | B4: Потребительское наименование товара | C4: Название товара ККН/КТРУ | D4: ОКПД2 | E4: Детализация ККН | F4: Единица измерения ККН | G4: Характеристики товара | H4: Код КТРУ
A5: 1 | B5: 2 | C5: 2 | D5: 3 | E5: 4 | F5: 5 | G5: 6 | H5: 7
A6: 1 | B6: =IFERROR(INDEX('11. Свод Перечней'!B:C,MATCH(C6,'11. Свод Перечней'!C:C,0),1),"") -> Фасоль овощная свежая | C6: {=IFERROR(INDEX('11. Свод Перечней'!$C$4:$C$603,SMALL(IF("В"='11. Свод Перечней'!$I$4:$Q$603,ROW('11. Свод Перечней'!$C$4:$C$603)-3,""),ROW()-5)),"")} -> Фасоль тип 1 | D6: =IFERROR(VLOOKUP(C6,'11. Свод Перечней'!C:H,2,0),"") -> 01.11.61.000 | E6: =IFERROR(VLOOKUP(C6,'11. Свод Перечней'!C:H,3,0),"") -> 001 | F6: =IFERROR(VLOOKUP(C6,'11. Свод Перечней'!C:H,4,0),"") -> КГ | G6: =IFERROR(VLOOKUP(C6,'11. Свод Перечней'!C:H,5,0),"") -> Тип: Овощная Вид: Свежая Сорт: Высший; Первый Фасовка: Весовая Соответствие нормативно-технической документации: Технический регламент Таможенного союза "О безопасности упаковки" от 16.08.2011 ТР ТС № 005/2011, Технический регламент Таможенного союза "О безопасности пищевой продукции" от 09.12.2011 № 021/2011, Технический регламент Таможенного союза "Пищевая продукция в части ее маркировки" от 09.12.2011 № 022/2011, ГОСТ 34299-2017 | H6: =IF(LEN(IFERROR(VLOOKUP(C6,'11. Свод Перечней'!C:H,6,0),""))>1,IFERROR(VLOOKUP(C6,'11. Свод Перечней'!C:H,6,0),""),"")
A7: =IF(LEN(C7)>0,MAX($A$5:A6)+1,"") -> 2 | B7: =IFERROR(INDEX('11. Свод Перечней'!B:C,MATCH(C7,'11. Свод Перечней'!C:C,0),1),"") -> Фасоль продовольственная | C7: Фасоль продовольственная тип 2 | D7: =IFERROR(VLOOKUP(C7,'11. Свод Перечней'!C:H,2,0),"") -> 01.11.71.110 | E7: =IFERROR(VLOOKUP(C7,'11. Свод Перечней'!C:H,3,0),"") -> 001 | F7: =IFERROR(VLOOKUP(C7,'11. Свод Перечней'!C:H,4,0),"") -> КГ | G7: =IFERROR(VLOOKUP(C7,'11. Свод Перечней'!C:H,5,0),"") -> Номер и наименование типа фасоли: III. Фасоль цветная пестрая Вес, КГ: ≤ 1 Упаковка производителя: Наличие Соответствие нормативно-технической документации: Технический регламент Таможенного союза "О безопасности упаковки" от 16.08.2011 ТР ТС № 005/2011, Технический регламент Таможенного союза "О безопасности пищевой продукции" от 09.12.2011 № 021/2011, Технический регламент Таможенного союза "Пищевая продукция в части ее маркировки" от 09.12.2011 № 022/2011, ГОСТ 7758-2020 | H7: =IF(LEN(IFERROR(VLOOKUP(C7,'11. Свод Перечней'!C:H,6,0),""))>1,IFERROR(VLOOKUP(C7,'11. Свод Перечней'!C:H,6,0),""),"") -> 01.11.71.110-00000001
A8: =IF(LEN(C8)>0,MAX($A$5:A7)+1,"") -> 3 | B8: =IFERROR(INDEX('11. Свод Перечней'!B:C,MATCH(C8,'11. Свод Перечней'!C:C,0),1),"") -> Фасоль продовольственная | C8: Фасоль продовольственная тип 3 | D8: =IFERROR(VLOOKUP(C8,'11. Свод Перечней'!C:H,2,0),"") -> 01.11.71.110 | E8: =IFERROR(VLOOKUP(C8,'11. Свод Перечней'!C:H,3,0),"") -> 003 | F8: =IFERROR(VLOOKUP(C8,'11. Свод Перечней'!C:H,4,0),"") -> КГ | G8: =IFERROR(VLOOKUP(C8,'11. Свод Перечней'!C:H,5,0),"") -> Номер и наименование типа фасоли: II. Фасоль цветная однотонная Вес, КГ: ≤ 1 Упаковка производителя: Наличие Соответствие нормативно-технической документации: Технический регламент Таможенного союза "О безопасности упаковки" от 16.08.2011 ТР ТС № 005/2011, Технический регламент Таможенного союза "О безопасности пищевой продукции" от 09.12.2011 № 021/2011, Технический регламент Таможенного союза "Пищевая продукция в части ее маркировки" от 09.12.2011 № 022/2011, ГОСТ 7758-2020 | H8: =IF(LEN(IFERROR(VLOOKUP(C8,'11. Свод Перечней'!C:H,6,0),""))>1,IFERROR(VLOOKUP(C8,'11. Свод Перечней'!C:H,6,0),""),"") -> 01.11.71.110-00000002
A9: =IF(LEN(C9)>0,MAX($A$5:A8)+1,"") -> 4 | B9: =IFERROR(INDEX('11. Свод Перечней'!B:C,MATCH(C9,'11. Свод Перечней'!C:C,0),1),"") -> Фасоль продовольственная | C9: Фасоль продовольственная тип 4 | D9: =IFERROR(VLOOKUP(C9,'11. Свод Перечней'!C:H,2,0),"") -> 01.11.71.110 | E9: =IFERROR(VLOOKUP(C9,'11. Свод Перечней'!C:H,3,0),"") -> 004 | F9: =IFERROR(VLOOKUP(C9,'11. Свод Перечней'!C:H,4,0),"") -> КГ | G9: =IFERROR(VLOOKUP(C9,'11. Свод Перечней'!C:H,5,0),"") -> Номер и наименование типа фасоли: I. Фасоль белая Вес, КГ: ≤ 1 Упаковка производителя: Наличие Соответствие нормативно-технической документации: Технический регламент Таможенного союза "О безопасности упаковки" от 16.08.2011 ТР ТС № 005/2011, Технический регламент Таможенного союза "О безопасности пищевой продукции" от 09.12.2011 № 021/2011, Технический регламент Таможенного союза "Пищевая продукция в части ее маркировки" от 09.12.2011 № 022/2011, ГОСТ 7758-2020 | H9: =IF(LEN(IFERROR(VLOOKUP(C9,'11. Свод Перечней'!C:H,6,0),""))>1,IFERROR(VLOOKUP(C9,'11. Свод Перечней'!C:H,6,0),""),"") -> 01.11.71.110-00000003
A10: =IF(LEN(C10)>0,MAX($A$5:A9)+1,"") -> 5 | B10: =IFERROR(INDEX('11. Свод Перечней'!B:C,MATCH(C10,'11. Свод Перечней'!C:C,0),1),"") -> Чечевица | C10: Чечевица продовольственная тип 2 | D10: =IFERROR(VLOOKUP(C10,'11. Свод Перечней'!C:H,2,0),"") -> 01.11.74.110 | E10: =IFERROR(VLOOKUP(C10,'11. Свод Перечней'!C:H,3,0),"") -> 001 | F10: =IFERROR(VLOOKUP(C10,'11. Свод Перечней'!C:H,4,0),"") -> КГ | G10: =IFERROR(VLOOKUP(C10,'11. Свод Перечней'!C:H,5,0),"") -> Тип чечевицы: Красная Вес, КГ: ≤ 1 Упаковка производителя: Наличие Соответствие нормативно-технической документации: Технический регламент Таможенного союза "О безопасности упаковки" от 16.08.2011 ТР ТС № 005/2011, Технический регламент Таможенного союза "О безопасности пищевой продукции" от 09.12.2011 № 021/2011, Технический регламент Таможенного союза "Пищевая продукция в части ее маркировки" от 09.12.2011 № 022/2011, ГОСТ 7066-2019 | H10: =IF(LEN(IFERROR(VLOOKUP(C10,'11. Свод Перечней'!C:H,6,0),""))>1,IFERROR(VLOOKUP(C10,'11. Свод Перечней'!C:H,6,0),""),"") -> 01.11.74.110-00000001
A11: =IF(LEN(C11)>0,MAX($A$5:A10)+1,"") -> 6 | B11: =IFERROR(INDEX('11. Свод Перечней'!B:C,MATCH(C11,'11. Свод Перечней'!C:C,0),1),"") -> Чечевица | C11: Чечевица продовольственная тип 3 | D11: =IFERROR(VLOOKUP(C11,'11. Свод Перечней'!C:H,2,0),"") -> 01.11.74.110 | E11: =IFERROR(VLOOKUP(C11,'11. Свод Перечней'!C:H,3,0),"") -> 003 | F11: =IFERROR(VLOOKUP(C11,'11. Свод Перечней'!C:H,4,0),"") -> КГ | G11: =IFERROR(VLOOKUP(C11,'11. Свод Перечней'!C:H,5,0),"") -> Тип чечевицы: Коричневая Вес, КГ: ≤ 1 Упаковка производителя: Наличие Соответствие нормативно-технической документации: Технический регламент Таможенного союза "О безопасности упаковки" от 16.08.2011 ТР ТС № 005/2011, Технический регламент Таможенного союза "О безопасности пищевой продукции" от 09.12.2011 № 021/2011, Технический регламент Таможенного союза "Пищевая продукция в части ее маркировки" от 09.12.2011 № 022/2011, ГОСТ 7066-2019 | H11: =IF(LEN(IFERROR(VLOOKUP(C11,'11. Свод Перечней'!C:H,6,0),""))>1,IFERROR(VLOOKUP(C11,'11. Свод Перечней'!C:H,6,0),""),"") -> 01.11.74.110-00000002
A12: =IF(LEN(C12)>0,MAX($A$5:A11)+1,"") -> 7 | B12: =IFERROR(INDEX('11. Свод Перечней'!B:C,MATCH(C12,'11. Свод Перечней'!C:C,0),1),"") -> Чечевица | C12: Чечевица продовольственная тип 4 | D12: =IFERROR(VLOOKUP(C12,'11. Свод Перечней'!C:H,2,0),"") -> 01.11.74.110 | E12: =IFERROR(VLOOKUP(C12,'11. Свод Перечней'!C:H,3,0),"") -> 004 | F12: =IFERROR(VLOOKUP(C12,'11. Свод Перечней'!C:H,4,0),"") -> КГ | G12: =IFERROR(VLOOKUP(C12,'11. Свод Перечней'!C:H,5,0),"") -> Тип чечевицы: Неоднородная Вес, КГ: ≤ 1 Упаковка производителя: Наличие Соответствие нормативно-технической документации: Технический регламент Таможенного союза "О безопасности упаковки" от 16.08.2011 ТР ТС № 005/2011, Технический регламент Таможенного союза "О безопасности пищевой продукции" от 09.12.2011 № 021/2011, Технический регламент Таможенного союза "Пищевая продукция в части ее маркировки" от 09.12.2011 № 022/2011, ГОСТ 7066-2019 | H12: =IF(LEN(IFERROR(VLOOKUP(C12,'11. Свод Перечней'!C:H,6,0),""))>1,IFERROR(VLOOKUP(C12,'11. Свод Перечней'!C:H,6,0),""),"") -> 01.11.74.110-00000003
A13: =IF(LEN(C13)>0,MAX($A$5:A12)+1,"") -> 8 | B13: =IFERROR(INDEX('11. Свод Перечней'!B:C,MATCH(C13,'11. Свод Перечней'!C:C,0),1),"") -> Чечевица | C13: Чечевица продовольственная тип 5 | D13: =IFERROR(VLOOKUP(C13,'11. Свод Перечней'!C:H,2,0),"") -> 01.11.74.110 | E13: =IFERROR(VLOOKUP(C13,'11. Свод Перечней'!C:H,3,0),"") -> 005 | F13: =IFERROR(VLOOKUP(C13,'11. Свод Перечней'!C:H,4,0),"") -> КГ | G13: =IFERROR(VLOOKUP(C13,'11. Свод Перечней'!C:H,5,0),"") -> Тип чечевицы: Светло-зеленая Вес, КГ: ≤ 1 Упаковка производителя: Наличие Соответствие нормативно-технической документации: Технический регламент Таможенного союза "О безопасности упаковки" от 16.08.2011 ТР ТС № 005/2011, Технический регламент Таможенного союза "О безопасности пищевой продукции" от 09.12.2011 № 021/2011, Технический регламент Таможенного союза "Пищевая продукция в части ее маркировки" от 09.12.2011 № 022/2011, ГОСТ 7066-2019 | H13: =IF(LEN(IFERROR(VLOOKUP(C13,'11. Свод Перечней'!C:H,6,0),""))>1,IFERROR(VLOOKUP(C13,'11. Свод Перечней'!C:H,6,0),""),"") -> 01.11.74.110-00000004
A14: =IF(LEN(C14)>0,MAX($A$5:A13)+1,"") -> 9 | B14: =IFERROR(INDEX('11. Свод Перечней'!B:C,MATCH(C14,'11. Свод Перечней'!C:C,0),1),"") -> Чечевица | C14: Чечевица продовольственная тип 6 | D14: =IFERROR(VLOOKUP(C14,'11. Свод Перечней'!C:H,2,0),"") -> 01.11.74.110 | E14: =IFERROR(VLOOKUP(C14,'11. Свод Перечней'!C:H,3,0),"") -> 006 | F14: =IFERROR(VLOOKUP(C14,'11. Свод Перечней'!C:H,4,0),"") -> КГ | G14: =IFERROR(VLOOKUP(C14,'11. Свод Перечней'!C:H,5,0),"") -> Тип чечевицы: Темно-зеленая Вес, КГ: ≤ 1 Упаковка производителя: Наличие Соответствие нормативно-технической документации: Технический регламент Таможенного союза "О безопасности упаковки" от 16.08.2011 ТР ТС № 005/2011, Технический регламент Таможенного союза "О безопасности пищевой продукции" от 09.12.2011 № 021/2011, Технический регламент Таможенного союза "Пищевая продукция в части ее маркировки" от 09.12.2011 № 022/2011, ГОСТ 7066-2019 | H14: =IF(LEN(IFERROR(VLOOKUP(C14,'11. Свод Перечней'!C:H,6,0),""))>1,IFERROR(VLOOKUP(C14,'11. Свод Перечней'!C:H,6,0),""),"") -> 01.11.74.110-00000005
A15: =IF(LEN(C15)>0,MAX($A$5:A14)+1,"") -> 10 | B15: =IFERROR(INDEX('11. Свод Перечней'!B:C,MATCH(C15,'11. Свод Перечней'!C:C,0),1),"") -> Горох шлифованный | C15: Горох шлифованный тип 1 | D15: =IFERROR(VLOOKUP(C15,'11. Свод Перечней'!C:H,2,0),"") -> 01.11.75.110 | E15: =IFERROR(VLOOKUP(C15,'11. Свод Перечней'!C:H,3,0),"") -> 001 | F15: =IFERROR(VLOOKUP(C15,'11. Свод Перечней'!C:H,4,0),"") -> КГ | G15: =IFERROR(VLOOKUP(C15,'11. Свод Перечней'!C:H,5,0),"") -> Вид зерна: Целое Сорт: Не ниже первого Вес: не более 1 КГ Упаковка производителя: Наличие Соответствие нормативно-технической документации: Технический регламент Таможенного союза "О безопасности упаковки" от 16.08.2011 ТР ТС № 005/2011, Технический регламент Таможенного союза "О безопасности пищевой продукции" от 09.12.2011 № 021/2011, Технический регламент Таможенного союза "Пищевая продукция в части ее маркировки" от 09.12.2011 № 022/2011, ГОСТ 6201-2020 | H15: =IF(LEN(IFERROR(VLOOKUP(C15,'11. Свод Перечней'!C:H,6,0),""))>1,IFERROR(VLOOKUP(C15,'11. Свод Перечней'!C:H,6,0),""),"") -> 01.11.75.110-00000002
A16: =IF(LEN(C16)>0,MAX($A$5:A15)+1,"") -> 11 | B16: =IFERROR(INDEX('11. Свод Перечней'!B:C,MATCH(C16,'11. Свод Перечней'!C:C,0),1),"") -> Горох шлифованный | C16: Горох шлифованный тип 2 | D16: =IFERROR(VLOOKUP(C16,'11. Свод Перечней'!C:H,2,0),"") -> 01.11.75.110 | E16: =IFERROR(VLOOKUP(C16,'11. Свод Перечней'!C:H,3,0),"") -> 002 | F16: =IFERROR(VLOOKUP(C16,'11. Свод Перечней'!C:H,4,0),"") -> КГ | G16: =IFERROR(VLOOKUP(C16,'11. Свод Перечней'!C:H,5,0),"") -> Вид зерна: Целое Сорт: Не ниже первого Фасовка: Весовая Соответствие нормативно-технической документации: Технический регламент Таможенного союза "О безопасности упаковки" от 16.08.2011 ТР ТС № 005/2011, Технический регламент Таможенного союза "О безопасности пищевой продукции" от 09.12.2011 № 021/2011, Технический регламент Таможенного союза "Пищевая продукция в части ее маркировки" от 09.12.2011 № 022/2011, ГОСТ 6201-2020 | H16: =IF(LEN(IFERROR(VLOOKUP(C16,'11. Свод Перечней'!C:H,6,0),""))>1,IFERROR(VLOOKUP(C16,'11. Свод Перечней'!C:H,6,0),""),"") -> 01.11.75.110-00000002
A17: =IF(LEN(C17)>0,MAX($A$5:A16)+1,"") -> 12 | B17: =IFERROR(INDEX('11. Свод Перечней'!B:C,MATCH(C17,'11. Свод Перечней'!C:C,0),1),"") -> Орехи тип 5 | C17: Орехи тип 5 | D17: =IFERROR(VLOOKUP(C17,'11. Свод Перечней'!C:H,2,0),"") -> 01.11.83.000 | E17: =IFERROR(VLOOKUP(C17,'11. Свод Перечней'!C:H,3,0),"") -> 001 | F17: =IFERROR(VLOOKUP(C17,'11. Свод Перечней'!C:H,4,0),"") -> КГ | G17: =IFERROR(VLOOKUP(C17,'11. Свод Перечней'!C:H,5,0),"") -> Тип: Арахис Вид: Ядра очищенные Вид по способу обработки: Сырой; Жареный Вес: не более 0,1 КГ Упаковка производителя: Наличие Сорт: Высший; Первый Соответствие нормативно-технической документации: Технический регламент Таможенного союза "О безопасности упаковки" от 16.08.2011 ТР ТС № 005/2011, Технический регламент Таможенного союза "О безопасности пищевой продукции" от 09.12.2011 № 021/2011, Технический регламент Таможенного союза "Пищевая продукция в части ее маркировки" от 09.12.2011 № 022/2011, ГОСТ 31784-2012; Технический регламент Таможенного союза "О безопасности упаковки" от 16.08.2011 ТР ТС № 005/2011, Технический регламент Таможенного союза "О безопасности пищевой продукции" от 09.12.2011 № 021/2011, Технический регламент Таможенного союза "Пищевая продукция в части ее маркировки" от 09.12.2011 № 022/2011, ТУ производителя | H17: =IF(LEN(IFERROR(VLOOKUP(C17,'11. Свод Перечней'!C:H,6,0),""))>1,IFERROR(VLOOKUP(C17,'11. Свод Перечней'!C:H,6,0),""),"")
A18: =IF(LEN(C18)>0,MAX($A$5:A17)+1,"") -> 13 | B18: =IFERROR(INDEX('11. Свод Перечней'!B:C,MATCH(C18,'11. Свод Перечней'!C:C,0),1),"") -> Капуста брюссельская свежая | C18: Капуста брюссельская тип 1 | D18: =IFERROR(VLOOKUP(C18,'11. Свод Перечней'!C:H,2,0),"") -> 01.13.12.110 | E18: =IFERROR(VLOOKUP(C18,'11. Свод Перечней'!C:H,3,0),"") -> 001 | F18: =IFERROR(VLOOKUP(C18,'11. Свод Перечней'!C:H,4,0),"") -> КГ | G18: =IFERROR(VLOOKUP(C18,'11. Свод Перечней'!C:H,5,0),"") -> Вид: Свежая Фасовка: Весовая Соответствие нормативно-технической документации: Технический регламент Таможенного союза "О безопасности упаковки" от 16.08.2011 ТР ТС № 005/2011, Технический регламент Таможенного союза "О безопасности пищевой продукции" от 09.12.2011 № 021/2011, Технический регламент Таможенного союза "Пищевая продукция в части ее маркировки" от 09.12.2011 № 022/2011, ГОСТ 33851-2016 | H18: =IF(LEN(IFERROR(VLOOKUP(C18,'11. Свод Перечней'!C:H,6,0),""))>1,IFERROR(VLOOKUP(C18,'11. Свод Перечней'!C:H,6,0),""),"")
... A556: =IF(LEN(C556)>0,MAX($A$5:A555)+1,"") -> 551 | B556: =IFERROR(INDEX('11. Свод Перечней'!B:C,MATCH(C556,'11. Свод Перечней'!C:C,0),1),"") -> Напиток из шиповника промышленного производства витаминизированный | C556: Напиток из шиповника витаминизированный тип 2 | D556: =IFERROR(VLOOKUP(C556,'11. Свод Перечней'!C:H,2,0),"") -> 11.07.19.190 | E556: =IFERROR(VLOOKUP(C556,'11. Свод Перечней'!C:H,3,0),"") -> 002 | F556: =IFERROR(VLOOKUP(C556,'11. Свод Перечней'!C:H,4,0),"") -> Л; ДМ3 | G556: =IFERROR(VLOOKUP(C556,'11. Свод Перечней'!C:H,5,0),"") -> Вид применяемого сырья: Плоды шиповника свежие; Плоды шиповника сушеные Объем, Л; ДМ3: > 1 Упаковка производителя: Наличие Особые условия (требования к составу пищевых продуктов): Без химических консервантов, искусственных красителей и ароматизаторов, искусственных пищевых добавок Соответствие нормативно-технической документации: Технический регламент Таможенного союза "О безопасности упаковки" от 16.08.2011 ТР ТС № 005/2011, Технический регламент Таможенного союза "О безопасности пищевой продукции" от 09.12.2011 № 021/2011, Технический регламент Таможенного союза "Пищевая продукция в части ее маркировки" от 09.12.2011 № 022/2011, ТУ производителя | H556: =IF(LEN(IFERROR(VLOOKUP(C556,'11. Свод Перечней'!C:H,6,0),""))>1,IFERROR(VLOOKUP(C556,'11. Свод Перечней'!C:H,6,0),""),"")
C557: Рыба лососевая соленая тип 5
C558: Сельдь соленая тип 2
C559: Хлеб недлительного хранения тип 5

Sheet 2. Здрав Взрослые
A1: Дата актуализации ассортиментного перечня «03» марта 2026 г
A2: Ассортиментный перечень основных групп продовольственных товаров и сырья для обеспечения социального питания в лечебно-профилактических и санаторно-курортных учреждениях здравоохранения Санкт-Петербурга (для взрослых)
A3: Примечание! * - Продукция предназначенная для лечебного, специального питания ** - предназначенные для использования в питании после термической обработки. Информацию о действующей нормативной документации, а также изменениях вносимых в национальные стандарты можно получить в Управлении социального питания по телефонам 576-68-25, 576-68-27 и на сайте Управления по адресу: http://www.gov.spb.ru, вкладка «Нормативные документы». .
A4: № | B4: Потребительское наименование товара | C4: Название товара ККН/КТРУ | D4: ОКПД2 | E4: Детализация ККН | F4: Единица измерения ККН | G4: Характеристики товара | H4: Код КТРУ
A5: 1 | B5: 2 | C5: 2 | D5: 3 | E5: 4 | F5: 5 | G5: 6 | H5: 7
A6: 1 | B6: =IFERROR(INDEX('11. Свод Перечней'!B:C,MATCH(C6,'11. Свод Перечней'!C:C,0),1),"") -> Фасоль овощная свежая | C6: {=IFERROR(INDEX('11. Свод Перечней'!$C$4:$C$603,SMALL(IF("ЗВ"='11. Свод Перечней'!$I$4:$Q$603,ROW('11. Свод Перечней'!$C$4:$C$603)-3,""),ROW()-5)),"")} -> Фасоль тип 1 | D6: =IFERROR(VLOOKUP(C6,'11. Свод Перечней'!C:H,2,0),"") -> 01.11.61.000 | E6: =IFERROR(VLOOKUP(C6,'11. Свод Перечней'!C:H,3,0),"") -> 001 | F6: =IFERROR(VLOOKUP(C6,'11. Свод Перечней'!C:H,4,0),"") -> КГ | G6: =IFERROR(VLOOKUP(C6,'11. Свод Перечней'!C:H,5,0),"") -> Тип: Овощная Вид: Свежая Сорт: Высший; Первый Фасовка: Весовая Соответствие нормативно-технической документации: Технический регламент Таможенного союза "О безопасности упаковки" от 16.08.2011 ТР ТС № 005/2011, Технический регламент Таможенного союза "О безопасности пищевой продукции" от 09.12.2011 № 021/2011, Технический регламент Таможенного союза "Пищевая продукция в части ее маркировки" от 09.12.2011 № 022/2011, ГОСТ 34299-2017 | H6: =IF(LEN(IFERROR(VLOOKUP(C6,'11. Свод Перечней'!C:H,6,0),""))>1,IFERROR(VLOOKUP(C6,'11. Свод Перечней'!C:H,6,0),""),"")
A7: =IF(LEN(C7)>0,MAX($A$5:A6)+1,"") -> 2 | B7: =IFERROR(INDEX('11. Свод Перечней'!B:C,MATCH(C7,'11. Свод Перечней'!C:C,0),1),"") -> Фасоль продовольственная | C7: Фасоль продовольственная тип 2 | D7: =IFERROR(VLOOKUP(C7,'11. Свод Перечней'!C:H,2,0),"") -> 01.11.71.110 | E7: =IFERROR(VLOOKUP(C7,'11. Свод Перечней'!C:H,3,0),"") -> 001 | F7: =IFERROR(VLOOKUP(C7,'11. Свод Перечней'!C:H,4,0),"") -> КГ | G7: =IFERROR(VLOOKUP(C7,'11. Свод Перечней'!C:H,5,0),"") -> Номер и наименование типа фасоли: III. Фасоль цветная пестрая Вес, КГ: ≤ 1 Упаковка производителя: Наличие Соответствие нормативно-технической документации: Технический регламент Таможенного союза "О безопасности упаковки" от 16.08.2011 ТР ТС № 005/2011, Технический регламент Таможенного союза "О безопасности пищевой продукции" от 09.12.2011 № 021/2011, Технический регламент Таможенного союза "Пищевая продукция в части ее маркировки" от 09.12.2011 № 022/2011, ГОСТ 7758-2020 | H7: =IF(LEN(IFERROR(VLOOKUP(C7,'11. Свод Перечней'!C:H,6,0),""))>1,IFERROR(VLOOKUP(C7,'11. Свод Перечней'!C:H,6,0),""),"") -> 01.11.71.110-00000001
A8: =IF(LEN(C8)>0,MAX($A$5:A7)+1,"") -> 3 | B8: =IFERROR(INDEX('11. Свод Перечней'!B:C,MATCH(C8,'11. Свод Перечней'!C:C,0),1),"") -> Фасоль продовольственная | C8: Фасоль продовольственная тип 3 | D8: =IFERROR(VLOOKUP(C8,'11. Свод Перечней'!C:H,2,0),"") -> 01.11.71.110 | E8: =IFERROR(VLOOKUP(C8,'11. Свод Перечней'!C:H,3,0),"") -> 003 | F8: =IFERROR(VLOOKUP(C8,'11. Свод Перечней'!C:H,4,0),"") -> КГ | G8: =IFERROR(VLOOKUP(C8,'11. Свод Перечней'!C:H,5,0),"") -> Номер и наименование типа фасоли: II. Фасоль цветная однотонная Вес, КГ: ≤ 1 Упаковка производителя: Наличие Соответствие нормативно-технической документации: Технический регламент Таможенного союза "О безопасности упаковки" от 16.08.2011 ТР ТС № 005/2011, Технический регламент Таможенного союза "О безопасности пищевой продукции" от 09.12.2011 № 021/2011, Технический регламент Таможенного союза "Пищевая продукция в части ее маркировки" от 09.12.2011 № 022/2011, ГОСТ 7758-2020 | H8: =IF(LEN(IFERROR(VLOOKUP(C8,'11. Свод Перечней'!C:H,6,0),""))>1,IFERROR(VLOOKUP(C8,'11. Свод Перечней'!C:H,6,0),""),"") -> 01.11.71.110-00000002
A9: =IF(LEN(C9)>0,MAX($A$5:A8)+1,"") -> 4 | B9: =IFERROR(INDEX('11. Свод Перечней'!B:C,MATCH(C9,'11. Свод Перечней'!C:C,0),1),"") -> Фасоль продовольственная | C9: Фасоль продовольственная тип 4 | D9: =IFERROR(VLOOKUP(C9,'11. Свод Перечней'!C:H,2,0),"") -> 01.11.71.110 | E9: =IFERROR(VLOOKUP(C9,'11. Свод Перечней'!C:H,3,0),"") -> 004 | F9: =IFERROR(VLOOKUP(C9,'11. Свод Перечней'!C:H,4,0),"") -> КГ | G9: =IFERROR(VLOOKUP(C9,'11. Свод Перечней'!C:H,5,0),"") -> Номер и наименование типа фасоли: I. Фасоль белая Вес, КГ: ≤ 1 Упаковка производителя: Наличие Соответствие нормативно-технической документации: Технический регламент Таможенного союза "О безопасности упаковки" от 16.08.2011 ТР ТС № 005/2011, Технический регламент Таможенного союза "О безопасности пищевой продукции" от 09.12.2011 № 021/2011, Технический регламент Таможенного союза "Пищевая продукция в части ее маркировки" от 09.12.2011 № 022/2011, ГОСТ 7758-2020 | H9: =IF(LEN(IFERROR(VLOOKUP(C9,'11. Свод Перечней'!C:H,6,0),""))>1,IFERROR(VLOOKUP(C9,'11. Свод Перечней'!C:H,6,0),""),"") -> 01.11.71.110-00000003
A10: =IF(LEN(C10)>0,MAX($A$5:A9)+1,"") -> 5 | B10: =IFERROR(INDEX('11. Свод Перечней'!B:C,MATCH(C10,'11. Свод Перечней'!C:C,0),1),"") -> Чечевица | C10: Чечевица продовольственная тип 2 | D10: =IFERROR(VLOOKUP(C10,'11. Свод Перечней'!C:H,2,0),"") -> 01.11.74.110 | E10: =IFERROR(VLOOKUP(C10,'11. Свод Перечней'!C:H,3,0),"") -> 001 | F10: =IFERROR(VLOOKUP(C10,'11. Свод Перечней'!C:H,4,0),"") -> КГ | G10: =IFERROR(VLOOKUP(C10,'11. Свод Перечней'!C:H,5,0),"") -> Тип чечевицы: Красная Вес, КГ: ≤ 1 Упаковка производителя: Наличие Соответствие нормативно-технической документации: Технический регламент Таможенного союза "О безопасности упаковки" от 16.08.2011 ТР ТС № 005/2011, Технический регламент Таможенного союза "О безопасности пищевой продукции" от 09.12.2011 № 021/2011, Технический регламент Таможенного союза "Пищевая продукция в части ее маркировки" от 09.12.2011 № 022/2011, ГОСТ 7066-2019 | H10: =IF(LEN(IFERROR(VLOOKUP(C10,'11. Свод Перечней'!C:H,6,0),""))>1,IFERROR(VLOOKUP(C10,'11. Свод Перечней'!C:H,6,0),""),"") -> 01.11.74.110-00000001
A11: =IF(LEN(C11)>0,MAX($A$5:A10)+1,"") -> 6 | B11: =IFERROR(INDEX('11. Свод Перечней'!B:C,MATCH(C11,'11. Свод Перечней'!C:C,0),1),"") -> Чечевица | C11: Чечевица продовольственная тип 3 | D11: =IFERROR(VLOOKUP(C11,'11. Свод Перечней'!C:H,2,0),"") -> 01.11.74.110 | E11: =IFERROR(VLOOKUP(C11,'11. Свод Перечней'!C:H,3,0),"") -> 003 | F11: =IFERROR(VLOOKUP(C11,'11. Свод Перечней'!C:H,4,0),"") -> КГ | G11: =IFERROR(VLOOKUP(C11,'11. Свод Перечней'!C:H,5,0),"") -> Тип чечевицы: Коричневая Вес, КГ: ≤ 1 Упаковка производителя: Наличие Соответствие нормативно-технической документации: Технический регламент Таможенного союза "О безопасности упаковки" от 16.08.2011 ТР ТС № 005/2011, Технический регламент Таможенного союза "О безопасности пищевой продукции" от 09.12.2011 № 021/2011, Технический регламент Таможенного союза "Пищевая продукция в части ее маркировки" от 09.12.2011 № 022/2011, ГОСТ 7066-2019 | H11: =IF(LEN(IFERROR(VLOOKUP(C11,'11. Свод Перечней'!C:H,6,0),""))>1,IFERROR(VLOOKUP(C11,'11. Свод Перечней'!C:H,6,0),""),"") -> 01.11.74.110-00000002
A12: =IF(LEN(C12)>0,MAX($A$5:A11)+1,"") -> 7 | B12: =IFERROR(INDEX('11. Свод Перечней'!B:C,MATCH(C12,'11. Свод Перечней'!C:C,0),1),"") -> Чечевица | C12: Чечевица продовольственная тип 4 | D12: =IFERROR(VLOOKUP(C12,'11. Свод Перечней'!C:H,2,0),"") -> 01.11.74.110 | E12: =IFERROR(VLOOKUP(C12,'11. Свод Перечней'!C:H,3,0),"") -> 004 | F12: =IFERROR(VLOOKUP(C12,'11. Свод Перечней'!C:H,4,0),"") -> КГ | G12: =IFERROR(VLOOKUP(C12,'11. Свод Перечней'!C:H,5,0),"") -> Тип чечевицы: Неоднородная Вес, КГ: ≤ 1 Упаковка производителя: Наличие Соответствие нормативно-технической документации: Технический регламент Таможенного союза "О безопасности упаковки" от 16.08.2011 ТР ТС № 005/2011, Технический регламент Таможенного союза "О безопасности пищевой продукции" от 09.12.2011 № 021/2011, Технический регламент Таможенного союза "Пищевая продукция в части ее маркировки" от 09.12.2011 № 022/2011, ГОСТ 7066-2019 | H12: =IF(LEN(IFERROR(VLOOKUP(C12,'11. Свод Перечней'!C:H,6,0),""))>1,IFERROR(VLOOKUP(C12,'11. Свод Перечней'!C:H,6,0),""),"") -> 01.11.74.110-00000003
A13: =IF(LEN(C13)>0,MAX($A$5:A12)+1,"") -> 8 | B13: =IFERROR(INDEX('11. Свод Перечней'!B:C,MATCH(C13,'11. Свод Перечней'!C:C,0),1),"") -> Чечевица | C13: Чечевица продовольственная тип 5 | D13: =IFERROR(VLOOKUP(C13,'11. Свод Перечней'!C:H,2,0),"") -> 01.11.74.110 | E13: =IFERROR(VLOOKUP(C13,'11. Свод Перечней'!C:H,3,0),"") -> 005 | F13: =IFERROR(VLOOKUP(C13,'11. Свод Перечней'!C:H,4,0),"") -> КГ | G13: =IFERROR(VLOOKUP(C13,'11. Свод Перечней'!C:H,5,0),"") -> Тип чечевицы: Светло-зеленая Вес, КГ: ≤ 1 Упаковка производителя: Наличие Соответствие нормативно-технической документации: Технический регламент Таможенного союза "О безопасности упаковки" от 16.08.2011 ТР ТС № 005/2011, Технический регламент Таможенного союза "О безопасности пищевой продукции" от 09.12.2011 № 021/2011, Технический регламент Таможенного союза "Пищевая продукция в части ее маркировки" от 09.12.2011 № 022/2011, ГОСТ 7066-2019 | H13: =IF(LEN(IFERROR(VLOOKUP(C13,'11. Свод Перечней'!C:H,6,0),""))>1,IFERROR(VLOOKUP(C13,'11. Свод Перечней'!C:H,6,0),""),"") -> 01.11.74.110-00000004
A14: =IF(LEN(C14)>0,MAX($A$5:A13)+1,"") -> 9 | B14: =IFERROR(INDEX('11. Свод Перечней'!B:C,MATCH(C14,'11. Свод Перечней'!C:C,0),1),"") -> Чечевица | C14: Чечевица продовольственная тип 6 | D14: =IFERROR(VLOOKUP(C14,'11. Свод Перечней'!C:H,2,0),"") -> 01.11.74.110 | E14: =IFERROR(VLOOKUP(C14,'11. Свод Перечней'!C:H,3,0),"") -> 006 | F14: =IFERROR(VLOOKUP(C14,'11. Свод Перечней'!C:H,4,0),"") -> КГ | G14: =IFERROR(VLOOKUP(C14,'11. Свод Перечней'!C:H,5,0),"") -> Тип чечевицы: Темно-зеленая Вес, КГ: ≤ 1 Упаковка производителя: Наличие Соответствие нормативно-технической документации: Технический регламент Таможенного союза "О безопасности упаковки" от 16.08.2011 ТР ТС № 005/2011, Технический регламент Таможенного союза "О безопасности пищевой продукции" от 09.12.2011 № 021/2011, Технический регламент Таможенного союза "Пищевая продукция в части ее маркировки" от 09.12.2011 № 022/2011, ГОСТ 7066-2019 | H14: =IF(LEN(IFERROR(VLOOKUP(C14,'11. Свод Перечней'!C:H,6,0),""))>1,IFERROR(VLOOKUP(C14,'11. Свод Перечней'!C:H,6,0),""),"") -> 01.11.74.110-00000005
A15: =IF(LEN(C15)>0,MAX($A$5:A14)+1,"") -> 10 | B15: =IFERROR(INDEX('11. Свод Перечней'!B:C,MATCH(C15,'11. Свод Перечней'!C:C,0),1),"") -> Горох шлифованный | C15: Горох шлифованный тип 1 | D15: =IFERROR(VLOOKUP(C15,'11. Свод Перечней'!C:H,2,0),"") -> 01.11.75.110 | E15: =IFERROR(VLOOKUP(C15,'11. Свод Перечней'!C:H,3,0),"") -> 001 | F15: =IFERROR(VLOOKUP(C15,'11. Свод Перечней'!C:H,4,0),"") -> КГ | G15: =IFERROR(VLOOKUP(C15,'11. Свод Перечней'!C:H,5,0),"") -> Вид зерна: Целое Сорт: Не ниже первого Вес: не более 1 КГ Упаковка производителя: Наличие Соответствие нормативно-технической документации: Технический регламент Таможенного союза "О безопасности упаковки" от 16.08.2011 ТР ТС № 005/2011, Технический регламент Таможенного союза "О безопасности пищевой продукции" от 09.12.2011 № 021/2011, Технический регламент Таможенного союза "Пищевая продукция в части ее маркировки" от 09.12.2011 № 022/2011, ГОСТ 6201-2020 | H15: =IF(LEN(IFERROR(VLOOKUP(C15,'11. Свод Перечней'!C:H,6,0),""))>1,IFERROR(VLOOKUP(C15,'11. Свод Перечней'!C:H,6,0),""),"") -> 01.11.75.110-00000002
A16: =IF(LEN(C16)>0,MAX($A$5:A15)+1,"") -> 11 | B16: =IFERROR(INDEX('11. Свод Перечней'!B:C,MATCH(C16,'11. Свод Перечней'!C:C,0),1),"") -> Горох шлифованный | C16: Горох шлифованный тип 2 | D16: =IFERROR(VLOOKUP(C16,'11. Свод Перечней'!C:H,2,0),"") -> 01.11.75.110 | E16: =IFERROR(VLOOKUP(C16,'11. Свод Перечней'!C:H,3,0),"") -> 002 | F16: =IFERROR(VLOOKUP(C16,'11. Свод Перечней'!C:H,4,0),"") -> КГ | G16: =IFERROR(VLOOKUP(C16,'11. Свод Перечней'!C:H,5,0),"") -> Вид зерна: Целое Сорт: Не ниже первого Фасовка: Весовая Соответствие нормативно-технической документации: Технический регламент Таможенного союза "О безопасности упаковки" от 16.08.2011 ТР ТС № 005/2011, Технический регламент Таможенного союза "О безопасности пищевой продукции" от 09.12.2011 № 021/2011, Технический регламент Таможенного союза "Пищевая продукция в части ее маркировки" от 09.12.2011 № 022/2011, ГОСТ 6201-2020 | H16: =IF(LEN(IFERROR(VLOOKUP(C16,'11. Свод Перечней'!C:H,6,0),""))>1,IFERROR(VLOOKUP(C16,'11. Свод Перечней'!C:H,6,0),""),"") -> 01.11.75.110-00000002
A17: =IF(LEN(C17)>0,MAX($A$5:A16)+1,"") -> 12 | B17: =IFERROR(INDEX('11. Свод Перечней'!B:C,MATCH(C17,'11. Свод Перечней'!C:C,0),1),"") -> Капуста брюссельская свежая | C17: Капуста брюссельская тип 1 | D17: =IFERROR(VLOOKUP(C17,'11. Свод Перечней'!C:H,2,0),"") -> 01.13.12.110 | E17: =IFERROR(VLOOKUP(C17,'11. Свод Перечней'!C:H,3,0),"") -> 001 | F17: =IFERROR(VLOOKUP(C17,'11. Свод Перечней'!C:H,4,0),"") -> КГ | G17: =IFERROR(VLOOKUP(C17,'11. Свод Перечней'!C:H,5,0),"") -> Вид: Свежая Фасовка: Весовая Соответствие нормативно-технической документации: Технический регламент Таможенного союза "О безопасности упаковки" от 16.08.2011 ТР ТС № 005/2011, Технический регламент Таможенного союза "О безопасности пищевой продукции" от 09.12.2011 № 021/2011, Технический регламент Таможенного союза "Пищевая продукция в части ее маркировки" от 09.12.2011 № 022/2011, ГОСТ 33851-2016 | H17: =IF(LEN(IFERROR(VLOOKUP(C17,'11. Свод Перечней'!C:H,6,0),""))>1,IFERROR(VLOOKUP(C17,'11. Свод Перечней'!C:H,6,0),""),"")
A18: =IF(LEN(C18)>0,MAX($A$5:A17)+1,"") -> 13 | B18: =IFERROR(INDEX('11. Свод Перечней'!B:C,MATCH(C18,'11. Свод Перечней'!C:C,0),1),"") -> Капуста белокочанная свежая | C18: Капуста белокочанная тип 1 | D18: =IFERROR(VLOOKUP(C18,'11. Свод Перечней'!C:H,2,0),"") -> 01.13.12.120 | E18: =IFERROR(VLOOKUP(C18,'11. Свод Перечней'!C:H,3,0),"") -> 001 | F18: =IFERROR(VLOOKUP(C18,'11. Свод Перечней'!C:H,4,0),"") -> КГ | G18: =IFERROR(VLOOKUP(C18,'11. Свод Перечней'!C:H,5,0),"") -> Капуста очищенная: Нет Вид капусты по сроку созревания: Среднеспелая; Позднеспелая; Среднепоздняя Товарный класс: Первый Вид: Свежая Фасовка: Весовая Соответствие нормативно-технической документации: Технический регламент Таможенного союза "О безопасности упаковки" от 16.08.2011 ТР ТС № 005/2011, Технический регламент Таможенного союза "О безопасности пищевой продукции" от 09.12.2011 № 021/2011, Технический регламент Таможенного союза "Пищевая продукция в части ее маркировки" от 09.12.2011 № 022/2011, ГОСТ Р 51809-2001 | H18: =IF(LEN(IFERROR(VLOOKUP(C18,'11. Свод Перечней'!C:H,6,0),""))>1,IFERROR(VLOOKUP(C18,'11. Свод Перечней'!C:H,6,0),""),"") -> 01.13.12.120-00000002
... A530: =IF(LEN(C530)>0,MAX($A$5:A529)+1,"") -> 525 | B530: =IFERROR(INDEX('11. Свод Перечней'!B:C,MATCH(C530,'11. Свод Перечней'!C:C,0),1),"") -> Хлеб пшенично-ржаной | C530: Хлеб недлительного хранения тип 5 | D530: =IFERROR(VLOOKUP(C530,'11. Свод Перечней'!C:H,2,0),"") -> 10.71.11.112 | E530: =IFERROR(VLOOKUP(C530,'11. Свод Перечней'!C:H,3,0),"") -> 005 | F530: =IFERROR(VLOOKUP(C530,'11. Свод Перечней'!C:H,4,0),"") -> КГ | G530: =IFERROR(VLOOKUP(C530,'11. Свод Перечней'!C:H,5,0),"") -> Вид хлеба: Пшенично-ржаной Бездрожжевая технология производства: Да; Нет Изделие нарезанное: Да; Нет Хлеб обогащенный витаминами/микроэлементами: Да; Нет Хлеб по способу производства: Формовой; Подовый Вес: не более 1 КГ Упаковка производителя: Наличие Соответствие нормативно-технической документации: Технический регламент Таможенного союза "О безопасности упаковки" от 16.08.2011 ТР ТС № 005/2011, Технический регламент Таможенного союза "О безопасности пищевой продукции" от 09.12.2011 № 021/2011, Технический регламент Таможенного союза "Пищевая продукция в части ее маркировки" от 09.12.2011 № 022/2011, ГОСТ 31807-2018; Технический регламент Таможенного союза "О безопасности упаковки" от 16.08.2011 ТР ТС № 005/2011, Технический регламент Таможенного союза "О безопасности пищевой продукции" от 09.12.2011 № 021/2011, Технический регламент Таможенного союза "Пищевая продукция в части ее маркировки" от 09.12.2011 № 022/2011, ГОСТ 2077-2023 | H530: =IF(LEN(IFERROR(VLOOKUP(C530,'11. Свод Перечней'!C:H,6,0),""))>1,IFERROR(VLOOKUP(C530,'11. Свод Перечней'!C:H,6,0),""),"") -> 10.71.11.110-00000001
A531: =IF(LEN(C531)>0,MAX($A$5:A530)+1,"") | B531: =IFERROR(INDEX('11. Свод Перечней'!B:C,MATCH(C531,'11. Свод Перечней'!C:C,0),1),"") | D531: =IFERROR(VLOOKUP(C531,'11. Свод Перечней'!C:H,2,0),"") | E531: =IFERROR(VLOOKUP(C531,'11. Свод Перечней'!C:H,3,0),"") | F531: =IFERROR(VLOOKUP(C531,'11. Свод Перечней'!C:H,4,0),"") | G531: =IFERROR(VLOOKUP(C531,'11. Свод Перечней'!C:H,5,0),"") | H531: =IF(LEN(IFERROR(VLOOKUP(C531,'11. Свод Перечней'!C:H,6,0),""))>1,IFERROR(VLOOKUP(C531,'11. Свод Перечней'!C:H,6,0),""),"")
A532: =IF(LEN(C532)>0,MAX($A$5:A531)+1,"") | B532: =IFERROR(INDEX('11. Свод Перечней'!B:C,MATCH(C532,'11. Свод Перечней'!C:C,0),1),"") | D532: =IFERROR(VLOOKUP(C532,'11. Свод Перечней'!C:H,2,0),"") | E532: =IFERROR(VLOOKUP(C532,'11. Свод Перечней'!C:H,3,0),"") | F532: =IFERROR(VLOOKUP(C532,'11. Свод Перечней'!C:H,4,0),"") | G532: =IFERROR(VLOOKUP(C532,'11. Свод Перечней'!C:H,5,0),"") | H532: =IF(LEN(IFERROR(VLOOKUP(C532,'11. Свод Перечней'!C:H,6,0),""))>1,IFERROR(VLOOKUP(C532,'11. Свод Перечней'!C:H,6,0),""),"")
A533: =IF(LEN(C533)>0,MAX($A$5:A532)+1,"") | B533: =IFERROR(INDEX('11. Свод Перечней'!B:C,MATCH(C533,'11. Свод Перечней'!C:C,0),1),"") | D533: =IFERROR(VLOOKUP(C533,'11. Свод Перечней'!C:H,2,0),"") | E533: =IFERROR(VLOOKUP(C533,'11. Свод Перечней'!C:H,3,0),"") | F533: =IFERROR(VLOOKUP(C533,'11. Свод Перечней'!C:H,4,0),"") | G533: =IFERROR(VLOOKUP(C533,'11. Свод Перечней'!C:H,5,0),"") | H533: =IF(LEN(IFERROR(VLOOKUP(C533,'11. Свод Перечней'!C:H,6,0),""))>1,IFERROR(VLOOKUP(C533,'11. Свод Перечней'!C:H,6,0),""),"")
A534: =IF(LEN(C534)>0,MAX($A$5:A533)+1,"") | B534: =IFERROR(INDEX('11. Свод Перечней'!B:C,MATCH(C534,'11. Свод Перечней'!C:C,0),1),"") | D534: =IFERROR(VLOOKUP(C534,'11. Свод Перечней'!C:H,2,0),"") | E534: =IFERROR(VLOOKUP(C534,'11. Свод Перечней'!C:H,3,0),"") | F534: =IFERROR(VLOOKUP(C534,'11. Свод Перечней'!C:H,4,0),"") | G534: =IFERROR(VLOOKUP(C534,'11. Свод Перечней'!C:H,5,0),"") | H534: =IF(LEN(IFERROR(VLOOKUP(C534,'11. Свод Перечней'!C:H,6,0),""))>1,IFERROR(VLOOKUP(C534,'11. Свод Перечней'!C:H,6,0),""),"")
A535: =IF(LEN(C535)>0,MAX($A$5:A534)+1,"") | B535: =IFERROR(INDEX('11. Свод Перечней'!B:C,MATCH(C535,'11. Свод Перечней'!C:C,0),1),"") | D535: =IFERROR(VLOOKUP(C535,'11. Свод Перечней'!C:H,2,0),"") | E535: =IFERROR(VLOOKUP(C535,'11. Свод Перечней'!C:H,3,0),"") | F535: =IFERROR(VLOOKUP(C535,'11. Свод Перечней'!C:H,4,0),"") | G535: =IFERROR(VLOOKUP(C535,'11. Свод Перечней'!C:H,5,0),"") | H535: =IF(LEN(IFERROR(VLOOKUP(C535,'11. Свод Перечней'!C:H,6,0),""))>1,IFERROR(VLOOKUP(C535,'11. Свод Перечней'!C:H,6,0),""),"")
A536: =IF(LEN(C536)>0,MAX($A$5:A535)+1,"") | B536: =IFERROR(INDEX('11. Свод Перечней'!B:C,MATCH(C536,'11. Свод Перечней'!C:C,0),1),"") | D536: =IFERROR(VLOOKUP(C536,'11. Свод Перечней'!C:H,2,0),"") | E536: =IFERROR(VLOOKUP(C536,'11. Свод Перечней'!C:H,3,0),"") | F536: =IFERROR(VLOOKUP(C536,'11. Свод Перечней'!C:H,4,0),"") | G536: =IFERROR(VLOOKUP(C536,'11. Свод Перечней'!C:H,5,0),"") | H536: =IF(LEN(IFERROR(VLOOKUP(C536,'11. Свод Перечней'!C:H,6,0),""))>1,IFERROR(VLOOKUP(C536,'11. Свод Перечней'!C:H,6,0),""),"")
A537: =IF(LEN(C537)>0,MAX($A$5:A536)+1,"") | B537: =IFERROR(INDEX('11. Свод Перечней'!B:C,MATCH(C537,'11. Свод Перечней'!C:C,0),1),"") | D537: =IFERROR(VLOOKUP(C537,'11. Свод Перечней'!C:H,2,0),"") | E537: =IFERROR(VLOOKUP(C537,'11. Свод Перечней'!C:H,3,0),"") | F537: =IFERROR(VLOOKUP(C537,'11. Свод Перечней'!C:H,4,0),"") | G537: =IFERROR(VLOOKUP(C537,'11. Свод Перечней'!C:H,5,0),"") | H537: =IF(LEN(IFERROR(VLOOKUP(C537,'11. Свод Перечней'!C:H,6,0),""))>1,IFERROR(VLOOKUP(C537,'11. Свод Перечней'!C:H,6,0),""),"")
A538: =IF(LEN(C538)>0,MAX($A$5:A537)+1,"") | B538: =IFERROR(INDEX('11. Свод Перечней'!B:C,MATCH(C538,'11. Свод Перечней'!C:C,0),1),"") | D538: =IFERROR(VLOOKUP(C538,'11. Свод Перечней'!C:H,2,0),"") | E538: =IFERROR(VLOOKUP(C538,'11. Свод Перечней'!C:H,3,0),"") | F538: =IFERROR(VLOOKUP(C538,'11. Свод Перечней'!C:H,4,0),"") | G538: =IFERROR(VLOOKUP(C538,'11. Свод Перечней'!C:H,5,0),"") | H538: =IF(LEN(IFERROR(VLOOKUP(C538,'11. Свод Перечней'!C:H,6,0),""))>1,IFERROR(VLOOKUP(C538,'11. Свод Перечней'!C:H,6,0),""),"")
A539: =IF(LEN(C539)>0,MAX($A$5:A538)+1,"") | B539: =IFERROR(INDEX('11. Свод Перечней'!B:C,MATCH(C539,'11. Свод Перечней'!C:C,0),1),"") | D539: =IFERROR(VLOOKUP(C539,'11. Свод Перечней'!C:H,2,0),"") | E539: =IFERROR(VLOOKUP(C539,'11. Свод Перечней'!C:H,3,0),"") | F539: =IFERROR(VLOOKUP(C539,'11. Свод Перечней'!C:H,4,0),"") | G539: =IFERROR(VLOOKUP(C539,'11. Свод Перечней'!C:H,5,0),"") | H539: =IF(LEN(IFERROR(VLOOKUP(C539,'11. Свод Перечней'!C:H,6,0),""))>1,IFERROR(VLOOKUP(C539,'11. Свод Перечней'!C:H,6,0),""),"")
A540: =IF(LEN(C540)>0,MAX($A$5:A539)+1,"") | B540: =IFERROR(INDEX('11. Свод Перечней'!B:C,MATCH(C540,'11. Свод Перечней'!C:C,0),1),"") | D540: =IFERROR(VLOOKUP(C540,'11. Свод Перечней'!C:H,2,0),"") | E540: =IFERROR(VLOOKUP(C540,'11. Свод Перечней'!C:H,3,0),"") | F540: =IFERROR(VLOOKUP(C540,'11. Свод Перечней'!C:H,4,0),"") | G540: =IFERROR(VLOOKUP(C540,'11. Свод Перечней'!C:H,5,0),"") | H540: =IF(LEN(IFERROR(VLOOKUP(C540,'11. Свод Перечней'!C:H,6,0),""))>1,IFERROR(VLOOKUP(C540,'11. Свод Перечней'!C:H,6,0),""),"")
A541: =IF(LEN(C541)>0,MAX($A$5:A540)+1,"") | B541: =IFERROR(INDEX('11. Свод Перечней'!B:C,MATCH(C541,'11. Свод Перечней'!C:C,0),1),"") | D541: =IFERROR(VLOOKUP(C541,'11. Свод Перечней'!C:H,2,0),"") | E541: =IFERROR(VLOOKUP(C541,'11. Свод Перечней'!C:H,3,0),"") | F541: =IFERROR(VLOOKUP(C541,'11. Свод Перечней'!C:H,4,0),"") | G541: =IFERROR(VLOOKUP(C541,'11. Свод Перечней'!C:H,5,0),"") | H541: =IF(LEN(IFERROR(VLOOKUP(C541,'11. Свод Перечней'!C:H,6,0),""))>1,IFERROR(VLOOKUP(C541,'11. Свод Перечней'!C:H,6,0),""),"")
A542: =IF(LEN(C542)>0,MAX($A$5:A541)+1,"") | B542: =IFERROR(INDEX('11. Свод Перечней'!B:C,MATCH(C542,'11. Свод Перечней'!C:C,0),1),"") | D542: =IFERROR(VLOOKUP(C542,'11. Свод Перечней'!C:H,2,0),"") | E542: =IFERROR(VLOOKUP(C542,'11. Свод Перечней'!C:H,3,0),"") | F542: =IFERROR(VLOOKUP(C542,'11. Свод Перечней'!C:H,4,0),"") | G542: =IFERROR(VLOOKUP(C542,'11. Свод Перечней'!C:H,5,0),"") | H542: =IF(LEN(IFERROR(VLOOKUP(C542,'11. Свод Перечней'!C:H,6,0),""))>1,IFERROR(VLOOKUP(C542,'11. Свод Перечней'!C:H,6,0),""),"")
... A1157: =IF(LEN(C1157)>0,MAX($A$5:A1156)+1,"") | B1157: =IFERROR(INDEX('11. Свод Перечней'!B:C,MATCH(C1157,'11. Свод Перечней'!C:C,0),1),"") | D1157: =IFERROR(VLOOKUP(C1157,'11. Свод Перечней'!C:H,2,0),"") | E1157: =IFERROR(VLOOKUP(C1157,'11. Свод Перечней'!C:H,3,0),"") | F1157: =IFERROR(VLOOKUP(C1157,'11. Свод Перечней'!C:H,4,0),"") | G1157: =IFERROR(VLOOKUP(C1157,'11. Свод Перечней'!C:H,5,0),"") | H1157: =IF(LEN(IFERROR(VLOOKUP(C1157,'11. Свод Перечней'!C:H,6,0),""))>1,IFERROR(VLOOKUP(C1157,'11. Свод Перечней'!C:H,6,0),""),"")

Sheet 3.Здрав Дети
A1: Дата актуализации ассортиментного перечня «03» марта 2026 г
A2: Ассортиментный перечень основных групп продовольственных товаров и сырья для обеспечения социального питания в лечебно-профилактических и санаторно-курортных учреждениях здравоохранения Санкт-Петербурга (для детей)
A3: Примечание! * - Продукция предназначенная для лечебного, специального питания ** - предназначенные для использования в питании после термической обработки. Информацию о действующей нормативной документации, а также изменениях вносимых в национальные стандарты можно получить в Управлении социального питания по телефонам 576-68-25, 576-68-27 и на сайте Управления по адресу: http://www.gov.spb.ru, вкладка «Нормативные документы».
A4: № | B4: Потребительское наименование товара | C4: Название товара ККН/КТРУ | D4: ОКПД2 | E4: Детализация ККН | F4: Единица измерения ККН | G4: Характеристики товара | H4: Код КТРУ
A5: 1 | B5: 2 | C5: 2 | D5: 3 | E5: 4 | F5: 5 | G5: 6 | H5: 7
A6: 1 | B6: =IFERROR(INDEX('11. Свод Перечней'!B:C,MATCH(C6,'11. Свод Перечней'!C:C,0),1),"") -> Фасоль овощная свежая | C6: {=IFERROR(INDEX('11. Свод Перечней'!$C$4:$C$603,SMALL(IF("ЗД"='11. Свод Перечней'!$I$4:$Q$603,ROW('11. Свод Перечней'!$C$4:$C$603)-3,""),ROW()-5)),"")} -> Фасоль тип 1 | D6: =IFERROR(VLOOKUP(C6,'11. Свод Перечней'!C:H,2,0),"") -> 01.11.61.000 | E6: =IFERROR(VLOOKUP(C6,'11. Свод Перечней'!C:H,3,0),"") -> 001 | F6: =IFERROR(VLOOKUP(C6,'11. Свод Перечней'!C:H,4,0),"") -> КГ | G6: =IFERROR(VLOOKUP(C6,'11. Свод Перечней'!C:H,5,0),"") -> Тип: Овощная Вид: Свежая Сорт: Высший; Первый Фасовка: Весовая Соответствие нормативно-технической документации: Технический регламент Таможенного союза "О безопасности упаковки" от 16.08.2011 ТР ТС № 005/2011, Технический регламент Таможенного союза "О безопасности пищевой продукции" от 09.12.2011 № 021/2011, Технический регламент Таможенного союза "Пищевая продукция в части ее маркировки" от 09.12.2011 № 022/2011, ГОСТ 34299-2017 | H6: =IF(LEN(IFERROR(VLOOKUP(C6,'11. Свод Перечней'!C:H,6,0),""))>1,IFERROR(VLOOKUP(C6,'11. Свод Перечней'!C:H,6,0),""),"")
A7: =IF(LEN(C7)>0,MAX($A$5:A6)+1,"") -> 2 | B7: =IFERROR(INDEX('11. Свод Перечней'!B:C,MATCH(C7,'11. Свод Перечней'!C:C,0),1),"") -> Фасоль продовольственная | C7: Фасоль продовольственная тип 2 | D7: =IFERROR(VLOOKUP(C7,'11. Свод Перечней'!C:H,2,0),"") -> 01.11.71.110 | E7: =IFERROR(VLOOKUP(C7,'11. Свод Перечней'!C:H,3,0),"") -> 001 | F7: =IFERROR(VLOOKUP(C7,'11. Свод Перечней'!C:H,4,0),"") -> КГ | G7: =IFERROR(VLOOKUP(C7,'11. Свод Перечней'!C:H,5,0),"") -> Номер и наименование типа фасоли: III. Фасоль цветная пестрая Вес, КГ: ≤ 1 Упаковка производителя: Наличие Соответствие нормативно-технической документации: Технический регламент Таможенного союза "О безопасности упаковки" от 16.08.2011 ТР ТС № 005/2011, Технический регламент Таможенного союза "О безопасности пищевой продукции" от 09.12.2011 № 021/2011, Технический регламент Таможенного союза "Пищевая продукция в части ее маркировки" от 09.12.2011 № 022/2011, ГОСТ 7758-2020 | H7: =IF(LEN(IFERROR(VLOOKUP(C7,'11. Свод Перечней'!C:H,6,0),""))>1,IFERROR(VLOOKUP(C7,'11. Свод Перечней'!C:H,6,0),""),"") -> 01.11.71.110-00000001
A8: =IF(LEN(C8)>0,MAX($A$5:A7)+1,"") -> 3 | B8: =IFERROR(INDEX('11. Свод Перечней'!B:C,MATCH(C8,'11. Свод Перечней'!C:C,0),1),"") -> Фасоль продовольственная | C8: Фасоль продовольственная тип 3 | D8: =IFERROR(VLOOKUP(C8,'11. Свод Перечней'!C:H,2,0),"") -> 01.11.71.110 | E8: =IFERROR(VLOOKUP(C8,'11. Свод Перечней'!C:H,3,0),"") -> 003 | F8: =IFERROR(VLOOKUP(C8,'11. Свод Перечней'!C:H,4,0),"") -> КГ | G8: =IFERROR(VLOOKUP(C8,'11. Свод Перечней'!C:H,5,0),"") -> Номер и наименование типа фасоли: II. Фасоль цветная однотонная Вес, КГ: ≤ 1 Упаковка производителя: Наличие Соответствие нормативно-технической документации: Технический регламент Таможенного союза "О безопасности упаковки" от 16.08.2011 ТР ТС № 005/2011, Технический регламент Таможенного союза "О безопасности пищевой продукции" от 09.12.2011 № 021/2011, Технический регламент Таможенного союза "Пищевая продукция в части ее маркировки" от 09.12.2011 № 022/2011, ГОСТ 7758-2020 | H8: =IF(LEN(IFERROR(VLOOKUP(C8,'11. Свод Перечней'!C:H,6,0),""))>1,IFERROR(VLOOKUP(C8,'11. Свод Перечней'!C:H,6,0),""),"") -> 01.11.71.110-00000002
A9: =IF(LEN(C9)>0,MAX($A$5:A8)+1,"") -> 4 | B9: =IFERROR(INDEX('11. Свод Перечней'!B:C,MATCH(C9,'11. Свод Перечней'!C:C,0),1),"") -> Фасоль продовольственная | C9: Фасоль продовольственная тип 4 | D9: =IFERROR(VLOOKUP(C9,'11. Свод Перечней'!C:H,2,0),"") -> 01.11.71.110 | E9: =IFERROR(VLOOKUP(C9,'11. Свод Перечней'!C:H,3,0),"") -> 004 | F9: =IFERROR(VLOOKUP(C9,'11. Свод Перечней'!C:H,4,0),"") -> КГ | G9: =IFERROR(VLOOKUP(C9,'11. Свод Перечней'!C:H,5,0),"") -> Номер и наименование типа фасоли: I. Фасоль белая Вес, КГ: ≤ 1 Упаковка производителя: Наличие Соответствие нормативно-технической документации: Технический регламент Таможенного союза "О безопасности упаковки" от 16.08.2011 ТР ТС № 005/2011, Технический регламент Таможенного союза "О безопасности пищевой продукции" от 09.12.2011 № 021/2011, Технический регламент Таможенного союза "Пищевая продукция в части ее маркировки" от 09.12.2011 № 022/2011, ГОСТ 7758-2020 | H9: =IF(LEN(IFERROR(VLOOKUP(C9,'11. Свод Перечней'!C:H,6,0),""))>1,IFERROR(VLOOKUP(C9,'11. Свод Перечней'!C:H,6,0),""),"") -> 01.11.71.110-00000003
A10: =IF(LEN(C10)>0,MAX($A$5:A9)+1,"") -> 5 | B10: =IFERROR(INDEX('11. Свод Перечней'!B:C,MATCH(C10,'11. Свод Перечней'!C:C,0),1),"") -> Чечевица | C10: Чечевица продовольственная тип 2 | D10: =IFERROR(VLOOKUP(C10,'11. Свод Перечней'!C:H,2,0),"") -> 01.11.74.110 | E10: =IFERROR(VLOOKUP(C10,'11. Свод Перечней'!C:H,3,0),"") -> 001 | F10: =IFERROR(VLOOKUP(C10,'11. Свод Перечней'!C:H,4,0),"") -> КГ | G10: =IFERROR(VLOOKUP(C10,'11. Свод Перечней'!C:H,5,0),"") -> Тип чечевицы: Красная Вес, КГ: ≤ 1 Упаковка производителя: Наличие Соответствие нормативно-технической документации: Технический регламент Таможенного союза "О безопасности упаковки" от 16.08.2011 ТР ТС № 005/2011, Технический регламент Таможенного союза "О безопасности пищевой продукции" от 09.12.2011 № 021/2011, Технический регламент Таможенного союза "Пищевая продукция в части ее маркировки" от 09.12.2011 № 022/2011, ГОСТ 7066-2019 | H10: =IF(LEN(IFERROR(VLOOKUP(C10,'11. Свод Перечней'!C:H,6,0),""))>1,IFERROR(VLOOKUP(C10,'11. Свод Перечней'!C:H,6,0),""),"") -> 01.11.74.110-00000001
A11: =IF(LEN(C11)>0,MAX($A$5:A10)+1,"") -> 6 | B11: =IFERROR(INDEX('11. Свод Перечней'!B:C,MATCH(C11,'11. Свод Перечней'!C:C,0),1),"") -> Чечевица | C11: Чечевица продовольственная тип 3 | D11: =IFERROR(VLOOKUP(C11,'11. Свод Перечней'!C:H,2,0),"") -> 01.11.74.110 | E11: =IFERROR(VLOOKUP(C11,'11. Свод Перечней'!C:H,3,0),"") -> 003 | F11: =IFERROR(VLOOKUP(C11,'11. Свод Перечней'!C:H,4,0),"") -> КГ | G11: =IFERROR(VLOOKUP(C11,'11. Свод Перечней'!C:H,5,0),"") -> Тип чечевицы: Коричневая Вес, КГ: ≤ 1 Упаковка производителя: Наличие Соответствие нормативно-технической документации: Технический регламент Таможенного союза "О безопасности упаковки" от 16.08.2011 ТР ТС № 005/2011, Технический регламент Таможенного союза "О безопасности пищевой продукции" от 09.12.2011 № 021/2011, Технический регламент Таможенного союза "Пищевая продукция в части ее маркировки" от 09.12.2011 № 022/2011, ГОСТ 7066-2019 | H11: =IF(LEN(IFERROR(VLOOKUP(C11,'11. Свод Перечней'!C:H,6,0),""))>1,IFERROR(VLOOKUP(C11,'11. Свод Перечней'!C:H,6,0),""),"") -> 01.11.74.110-00000002
A12: =IF(LEN(C12)>0,MAX($A$5:A11)+1,"") -> 7 | B12: =IFERROR(INDEX('11. Свод Перечней'!B:C,MATCH(C12,'11. Свод Перечней'!C:C,0),1),"") -> Чечевица | C12: Чечевица продовольственная тип 4 | D12: =IFERROR(VLOOKUP(C12,'11. Свод Перечней'!C:H,2,0),"") -> 01.11.74.110 | E12: =IFERROR(VLOOKUP(C12,'11. Свод Перечней'!C:H,3,0),"") -> 004 | F12: =IFERROR(VLOOKUP(C12,'11. Свод Перечней'!C:H,4,0),"") -> КГ | G12: =IFERROR(VLOOKUP(C12,'11. Свод Перечней'!C:H,5,0),"") -> Тип чечевицы: Неоднородная Вес, КГ: ≤ 1 Упаковка производителя: Наличие Соответствие нормативно-технической документации: Технический регламент Таможенного союза "О безопасности упаковки" от 16.08.2011 ТР ТС № 005/2011, Технический регламент Таможенного союза "О безопасности пищевой продукции" от 09.12.2011 № 021/2011, Технический регламент Таможенного союза "Пищевая продукция в части ее маркировки" от 09.12.2011 № 022/2011, ГОСТ 7066-2019 | H12: =IF(LEN(IFERROR(VLOOKUP(C12,'11. Свод Перечней'!C:H,6,0),""))>1,IFERROR(VLOOKUP(C12,'11. Свод Перечней'!C:H,6,0),""),"") -> 01.11.74.110-00000003
A13: =IF(LEN(C13)>0,MAX($A$5:A12)+1,"") -> 8 | B13: =IFERROR(INDEX('11. Свод Перечней'!B:C,MATCH(C13,'11. Свод Перечней'!C:C,0),1),"") -> Чечевица | C13: Чечевица продовольственная тип 5 | D13: =IFERROR(VLOOKUP(C13,'11. Свод Перечней'!C:H,2,0),"") -> 01.11.74.110 | E13: =IFERROR(VLOOKUP(C13,'11. Свод Перечней'!C:H,3,0),"") -> 005 | F13: =IFERROR(VLOOKUP(C13,'11. Свод Перечней'!C:H,4,0),"") -> КГ | G13: =IFERROR(VLOOKUP(C13,'11. Свод Перечней'!C:H,5,0),"") -> Тип чечевицы: Светло-зеленая Вес, КГ: ≤ 1 Упаковка производителя: Наличие Соответствие нормативно-технической документации: Технический регламент Таможенного союза "О безопасности упаковки" от 16.08.2011 ТР ТС № 005/2011, Технический регламент Таможенного союза "О безопасности пищевой продукции" от 09.12.2011 № 021/2011, Технический регламент Таможенного союза "Пищевая продукция в части ее маркировки" от 09.12.2011 № 022/2011, ГОСТ 7066-2019 | H13: =IF(LEN(IFERROR(VLOOKUP(C13,'11. Свод Перечней'!C:H,6,0),""))>1,IFERROR(VLOOKUP(C13,'11. Свод Перечней'!C:H,6,0),""),"") -> 01.11.74.110-00000004
A14: =IF(LEN(C14)>0,MAX($A$5:A13)+1,"") -> 9 | B14: =IFERROR(INDEX('11. Свод Перечней'!B:C,MATCH(C14,'11. Свод Перечней'!C:C,0),1),"") -> Чечевица | C14: Чечевица продовольственная тип 6 | D14: =IFERROR(VLOOKUP(C14,'11. Свод Перечней'!C:H,2,0),"") -> 01.11.74.110 | E14: =IFERROR(VLOOKUP(C14,'11. Свод Перечней'!C:H,3,0),"") -> 006 | F14: =IFERROR(VLOOKUP(C14,'11. Свод Перечней'!C:H,4,0),"") -> КГ | G14: =IFERROR(VLOOKUP(C14,'11. Свод Перечней'!C:H,5,0),"") -> Тип чечевицы: Темно-зеленая Вес, КГ: ≤ 1 Упаковка производителя: Наличие Соответствие нормативно-технической документации: Технический регламент Таможенного союза "О безопасности упаковки" от 16.08.2011 ТР ТС № 005/2011, Технический регламент Таможенного союза "О безопасности пищевой продукции" от 09.12.2011 № 021/2011, Технический регламент Таможенного союза "Пищевая продукция в части ее маркировки" от 09.12.2011 № 022/2011, ГОСТ 7066-2019 | H14: =IF(LEN(IFERROR(VLOOKUP(C14,'11. Свод Перечней'!C:H,6,0),""))>1,IFERROR(VLOOKUP(C14,'11. Свод Перечней'!C:H,6,0),""),"") -> 01.11.74.110-00000005
A15: =IF(LEN(C15)>0,MAX($A$5:A14)+1,"") -> 10 | B15: =IFERROR(INDEX('11. Свод Перечней'!B:C,MATCH(C15,'11. Свод Перечней'!C:C,0),1),"") -> Горох шлифованный | C15: Горох шлифованный тип 1 | D15: =IFERROR(VLOOKUP(C15,'11. Свод Перечней'!C:H,2,0),"") -> 01.11.75.110 | E15: =IFERROR(VLOOKUP(C15,'11. Свод Перечней'!C:H,3,0),"") -> 001 | F15: =IFERROR(VLOOKUP(C15,'11. Свод Перечней'!C:H,4,0),"") -> КГ | G15: =IFERROR(VLOOKUP(C15,'11. Свод Перечней'!C:H,5,0),"") -> Вид зерна: Целое Сорт: Не ниже первого Вес: не более 1 КГ Упаковка производителя: Наличие Соответствие нормативно-технической документации: Технический регламент Таможенного союза "О безопасности упаковки" от 16.08.2011 ТР ТС № 005/2011, Технический регламент Таможенного союза "О безопасности пищевой продукции" от 09.12.2011 № 021/2011, Технический регламент Таможенного союза "Пищевая продукция в части ее маркировки" от 09.12.2011 № 022/2011, ГОСТ 6201-2020 | H15: =IF(LEN(IFERROR(VLOOKUP(C15,'11. Свод Перечней'!C:H,6,0),""))>1,IFERROR(VLOOKUP(C15,'11. Свод Перечней'!C:H,6,0),""),"") -> 01.11.75.110-00000002
A16: =IF(LEN(C16)>0,MAX($A$5:A15)+1,"") -> 11 | B16: =IFERROR(INDEX('11. Свод Перечней'!B:C,MATCH(C16,'11. Свод Перечней'!C:C,0),1),"") -> Горох шлифованный | C16: Горох шлифованный тип 2 | D16: =IFERROR(VLOOKUP(C16,'11. Свод Перечней'!C:H,2,0),"") -> 01.11.75.110 | E16: =IFERROR(VLOOKUP(C16,'11. Свод Перечней'!C:H,3,0),"") -> 002 | F16: =IFERROR(VLOOKUP(C16,'11. Свод Перечней'!C:H,4,0),"") -> КГ | G16: =IFERROR(VLOOKUP(C16,'11. Свод Перечней'!C:H,5,0),"") -> Вид зерна: Целое Сорт: Не ниже первого Фасовка: Весовая Соответствие нормативно-технической документации: Технический регламент Таможенного союза "О безопасности упаковки" от 16.08.2011 ТР ТС № 005/2011, Технический регламент Таможенного союза "О безопасности пищевой продукции" от 09.12.2011 № 021/2011, Технический регламент Таможенного союза "Пищевая продукция в части ее маркировки" от 09.12.2011 № 022/2011, ГОСТ 6201-2020 | H16: =IF(LEN(IFERROR(VLOOKUP(C16,'11. Свод Перечней'!C:H,6,0),""))>1,IFERROR(VLOOKUP(C16,'11. Свод Перечней'!C:H,6,0),""),"") -> 01.11.75.110-00000002
A17: =IF(LEN(C17)>0,MAX($A$5:A16)+1,"") -> 12 | B17: =IFERROR(INDEX('11. Свод Перечней'!B:C,MATCH(C17,'11. Свод Перечней'!C:C,0),1),"") -> Капуста брюссельская свежая | C17: Капуста брюссельская тип 1 | D17: =IFERROR(VLOOKUP(C17,'11. Свод Перечней'!C:H,2,0),"") -> 01.13.12.110 | E17: =IFERROR(VLOOKUP(C17,'11. Свод Перечней'!C:H,3,0),"") -> 001 | F17: =IFERROR(VLOOKUP(C17,'11. Свод Перечней'!C:H,4,0),"") -> КГ | G17: =IFERROR(VLOOKUP(C17,'11. Свод Перечней'!C:H,5,0),"") -> Вид: Свежая Фасовка: Весовая Соответствие нормативно-технической документации: Технический регламент Таможенного союза "О безопасности упаковки" от 16.08.2011 ТР ТС № 005/2011, Технический регламент Таможенного союза "О безопасности пищевой продукции" от 09.12.2011 № 021/2011, Технический регламент Таможенного союза "Пищевая продукция в части ее маркировки" от 09.12.2011 № 022/2011, ГОСТ 33851-2016 | H17: =IF(LEN(IFERROR(VLOOKUP(C17,'11. Свод Перечней'!C:H,6,0),""))>1,IFERROR(VLOOKUP(C17,'11. Свод Перечней'!C:H,6,0),""),"")
A18: =IF(LEN(C18)>0,MAX($A$5:A17)+1,"") -> 13 | B18: =IFERROR(INDEX('11. Свод Перечней'!B:C,MATCH(C18,'11. Свод Перечней'!C:C,0),1),"") -> Капуста белокочанная свежая | C18: Капуста белокочанная тип 1 | D18: =IFERROR(VLOOKUP(C18,'11. Свод Перечней'!C:H,2,0),"") -> 01.13.12.120 | E18: =IFERROR(VLOOKUP(C18,'11. Свод Перечней'!C:H,3,0),"") -> 001 | F18: =IFERROR(VLOOKUP(C18,'11. Свод Перечней'!C:H,4,0),"") -> КГ | G18: =IFERROR(VLOOKUP(C18,'11. Свод Перечней'!C:H,5,0),"") -> Капуста очищенная: Нет Вид капусты по сроку созревания: Среднеспелая; Позднеспелая; Среднепоздняя Товарный класс: Первый Вид: Свежая Фасовка: Весовая Соответствие нормативно-технической документации: Технический регламент Таможенного союза "О безопасности упаковки" от 16.08.2011 ТР ТС № 005/2011, Технический регламент Таможенного союза "О безопасности пищевой продукции" от 09.12.2011 № 021/2011, Технический регламент Таможенного союза "Пищевая продукция в части ее маркировки" от 09.12.2011 № 022/2011, ГОСТ Р 51809-2001 | H18: =IF(LEN(IFERROR(VLOOKUP(C18,'11. Свод Перечней'!C:H,6,0),""))>1,IFERROR(VLOOKUP(C18,'11. Свод Перечней'!C:H,6,0),""),"") -> 01.13.12.120-00000002
... A470: =IF(LEN(C470)>0,MAX($A$5:A469)+1,"") -> 465 | B470: =IFERROR(INDEX('11. Свод Перечней'!B:C,MATCH(C470,'11. Свод Перечней'!C:C,0),1),"") -> Хлеб пшенично-ржаной | C470: Хлеб недлительного хранения тип 5 | D470: =IFERROR(VLOOKUP(C470,'11. Свод Перечней'!C:H,2,0),"") -> 10.71.11.112 | E470: =IFERROR(VLOOKUP(C470,'11. Свод Перечней'!C:H,3,0),"") -> 005 | F470: =IFERROR(VLOOKUP(C470,'11. Свод Перечней'!C:H,4,0),"") -> КГ | G470: =IFERROR(VLOOKUP(C470,'11. Свод Перечней'!C:H,5,0),"") -> Вид хлеба: Пшенично-ржаной Бездрожжевая технология производства: Да; Нет Изделие нарезанное: Да; Нет Хлеб обогащенный витаминами/микроэлементами: Да; Нет Хлеб по способу производства: Формовой; Подовый Вес: не более 1 КГ Упаковка производителя: Наличие Соответствие нормативно-технической документации: Технический регламент Таможенного союза "О безопасности упаковки" от 16.08.2011 ТР ТС № 005/2011, Технический регламент Таможенного союза "О безопасности пищевой продукции" от 09.12.2011 № 021/2011, Технический регламент Таможенного союза "Пищевая продукция в части ее маркировки" от 09.12.2011 № 022/2011, ГОСТ 31807-2018; Технический регламент Таможенного союза "О безопасности упаковки" от 16.08.2011 ТР ТС № 005/2011, Технический регламент Таможенного союза "О безопасности пищевой продукции" от 09.12.2011 № 021/2011, Технический регламент Таможенного союза "Пищевая продукция в части ее маркировки" от 09.12.2011 № 022/2011, ГОСТ 2077-2023 | H470: =IF(LEN(IFERROR(VLOOKUP(C470,'11. Свод Перечней'!C:H,6,0),""))>1,IFERROR(VLOOKUP(C470,'11. Свод Перечней'!C:H,6,0),""),"") -> 10.71.11.110-00000001
A471: =IF(LEN(C471)>0,MAX($A$5:A470)+1,"") | B471: =IFERROR(INDEX('11. Свод Перечней'!B:C,MATCH(C471,'11. Свод Перечней'!C:C,0),1),"") | D471: =IFERROR(VLOOKUP(C471,'11. Свод Перечней'!C:H,2,0),"") | E471: =IFERROR(VLOOKUP(C471,'11. Свод Перечней'!C:H,3,0),"") | F471: =IFERROR(VLOOKUP(C471,'11. Свод Перечней'!C:H,4,0),"") | G471: =IFERROR(VLOOKUP(C471,'11. Свод Перечней'!C:H,5,0),"") | H471: =IF(LEN(IFERROR(VLOOKUP(C471,'11. Свод Перечней'!C:H,6,0),""))>1,IFERROR(VLOOKUP(C471,'11. Свод Перечней'!C:H,6,0),""),"")
A472: =IF(LEN(C472)>0,MAX($A$5:A471)+1,"") | B472: =IFERROR(INDEX('11. Свод Перечней'!B:C,MATCH(C472,'11. Свод Перечней'!C:C,0),1),"") | D472: =IFERROR(VLOOKUP(C472,'11. Свод Перечней'!C:H,2,0),"") | E472: =IFERROR(VLOOKUP(C472,'11. Свод Перечней'!C:H,3,0),"") | F472: =IFERROR(VLOOKUP(C472,'11. Свод Перечней'!C:H,4,0),"") | G472: =IFERROR(VLOOKUP(C472,'11. Свод Перечней'!C:H,5,0),"") | H472: =IF(LEN(IFERROR(VLOOKUP(C472,'11. Свод Перечней'!C:H,6,0),""))>1,IFERROR(VLOOKUP(C472,'11. Свод Перечней'!C:H,6,0),""),"")
A473: =IF(LEN(C473)>0,MAX($A$5:A472)+1,"") | B473: =IFERROR(INDEX('11. Свод Перечней'!B:C,MATCH(C473,'11. Свод Перечней'!C:C,0),1),"") | D473: =IFERROR(VLOOKUP(C473,'11. Свод Перечней'!C:H,2,0),"") | E473: =IFERROR(VLOOKUP(C473,'11. Свод Перечней'!C:H,3,0),"") | F473: =IFERROR(VLOOKUP(C473,'11. Свод Перечней'!C:H,4,0),"") | G473: =IFERROR(VLOOKUP(C473,'11. Свод Перечней'!C:H,5,0),"") | H473: =IF(LEN(IFERROR(VLOOKUP(C473,'11. Свод Перечней'!C:H,6,0),""))>1,IFERROR(VLOOKUP(C473,'11. Свод Перечней'!C:H,6,0),""),"")
A474: =IF(LEN(C474)>0,MAX($A$5:A473)+1,"") | B474: =IFERROR(INDEX('11. Свод Перечней'!B:C,MATCH(C474,'11. Свод Перечней'!C:C,0),1),"") | D474: =IFERROR(VLOOKUP(C474,'11. Свод Перечней'!C:H,2,0),"") | E474: =IFERROR(VLOOKUP(C474,'11. Свод Перечней'!C:H,3,0),"") | F474: =IFERROR(VLOOKUP(C474,'11. Свод Перечней'!C:H,4,0),"") | G474: =IFERROR(VLOOKUP(C474,'11. Свод Перечней'!C:H,5,0),"") | H474: =IF(LEN(IFERROR(VLOOKUP(C474,'11. Свод Перечней'!C:H,6,0),""))>1,IFERROR(VLOOKUP(C474,'11. Свод Перечней'!C:H,6,0),""),"")
A475: =IF(LEN(C475)>0,MAX($A$5:A474)+1,"") | B475: =IFERROR(INDEX('11. Свод Перечней'!B:C,MATCH(C475,'11. Свод Перечней'!C:C,0),1),"") | D475: =IFERROR(VLOOKUP(C475,'11. Свод Перечней'!C:H,2,0),"") | E475: =IFERROR(VLOOKUP(C475,'11. Свод Перечней'!C:H,3,0),"") | F475: =IFERROR(VLOOKUP(C475,'11. Свод Перечней'!C:H,4,0),"") | G475: =IFERROR(VLOOKUP(C475,'11. Свод Перечней'!C:H,5,0),"") | H475: =IF(LEN(IFERROR(VLOOKUP(C475,'11. Свод Перечней'!C:H,6,0),""))>1,IFERROR(VLOOKUP(C475,'11. Свод Перечней'!C:H,6,0),""),"")
A476: =IF(LEN(C476)>0,MAX($A$5:A475)+1,"") | B476: =IFERROR(INDEX('11. Свод Перечней'!B:C,MATCH(C476,'11. Свод Перечней'!C:C,0),1),"") | D476: =IFERROR(VLOOKUP(C476,'11. Свод Перечней'!C:H,2,0),"") | E476: =IFERROR(VLOOKUP(C476,'11. Свод Перечней'!C:H,3,0),"") | F476: =IFERROR(VLOOKUP(C476,'11. Свод Перечней'!C:H,4,0),"") | G476: =IFERROR(VLOOKUP(C476,'11. Свод Перечней'!C:H,5,0),"") | H476: =IF(LEN(IFERROR(VLOOKUP(C476,'11. Свод Перечней'!C:H,6,0),""))>1,IFERROR(VLOOKUP(C476,'11. Свод Перечней'!C:H,6,0),""),"")
A477: =IF(LEN(C477)>0,MAX($A$5:A476)+1,"") | B477: =IFERROR(INDEX('11. Свод Перечней'!B:C,MATCH(C477,'11. Свод Перечней'!C:C,0),1),"") | D477: =IFERROR(VLOOKUP(C477,'11. Свод Перечней'!C:H,2,0),"") | E477: =IFERROR(VLOOKUP(C477,'11. Свод Перечней'!C:H,3,0),"") | F477: =IFERROR(VLOOKUP(C477,'11. Свод Перечней'!C:H,4,0),"") | G477: =IFERROR(VLOOKUP(C477,'11. Свод Перечней'!C:H,5,0),"") | H477: =IF(LEN(IFERROR(VLOOKUP(C477,'11. Свод Перечней'!C:H,6,0),""))>1,IFERROR(VLOOKUP(C477,'11. Свод Перечней'!C:H,6,0),""),"")
A478: =IF(LEN(C478)>0,MAX($A$5:A477)+1,"") | B478: =IFERROR(INDEX('11. Свод Перечней'!B:C,MATCH(C478,'11. Свод Перечней'!C:C,0),1),"") | D478: =IFERROR(VLOOKUP(C478,'11. Свод Перечней'!C:H,2,0),"") | E478: =IFERROR(VLOOKUP(C478,'11. Свод Перечней'!C:H,3,0),"") | F478: =IFERROR(VLOOKUP(C478,'11. Свод Перечней'!C:H,4,0),"") | G478: =IFERROR(VLOOKUP(C478,'11. Свод Перечней'!C:H,5,0),"") | H478: =IF(LEN(IFERROR(VLOOKUP(C478,'11. Свод Перечней'!C:H,6,0),""))>1,IFERROR(VLOOKUP(C478,'11. Свод Перечней'!C:H,6,0),""),"")
A479: =IF(LEN(C479)>0,MAX($A$5:A478)+1,"") | B479: =IFERROR(INDEX('11. Свод Перечней'!B:C,MATCH(C479,'11. Свод Перечней'!C:C,0),1),"") | D479: =IFERROR(VLOOKUP(C479,'11. Свод Перечней'!C:H,2,0),"") | E479: =IFERROR(VLOOKUP(C479,'11. Свод Перечней'!C:H,3,0),"") | F479: =IFERROR(VLOOKUP(C479,'11. Свод Перечней'!C:H,4,0),"") | G479: =IFERROR(VLOOKUP(C479,'11. Свод Перечней'!C:H,5,0),"") | H479: =IF(LEN(IFERROR(VLOOKUP(C479,'11. Свод Перечней'!C:H,6,0),""))>1,IFERROR(VLOOKUP(C479,'11. Свод Перечней'!C:H,6,0),""),"")
A480: =IF(LEN(C480)>0,MAX($A$5:A479)+1,"") | B480: =IFERROR(INDEX('11. Свод Перечней'!B:C,MATCH(C480,'11. Свод Перечней'!C:C,0),1),"") | D480: =IFERROR(VLOOKUP(C480,'11. Свод Перечней'!C:H,2,0),"") | E480: =IFERROR(VLOOKUP(C480,'11. Свод Перечней'!C:H,3,0),"") | F480: =IFERROR(VLOOKUP(C480,'11. Свод Перечней'!C:H,4,0),"") | G480: =IFERROR(VLOOKUP(C480,'11. Свод Перечней'!C:H,5,0),"") | H480: =IF(LEN(IFERROR(VLOOKUP(C480,'11. Свод Перечней'!C:H,6,0),""))>1,IFERROR(VLOOKUP(C480,'11. Свод Перечней'!C:H,6,0),""),"")
A481: =IF(LEN(C481)>0,MAX($A$5:A480)+1,"") | B481: =IFERROR(INDEX('11. Свод Перечней'!B:C,MATCH(C481,'11. Свод Перечней'!C:C,0),1),"") | D481: =IFERROR(VLOOKUP(C481,'11. Свод Перечней'!C:H,2,0),"") | E481: =IFERROR(VLOOKUP(C481,'11. Свод Перечней'!C:H,3,0),"") | F481: =IFERROR(VLOOKUP(C481,'11. Свод Перечней'!C:H,4,0),"") | G481: =IFERROR(VLOOKUP(C481,'11. Свод Перечней'!C:H,5,0),"") | H481: =IF(LEN(IFERROR(VLOOKUP(C481,'11. Свод Перечней'!C:H,6,0),""))>1,IFERROR(VLOOKUP(C481,'11. Свод Перечней'!C:H,6,0),""),"")
A482: =IF(LEN(C482)>0,MAX($A$5:A481)+1,"") | B482: =IFERROR(INDEX('11. Свод Перечней'!B:C,MATCH(C482,'11. Свод Перечней'!C:C,0),1),"") | D482: =IFERROR(VLOOKUP(C482,'11. Свод Перечней'!C:H,2,0),"") | E482: =IFERROR(VLOOKUP(C482,'11. Свод Перечней'!C:H,3,0),"") | F482: =IFERROR(VLOOKUP(C482,'11. Свод Перечней'!C:H,4,0),"") | G482: =IFERROR(VLOOKUP(C482,'11. Свод Перечней'!C:H,5,0),"") | H482: =IF(LEN(IFERROR(VLOOKUP(C482,'11. Свод Перечней'!C:H,6,0),""))>1,IFERROR(VLOOKUP(C482,'11. Свод Перечней'!C:H,6,0),""),"")
... A1145: =IF(LEN(C1145)>0,MAX($A$5:A1144)+1,"") | B1145: =IFERROR(INDEX('11. Свод Перечней'!B:C,MATCH(C1145,'11. Свод Перечней'!C:C,0),1),"") | D1145: =IFERROR(VLOOKUP(C1145,'11. Свод Перечней'!C:H,2,0),"") | E1145: =IFERROR(VLOOKUP(C1145,'11. Свод Перечней'!C:H,3,0),"") | F1145: =IFERROR(VLOOKUP(C1145,'11. Свод Перечней'!C:H,4,0),"") | G1145: =IFERROR(VLOOKUP(C1145,'11. Свод Перечней'!C:H,5,0),"") | H1145: =IF(LEN(IFERROR(VLOOKUP(C1145,'11. Свод Перечней'!C:H,6,0),""))>1,IFERROR(VLOOKUP(C1145,'11. Свод Перечней'!C:H,6,0),""),"")

Sheet 4.Интернат ДетДома Лагеря
A1: Дата актуализации ассортиментного перечня «03» марта 2026г
A2: Ассортиментный перечень основных групп продовольственных товаров и сырья для обеспечения социального питания в детских домах, школах-интернатах различного типа, учреждениях отдыха и оздоровления детей и молодежи и детских спортивных оздоровительных лагерях
A3: Примечание! * - Продукция предназначенная для лечебного, специального питания ** - предназначенные для использования в питании после термической обработки. Информацию о действующей нормативной документации, а также изменениях вносимых в национальные стандарты можно получить в Управлении социального питания по телефонам 576-68-25, 576-68-27 и на сайте Управления по адресу: http://www.gov.spb.ru, вкладка «Нормативные документы».
A4: № | B4: Потребительское наименование товара | C4: Название товара ККН/КТРУ | D4: ОКПД2 | E4: Детализация ККН | F4: Единица измерения ККН | G4: Характеристики товара | H4: Код КТРУ
A5: 1 | B5: 2 | C5: 2 | D5: 3 | E5: 4 | F5: 5 | G5: 6 | H5: 7
A6: 1 | B6: =IFERROR(INDEX('11. Свод Перечней'!B:C,MATCH(C6,'11. Свод Перечней'!C:C,0),1),"") -> Фасоль овощная свежая | C6: {=IFERROR(INDEX('11. Свод Перечней'!$C$4:$C$603,SMALL(IF("Д"='11. Свод Перечней'!$I$4:$Q$603,ROW('11. Свод Перечней'!$C$4:$C$603)-3,""),ROW()-5)),"")} -> Фасоль тип 1 | D6: =IFERROR(VLOOKUP(C6,'11. Свод Перечней'!C:H,2,0),"") -> 01.11.61.000 | E6: =IFERROR(VLOOKUP(C6,'11. Свод Перечней'!C:H,3,0),"") -> 001 | F6: =IFERROR(VLOOKUP(C6,'11. Свод Перечней'!C:H,4,0),"") -> КГ | G6: =IFERROR(VLOOKUP(C6,'11. Свод Перечней'!C:H,5,0),"") -> Тип: Овощная Вид: Свежая Сорт: Высший; Первый Фасовка: Весовая Соответствие нормативно-технической документации: Технический регламент Таможенного союза "О безопасности упаковки" от 16.08.2011 ТР ТС № 005/2011, Технический регламент Таможенного союза "О безопасности пищевой продукции" от 09.12.2011 № 021/2011, Технический регламент Таможенного союза "Пищевая продукция в части ее маркировки" от 09.12.2011 № 022/2011, ГОСТ 34299-2017 | H6: =IF(LEN(IFERROR(VLOOKUP(C6,'11. Свод Перечней'!C:H,6,0),""))>1,IFERROR(VLOOKUP(C6,'11. Свод Перечней'!C:H,6,0),""),"")
A7: =IF(LEN(C7)>0,MAX($A$5:A6)+1,"") -> 2 | B7: =IFERROR(INDEX('11. Свод Перечней'!B:C,MATCH(C7,'11. Свод Перечней'!C:C,0),1),"") -> Фасоль продовольственная | C7: Фасоль продовольственная тип 2 | D7: =IFERROR(VLOOKUP(C7,'11. Свод Перечней'!C:H,2,0),"") -> 01.11.71.110 | E7: =IFERROR(VLOOKUP(C7,'11. Свод Перечней'!C:H,3,0),"") -> 001 | F7: =IFERROR(VLOOKUP(C7,'11. Свод Перечней'!C:H,4,0),"") -> КГ | G7: =IFERROR(VLOOKUP(C7,'11. Свод Перечней'!C:H,5,0),"") -> Номер и наименование типа фасоли: III. Фасоль цветная пестрая Вес, КГ: ≤ 1 Упаковка производителя: Наличие Соответствие нормативно-технической документации: Технический регламент Таможенного союза "О безопасности упаковки" от 16.08.2011 ТР ТС № 005/2011, Технический регламент Таможенного союза "О безопасности пищевой продукции" от 09.12.2011 № 021/2011, Технический регламент Таможенного союза "Пищевая продукция в части ее маркировки" от 09.12.2011 № 022/2011, ГОСТ 7758-2020 | H7: =IF(LEN(IFERROR(VLOOKUP(C7,'11. Свод Перечней'!C:H,6,0),""))>1,IFERROR(VLOOKUP(C7,'11. Свод Перечней'!C:H,6,0),""),"") -> 01.11.71.110-00000001
A8: =IF(LEN(C8)>0,MAX($A$5:A7)+1,"") -> 3 | B8: =IFERROR(INDEX('11. Свод Перечней'!B:C,MATCH(C8,'11. Свод Перечней'!C:C,0),1),"") -> Фасоль продовольственная | C8: Фасоль продовольственная тип 3 | D8: =IFERROR(VLOOKUP(C8,'11. Свод Перечней'!C:H,2,0),"") -> 01.11.71.110 | E8: =IFERROR(VLOOKUP(C8,'11. Свод Перечней'!C:H,3,0),"") -> 003 | F8: =IFERROR(VLOOKUP(C8,'11. Свод Перечней'!C:H,4,0),"") -> КГ | G8: =IFERROR(VLOOKUP(C8,'11. Свод Перечней'!C:H,5,0),"") -> Номер и наименование типа фасоли: II. Фасоль цветная однотонная Вес, КГ: ≤ 1 Упаковка производителя: Наличие Соответствие нормативно-технической документации: Технический регламент Таможенного союза "О безопасности упаковки" от 16.08.2011 ТР ТС № 005/2011, Технический регламент Таможенного союза "О безопасности пищевой продукции" от 09.12.2011 № 021/2011, Технический регламент Таможенного союза "Пищевая продукция в части ее маркировки" от 09.12.2011 № 022/2011, ГОСТ 7758-2020 | H8: =IF(LEN(IFERROR(VLOOKUP(C8,'11. Свод Перечней'!C:H,6,0),""))>1,IFERROR(VLOOKUP(C8,'11. Свод Перечней'!C:H,6,0),""),"") -> 01.11.71.110-00000002
A9: =IF(LEN(C9)>0,MAX($A$5:A8)+1,"") -> 4 | B9: =IFERROR(INDEX('11. Свод Перечней'!B:C,MATCH(C9,'11. Свод Перечней'!C:C,0),1),"") -> Фасоль продовольственная | C9: Фасоль продовольственная тип 4 | D9: =IFERROR(VLOOKUP(C9,'11. Свод Перечней'!C:H,2,0),"") -> 01.11.71.110 | E9: =IFERROR(VLOOKUP(C9,'11. Свод Перечней'!C:H,3,0),"") -> 004 | F9: =IFERROR(VLOOKUP(C9,'11. Свод Перечней'!C:H,4,0),"") -> КГ | G9: =IFERROR(VLOOKUP(C9,'11. Свод Перечней'!C:H,5,0),"") -> Номер и наименование типа фасоли: I. Фасоль белая Вес, КГ: ≤ 1 Упаковка производителя: Наличие Соответствие нормативно-технической документации: Технический регламент Таможенного союза "О безопасности упаковки" от 16.08.2011 ТР ТС № 005/2011, Технический регламент Таможенного союза "О безопасности пищевой продукции" от 09.12.2011 № 021/2011, Технический регламент Таможенного союза "Пищевая продукция в части ее маркировки" от 09.12.2011 № 022/2011, ГОСТ 7758-2020 | H9: =IF(LEN(IFERROR(VLOOKUP(C9,'11. Свод Перечней'!C:H,6,0),""))>1,IFERROR(VLOOKUP(C9,'11. Свод Перечней'!C:H,6,0),""),"") -> 01.11.71.110-00000003
A10: =IF(LEN(C10)>0,MAX($A$5:A9)+1,"") -> 5 | B10: =IFERROR(INDEX('11. Свод Перечней'!B:C,MATCH(C10,'11. Свод Перечней'!C:C,0),1),"") -> Чечевица | C10: Чечевица продовольственная тип 2 | D10: =IFERROR(VLOOKUP(C10,'11. Свод Перечней'!C:H,2,0),"") -> 01.11.74.110 | E10: =IFERROR(VLOOKUP(C10,'11. Свод Перечней'!C:H,3,0),"") -> 001 | F10: =IFERROR(VLOOKUP(C10,'11. Свод Перечней'!C:H,4,0),"") -> КГ | G10: =IFERROR(VLOOKUP(C10,'11. Свод Перечней'!C:H,5,0),"") -> Тип чечевицы: Красная Вес, КГ: ≤ 1 Упаковка производителя: Наличие Соответствие нормативно-технической документации: Технический регламент Таможенного союза "О безопасности упаковки" от 16.08.2011 ТР ТС № 005/2011, Технический регламент Таможенного союза "О безопасности пищевой продукции" от 09.12.2011 № 021/2011, Технический регламент Таможенного союза "Пищевая продукция в части ее маркировки" от 09.12.2011 № 022/2011, ГОСТ 7066-2019 | H10: =IF(LEN(IFERROR(VLOOKUP(C10,'11. Свод Перечней'!C:H,6,0),""))>1,IFERROR(VLOOKUP(C10,'11. Свод Перечней'!C:H,6,0),""),"") -> 01.11.74.110-00000001
A11: =IF(LEN(C11)>0,MAX($A$5:A10)+1,"") -> 6 | B11: =IFERROR(INDEX('11. Свод Перечней'!B:C,MATCH(C11,'11. Свод Перечней'!C:C,0),1),"") -> Чечевица | C11: Чечевица продовольственная тип 3 | D11: =IFERROR(VLOOKUP(C11,'11. Свод Перечней'!C:H,2,0),"") -> 01.11.74.110 | E11: =IFERROR(VLOOKUP(C11,'11. Свод Перечней'!C:H,3,0),"") -> 003 | F11: =IFERROR(VLOOKUP(C11,'11. Свод Перечней'!C:H,4,0),"") -> КГ | G11: =IFERROR(VLOOKUP(C11,'11. Свод Перечней'!C:H,5,0),"") -> Тип чечевицы: Коричневая Вес, КГ: ≤ 1 Упаковка производителя: Наличие Соответствие нормативно-технической документации: Технический регламент Таможенного союза "О безопасности упаковки" от 16.08.2011 ТР ТС № 005/2011, Технический регламент Таможенного союза "О безопасности пищевой продукции" от 09.12.2011 № 021/2011, Технический регламент Таможенного союза "Пищевая продукция в части ее маркировки" от 09.12.2011 № 022/2011, ГОСТ 7066-2019 | H11: =IF(LEN(IFERROR(VLOOKUP(C11,'11. Свод Перечней'!C:H,6,0),""))>1,IFERROR(VLOOKUP(C11,'11. Свод Перечней'!C:H,6,0),""),"") -> 01.11.74.110-00000002
A12: =IF(LEN(C12)>0,MAX($A$5:A11)+1,"") -> 7 | B12: =IFERROR(INDEX('11. Свод Перечней'!B:C,MATCH(C12,'11. Свод Перечней'!C:C,0),1),"") -> Чечевица | C12: Чечевица продовольственная тип 4 | D12: =IFERROR(VLOOKUP(C12,'11. Свод Перечней'!C:H,2,0),"") -> 01.11.74.110 | E12: =IFERROR(VLOOKUP(C12,'11. Свод Перечней'!C:H,3,0),"") -> 004 | F12: =IFERROR(VLOOKUP(C12,'11. Свод Перечней'!C:H,4,0),"") -> КГ | G12: =IFERROR(VLOOKUP(C12,'11. Свод Перечней'!C:H,5,0),"") -> Тип чечевицы: Неоднородная Вес, КГ: ≤ 1 Упаковка производителя: Наличие Соответствие нормативно-технической документации: Технический регламент Таможенного союза "О безопасности упаковки" от 16.08.2011 ТР ТС № 005/2011, Технический регламент Таможенного союза "О безопасности пищевой продукции" от 09.12.2011 № 021/2011, Технический регламент Таможенного союза "Пищевая продукция в части ее маркировки" от 09.12.2011 № 022/2011, ГОСТ 7066-2019 | H12: =IF(LEN(IFERROR(VLOOKUP(C12,'11. Свод Перечней'!C:H,6,0),""))>1,IFERROR(VLOOKUP(C12,'11. Свод Перечней'!C:H,6,0),""),"") -> 01.11.74.110-00000003
A13: =IF(LEN(C13)>0,MAX($A$5:A12)+1,"") -> 8 | B13: =IFERROR(INDEX('11. Свод Перечней'!B:C,MATCH(C13,'11. Свод Перечней'!C:C,0),1),"") -> Чечевица | C13: Чечевица продовольственная тип 5 | D13: =IFERROR(VLOOKUP(C13,'11. Свод Перечней'!C:H,2,0),"") -> 01.11.74.110 | E13: =IFERROR(VLOOKUP(C13,'11. Свод Перечней'!C:H,3,0),"") -> 005 | F13: =IFERROR(VLOOKUP(C13,'11. Свод Перечней'!C:H,4,0),"") -> КГ | G13: =IFERROR(VLOOKUP(C13,'11. Свод Перечней'!C:H,5,0),"") -> Тип чечевицы: Светло-зеленая Вес, КГ: ≤ 1 Упаковка производителя: Наличие Соответствие нормативно-технической документации: Технический регламент Таможенного союза "О безопасности упаковки" от 16.08.2011 ТР ТС № 005/2011, Технический регламент Таможенного союза "О безопасности пищевой продукции" от 09.12.2011 № 021/2011, Технический регламент Таможенного союза "Пищевая продукция в части ее маркировки" от 09.12.2011 № 022/2011, ГОСТ 7066-2019 | H13: =IF(LEN(IFERROR(VLOOKUP(C13,'11. Свод Перечней'!C:H,6,0),""))>1,IFERROR(VLOOKUP(C13,'11. Свод Перечней'!C:H,6,0),""),"") -> 01.11.74.110-00000004
A14: =IF(LEN(C14)>0,MAX($A$5:A13)+1,"") -> 9 | B14: =IFERROR(INDEX('11. Свод Перечней'!B:C,MATCH(C14,'11. Свод Перечней'!C:C,0),1),"") -> Чечевица | C14: Чечевица продовольственная тип 6 | D14: =IFERROR(VLOOKUP(C14,'11. Свод Перечней'!C:H,2,0),"") -> 01.11.74.110 | E14: =IFERROR(VLOOKUP(C14,'11. Свод Перечней'!C:H,3,0),"") -> 006 | F14: =IFERROR(VLOOKUP(C14,'11. Свод Перечней'!C:H,4,0),"") -> КГ | G14: =IFERROR(VLOOKUP(C14,'11. Свод Перечней'!C:H,5,0),"") -> Тип чечевицы: Темно-зеленая Вес, КГ: ≤ 1 Упаковка производителя: Наличие Соответствие нормативно-технической документации: Технический регламент Таможенного союза "О безопасности упаковки" от 16.08.2011 ТР ТС № 005/2011, Технический регламент Таможенного союза "О безопасности пищевой продукции" от 09.12.2011 № 021/2011, Технический регламент Таможенного союза "Пищевая продукция в части ее маркировки" от 09.12.2011 № 022/2011, ГОСТ 7066-2019 | H14: =IF(LEN(IFERROR(VLOOKUP(C14,'11. Свод Перечней'!C:H,6,0),""))>1,IFERROR(VLOOKUP(C14,'11. Свод Перечней'!C:H,6,0),""),"") -> 01.11.74.110-00000005
A15: =IF(LEN(C15)>0,MAX($A$5:A14)+1,"") -> 10 | B15: =IFERROR(INDEX('11. Свод Перечней'!B:C,MATCH(C15,'11. Свод Перечней'!C:C,0),1),"") -> Горох шлифованный | C15: Горох шлифованный тип 1 | D15: =IFERROR(VLOOKUP(C15,'11. Свод Перечней'!C:H,2,0),"") -> 01.11.75.110 | E15: =IFERROR(VLOOKUP(C15,'11. Свод Перечней'!C:H,3,0),"") -> 001 | F15: =IFERROR(VLOOKUP(C15,'11. Свод Перечней'!C:H,4,0),"") -> КГ | G15: =IFERROR(VLOOKUP(C15,'11. Свод Перечней'!C:H,5,0),"") -> Вид зерна: Целое Сорт: Не ниже первого Вес: не более 1 КГ Упаковка производителя: Наличие Соответствие нормативно-технической документации: Технический регламент Таможенного союза "О безопасности упаковки" от 16.08.2011 ТР ТС № 005/2011, Технический регламент Таможенного союза "О безопасности пищевой продукции" от 09.12.2011 № 021/2011, Технический регламент Таможенного союза "Пищевая продукция в части ее маркировки" от 09.12.2011 № 022/2011, ГОСТ 6201-2020 | H15: =IF(LEN(IFERROR(VLOOKUP(C15,'11. Свод Перечней'!C:H,6,0),""))>1,IFERROR(VLOOKUP(C15,'11. Свод Перечней'!C:H,6,0),""),"") -> 01.11.75.110-00000002
A16: =IF(LEN(C16)>0,MAX($A$5:A15)+1,"") -> 11 | B16: =IFERROR(INDEX('11. Свод Перечней'!B:C,MATCH(C16,'11. Свод Перечней'!C:C,0),1),"") -> Горох шлифованный | C16: Горох шлифованный тип 2 | D16: =IFERROR(VLOOKUP(C16,'11. Свод Перечней'!C:H,2,0),"") -> 01.11.75.110 | E16: =IFERROR(VLOOKUP(C16,'11. Свод Перечней'!C:H,3,0),"") -> 002 | F16: =IFERROR(VLOOKUP(C16,'11. Свод Перечней'!C:H,4,0),"") -> КГ | G16: =IFERROR(VLOOKUP(C16,'11. Свод Перечней'!C:H,5,0),"") -> Вид зерна: Целое Сорт: Не ниже первого Фасовка: Весовая Соответствие нормативно-технической документации: Технический регламент Таможенного союза "О безопасности упаковки" от 16.08.2011 ТР ТС № 005/2011, Технический регламент Таможенного союза "О безопасности пищевой продукции" от 09.12.2011 № 021/2011, Технический регламент Таможенного союза "Пищевая продукция в части ее маркировки" от 09.12.2011 № 022/2011, ГОСТ 6201-2020 | H16: =IF(LEN(IFERROR(VLOOKUP(C16,'11. Свод Перечней'!C:H,6,0),""))>1,IFERROR(VLOOKUP(C16,'11. Свод Перечней'!C:H,6,0),""),"") -> 01.11.75.110-00000002
A17: =IF(LEN(C17)>0,MAX($A$5:A16)+1,"") -> 12 | B17: =IFERROR(INDEX('11. Свод Перечней'!B:C,MATCH(C17,'11. Свод Перечней'!C:C,0),1),"") -> Капуста брюссельская свежая | C17: Капуста брюссельская тип 1 | D17: =IFERROR(VLOOKUP(C17,'11. Свод Перечней'!C:H,2,0),"") -> 01.13.12.110 | E17: =IFERROR(VLOOKUP(C17,'11. Свод Перечней'!C:H,3,0),"") -> 001 | F17: =IFERROR(VLOOKUP(C17,'11. Свод Перечней'!C:H,4,0),"") -> КГ | G17: =IFERROR(VLOOKUP(C17,'11. Свод Перечней'!C:H,5,0),"") -> Вид: Свежая Фасовка: Весовая Соответствие нормативно-технической документации: Технический регламент Таможенного союза "О безопасности упаковки" от 16.08.2011 ТР ТС № 005/2011, Технический регламент Таможенного союза "О безопасности пищевой продукции" от 09.12.2011 № 021/2011, Технический регламент Таможенного союза "Пищевая продукция в части ее маркировки" от 09.12.2011 № 022/2011, ГОСТ 33851-2016 | H17: =IF(LEN(IFERROR(VLOOKUP(C17,'11. Свод Перечней'!C:H,6,0),""))>1,IFERROR(VLOOKUP(C17,'11. Свод Перечней'!C:H,6,0),""),"")
A18: =IF(LEN(C18)>0,MAX($A$5:A17)+1,"") -> 13 | B18: =IFERROR(INDEX('11. Свод Перечней'!B:C,MATCH(C18,'11. Свод Перечней'!C:C,0),1),"") -> Капуста белокочанная свежая | C18: Капуста белокочанная тип 1 | D18: =IFERROR(VLOOKUP(C18,'11. Свод Перечней'!C:H,2,0),"") -> 01.13.12.120 | E18: =IFERROR(VLOOKUP(C18,'11. Свод Перечней'!C:H,3,0),"") -> 001 | F18: =IFERROR(VLOOKUP(C18,'11. Свод Перечней'!C:H,4,0),"") -> КГ | G18: =IFERROR(VLOOKUP(C18,'11. Свод Перечней'!C:H,5,0),"") -> Капуста очищенная: Нет Вид капусты по сроку созревания: Среднеспелая; Позднеспелая; Среднепоздняя Товарный класс: Первый Вид: Свежая Фасовка: Весовая Соответствие нормативно-технической документации: Технический регламент Таможенного союза "О безопасности упаковки" от 16.08.2011 ТР ТС № 005/2011, Технический регламент Таможенного союза "О безопасности пищевой продукции" от 09.12.2011 № 021/2011, Технический регламент Таможенного союза "Пищевая продукция в части ее маркировки" от 09.12.2011 № 022/2011, ГОСТ Р 51809-2001 | H18: =IF(LEN(IFERROR(VLOOKUP(C18,'11. Свод Перечней'!C:H,6,0),""))>1,IFERROR(VLOOKUP(C18,'11. Свод Перечней'!C:H,6,0),""),"") -> 01.13.12.120-00000002
... A499: =IF(LEN(C499)>0,MAX($A$5:A498)+1,"") -> 494 | B499: =IFERROR(INDEX('11. Свод Перечней'!B:C,MATCH(C499,'11. Свод Перечней'!C:C,0),1),"") -> Хлеб пшенично-ржаной | C499: Хлеб недлительного хранения тип 5 | D499: =IFERROR(VLOOKUP(C499,'11. Свод Перечней'!C:H,2,0),"") -> 10.71.11.112 | E499: =IFERROR(VLOOKUP(C499,'11. Свод Перечней'!C:H,3,0),"") -> 005 | F499: =IFERROR(VLOOKUP(C499,'11. Свод Перечней'!C:H,4,0),"") -> КГ | G499: =IFERROR(VLOOKUP(C499,'11. Свод Перечней'!C:H,5,0),"") -> Вид хлеба: Пшенично-ржаной Бездрожжевая технология производства: Да; Нет Изделие нарезанное: Да; Нет Хлеб обогащенный витаминами/микроэлементами: Да; Нет Хлеб по способу производства: Формовой; Подовый Вес: не более 1 КГ Упаковка производителя: Наличие Соответствие нормативно-технической документации: Технический регламент Таможенного союза "О безопасности упаковки" от 16.08.2011 ТР ТС № 005/2011, Технический регламент Таможенного союза "О безопасности пищевой продукции" от 09.12.2011 № 021/2011, Технический регламент Таможенного союза "Пищевая продукция в части ее маркировки" от 09.12.2011 № 022/2011, ГОСТ 31807-2018; Технический регламент Таможенного союза "О безопасности упаковки" от 16.08.2011 ТР ТС № 005/2011, Технический регламент Таможенного союза "О безопасности пищевой продукции" от 09.12.2011 № 021/2011, Технический регламент Таможенного союза "Пищевая продукция в части ее маркировки" от 09.12.2011 № 022/2011, ГОСТ 2077-2023 | H499: =IF(LEN(IFERROR(VLOOKUP(C499,'11. Свод Перечней'!C:H,6,0),""))>1,IFERROR(VLOOKUP(C499,'11. Свод Перечней'!C:H,6,0),""),"") -> 10.71.11.110-00000001
A500: =IF(LEN(C500)>0,MAX($A$5:A499)+1,"") | B500: =IFERROR(INDEX('11. Свод Перечней'!B:C,MATCH(C500,'11. Свод Перечней'!C:C,0),1),"") | D500: =IFERROR(VLOOKUP(C500,'11. Свод Перечней'!C:H,2,0),"") | E500: =IFERROR(VLOOKUP(C500,'11. Свод Перечней'!C:H,3,0),"") | F500: =IFERROR(VLOOKUP(C500,'11. Свод Перечней'!C:H,4,0),"") | G500: =IFERROR(VLOOKUP(C500,'11. Свод Перечней'!C:H,5,0),"") | H500: =IF(LEN(IFERROR(VLOOKUP(C500,'11. Свод Перечней'!C:H,6,0),""))>1,IFERROR(VLOOKUP(C500,'11. Свод Перечней'!C:H,6,0),""),"")
A501: =IF(LEN(C501)>0,MAX($A$5:A500)+1,"") | B501: =IFERROR(INDEX('11. Свод Перечней'!B:C,MATCH(C501,'11. Свод Перечней'!C:C,0),1),"") | D501: =IFERROR(VLOOKUP(C501,'11. Свод Перечней'!C:H,2,0),"") | E501: =IFERROR(VLOOKUP(C501,'11. Свод Перечней'!C:H,3,0),"") | F501: =IFERROR(VLOOKUP(C501,'11. Свод Перечней'!C:H,4,0),"") | G501: =IFERROR(VLOOKUP(C501,'11. Свод Перечней'!C:H,5,0),"") | H501: =IF(LEN(IFERROR(VLOOKUP(C501,'11. Свод Перечней'!C:H,6,0),""))>1,IFERROR(VLOOKUP(C501,'11. Свод Перечней'!C:H,6,0),""),"")
A502: =IF(LEN(C502)>0,MAX($A$5:A501)+1,"") | B502: =IFERROR(INDEX('11. Свод Перечней'!B:C,MATCH(C502,'11. Свод Перечней'!C:C,0),1),"") | D502: =IFERROR(VLOOKUP(C502,'11. Свод Перечней'!C:H,2,0),"") | E502: =IFERROR(VLOOKUP(C502,'11. Свод Перечней'!C:H,3,0),"") | F502: =IFERROR(VLOOKUP(C502,'11. Свод Перечней'!C:H,4,0),"") | G502: =IFERROR(VLOOKUP(C502,'11. Свод Перечней'!C:H,5,0),"") | H502: =IF(LEN(IFERROR(VLOOKUP(C502,'11. Свод Перечней'!C:H,6,0),""))>1,IFERROR(VLOOKUP(C502,'11. Свод Перечней'!C:H,6,0),""),"")
A503: =IF(LEN(C503)>0,MAX($A$5:A502)+1,"") | B503: =IFERROR(INDEX('11. Свод Перечней'!B:C,MATCH(C503,'11. Свод Перечней'!C:C,0),1),"") | D503: =IFERROR(VLOOKUP(C503,'11. Свод Перечней'!C:H,2,0),"") | E503: =IFERROR(VLOOKUP(C503,'11. Свод Перечней'!C:H,3,0),"") | F503: =IFERROR(VLOOKUP(C503,'11. Свод Перечней'!C:H,4,0),"") | G503: =IFERROR(VLOOKUP(C503,'11. Свод Перечней'!C:H,5,0),"") | H503: =IF(LEN(IFERROR(VLOOKUP(C503,'11. Свод Перечней'!C:H,6,0),""))>1,IFERROR(VLOOKUP(C503,'11. Свод Перечней'!C:H,6,0),""),"")
A504: =IF(LEN(C504)>0,MAX($A$5:A503)+1,"") | B504: =IFERROR(INDEX('11. Свод Перечней'!B:C,MATCH(C504,'11. Свод Перечней'!C:C,0),1),"") | D504: =IFERROR(VLOOKUP(C504,'11. Свод Перечней'!C:H,2,0),"") | E504: =IFERROR(VLOOKUP(C504,'11. Свод Перечней'!C:H,3,0),"") | F504: =IFERROR(VLOOKUP(C504,'11. Свод Перечней'!C:H,4,0),"") | G504: =IFERROR(VLOOKUP(C504,'11. Свод Перечней'!C:H,5,0),"") | H504: =IF(LEN(IFERROR(VLOOKUP(C504,'11. Свод Перечней'!C:H,6,0),""))>1,IFERROR(VLOOKUP(C504,'11. Свод Перечней'!C:H,6,0),""),"")
A505: =IF(LEN(C505)>0,MAX($A$5:A504)+1,"") | B505: =IFERROR(INDEX('11. Свод Перечней'!B:C,MATCH(C505,'11. Свод Перечней'!C:C,0),1),"") | D505: =IFERROR(VLOOKUP(C505,'11. Свод Перечней'!C:H,2,0),"") | E505: =IFERROR(VLOOKUP(C505,'11. Свод Перечней'!C:H,3,0),"") | F505: =IFERROR(VLOOKUP(C505,'11. Свод Перечней'!C:H,4,0),"") | G505: =IFERROR(VLOOKUP(C505,'11. Свод Перечней'!C:H,5,0),"") | H505: =IF(LEN(IFERROR(VLOOKUP(C505,'11. Свод Перечней'!C:H,6,0),""))>1,IFERROR(VLOOKUP(C505,'11. Свод Перечней'!C:H,6,0),""),"")
A506: =IF(LEN(C506)>0,MAX($A$5:A505)+1,"") | B506: =IFERROR(INDEX('11. Свод Перечней'!B:C,MATCH(C506,'11. Свод Перечней'!C:C,0),1),"") | D506: =IFERROR(VLOOKUP(C506,'11. Свод Перечней'!C:H,2,0),"") | E506: =IFERROR(VLOOKUP(C506,'11. Свод Перечней'!C:H,3,0),"") | F506: =IFERROR(VLOOKUP(C506,'11. Свод Перечней'!C:H,4,0),"") | G506: =IFERROR(VLOOKUP(C506,'11. Свод Перечней'!C:H,5,0),"") | H506: =IF(LEN(IFERROR(VLOOKUP(C506,'11. Свод Перечней'!C:H,6,0),""))>1,IFERROR(VLOOKUP(C506,'11. Свод Перечней'!C:H,6,0),""),"")
A507: =IF(LEN(C507)>0,MAX($A$5:A506)+1,"") | B507: =IFERROR(INDEX('11. Свод Перечней'!B:C,MATCH(C507,'11. Свод Перечней'!C:C,0),1),"") | D507: =IFERROR(VLOOKUP(C507,'11. Свод Перечней'!C:H,2,0),"") | E507: =IFERROR(VLOOKUP(C507,'11. Свод Перечней'!C:H,3,0),"") | F507: =IFERROR(VLOOKUP(C507,'11. Свод Перечней'!C:H,4,0),"") | G507: =IFERROR(VLOOKUP(C507,'11. Свод Перечней'!C:H,5,0),"") | H507: =IF(LEN(IFERROR(VLOOKUP(C507,'11. Свод Перечней'!C:H,6,0),""))>1,IFERROR(VLOOKUP(C507,'11. Свод Перечней'!C:H,6,0),""),"")
A508: =IF(LEN(C508)>0,MAX($A$5:A507)+1,"") | B508: =IFERROR(INDEX('11. Свод Перечней'!B:C,MATCH(C508,'11. Свод Перечней'!C:C,0),1),"") | D508: =IFERROR(VLOOKUP(C508,'11. Свод Перечней'!C:H,2,0),"") | E508: =IFERROR(VLOOKUP(C508,'11. Свод Перечней'!C:H,3,0),"") | F508: =IFERROR(VLOOKUP(C508,'11. Свод Перечней'!C:H,4,0),"") | G508: =IFERROR(VLOOKUP(C508,'11. Свод Перечней'!C:H,5,0),"") | H508: =IF(LEN(IFERROR(VLOOKUP(C508,'11. Свод Перечней'!C:H,6,0),""))>1,IFERROR(VLOOKUP(C508,'11. Свод Перечней'!C:H,6,0),""),"")
A509: =IF(LEN(C509)>0,MAX($A$5:A508)+1,"") | B509: =IFERROR(INDEX('11. Свод Перечней'!B:C,MATCH(C509,'11. Свод Перечней'!C:C,0),1),"") | D509: =IFERROR(VLOOKUP(C509,'11. Свод Перечней'!C:H,2,0),"") | E509: =IFERROR(VLOOKUP(C509,'11. Свод Перечней'!C:H,3,0),"") | F509: =IFERROR(VLOOKUP(C509,'11. Свод Перечней'!C:H,4,0),"") | G509: =IFERROR(VLOOKUP(C509,'11. Свод Перечней'!C:H,5,0),"") | H509: =IF(LEN(IFERROR(VLOOKUP(C509,'11. Свод Перечней'!C:H,6,0),""))>1,IFERROR(VLOOKUP(C509,'11. Свод Перечней'!C:H,6,0),""),"")
A510: =IF(LEN(C510)>0,MAX($A$5:A509)+1,"") | B510: =IFERROR(INDEX('11. Свод Перечней'!B:C,MATCH(C510,'11. Свод Перечней'!C:C,0),1),"") | D510: =IFERROR(VLOOKUP(C510,'11. Свод Перечней'!C:H,2,0),"") | E510: =IFERROR(VLOOKUP(C510,'11. Свод Перечней'!C:H,3,0),"") | F510: =IFERROR(VLOOKUP(C510,'11. Свод Перечней'!C:H,4,0),"") | G510: =IFERROR(VLOOKUP(C510,'11. Свод Перечней'!C:H,5,0),"") | H510: =IF(LEN(IFERROR(VLOOKUP(C510,'11. Свод Перечней'!C:H,6,0),""))>1,IFERROR(VLOOKUP(C510,'11. Свод Перечней'!C:H,6,0),""),"")
A511: =IF(LEN(C511)>0,MAX($A$5:A510)+1,"") | B511: =IFERROR(INDEX('11. Свод Перечней'!B:C,MATCH(C511,'11. Свод Перечней'!C:C,0),1),"") | D511: =IFERROR(VLOOKUP(C511,'11. Свод Перечней'!C:H,2,0),"") | E511: =IFERROR(VLOOKUP(C511,'11. Свод Перечней'!C:H,3,0),"") | F511: =IFERROR(VLOOKUP(C511,'11. Свод Перечней'!C:H,4,0),"") | G511: =IFERROR(VLOOKUP(C511,'11. Свод Перечней'!C:H,5,0),"") | H511: =IF(LEN(IFERROR(VLOOKUP(C511,'11. Свод Перечней'!C:H,6,0),""))>1,IFERROR(VLOOKUP(C511,'11. Свод Перечней'!C:H,6,0),""),"")
... A1177: =IF(LEN(C1177)>0,MAX($A$5:A1176)+1,"") | B1177: =IFERROR(INDEX('11. Свод Перечней'!B:C,MATCH(C1177,'11. Свод Перечней'!C:C,0),1),"") | D1177: =IFERROR(VLOOKUP(C1177,'11. Свод Перечней'!C:H,2,0),"") | E1177: =IFERROR(VLOOKUP(C1177,'11. Свод Перечней'!C:H,3,0),"") | F1177: =IFERROR(VLOOKUP(C1177,'11. Свод Перечней'!C:H,4,0),"") | G1177: =IFERROR(VLOOKUP(C1177,'11. Свод Перечней'!C:H,5,0),"") | H1177: =IF(LEN(IFERROR(VLOOKUP(C1177,'11. Свод Перечней'!C:H,6,0),""))>1,IFERROR(VLOOKUP(C1177,'11. Свод Перечней'!C:H,6,0),""),"")

Sheet 5. Школы ПТУ
A1: Дата актуализации ассортиментного перечня «03» марта 2026 г
A2: Ассортиментный перечень основных групп продовольственных товаров и сырья для обеспечения социального питания в образовательных учреждениях Санкт-Петербурга (школы и профессиональные училища)
A3: Примечание! * - Продукция предназначенная для лечебного, специального питания ** - предназначенные для использования в питании после термической обработки. Информацию о действующей нормативной документации, а также изменениях вносимых в национальные стандарты можно получить в Управлении социального питания по телефонам 576-68-25, 576-68-27 и на сайте Управления по адресу: http://www.gov.spb.ru, вкладка «Нормативные документы».
A4: № | B4: Потребительское наименование товара | C4: Название товара ККН/КТРУ | D4: ОКПД2 | E4: Детализация ККН | F4: Единица измерения ККН | G4: Характеристики товара | H4: Код КТРУ
A5: 1 | B5: 2 | C5: 2 | D5: 3 | E5: 4 | F5: 5 | G5: 6 | H5: 7
A6: 1 | B6: =IFERROR(INDEX('11. Свод Перечней'!B:C,MATCH(C6,'11. Свод Перечней'!C:C,0),1),"") -> Фасоль овощная свежая | C6: {=IFERROR(INDEX('11. Свод Перечней'!$C$4:$C$603,SMALL(IF("Ш"='11. Свод Перечней'!$I$4:$Q$603,ROW('11. Свод Перечней'!$C$4:$C$603)-3,""),ROW()-5)),"")} -> Фасоль тип 1 | D6: =IFERROR(VLOOKUP(C6,'11. Свод Перечней'!C:H,2,0),"") -> 01.11.61.000 | E6: =IFERROR(VLOOKUP(C6,'11. Свод Перечней'!C:H,3,0),"") -> 001 | F6: =IFERROR(VLOOKUP(C6,'11. Свод Перечней'!C:H,4,0),"") -> КГ | G6: =IFERROR(VLOOKUP(C6,'11. Свод Перечней'!C:H,5,0),"") -> Тип: Овощная Вид: Свежая Сорт: Высший; Первый Фасовка: Весовая Соответствие нормативно-технической документации: Технический регламент Таможенного союза "О безопасности упаковки" от 16.08.2011 ТР ТС № 005/2011, Технический регламент Таможенного союза "О безопасности пищевой продукции" от 09.12.2011 № 021/2011, Технический регламент Таможенного союза "Пищевая продукция в части ее маркировки" от 09.12.2011 № 022/2011, ГОСТ 34299-2017 | H6: =IF(LEN(IFERROR(VLOOKUP(C6,'11. Свод Перечней'!C:H,6,0),""))>1,IFERROR(VLOOKUP(C6,'11. Свод Перечней'!C:H,6,0),""),"")
A7: =IF(LEN(C7)>0,MAX($A$4:A6)+1,"") -> 2 | B7: =IFERROR(INDEX('11. Свод Перечней'!B:C,MATCH(C7,'11. Свод Перечней'!C:C,0),1),"") -> Фасоль продовольственная | C7: Фасоль продовольственная тип 2 | D7: =IFERROR(VLOOKUP(C7,'11. Свод Перечней'!C:H,2,0),"") -> 01.11.71.110 | E7: =IFERROR(VLOOKUP(C7,'11. Свод Перечней'!C:H,3,0),"") -> 001 | F7: =IFERROR(VLOOKUP(C7,'11. Свод Перечней'!C:H,4,0),"") -> КГ | G7: =IFERROR(VLOOKUP(C7,'11. Свод Перечней'!C:H,5,0),"") -> Номер и наименование типа фасоли: III. Фасоль цветная пестрая Вес, КГ: ≤ 1 Упаковка производителя: Наличие Соответствие нормативно-технической документации: Технический регламент Таможенного союза "О безопасности упаковки" от 16.08.2011 ТР ТС № 005/2011, Технический регламент Таможенного союза "О безопасности пищевой продукции" от 09.12.2011 № 021/2011, Технический регламент Таможенного союза "Пищевая продукция в части ее маркировки" от 09.12.2011 № 022/2011, ГОСТ 7758-2020 | H7: =IF(LEN(IFERROR(VLOOKUP(C7,'11. Свод Перечней'!C:H,6,0),""))>1,IFERROR(VLOOKUP(C7,'11. Свод Перечней'!C:H,6,0),""),"") -> 01.11.71.110-00000001
A8: =IF(LEN(C8)>0,MAX($A$4:A7)+1,"") -> 3 | B8: =IFERROR(INDEX('11. Свод Перечней'!B:C,MATCH(C8,'11. Свод Перечней'!C:C,0),1),"") -> Фасоль продовольственная | C8: Фасоль продовольственная тип 3 | D8: =IFERROR(VLOOKUP(C8,'11. Свод Перечней'!C:H,2,0),"") -> 01.11.71.110 | E8: =IFERROR(VLOOKUP(C8,'11. Свод Перечней'!C:H,3,0),"") -> 003 | F8: =IFERROR(VLOOKUP(C8,'11. Свод Перечней'!C:H,4,0),"") -> КГ | G8: =IFERROR(VLOOKUP(C8,'11. Свод Перечней'!C:H,5,0),"") -> Номер и наименование типа фасоли: II. Фасоль цветная однотонная Вес, КГ: ≤ 1 Упаковка производителя: Наличие Соответствие нормативно-технической документации: Технический регламент Таможенного союза "О безопасности упаковки" от 16.08.2011 ТР ТС № 005/2011, Технический регламент Таможенного союза "О безопасности пищевой продукции" от 09.12.2011 № 021/2011, Технический регламент Таможенного союза "Пищевая продукция в части ее маркировки" от 09.12.2011 № 022/2011, ГОСТ 7758-2020 | H8: =IF(LEN(IFERROR(VLOOKUP(C8,'11. Свод Перечней'!C:H,6,0),""))>1,IFERROR(VLOOKUP(C8,'11. Свод Перечней'!C:H,6,0),""),"") -> 01.11.71.110-00000002
A9: =IF(LEN(C9)>0,MAX($A$4:A8)+1,"") -> 4 | B9: =IFERROR(INDEX('11. Свод Перечней'!B:C,MATCH(C9,'11. Свод Перечней'!C:C,0),1),"") -> Фасоль продовольственная | C9: Фасоль продовольственная тип 4 | D9: =IFERROR(VLOOKUP(C9,'11. Свод Перечней'!C:H,2,0),"") -> 01.11.71.110 | E9: =IFERROR(VLOOKUP(C9,'11. Свод Перечней'!C:H,3,0),"") -> 004 | F9: =IFERROR(VLOOKUP(C9,'11. Свод Перечней'!C:H,4,0),"") -> КГ | G9: =IFERROR(VLOOKUP(C9,'11. Свод Перечней'!C:H,5,0),"") -> Номер и наименование типа фасоли: I. Фасоль белая Вес, КГ: ≤ 1 Упаковка производителя: Наличие Соответствие нормативно-технической документации: Технический регламент Таможенного союза "О безопасности упаковки" от 16.08.2011 ТР ТС № 005/2011, Технический регламент Таможенного союза "О безопасности пищевой продукции" от 09.12.2011 № 021/2011, Технический регламент Таможенного союза "Пищевая продукция в части ее маркировки" от 09.12.2011 № 022/2011, ГОСТ 7758-2020 | H9: =IF(LEN(IFERROR(VLOOKUP(C9,'11. Свод Перечней'!C:H,6,0),""))>1,IFERROR(VLOOKUP(C9,'11. Свод Перечней'!C:H,6,0),""),"") -> 01.11.71.110-00000003
A10: =IF(LEN(C10)>0,MAX($A$4:A9)+1,"") -> 5 | B10: =IFERROR(INDEX('11. Свод Перечней'!B:C,MATCH(C10,'11. Свод Перечней'!C:C,0),1),"") -> Чечевица | C10: Чечевица продовольственная тип 2 | D10: =IFERROR(VLOOKUP(C10,'11. Свод Перечней'!C:H,2,0),"") -> 01.11.74.110 | E10: =IFERROR(VLOOKUP(C10,'11. Свод Перечней'!C:H,3,0),"") -> 001 | F10: =IFERROR(VLOOKUP(C10,'11. Свод Перечней'!C:H,4,0),"") -> КГ | G10: =IFERROR(VLOOKUP(C10,'11. Свод Перечней'!C:H,5,0),"") -> Тип чечевицы: Красная Вес, КГ: ≤ 1 Упаковка производителя: Наличие Соответствие нормативно-технической документации: Технический регламент Таможенного союза "О безопасности упаковки" от 16.08.2011 ТР ТС № 005/2011, Технический регламент Таможенного союза "О безопасности пищевой продукции" от 09.12.2011 № 021/2011, Технический регламент Таможенного союза "Пищевая продукция в части ее маркировки" от 09.12.2011 № 022/2011, ГОСТ 7066-2019 | H10: =IF(LEN(IFERROR(VLOOKUP(C10,'11. Свод Перечней'!C:H,6,0),""))>1,IFERROR(VLOOKUP(C10,'11. Свод Перечней'!C:H,6,0),""),"") -> 01.11.74.110-00000001
A11: =IF(LEN(C11)>0,MAX($A$4:A10)+1,"") -> 6 | B11: =IFERROR(INDEX('11. Свод Перечней'!B:C,MATCH(C11,'11. Свод Перечней'!C:C,0),1),"") -> Чечевица | C11: Чечевица продовольственная тип 3 | D11: =IFERROR(VLOOKUP(C11,'11. Свод Перечней'!C:H,2,0),"") -> 01.11.74.110 | E11: =IFERROR(VLOOKUP(C11,'11. Свод Перечней'!C:H,3,0),"") -> 003 | F11: =IFERROR(VLOOKUP(C11,'11. Свод Перечней'!C:H,4,0),"") -> КГ | G11: =IFERROR(VLOOKUP(C11,'11. Свод Перечней'!C:H,5,0),"") -> Тип чечевицы: Коричневая Вес, КГ: ≤ 1 Упаковка производителя: Наличие Соответствие нормативно-технической документации: Технический регламент Таможенного союза "О безопасности упаковки" от 16.08.2011 ТР ТС № 005/2011, Технический регламент Таможенного союза "О безопасности пищевой продукции" от 09.12.2011 № 021/2011, Технический регламент Таможенного союза "Пищевая продукция в части ее маркировки" от 09.12.2011 № 022/2011, ГОСТ 7066-2019 | H11: =IF(LEN(IFERROR(VLOOKUP(C11,'11. Свод Перечней'!C:H,6,0),""))>1,IFERROR(VLOOKUP(C11,'11. Свод Перечней'!C:H,6,0),""),"") -> 01.11.74.110-00000002
A12: =IF(LEN(C12)>0,MAX($A$4:A11)+1,"") -> 7 | B12: =IFERROR(INDEX('11. Свод Перечней'!B:C,MATCH(C12,'11. Свод Перечней'!C:C,0),1),"") -> Чечевица | C12: Чечевица продовольственная тип 4 | D12: =IFERROR(VLOOKUP(C12,'11. Свод Перечней'!C:H,2,0),"") -> 01.11.74.110 | E12: =IFERROR(VLOOKUP(C12,'11. Свод Перечней'!C:H,3,0),"") -> 004 | F12: =IFERROR(VLOOKUP(C12,'11. Свод Перечней'!C:H,4,0),"") -> КГ | G12: =IFERROR(VLOOKUP(C12,'11. Свод Перечней'!C:H,5,0),"") -> Тип чечевицы: Неоднородная Вес, КГ: ≤ 1 Упаковка производителя: Наличие Соответствие нормативно-технической документации: Технический регламент Таможенного союза "О безопасности упаковки" от 16.08.2011 ТР ТС № 005/2011, Технический регламент Таможенного союза "О безопасности пищевой продукции" от 09.12.2011 № 021/2011, Технический регламент Таможенного союза "Пищевая продукция в части ее маркировки" от 09.12.2011 № 022/2011, ГОСТ 7066-2019 | H12: =IF(LEN(IFERROR(VLOOKUP(C12,'11. Свод Перечней'!C:H,6,0),""))>1,IFERROR(VLOOKUP(C12,'11. Свод Перечней'!C:H,6,0),""),"") -> 01.11.74.110-00000003
A13: =IF(LEN(C13)>0,MAX($A$4:A12)+1,"") -> 8 | B13: =IFERROR(INDEX('11. Свод Перечней'!B:C,MATCH(C13,'11. Свод Перечней'!C:C,0),1),"") -> Чечевица | C13: Чечевица продовольственная тип 5 | D13: =IFERROR(VLOOKUP(C13,'11. Свод Перечней'!C:H,2,0),"") -> 01.11.74.110 | E13: =IFERROR(VLOOKUP(C13,'11. Свод Перечней'!C:H,3,0),"") -> 005 | F13: =IFERROR(VLOOKUP(C13,'11. Свод Перечней'!C:H,4,0),"") -> КГ | G13: =IFERROR(VLOOKUP(C13,'11. Свод Перечней'!C:H,5,0),"") -> Тип чечевицы: Светло-зеленая Вес, КГ: ≤ 1 Упаковка производителя: Наличие Соответствие нормативно-технической документации: Технический регламент Таможенного союза "О безопасности упаковки" от 16.08.2011 ТР ТС № 005/2011, Технический регламент Таможенного союза "О безопасности пищевой продукции" от 09.12.2011 № 021/2011, Технический регламент Таможенного союза "Пищевая продукция в части ее маркировки" от 09.12.2011 № 022/2011, ГОСТ 7066-2019 | H13: =IF(LEN(IFERROR(VLOOKUP(C13,'11. Свод Перечней'!C:H,6,0),""))>1,IFERROR(VLOOKUP(C13,'11. Свод Перечней'!C:H,6,0),""),"") -> 01.11.74.110-00000004
A14: =IF(LEN(C14)>0,MAX($A$4:A13)+1,"") -> 9 | B14: =IFERROR(INDEX('11. Свод Перечней'!B:C,MATCH(C14,'11. Свод Перечней'!C:C,0),1),"") -> Чечевица | C14: Чечевица продовольственная тип 6 | D14: =IFERROR(VLOOKUP(C14,'11. Свод Перечней'!C:H,2,0),"") -> 01.11.74.110 | E14: =IFERROR(VLOOKUP(C14,'11. Свод Перечней'!C:H,3,0),"") -> 006 | F14: =IFERROR(VLOOKUP(C14,'11. Свод Перечней'!C:H,4,0),"") -> КГ | G14: =IFERROR(VLOOKUP(C14,'11. Свод Перечней'!C:H,5,0),"") -> Тип чечевицы: Темно-зеленая Вес, КГ: ≤ 1 Упаковка производителя: Наличие Соответствие нормативно-технической документации: Технический регламент Таможенного союза "О безопасности упаковки" от 16.08.2011 ТР ТС № 005/2011, Технический регламент Таможенного союза "О безопасности пищевой продукции" от 09.12.2011 № 021/2011, Технический регламент Таможенного союза "Пищевая продукция в части ее маркировки" от 09.12.2011 № 022/2011, ГОСТ 7066-2019 | H14: =IF(LEN(IFERROR(VLOOKUP(C14,'11. Свод Перечней'!C:H,6,0),""))>1,IFERROR(VLOOKUP(C14,'11. Свод Перечней'!C:H,6,0),""),"") -> 01.11.74.110-00000005
A15: =IF(LEN(C15)>0,MAX($A$4:A14)+1,"") -> 10 | B15: =IFERROR(INDEX('11. Свод Перечней'!B:C,MATCH(C15,'11. Свод Перечней'!C:C,0),1),"") -> Горох шлифованный | C15: Горох шлифованный тип 1 | D15: =IFERROR(VLOOKUP(C15,'11. Свод Перечней'!C:H,2,0),"") -> 01.11.75.110 | E15: =IFERROR(VLOOKUP(C15,'11. Свод Перечней'!C:H,3,0),"") -> 001 | F15: =IFERROR(VLOOKUP(C15,'11. Свод Перечней'!C:H,4,0),"") -> КГ | G15: =IFERROR(VLOOKUP(C15,'11. Свод Перечней'!C:H,5,0),"") -> Вид зерна: Целое Сорт: Не ниже первого Вес: не более 1 КГ Упаковка производителя: Наличие Соответствие нормативно-технической документации: Технический регламент Таможенного союза "О безопасности упаковки" от 16.08.2011 ТР ТС № 005/2011, Технический регламент Таможенного союза "О безопасности пищевой продукции" от 09.12.2011 № 021/2011, Технический регламент Таможенного союза "Пищевая продукция в части ее маркировки" от 09.12.2011 № 022/2011, ГОСТ 6201-2020 | H15: =IF(LEN(IFERROR(VLOOKUP(C15,'11. Свод Перечней'!C:H,6,0),""))>1,IFERROR(VLOOKUP(C15,'11. Свод Перечней'!C:H,6,0),""),"") -> 01.11.75.110-00000002
A16: =IF(LEN(C16)>0,MAX($A$4:A15)+1,"") -> 11 | B16: =IFERROR(INDEX('11. Свод Перечней'!B:C,MATCH(C16,'11. Свод Перечней'!C:C,0),1),"") -> Горох шлифованный | C16: Горох шлифованный тип 2 | D16: =IFERROR(VLOOKUP(C16,'11. Свод Перечней'!C:H,2,0),"") -> 01.11.75.110 | E16: =IFERROR(VLOOKUP(C16,'11. Свод Перечней'!C:H,3,0),"") -> 002 | F16: =IFERROR(VLOOKUP(C16,'11. Свод Перечней'!C:H,4,0),"") -> КГ | G16: =IFERROR(VLOOKUP(C16,'11. Свод Перечней'!C:H,5,0),"") -> Вид зерна: Целое Сорт: Не ниже первого Фасовка: Весовая Соответствие нормативно-технической документации: Технический регламент Таможенного союза "О безопасности упаковки" от 16.08.2011 ТР ТС № 005/2011, Технический регламент Таможенного союза "О безопасности пищевой продукции" от 09.12.2011 № 021/2011, Технический регламент Таможенного союза "Пищевая продукция в части ее маркировки" от 09.12.2011 № 022/2011, ГОСТ 6201-2020 | H16: =IF(LEN(IFERROR(VLOOKUP(C16,'11. Свод Перечней'!C:H,6,0),""))>1,IFERROR(VLOOKUP(C16,'11. Свод Перечней'!C:H,6,0),""),"") -> 01.11.75.110-00000002
A17: =IF(LEN(C17)>0,MAX($A$4:A16)+1,"") -> 12 | B17: =IFERROR(INDEX('11. Свод Перечней'!B:C,MATCH(C17,'11. Свод Перечней'!C:C,0),1),"") -> Капуста брюссельская свежая | C17: Капуста брюссельская тип 1 | D17: =IFERROR(VLOOKUP(C17,'11. Свод Перечней'!C:H,2,0),"") -> 01.13.12.110 | E17: =IFERROR(VLOOKUP(C17,'11. Свод Перечней'!C:H,3,0),"") -> 001 | F17: =IFERROR(VLOOKUP(C17,'11. Свод Перечней'!C:H,4,0),"") -> КГ | G17: =IFERROR(VLOOKUP(C17,'11. Свод Перечней'!C:H,5,0),"") -> Вид: Свежая Фасовка: Весовая Соответствие нормативно-технической документации: Технический регламент Таможенного союза "О безопасности упаковки" от 16.08.2011 ТР ТС № 005/2011, Технический регламент Таможенного союза "О безопасности пищевой продукции" от 09.12.2011 № 021/2011, Технический регламент Таможенного союза "Пищевая продукция в части ее маркировки" от 09.12.2011 № 022/2011, ГОСТ 33851-2016 | H17: =IF(LEN(IFERROR(VLOOKUP(C17,'11. Свод Перечней'!C:H,6,0),""))>1,IFERROR(VLOOKUP(C17,'11. Свод Перечней'!C:H,6,0),""),"")
A18: =IF(LEN(C18)>0,MAX($A$4:A17)+1,"") -> 13 | B18: =IFERROR(INDEX('11. Свод Перечней'!B:C,MATCH(C18,'11. Свод Перечней'!C:C,0),1),"") -> Капуста белокочанная свежая | C18: Капуста белокочанная тип 1 | D18: =IFERROR(VLOOKUP(C18,'11. Свод Перечней'!C:H,2,0),"") -> 01.13.12.120 | E18: =IFERROR(VLOOKUP(C18,'11. Свод Перечней'!C:H,3,0),"") -> 001 | F18: =IFERROR(VLOOKUP(C18,'11. Свод Перечней'!C:H,4,0),"") -> КГ | G18: =IFERROR(VLOOKUP(C18,'11. Свод Перечней'!C:H,5,0),"") -> Капуста очищенная: Нет Вид капусты по сроку созревания: Среднеспелая; Позднеспелая; Среднепоздняя Товарный класс: Первый Вид: Свежая Фасовка: Весовая Соответствие нормативно-технической документации: Технический регламент Таможенного союза "О безопасности упаковки" от 16.08.2011 ТР ТС № 005/2011, Технический регламент Таможенного союза "О безопасности пищевой продукции" от 09.12.2011 № 021/2011, Технический регламент Таможенного союза "Пищевая продукция в части ее маркировки" от 09.12.2011 № 022/2011, ГОСТ Р 51809-2001 | H18: =IF(LEN(IFERROR(VLOOKUP(C18,'11. Свод Перечней'!C:H,6,0),""))>1,IFERROR(VLOOKUP(C18,'11. Свод Перечней'!C:H,6,0),""),"") -> 01.13.12.120-00000002
... A488: =IF(LEN(C488)>0,MAX($A$4:A487)+1,"") -> 483 | B488: =IFERROR(INDEX('11. Свод Перечней'!B:C,MATCH(C488,'11. Свод Перечней'!C:C,0),1),"") -> Хлеб пшенично-ржаной | C488: Хлеб недлительного хранения тип 5 | D488: =IFERROR(VLOOKUP(C488,'11. Свод Перечней'!C:H,2,0),"") -> 10.71.11.112 | E488: =IFERROR(VLOOKUP(C488,'11. Свод Перечней'!C:H,3,0),"") -> 005 | F488: =IFERROR(VLOOKUP(C488,'11. Свод Перечней'!C:H,4,0),"") -> КГ | G488: =IFERROR(VLOOKUP(C488,'11. Свод Перечней'!C:H,5,0),"") -> Вид хлеба: Пшенично-ржаной Бездрожжевая технология производства: Да; Нет Изделие нарезанное: Да; Нет Хлеб обогащенный витаминами/микроэлементами: Да; Нет Хлеб по способу производства: Формовой; Подовый Вес: не более 1 КГ Упаковка производителя: Наличие Соответствие нормативно-технической документации: Технический регламент Таможенного союза "О безопасности упаковки" от 16.08.2011 ТР ТС № 005/2011, Технический регламент Таможенного союза "О безопасности пищевой продукции" от 09.12.2011 № 021/2011, Технический регламент Таможенного союза "Пищевая продукция в части ее маркировки" от 09.12.2011 № 022/2011, ГОСТ 31807-2018; Технический регламент Таможенного союза "О безопасности упаковки" от 16.08.2011 ТР ТС № 005/2011, Технический регламент Таможенного союза "О безопасности пищевой продукции" от 09.12.2011 № 021/2011, Технический регламент Таможенного союза "Пищевая продукция в части ее маркировки" от 09.12.2011 № 022/2011, ГОСТ 2077-2023 | H488: =IF(LEN(IFERROR(VLOOKUP(C488,'11. Свод Перечней'!C:H,6,0),""))>1,IFERROR(VLOOKUP(C488,'11. Свод Перечней'!C:H,6,0),""),"") -> 10.71.11.110-00000001
A489: =IF(LEN(C489)>0,MAX($A$4:A488)+1,"") | B489: =IFERROR(INDEX('11. Свод Перечней'!B:C,MATCH(C489,'11. Свод Перечней'!C:C,0),1),"") | D489: =IFERROR(VLOOKUP(C489,'11. Свод Перечней'!C:H,2,0),"") | E489: =IFERROR(VLOOKUP(C489,'11. Свод Перечней'!C:H,3,0),"") | F489: =IFERROR(VLOOKUP(C489,'11. Свод Перечней'!C:H,4,0),"") | G489: =IFERROR(VLOOKUP(C489,'11. Свод Перечней'!C:H,5,0),"") | H489: =IF(LEN(IFERROR(VLOOKUP(C489,'11. Свод Перечней'!C:H,6,0),""))>1,IFERROR(VLOOKUP(C489,'11. Свод Перечней'!C:H,6,0),""),"")
A490: =IF(LEN(C490)>0,MAX($A$4:A489)+1,"") | B490: =IFERROR(INDEX('11. Свод Перечней'!B:C,MATCH(C490,'11. Свод Перечней'!C:C,0),1),"") | D490: =IFERROR(VLOOKUP(C490,'11. Свод Перечней'!C:H,2,0),"") | E490: =IFERROR(VLOOKUP(C490,'11. Свод Перечней'!C:H,3,0),"") | F490: =IFERROR(VLOOKUP(C490,'11. Свод Перечней'!C:H,4,0),"") | G490: =IFERROR(VLOOKUP(C490,'11. Свод Перечней'!C:H,5,0),"") | H490: =IF(LEN(IFERROR(VLOOKUP(C490,'11. Свод Перечней'!C:H,6,0),""))>1,IFERROR(VLOOKUP(C490,'11. Свод Перечней'!C:H,6,0),""),"")
A491: =IF(LEN(C491)>0,MAX($A$4:A490)+1,"") | B491: =IFERROR(INDEX('11. Свод Перечней'!B:C,MATCH(C491,'11. Свод Перечней'!C:C,0),1),"") | D491: =IFERROR(VLOOKUP(C491,'11. Свод Перечней'!C:H,2,0),"") | E491: =IFERROR(VLOOKUP(C491,'11. Свод Перечней'!C:H,3,0),"") | F491: =IFERROR(VLOOKUP(C491,'11. Свод Перечней'!C:H,4,0),"") | G491: =IFERROR(VLOOKUP(C491,'11. Свод Перечней'!C:H,5,0),"") | H491: =IF(LEN(IFERROR(VLOOKUP(C491,'11. Свод Перечней'!C:H,6,0),""))>1,IFERROR(VLOOKUP(C491,'11. Свод Перечней'!C:H,6,0),""),"")
A492: =IF(LEN(C492)>0,MAX($A$4:A491)+1,"") | B492: =IFERROR(INDEX('11. Свод Перечней'!B:C,MATCH(C492,'11. Свод Перечней'!C:C,0),1),"") | D492: =IFERROR(VLOOKUP(C492,'11. Свод Перечней'!C:H,2,0),"") | E492: =IFERROR(VLOOKUP(C492,'11. Свод Перечней'!C:H,3,0),"") | F492: =IFERROR(VLOOKUP(C492,'11. Свод Перечней'!C:H,4,0),"") | G492: =IFERROR(VLOOKUP(C492,'11. Свод Перечней'!C:H,5,0),"") | H492: =IF(LEN(IFERROR(VLOOKUP(C492,'11. Свод Перечней'!C:H,6,0),""))>1,IFERROR(VLOOKUP(C492,'11. Свод Перечней'!C:H,6,0),""),"")
A493: =IF(LEN(C493)>0,MAX($A$4:A492)+1,"") | B493: =IFERROR(INDEX('11. Свод Перечней'!B:C,MATCH(C493,'11. Свод Перечней'!C:C,0),1),"") | D493: =IFERROR(VLOOKUP(C493,'11. Свод Перечней'!C:H,2,0),"") | E493: =IFERROR(VLOOKUP(C493,'11. Свод Перечней'!C:H,3,0),"") | F493: =IFERROR(VLOOKUP(C493,'11. Свод Перечней'!C:H,4,0),"") | G493: =IFERROR(VLOOKUP(C493,'11. Свод Перечней'!C:H,5,0),"") | H493: =IF(LEN(IFERROR(VLOOKUP(C493,'11. Свод Перечней'!C:H,6,0),""))>1,IFERROR(VLOOKUP(C493,'11. Свод Перечней'!C:H,6,0),""),"")
A494: =IF(LEN(C494)>0,MAX($A$4:A493)+1,"") | B494: =IFERROR(INDEX('11. Свод Перечней'!B:C,MATCH(C494,'11. Свод Перечней'!C:C,0),1),"") | D494: =IFERROR(VLOOKUP(C494,'11. Свод Перечней'!C:H,2,0),"") | E494: =IFERROR(VLOOKUP(C494,'11. Свод Перечней'!C:H,3,0),"") | F494: =IFERROR(VLOOKUP(C494,'11. Свод Перечней'!C:H,4,0),"") | G494: =IFERROR(VLOOKUP(C494,'11. Свод Перечней'!C:H,5,0),"") | H494: =IF(LEN(IFERROR(VLOOKUP(C494,'11. Свод Перечней'!C:H,6,0),""))>1,IFERROR(VLOOKUP(C494,'11. Свод Перечней'!C:H,6,0),""),"")
A495: =IF(LEN(C495)>0,MAX($A$4:A494)+1,"") | B495: =IFERROR(INDEX('11. Свод Перечней'!B:C,MATCH(C495,'11. Свод Перечней'!C:C,0),1),"") | D495: =IFERROR(VLOOKUP(C495,'11. Свод Перечней'!C:H,2,0),"") | E495: =IFERROR(VLOOKUP(C495,'11. Свод Перечней'!C:H,3,0),"") | F495: =IFERROR(VLOOKUP(C495,'11. Свод Перечней'!C:H,4,0),"") | G495: =IFERROR(VLOOKUP(C495,'11. Свод Перечней'!C:H,5,0),"") | H495: =IF(LEN(IFERROR(VLOOKUP(C495,'11. Свод Перечней'!C:H,6,0),""))>1,IFERROR(VLOOKUP(C495,'11. Свод Перечней'!C:H,6,0),""),"")
A496: =IF(LEN(C496)>0,MAX($A$4:A495)+1,"") | B496: =IFERROR(INDEX('11. Свод Перечней'!B:C,MATCH(C496,'11. Свод Перечней'!C:C,0),1),"") | D496: =IFERROR(VLOOKUP(C496,'11. Свод Перечней'!C:H,2,0),"") | E496: =IFERROR(VLOOKUP(C496,'11. Свод Перечней'!C:H,3,0),"") | F496: =IFERROR(VLOOKUP(C496,'11. Свод Перечней'!C:H,4,0),"") | G496: =IFERROR(VLOOKUP(C496,'11. Свод Перечней'!C:H,5,0),"") | H496: =IF(LEN(IFERROR(VLOOKUP(C496,'11. Свод Перечней'!C:H,6,0),""))>1,IFERROR(VLOOKUP(C496,'11. Свод Перечней'!C:H,6,0),""),"")
A497: =IF(LEN(C497)>0,MAX($A$4:A496)+1,"") | B497: =IFERROR(INDEX('11. Свод Перечней'!B:C,MATCH(C497,'11. Свод Перечней'!C:C,0),1),"") | D497: =IFERROR(VLOOKUP(C497,'11. Свод Перечней'!C:H,2,0),"") | E497: =IFERROR(VLOOKUP(C497,'11. Свод Перечней'!C:H,3,0),"") | F497: =IFERROR(VLOOKUP(C497,'11. Свод Перечней'!C:H,4,0),"") | G497: =IFERROR(VLOOKUP(C497,'11. Свод Перечней'!C:H,5,0),"") | H497: =IF(LEN(IFERROR(VLOOKUP(C497,'11. Свод Перечней'!C:H,6,0),""))>1,IFERROR(VLOOKUP(C497,'11. Свод Перечней'!C:H,6,0),""),"")
A498: =IF(LEN(C498)>0,MAX($A$4:A497)+1,"") | B498: =IFERROR(INDEX('11. Свод Перечней'!B:C,MATCH(C498,'11. Свод Перечней'!C:C,0),1),"") | D498: =IFERROR(VLOOKUP(C498,'11. Свод Перечней'!C:H,2,0),"") | E498: =IFERROR(VLOOKUP(C498,'11. Свод Перечней'!C:H,3,0),"") | F498: =IFERROR(VLOOKUP(C498,'11. Свод Перечней'!C:H,4,0),"") | G498: =IFERROR(VLOOKUP(C498,'11. Свод Перечней'!C:H,5,0),"") | H498: =IF(LEN(IFERROR(VLOOKUP(C498,'11. Свод Перечней'!C:H,6,0),""))>1,IFERROR(VLOOKUP(C498,'11. Свод Перечней'!C:H,6,0),""),"")
A499: =IF(LEN(C499)>0,MAX($A$4:A498)+1,"") | B499: =IFERROR(INDEX('11. Свод Перечней'!B:C,MATCH(C499,'11. Свод Перечней'!C:C,0),1),"") | D499: =IFERROR(VLOOKUP(C499,'11. Свод Перечней'!C:H,2,0),"") | E499: =IFERROR(VLOOKUP(C499,'11. Свод Перечней'!C:H,3,0),"") | F499: =IFERROR(VLOOKUP(C499,'11. Свод Перечней'!C:H,4,0),"") | G499: =IFERROR(VLOOKUP(C499,'11. Свод Перечней'!C:H,5,0),"") | H499: =IF(LEN(IFERROR(VLOOKUP(C499,'11. Свод Перечней'!C:H,6,0),""))>1,IFERROR(VLOOKUP(C499,'11. Свод Перечней'!C:H,6,0),""),"")
A500: =IF(LEN(C500)>0,MAX($A$4:A499)+1,"") | B500: =IFERROR(INDEX('11. Свод Перечней'!B:C,MATCH(C500,'11. Свод Перечней'!C:C,0),1),"") | D500: =IFERROR(VLOOKUP(C500,'11. Свод Перечней'!C:H,2,0),"") | E500: =IFERROR(VLOOKUP(C500,'11. Свод Перечней'!C:H,3,0),"") | F500: =IFERROR(VLOOKUP(C500,'11. Свод Перечней'!C:H,4,0),"") | G500: =IFERROR(VLOOKUP(C500,'11. Свод Перечней'!C:H,5,0),"") | H500: =IF(LEN(IFERROR(VLOOKUP(C500,'11. Свод Перечней'!C:H,6,0),""))>1,IFERROR(VLOOKUP(C500,'11. Свод Перечней'!C:H,6,0),""),"")
... A1006: =IF(LEN(C1006)>0,MAX($A$4:A1005)+1,"") | B1006: =IFERROR(INDEX('11. Свод Перечней'!B:C,MATCH(C1006,'11. Свод Перечней'!C:C,0),1),"") | D1006: =IFERROR(VLOOKUP(C1006,'11. Свод Перечней'!C:H,2,0),"") | E1006: =IFERROR(VLOOKUP(C1006,'11. Свод Перечней'!C:H,3,0),"") | F1006: =IFERROR(VLOOKUP(C1006,'11. Свод Перечней'!C:H,4,0),"") | G1006: =IFERROR(VLOOKUP(C1006,'11. Свод Перечней'!C:H,5,0),"") | H1006: =IF(LEN(IFERROR(VLOOKUP(C1006,'11. Свод Перечней'!C:H,6,0),""))>1,IFERROR(VLOOKUP(C1006,'11. Свод Перечней'!C:H,6,0),""),"")

Sheet 6. Бездомные
A1: Дата актуализации ассортиментного перечня «03» марта 2026 г
A2: Ассортиментный перечень основных групп продовольственных товаров и сырья для обеспечения социального питания в учереждения Санкт-Петербурга для лиц без определенного места жительства (бездомных)
A3: Примечание! * - Продукция предназначенная для лечебного, специального питания ** - предназначенные для использования в питании после термической обработки. Информацию о действующей нормативной документации, а также изменениях вносимых в национальные стандарты можно получить в Управлении социального питания по телефонам 576-68-25, 576-68-27 и на сайте Управления по адресу: http://www.gov.spb.ru, вкладка «Нормативные документы».
A4: № | B4: Потребительское наименование товара | C4: Название товара ККН/КТРУ | D4: ОКПД2 | E4: Детализация ККН | F4: Единица измерения ККН | G4: Характеристики товара | H4: Код КТРУ
A5: 1 | B5: 2 | C5: 2 | D5: 3 | E5: 4 | F5: 5 | G5: 6 | H5: 7
A6: 1 | B6: =IFERROR(INDEX('11. Свод Перечней'!B:C,MATCH(C6,'11. Свод Перечней'!C:C,0),1),"") -> Суп быстрого приготовления в пакетике, в ассортименте | C6: {=IFERROR(INDEX('11. Свод Перечней'!$C$4:$C$603,SMALL(IF("Б"='11. Свод Перечней'!$I$4:$Q$603,ROW('11. Свод Перечней'!$C$4:$C$603)-3,""),ROW()-5)),"")} -> Суп быстрого приготовления тип 1 | D6: =IFERROR(VLOOKUP(C6,'11. Свод Перечней'!C:H,2,0),"") -> 10.89.11.119 | E6: =IFERROR(VLOOKUP(C6,'11. Свод Перечней'!C:H,3,0),"") -> 001 | F6: =IFERROR(VLOOKUP(C6,'11. Свод Перечней'!C:H,4,0),"") -> КГ | G6: =IFERROR(VLOOKUP(C6,'11. Свод Перечней'!C:H,5,0),"") -> Тип: С жиром; Без жира Наличие вкусовых компонентов: Да; Нет Индивидуальная упаковка: Наличие Вес: не менее 15 не более 50 Г Соответствие нормативно-технической документации: Технический регламент Таможенного союза "О безопасности упаковки" от 16.08.2011 ТР ТС № 005/2011, Технический регламент Таможенного союза "О безопасности пищевой продукции" от 09.12.2011 № 021/2011, Технический регламент Таможенного союза "Пищевая продукция в части ее маркировки" от 09.12.2011 № 022/2011, ГОСТ Р 50847-96; Технический регламент Таможенного союза "О безопасности упаковки" от 16.08.2011 ТР ТС № 005/2011, Технический регламент Таможенного союза "О безопасности пищевой продукции" от 09.12.2011 № 021/2011, Технический регламент Таможенного союза "Пищевая продукция в части ее маркировки" от 09.12.2011 № 022/2011, ТУ производителя | H6: =IF(LEN(IFERROR(VLOOKUP(C6,'11. Свод Перечней'!C:H,6,0),""))>1,IFERROR(VLOOKUP(C6,'11. Свод Перечней'!C:H,6,0),""),"")
A7: =IF(LEN(C7)>0,MAX($A$5:A6)+1,"") -> 2 | B7: =IFERROR(INDEX('11. Свод Перечней'!B:C,MATCH(C7,'11. Свод Перечней'!C:C,0),1),"") -> Изделия макаронные быстрого приготовления в ассортименте | C7: Изделия макаронные тип 3 | D7: =IFERROR(VLOOKUP(C7,'11. Свод Перечней'!C:H,2,0),"") -> 10.73.11.400 | E7: =IFERROR(VLOOKUP(C7,'11. Свод Перечней'!C:H,3,0),"") -> 001 | F7: =IFERROR(VLOOKUP(C7,'11. Свод Перечней'!C:H,4,0),"") -> КГ | G7: =IFERROR(VLOOKUP(C7,'11. Свод Перечней'!C:H,5,0),"") -> Вид изделия макаронного: Лапша Вид сырья: Пшеничная мука Группа макаронных изделий из пшеничной муки: А; Б; В Сорт макаронных изделий из пшеничной муки: Высший; Первый; Второй Изделие быстрого приготовления: Да Наличие вкусовых компонентов: Да; Нет Вес упаковки: не менее 60 не более 100 Г Индивидуальная упаковка: Наличие Соответствие нормативно-технической документации: Технический регламент Таможенного союза "О безопасности упаковки" от 16.08.2011 ТР ТС № 005/2011, Технический регламент Таможенного союза "О безопасности пищевой продукции" от 09.12.2011 № 021/2011, Технический регламент Таможенного союза "Пищевая продукция в части ее маркировки" от 09.12.2011 № 022/2011, ГОСТ 31749-2012; Технический регламент Таможенного союза "О безопасности упаковки" от 16.08.2011 ТР ТС № 005/2011, Технический регламент Таможенного союза "О безопасности пищевой продукции" от 09.12.2011 № 021/2011, Технический регламент Таможенного союза "Пищевая продукция в части ее маркировки" от 09.12.2011 № 022/2011, ТУ производителя | H7: =IF(LEN(IFERROR(VLOOKUP(C7,'11. Свод Перечней'!C:H,6,0),""))>1,IFERROR(VLOOKUP(C7,'11. Свод Перечней'!C:H,6,0),""),"") -> 10.73.11.000-00000010
A8: =IF(LEN(C8)>0,MAX($A$5:A7)+1,"") -> 3 | B8: =IFERROR(INDEX('11. Свод Перечней'!B:C,MATCH(C8,'11. Свод Перечней'!C:C,0),1),"") -> Сухое картофельное пюре быстрого приготовления в ассортименте | C8: Продукция из сушеного картофеля тип 1 | D8: =IFERROR(VLOOKUP(C8,'11. Свод Перечней'!C:H,2,0),"") -> 10.31.13.110 | E8: =IFERROR(VLOOKUP(C8,'11. Свод Перечней'!C:H,3,0),"") -> 001 | F8: =IFERROR(VLOOKUP(C8,'11. Свод Перечней'!C:H,4,0),"") -> КГ | G8: =IFERROR(VLOOKUP(C8,'11. Свод Перечней'!C:H,5,0),"") -> Вид продукции: Хлопья картофельные Тип: С жиром; Без жира Наличие вкусовых компонентов: Да; Нет Индивидуальная упаковка: Наличие Вес: не менее 40 не более 60 Г Упаковка производителя: Наличие Соответствие нормативно-технической документации: Технический регламент Таможенного союза "О безопасности упаковки" от 16.08.2011 ТР ТС № 005/2011, Технический регламент Таможенного союза "О безопасности пищевой продукции" от 09.12.2011 № 021/2011, Технический регламент Таможенного союза "Пищевая продукция в части ее маркировки" от 09.12.2011 № 022/2011, ГОСТ Р 50847-96; Технический регламент Таможенного союза "О безопасности упаковки" от 16.08.2011 ТР ТС № 005/2011, Технический регламент Таможенного союза "О безопасности пищевой продукции" от 09.12.2011 № 021/2011, Технический регламент Таможенного союза "Пищевая продукция в части ее маркировки" от 09.12.2011 № 022/2011, ТУ производителя | H8: =IF(LEN(IFERROR(VLOOKUP(C8,'11. Свод Перечней'!C:H,6,0),""))>1,IFERROR(VLOOKUP(C8,'11. Свод Перечней'!C:H,6,0),""),"") -> 10.31.13.000-00000003
A9: =IF(LEN(C9)>0,MAX($A$5:A8)+1,"") -> 4 | B9: =IFERROR(INDEX('11. Свод Перечней'!B:C,MATCH(C9,'11. Свод Перечней'!C:C,0),1),"") -> Каша быстрого приготовления | C9: Каша быстрого приготовления тип 1 | D9: =IFERROR(VLOOKUP(C9,'11. Свод Перечней'!C:H,2,0),"") -> 10.89.19.110 | E9: =IFERROR(VLOOKUP(C9,'11. Свод Перечней'!C:H,3,0),"") -> 001 | F9: =IFERROR(VLOOKUP(C9,'11. Свод Перечней'!C:H,4,0),"") -> КГ | G9: =IFERROR(VLOOKUP(C9,'11. Свод Перечней'!C:H,5,0),"") -> Тип: С жиром; Без жира Наличие вкусовых компонентов: Да; Нет Индивидуальная упаковка: Наличие Вес: не менее 40 не более 60 Г Упаковка производителя: Наличие Соответствие нормативно-технической документации: Технический регламент Таможенного союза "О безопасности упаковки" от 16.08.2011 ТР ТС № 005/2011, Технический регламент Таможенного союза "О безопасности пищевой продукции" от 09.12.2011 № 021/2011, Технический регламент Таможенного союза "Пищевая продукция в части ее маркировки" от 09.12.2011 № 022/2011, ГОСТ Р 50847-96; Технический регламент Таможенного союза "О безопасности упаковки" от 16.08.2011 ТР ТС № 005/2011, Технический регламент Таможенного союза "О безопасности пищевой продукции" от 09.12.2011 № 021/2011, Технический регламент Таможенного союза "Пищевая продукция в части ее маркировки" от 09.12.2011 № 022/2011, ТУ производителя | H9: =IF(LEN(IFERROR(VLOOKUP(C9,'11. Свод Перечней'!C:H,6,0),""))>1,IFERROR(VLOOKUP(C9,'11. Свод Перечней'!C:H,6,0),""),"")
A10: =IF(LEN(C10)>0,MAX($A$5:A9)+1,"") -> 5 | B10: =IFERROR(INDEX('11. Свод Перечней'!B:C,MATCH(C10,'11. Свод Перечней'!C:C,0),1),"") -> Хлебцы | C10: Хлебцы хрустящие тип 1 | D10: =IFERROR(VLOOKUP(C10,'11. Свод Перечней'!C:H,2,0),"") -> 10.72.11.130 | E10: =IFERROR(VLOOKUP(C10,'11. Свод Перечней'!C:H,3,0),"") -> 001 | F10: =IFERROR(VLOOKUP(C10,'11. Свод Перечней'!C:H,4,0),"") -> КГ | G10: =IFERROR(VLOOKUP(C10,'11. Свод Перечней'!C:H,5,0),"") -> Вид сырья: Смеси ржаной и пшеничной муки Наличие вкусовых компонентов: Да; Нет Вес: не менее 100 Г Упаковка производителя: Наличие Соответствие нормативно-технической документации: Технический регламент Таможенного союза "О безопасности упаковки" от 16.08.2011 ТР ТС № 005/2011, Технический регламент Таможенного союза "О безопасности пищевой продукции" от 09.12.2011 № 021/2011, Технический регламент Таможенного союза "Пищевая продукция в части ее маркировки" от 09.12.2011 № 022/2011, ТУ производителя | H10: =IF(LEN(IFERROR(VLOOKUP(C10,'11. Свод Перечней'!C:H,6,0),""))>1,IFERROR(VLOOKUP(C10,'11. Свод Перечней'!C:H,6,0),""),"") -> 10.72.11.130-00000003
A11: =IF(LEN(C11)>0,MAX($A$5:A10)+1,"") -> 6 | B11: =IFERROR(INDEX('11. Свод Перечней'!B:C,MATCH(C11,'11. Свод Перечней'!C:C,0),1),"") -> Кофе 3 в 1 | C11: Кофейный напиток тип 3 | D11: =IFERROR(VLOOKUP(C11,'11. Свод Перечней'!C:H,2,0),"") -> 10.83.12.120 | E11: =IFERROR(VLOOKUP(C11,'11. Свод Перечней'!C:H,3,0),"") -> 005 | F11: =IFERROR(VLOOKUP(C11,'11. Свод Перечней'!C:H,4,0),"") -> КГ | G11: =IFERROR(VLOOKUP(C11,'11. Свод Перечней'!C:H,5,0),"") -> Вид кофейного напитка: С натуральным кофе без цикория Тип напитка: Растворимый Тип: 3 в 1 Вес в упаковке: не менее 12 не более 25 Г Упаковка производителя: Наличие Соответствие нормативно-технической документации: Технический регламент Таможенного союза "О безопасности упаковки" от 16.08.2011 ТР ТС № 005/2011, Технический регламент Таможенного союза "О безопасности пищевой продукции" от 09.12.2011 № 021/2011, Технический регламент Таможенного союза "Пищевая продукция в части ее маркировки" от 09.12.2011 № 022/2011, ТУ производителя | H11: =IF(LEN(IFERROR(VLOOKUP(C11,'11. Свод Перечней'!C:H,6,0),""))>1,IFERROR(VLOOKUP(C11,'11. Свод Перечней'!C:H,6,0),""),"") -> 10.83.12.120-00000004
A12: =IF(LEN(C12)>0,MAX($A$5:A11)+1,"") -> 7 | B12: =IFERROR(INDEX('11. Свод Перечней'!B:C,MATCH(C12,'11. Свод Перечней'!C:C,0),1),"") -> Сахар порционный | C12: Сахар белый тип 4 | D12: =IFERROR(VLOOKUP(C12,'11. Свод Перечней'!C:H,2,0),"") -> 10.81.12.110 | E12: =IFERROR(VLOOKUP(C12,'11. Свод Перечней'!C:H,3,0),"") -> 007 | F12: =IFERROR(VLOOKUP(C12,'11. Свод Перечней'!C:H,4,0),"") -> КГ | G12: =IFERROR(VLOOKUP(C12,'11. Свод Перечней'!C:H,5,0),"") -> Вид сахара: Свекловичный Категория сахара: Экстра; ТС1; ТС2; ТС3 Наличие вкусоароматических добавок: Нет Форма сахара: Кристаллический Тип: Порционный Вес в упаковке: 5 Г Особые условия (требования к составу пищевых продуктов): Без искусственных ароматизаторов Индивидуальная упаковка: Наличие Соответствие нормативно-технической документации: Технический регламент Таможенного союза "О безопасности упаковки" от 16.08.2011 ТР ТС № 005/2011, Технический регламент Таможенного союза "О безопасности пищевой продукции" от 09.12.2011 № 021/2011, Технический регламент Таможенного союза "Пищевая продукция в части ее маркировки" от 09.12.2011 № 022/2011, ГОСТ 33222-2015; Технический регламент Таможенного союза "О безопасности упаковки" от 16.08.2011 ТР ТС № 005/2011, Технический регламент Таможенного союза "О безопасности пищевой продукции" от 09.12.2011 № 021/2011, Технический регламент Таможенного союза "Пищевая продукция в части ее маркировки" от 09.12.2011 № 022/2011, ТУ производителя | H12: =IF(LEN(IFERROR(VLOOKUP(C12,'11. Свод Перечней'!C:H,6,0),""))>1,IFERROR(VLOOKUP(C12,'11. Свод Перечней'!C:H,6,0),""),"") -> 10.81.12.110-00007
A13: =IF(LEN(C13)>0,MAX($A$5:A12)+1,"") -> 8 | B13: =IFERROR(INDEX('11. Свод Перечней'!B:C,MATCH(C13,'11. Свод Перечней'!C:C,0),1),"") -> Чай черный байховый | C13: Чай черный (ферментированный) тип 4 | D13: =IFERROR(VLOOKUP(C13,'11. Свод Перечней'!C:H,2,0),"") -> 10.83.13.120 | E13: =IFERROR(VLOOKUP(C13,'11. Свод Перечней'!C:H,3,0),"") -> 006 | F13: =IFERROR(VLOOKUP(C13,'11. Свод Перечней'!C:H,4,0),"") -> КГ | G13: =IFERROR(VLOOKUP(C13,'11. Свод Перечней'!C:H,5,0),"") -> Вид чая черного (ферментированного) по способу обработки листа: Листовой Вид чая: Пакетированный Наличие вкусовых компонентов и/или ароматизаторов: Да; Нет Вес: не более 0,2 КГ Количество пакетиков: не менее 55 не более 100 ШТ Упаковка производителя: Наличие Соответствие нормативно-технической документации: Технический регламент Таможенного союза "О безопасности упаковки" от 16.08.2011 ТР ТС № 005/2011, Технический регламент Таможенного союза "О безопасности пищевой продукции" от 09.12.2011 № 021/2011, Технический регламент Таможенного союза "Пищевая продукция в части ее маркировки" от 09.12.2011 № 022/2011, ГОСТ 32573-2013 | H13: =IF(LEN(IFERROR(VLOOKUP(C13,'11. Свод Перечней'!C:H,6,0),""))>1,IFERROR(VLOOKUP(C13,'11. Свод Перечней'!C:H,6,0),""),"") -> 10.83.13.120-00000003
A14: =IF(LEN(C14)>0,MAX($A$5:A13)+1,"") | B14: =IFERROR(INDEX('11. Свод Перечней'!B:C,MATCH(C14,'11. Свод Перечней'!C:C,0),1),"") | D14: =IFERROR(VLOOKUP(C14,'11. Свод Перечней'!C:H,2,0),"") | E14: =IFERROR(VLOOKUP(C14,'11. Свод Перечней'!C:H,3,0),"") | F14: =IFERROR(VLOOKUP(C14,'11. Свод Перечней'!C:H,4,0),"") | G14: =IFERROR(VLOOKUP(C14,'11. Свод Перечней'!C:H,5,0),"") | H14: =IF(LEN(IFERROR(VLOOKUP(C14,'11. Свод Перечней'!C:H,6,0),""))>1,IFERROR(VLOOKUP(C14,'11. Свод Перечней'!C:H,6,0),""),"")
A15: =IF(LEN(C15)>0,MAX($A$5:A14)+1,"") | B15: =IFERROR(INDEX('11. Свод Перечней'!B:C,MATCH(C15,'11. Свод Перечней'!C:C,0),1),"") | D15: =IFERROR(VLOOKUP(C15,'11. Свод Перечней'!C:H,2,0),"") | E15: =IFERROR(VLOOKUP(C15,'11. Свод Перечней'!C:H,3,0),"") | F15: =IFERROR(VLOOKUP(C15,'11. Свод Перечней'!C:H,4,0),"") | G15: =IFERROR(VLOOKUP(C15,'11. Свод Перечней'!C:H,5,0),"") | H15: =IF(LEN(IFERROR(VLOOKUP(C15,'11. Свод Перечней'!C:H,6,0),""))>1,IFERROR(VLOOKUP(C15,'11. Свод Перечней'!C:H,6,0),""),"")
A16: =IF(LEN(C16)>0,MAX($A$5:A15)+1,"") | B16: =IFERROR(INDEX('11. Свод Перечней'!B:C,MATCH(C16,'11. Свод Перечней'!C:C,0),1),"") | D16: =IFERROR(VLOOKUP(C16,'11. Свод Перечней'!C:H,2,0),"") | E16: =IFERROR(VLOOKUP(C16,'11. Свод Перечней'!C:H,3,0),"") | F16: =IFERROR(VLOOKUP(C16,'11. Свод Перечней'!C:H,4,0),"") | G16: =IFERROR(VLOOKUP(C16,'11. Свод Перечней'!C:H,5,0),"") | H16: =IF(LEN(IFERROR(VLOOKUP(C16,'11. Свод Перечней'!C:H,6,0),""))>1,IFERROR(VLOOKUP(C16,'11. Свод Перечней'!C:H,6,0),""),"")
A17: =IF(LEN(C17)>0,MAX($A$5:A16)+1,"") | B17: =IFERROR(INDEX('11. Свод Перечней'!B:C,MATCH(C17,'11. Свод Перечней'!C:C,0),1),"") | D17: =IFERROR(VLOOKUP(C17,'11. Свод Перечней'!C:H,2,0),"") | E17: =IFERROR(VLOOKUP(C17,'11. Свод Перечней'!C:H,3,0),"") | F17: =IFERROR(VLOOKUP(C17,'11. Свод Перечней'!C:H,4,0),"") | G17: =IFERROR(VLOOKUP(C17,'11. Свод Перечней'!C:H,5,0),"") | H17: =IF(LEN(IFERROR(VLOOKUP(C17,'11. Свод Перечней'!C:H,6,0),""))>1,IFERROR(VLOOKUP(C17,'11. Свод Перечней'!C:H,6,0),""),"")
A18: =IF(LEN(C18)>0,MAX($A$5:A17)+1,"") | B18: =IFERROR(INDEX('11. Свод Перечней'!B:C,MATCH(C18,'11. Свод Перечней'!C:C,0),1),"") | D18: =IFERROR(VLOOKUP(C18,'11. Свод Перечней'!C:H,2,0),"") | E18: =IFERROR(VLOOKUP(C18,'11. Свод Перечней'!C:H,3,0),"") | F18: =IFERROR(VLOOKUP(C18,'11. Свод Перечней'!C:H,4,0),"") | G18: =IFERROR(VLOOKUP(C18,'11. Свод Перечней'!C:H,5,0),"") | H18: =IF(LEN(IFERROR(VLOOKUP(C18,'11. Свод Перечней'!C:H,6,0),""))>1,IFERROR(VLOOKUP(C18,'11. Свод Перечней'!C:H,6,0),""),"")
A19: =IF(LEN(C19)>0,MAX($A$5:A18)+1,"") | B19: =IFERROR(INDEX('11. Свод Перечней'!B:C,MATCH(C19,'11. Свод Перечней'!C:C,0),1),"") | D19: =IFERROR(VLOOKUP(C19,'11. Свод Перечней'!C:H,2,0),"") | E19: =IFERROR(VLOOKUP(C19,'11. Свод Перечней'!C:H,3,0),"") | F19: =IFERROR(VLOOKUP(C19,'11. Свод Перечней'!C:H,4,0),"") | G19: =IFERROR(VLOOKUP(C19,'11. Свод Перечней'!C:H,5,0),"") | H19: =IF(LEN(IFERROR(VLOOKUP(C19,'11. Свод Перечней'!C:H,6,0),""))>1,IFERROR(VLOOKUP(C19,'11. Свод Перечней'!C:H,6,0),""),"")
A20: =IF(LEN(C20)>0,MAX($A$5:A19)+1,"") | B20: =IFERROR(INDEX('11. Свод Перечней'!B:C,MATCH(C20,'11. Свод Перечней'!C:C,0),1),"") | D20: =IFERROR(VLOOKUP(C20,'11. Свод Перечней'!C:H,2,0),"") | E20: =IFERROR(VLOOKUP(C20,'11. Свод Перечней'!C:H,3,0),"") | F20: =IFERROR(VLOOKUP(C20,'11. Свод Перечней'!C:H,4,0),"") | G20: =IFERROR(VLOOKUP(C20,'11. Свод Перечней'!C:H,5,0),"") | H20: =IF(LEN(IFERROR(VLOOKUP(C20,'11. Свод Перечней'!C:H,6,0),""))>1,IFERROR(VLOOKUP(C20,'11. Свод Перечней'!C:H,6,0),""),"")
A21: =IF(LEN(C21)>0,MAX($A$5:A20)+1,"") | B21: =IFERROR(INDEX('11. Свод Перечней'!B:C,MATCH(C21,'11. Свод Перечней'!C:C,0),1),"") | D21: =IFERROR(VLOOKUP(C21,'11. Свод Перечней'!C:H,2,0),"") | E21: =IFERROR(VLOOKUP(C21,'11. Свод Перечней'!C:H,3,0),"") | F21: =IFERROR(VLOOKUP(C21,'11. Свод Перечней'!C:H,4,0),"") | G21: =IFERROR(VLOOKUP(C21,'11. Свод Перечней'!C:H,5,0),"") | H21: =IF(LEN(IFERROR(VLOOKUP(C21,'11. Свод Перечней'!C:H,6,0),""))>1,IFERROR(VLOOKUP(C21,'11. Свод Перечней'!C:H,6,0),""),"")
A22: =IF(LEN(C22)>0,MAX($A$5:A21)+1,"") | B22: =IFERROR(INDEX('11. Свод Перечней'!B:C,MATCH(C22,'11. Свод Перечней'!C:C,0),1),"") | D22: =IFERROR(VLOOKUP(C22,'11. Свод Перечней'!C:H,2,0),"") | E22: =IFERROR(VLOOKUP(C22,'11. Свод Перечней'!C:H,3,0),"") | F22: =IFERROR(VLOOKUP(C22,'11. Свод Перечней'!C:H,4,0),"") | G22: =IFERROR(VLOOKUP(C22,'11. Свод Перечней'!C:H,5,0),"") | H22: =IF(LEN(IFERROR(VLOOKUP(C22,'11. Свод Перечней'!C:H,6,0),""))>1,IFERROR(VLOOKUP(C22,'11. Свод Перечней'!C:H,6,0),""),"")
A23: =IF(LEN(C23)>0,MAX($A$5:A22)+1,"") | B23: =IFERROR(INDEX('11. Свод Перечней'!B:C,MATCH(C23,'11. Свод Перечней'!C:C,0),1),"") | D23: =IFERROR(VLOOKUP(C23,'11. Свод Перечней'!C:H,2,0),"") | E23: =IFERROR(VLOOKUP(C23,'11. Свод Перечней'!C:H,3,0),"") | F23: =IFERROR(VLOOKUP(C23,'11. Свод Перечней'!C:H,4,0),"") | G23: =IFERROR(VLOOKUP(C23,'11. Свод Перечней'!C:H,5,0),"") | H23: =IF(LEN(IFERROR(VLOOKUP(C23,'11. Свод Перечней'!C:H,6,0),""))>1,IFERROR(VLOOKUP(C23,'11. Свод Перечней'!C:H,6,0),""),"")
A24: =IF(LEN(C24)>0,MAX($A$5:A23)+1,"") | B24: =IFERROR(INDEX('11. Свод Перечней'!B:C,MATCH(C24,'11. Свод Перечней'!C:C,0),1),"") | D24: =IFERROR(VLOOKUP(C24,'11. Свод Перечней'!C:H,2,0),"") | E24: =IFERROR(VLOOKUP(C24,'11. Свод Перечней'!C:H,3,0),"") | F24: =IFERROR(VLOOKUP(C24,'11. Свод Перечней'!C:H,4,0),"") | G24: =IFERROR(VLOOKUP(C24,'11. Свод Перечней'!C:H,5,0),"") | H24: =IF(LEN(IFERROR(VLOOKUP(C24,'11. Свод Перечней'!C:H,6,0),""))>1,IFERROR(VLOOKUP(C24,'11. Свод Перечней'!C:H,6,0),""),"")
A25: =IF(LEN(C25)>0,MAX($A$5:A24)+1,"") | B25: =IFERROR(INDEX('11. Свод Перечней'!B:C,MATCH(C25,'11. Свод Перечней'!C:C,0),1),"") | D25: =IFERROR(VLOOKUP(C25,'11. Свод Перечней'!C:H,2,0),"") | E25: =IFERROR(VLOOKUP(C25,'11. Свод Перечней'!C:H,3,0),"") | F25: =IFERROR(VLOOKUP(C25,'11. Свод Перечней'!C:H,4,0),"") | G25: =IFERROR(VLOOKUP(C25,'11. Свод Перечней'!C:H,5,0),"") | H25: =IF(LEN(IFERROR(VLOOKUP(C25,'11. Свод Перечней'!C:H,6,0),""))>1,IFERROR(VLOOKUP(C25,'11. Свод Перечней'!C:H,6,0),""),"")
... A27: =IF(LEN(C27)>0,MAX($A$5:A26)+1,"") | B27: =IFERROR(INDEX('11. Свод Перечней'!B:C,MATCH(C27,'11. Свод Перечней'!C:C,0),1),"") | D27: =IFERROR(VLOOKUP(C27,'11. Свод Перечней'!C:H,2,0),"") | E27: =IFERROR(VLOOKUP(C27,'11. Свод Перечней'!C:H,3,0),"") | F27: =IFERROR(VLOOKUP(C27,'11. Свод Перечней'!C:H,4,0),"") | G27: =IFERROR(VLOOKUP(C27,'11. Свод Перечней'!C:H,5,0),"") | H27: =IF(LEN(IFERROR(VLOOKUP(C27,'11. Свод Перечней'!C:H,6,0),""))>1,IFERROR(VLOOKUP(C27,'11. Свод Перечней'!C:H,6,0),""),"")
A28: =IF(LEN(C28)>0,MAX($A$5:A27)+1,"") | B28: =IFERROR(INDEX('11. Свод Перечней'!B:C,MATCH(C28,'11. Свод Перечней'!C:C,0),1),"") | D28: =IFERROR(VLOOKUP(C28,'11. Свод Перечней'!C:H,2,0),"") | E28: =IFERROR(VLOOKUP(C28,'11. Свод Перечней'!C:H,3,0),"") | F28: =IFERROR(VLOOKUP(C28,'11. Свод Перечней'!C:H,4,0),"") | G28: =IFERROR(VLOOKUP(C28,'11. Свод Перечней'!C:H,5,0),"") | H28: =IFERROR(VLOOKUP(C28,'11. Свод Перечней'!C:H,6,0),"")
A29: =IF(LEN(C29)>0,MAX($A$5:A28)+1,"") | B29: =IFERROR(INDEX('11. Свод Перечней'!B:C,MATCH(C29,'11. Свод Перечней'!C:C,0),1),"") | D29: =IFERROR(VLOOKUP(C29,'11. Свод Перечней'!C:H,2,0),"") | E29: =IFERROR(VLOOKUP(C29,'11. Свод Перечней'!C:H,3,0),"") | F29: =IFERROR(VLOOKUP(C29,'11. Свод Перечней'!C:H,4,0),"") | G29: =IFERROR(VLOOKUP(C29,'11. Свод Перечней'!C:H,5,0),"") | H29: =IFERROR(VLOOKUP(C29,'11. Свод Перечней'!C:H,6,0),"")
A30: =IF(LEN(C30)>0,MAX($A$5:A29)+1,"") | B30: =IFERROR(INDEX('11. Свод Перечней'!B:C,MATCH(C30,'11. Свод Перечней'!C:C,0),1),"") | D30: =IFERROR(VLOOKUP(C30,'11. Свод Перечней'!C:H,2,0),"") | E30: =IFERROR(VLOOKUP(C30,'11. Свод Перечней'!C:H,3,0),"") | F30: =IFERROR(VLOOKUP(C30,'11. Свод Перечней'!C:H,4,0),"") | G30: =IFERROR(VLOOKUP(C30,'11. Свод Перечней'!C:H,5,0),"") | H30: =IFERROR(VLOOKUP(C30,'11. Свод Перечней'!C:H,6,0),"")
A31: =IF(LEN(C31)>0,MAX($A$5:A30)+1,"") | B31: =IFERROR(INDEX('11. Свод Перечней'!B:C,MATCH(C31,'11. Свод Перечней'!C:C,0),1),"") | D31: =IFERROR(VLOOKUP(C31,'11. Свод Перечней'!C:H,2,0),"") | E31: =IFERROR(VLOOKUP(C31,'11. Свод Перечней'!C:H,3,0),"") | F31: =IFERROR(VLOOKUP(C31,'11. Свод Перечней'!C:H,4,0),"") | G31: =IFERROR(VLOOKUP(C31,'11. Свод Перечней'!C:H,5,0),"") | H31: =IFERROR(VLOOKUP(C31,'11. Свод Перечней'!C:H,6,0),"")
A32: =IF(LEN(C32)>0,MAX($A$5:A31)+1,"") | B32: =IFERROR(INDEX('11. Свод Перечней'!B:C,MATCH(C32,'11. Свод Перечней'!C:C,0),1),"") | D32: =IFERROR(VLOOKUP(C32,'11. Свод Перечней'!C:H,2,0),"") | E32: =IFERROR(VLOOKUP(C32,'11. Свод Перечней'!C:H,3,0),"") | F32: =IFERROR(VLOOKUP(C32,'11. Свод Перечней'!C:H,4,0),"") | G32: =IFERROR(VLOOKUP(C32,'11. Свод Перечней'!C:H,5,0),"") | H32: =IFERROR(VLOOKUP(C32,'11. Свод Перечней'!C:H,6,0),"")
A33: =IF(LEN(C33)>0,MAX($A$5:A32)+1,"") | B33: =IFERROR(INDEX('11. Свод Перечней'!B:C,MATCH(C33,'11. Свод Перечней'!C:C,0),1),"") | D33: =IFERROR(VLOOKUP(C33,'11. Свод Перечней'!C:H,2,0),"") | E33: =IFERROR(VLOOKUP(C33,'11. Свод Перечней'!C:H,3,0),"") | F33: =IFERROR(VLOOKUP(C33,'11. Свод Перечней'!C:H,4,0),"") | G33: =IFERROR(VLOOKUP(C33,'11. Свод Перечней'!C:H,5,0),"") | H33: =IFERROR(VLOOKUP(C33,'11. Свод Перечней'!C:H,6,0),"")
A34: =IF(LEN(C34)>0,MAX($A$5:A33)+1,"") | B34: =IFERROR(INDEX('11. Свод Перечней'!B:C,MATCH(C34,'11. Свод Перечней'!C:C,0),1),"") | D34: =IFERROR(VLOOKUP(C34,'11. Свод Перечней'!C:H,2,0),"") | E34: =IFERROR(VLOOKUP(C34,'11. Свод Перечней'!C:H,3,0),"") | F34: =IFERROR(VLOOKUP(C34,'11. Свод Перечней'!C:H,4,0),"") | G34: =IFERROR(VLOOKUP(C34,'11. Свод Перечней'!C:H,5,0),"") | H34: =IFERROR(VLOOKUP(C34,'11. Свод Перечней'!C:H,6,0),"")
A35: =IF(LEN(C35)>0,MAX($A$5:A34)+1,"") | B35: =IFERROR(INDEX('11. Свод Перечней'!B:C,MATCH(C35,'11. Свод Перечней'!C:C,0),1),"") | D35: =IFERROR(VLOOKUP(C35,'11. Свод Перечней'!C:H,2,0),"") | E35: =IFERROR(VLOOKUP(C35,'11. Свод Перечней'!C:H,3,0),"") | F35: =IFERROR(VLOOKUP(C35,'11. Свод Перечней'!C:H,4,0),"") | G35: =IFERROR(VLOOKUP(C35,'11. Свод Перечней'!C:H,5,0),"") | H35: =IFERROR(VLOOKUP(C35,'11. Свод Перечней'!C:H,6,0),"")
A36: =IF(LEN(C36)>0,MAX($A$5:A35)+1,"") | B36: =IFERROR(INDEX('11. Свод Перечней'!B:C,MATCH(C36,'11. Свод Перечней'!C:C,0),1),"") | D36: =IFERROR(VLOOKUP(C36,'11. Свод Перечней'!C:H,2,0),"") | E36: =IFERROR(VLOOKUP(C36,'11. Свод Перечней'!C:H,3,0),"") | F36: =IFERROR(VLOOKUP(C36,'11. Свод Перечней'!C:H,4,0),"") | G36: =IFERROR(VLOOKUP(C36,'11. Свод Перечней'!C:H,5,0),"") | H36: =IFERROR(VLOOKUP(C36,'11. Свод Перечней'!C:H,6,0),"")
A37: =IF(LEN(C37)>0,MAX($A$5:A36)+1,"") | B37: =IFERROR(INDEX('11. Свод Перечней'!B:C,MATCH(C37,'11. Свод Перечней'!C:C,0),1),"") | D37: =IFERROR(VLOOKUP(C37,'11. Свод Перечней'!C:H,2,0),"") | E37: =IFERROR(VLOOKUP(C37,'11. Свод Перечней'!C:H,3,0),"") | F37: =IFERROR(VLOOKUP(C37,'11. Свод Перечней'!C:H,4,0),"") | G37: =IFERROR(VLOOKUP(C37,'11. Свод Перечней'!C:H,5,0),"") | H37: =IFERROR(VLOOKUP(C37,'11. Свод Перечней'!C:H,6,0),"")
A38: =IF(LEN(C38)>0,MAX($A$5:A37)+1,"") | B38: =IFERROR(INDEX('11. Свод Перечней'!B:C,MATCH(C38,'11. Свод Перечней'!C:C,0),1),"") | D38: =IFERROR(VLOOKUP(C38,'11. Свод Перечней'!C:H,2,0),"") | E38: =IFERROR(VLOOKUP(C38,'11. Свод Перечней'!C:H,3,0),"") | F38: =IFERROR(VLOOKUP(C38,'11. Свод Перечней'!C:H,4,0),"") | G38: =IFERROR(VLOOKUP(C38,'11. Свод Перечней'!C:H,5,0),"") | H38: =IFERROR(VLOOKUP(C38,'11. Свод Перечней'!C:H,6,0),"")
A39: =IF(LEN(C39)>0,MAX($A$5:A38)+1,"") | B39: =IFERROR(INDEX('11. Свод Перечней'!B:C,MATCH(C39,'11. Свод Перечней'!C:C,0),1),"") | D39: =IFERROR(VLOOKUP(C39,'11. Свод Перечней'!C:H,2,0),"") | E39: =IFERROR(VLOOKUP(C39,'11. Свод Перечней'!C:H,3,0),"") | F39: =IFERROR(VLOOKUP(C39,'11. Свод Перечней'!C:H,4,0),"") | G39: =IFERROR(VLOOKUP(C39,'11. Свод Перечней'!C:H,5,0),"") | H39: =IFERROR(VLOOKUP(C39,'11. Свод Перечней'!C:H,6,0),"")
... A1177: =IF(LEN(C1177)>0,MAX($A$5:A1176)+1,"") | B1177: =IFERROR(INDEX('11. Свод Перечней'!B:C,MATCH(C1177,'11. Свод Перечней'!C:C,0),1),"") | D1177: =IFERROR(VLOOKUP(C1177,'11. Свод Перечней'!C:H,2,0),"") | E1177: =IFERROR(VLOOKUP(C1177,'11. Свод Перечней'!C:H,3,0),"") | F1177: =IFERROR(VLOOKUP(C1177,'11. Свод Перечней'!C:H,4,0),"") | G1177: =IFERROR(VLOOKUP(C1177,'11. Свод Перечней'!C:H,5,0),"") | H1177: =IFERROR(VLOOKUP(C1177,'11. Свод Перечней'!C:H,6,0),"")

Sheet 7. Детские Сады
A1: Дата актуализации ассортиментного перечня «03» марта 2026 г
A2: Ассортиментный перечень основных групп продовольственных товаров и сырья для обеспечения социального питания в дошкольных образовательных учреждениях Санкт-Петербурга
A3: Примечание! * - Продукция предназначенная для лечебного, специального питания ** - предназначенные для использования в питании после термической обработки. Информацию о действующей нормативной документации, а также изменениях вносимых в национальные стандарты можно получить в Управлении социального питания по телефонам 576-68-25, 576-68-27 и на сайте Управления по адресу: http://www.gov.spb.ru, вкладка «Нормативные документы».
A4: № | B4: Потребительское наименование товара | C4: Название товара ККН/КТРУ | D4: ОКПД2 | E4: Детализация ККН | F4: Единица измерения ККН | G4: Характеристики товара | H4: Код КТРУ
A5: 1 | B5: 2 | C5: 2 | D5: 3 | E5: 4 | F5: 5 | G5: 6 | H5: 7
A6: 1 | B6: =IFERROR(INDEX('11. Свод Перечней'!B:C,MATCH(C6,'11. Свод Перечней'!C:C,0),1),"") -> Фасоль овощная свежая | C6: {=IFERROR(INDEX('11. Свод Перечней'!$C$4:$C$603,SMALL(IF("С"='11. Свод Перечней'!$I$4:$Q$603,ROW('11. Свод Перечней'!$C$4:$C$603)-3,""),ROW()-5)),"")} -> Фасоль тип 1 | D6: =IFERROR(VLOOKUP(C6,'11. Свод Перечней'!C:H,2,0),"") -> 01.11.61.000 | E6: =IFERROR(VLOOKUP(C6,'11. Свод Перечней'!C:H,3,0),"") -> 001 | F6: =IFERROR(VLOOKUP(C6,'11. Свод Перечней'!C:H,4,0),"") -> КГ | G6: =IFERROR(VLOOKUP(C6,'11. Свод Перечней'!C:H,5,0),"") -> Тип: Овощная Вид: Свежая Сорт: Высший; Первый Фасовка: Весовая Соответствие нормативно-технической документации: Технический регламент Таможенного союза "О безопасности упаковки" от 16.08.2011 ТР ТС № 005/2011, Технический регламент Таможенного союза "О безопасности пищевой продукции" от 09.12.2011 № 021/2011, Технический регламент Таможенного союза "Пищевая продукция в части ее маркировки" от 09.12.2011 № 022/2011, ГОСТ 34299-2017 | H6: =IF(LEN(IFERROR(VLOOKUP(C6,'11. Свод Перечней'!C:H,6,0),""))>1,IFERROR(VLOOKUP(C6,'11. Свод Перечней'!C:H,6,0),""),"")
A7: =IF(LEN(C7)>0,MAX($A$5:A6)+1,"") -> 2 | B7: =IFERROR(INDEX('11. Свод Перечней'!B:C,MATCH(C7,'11. Свод Перечней'!C:C,0),1),"") -> Фасоль продовольственная | C7: Фасоль продовольственная тип 2 | D7: =IFERROR(VLOOKUP(C7,'11. Свод Перечней'!C:H,2,0),"") -> 01.11.71.110 | E7: =IFERROR(VLOOKUP(C7,'11. Свод Перечней'!C:H,3,0),"") -> 001 | F7: =IFERROR(VLOOKUP(C7,'11. Свод Перечней'!C:H,4,0),"") -> КГ | G7: =IFERROR(VLOOKUP(C7,'11. Свод Перечней'!C:H,5,0),"") -> Номер и наименование типа фасоли: III. Фасоль цветная пестрая Вес, КГ: ≤ 1 Упаковка производителя: Наличие Соответствие нормативно-технической документации: Технический регламент Таможенного союза "О безопасности упаковки" от 16.08.2011 ТР ТС № 005/2011, Технический регламент Таможенного союза "О безопасности пищевой продукции" от 09.12.2011 № 021/2011, Технический регламент Таможенного союза "Пищевая продукция в части ее маркировки" от 09.12.2011 № 022/2011, ГОСТ 7758-2020 | H7: =IF(LEN(IFERROR(VLOOKUP(C7,'11. Свод Перечней'!C:H,6,0),""))>1,IFERROR(VLOOKUP(C7,'11. Свод Перечней'!C:H,6,0),""),"") -> 01.11.71.110-00000001
A8: =IF(LEN(C8)>0,MAX($A$5:A7)+1,"") -> 3 | B8: =IFERROR(INDEX('11. Свод Перечней'!B:C,MATCH(C8,'11. Свод Перечней'!C:C,0),1),"") -> Фасоль продовольственная | C8: Фасоль продовольственная тип 3 | D8: =IFERROR(VLOOKUP(C8,'11. Свод Перечней'!C:H,2,0),"") -> 01.11.71.110 | E8: =IFERROR(VLOOKUP(C8,'11. Свод Перечней'!C:H,3,0),"") -> 003 | F8: =IFERROR(VLOOKUP(C8,'11. Свод Перечней'!C:H,4,0),"") -> КГ | G8: =IFERROR(VLOOKUP(C8,'11. Свод Перечней'!C:H,5,0),"") -> Номер и наименование типа фасоли: II. Фасоль цветная однотонная Вес, КГ: ≤ 1 Упаковка производителя: Наличие Соответствие нормативно-технической документации: Технический регламент Таможенного союза "О безопасности упаковки" от 16.08.2011 ТР ТС № 005/2011, Технический регламент Таможенного союза "О безопасности пищевой продукции" от 09.12.2011 № 021/2011, Технический регламент Таможенного союза "Пищевая продукция в части ее маркировки" от 09.12.2011 № 022/2011, ГОСТ 7758-2020 | H8: =IF(LEN(IFERROR(VLOOKUP(C8,'11. Свод Перечней'!C:H,6,0),""))>1,IFERROR(VLOOKUP(C8,'11. Свод Перечней'!C:H,6,0),""),"") -> 01.11.71.110-00000002
A9: =IF(LEN(C9)>0,MAX($A$5:A8)+1,"") -> 4 | B9: =IFERROR(INDEX('11. Свод Перечней'!B:C,MATCH(C9,'11. Свод Перечней'!C:C,0),1),"") -> Фасоль продовольственная | C9: Фасоль продовольственная тип 4 | D9: =IFERROR(VLOOKUP(C9,'11. Свод Перечней'!C:H,2,0),"") -> 01.11.71.110 | E9: =IFERROR(VLOOKUP(C9,'11. Свод Перечней'!C:H,3,0),"") -> 004 | F9: =IFERROR(VLOOKUP(C9,'11. Свод Перечней'!C:H,4,0),"") -> КГ | G9: =IFERROR(VLOOKUP(C9,'11. Свод Перечней'!C:H,5,0),"") -> Номер и наименование типа фасоли: I. Фасоль белая Вес, КГ: ≤ 1 Упаковка производителя: Наличие Соответствие нормативно-технической документации: Технический регламент Таможенного союза "О безопасности упаковки" от 16.08.2011 ТР ТС № 005/2011, Технический регламент Таможенного союза "О безопасности пищевой продукции" от 09.12.2011 № 021/2011, Технический регламент Таможенного союза "Пищевая продукция в части ее маркировки" от 09.12.2011 № 022/2011, ГОСТ 7758-2020 | H9: =IF(LEN(IFERROR(VLOOKUP(C9,'11. Свод Перечней'!C:H,6,0),""))>1,IFERROR(VLOOKUP(C9,'11. Свод Перечней'!C:H,6,0),""),"") -> 01.11.71.110-00000003
A10: =IF(LEN(C10)>0,MAX($A$5:A9)+1,"") -> 5 | B10: =IFERROR(INDEX('11. Свод Перечней'!B:C,MATCH(C10,'11. Свод Перечней'!C:C,0),1),"") -> Чечевица | C10: Чечевица продовольственная тип 2 | D10: =IFERROR(VLOOKUP(C10,'11. Свод Перечней'!C:H,2,0),"") -> 01.11.74.110 | E10: =IFERROR(VLOOKUP(C10,'11. Свод Перечней'!C:H,3,0),"") -> 001 | F10: =IFERROR(VLOOKUP(C10,'11. Свод Перечней'!C:H,4,0),"") -> КГ | G10: =IFERROR(VLOOKUP(C10,'11. Свод Перечней'!C:H,5,0),"") -> Тип чечевицы: Красная Вес, КГ: ≤ 1 Упаковка производителя: Наличие Соответствие нормативно-технической документации: Технический регламент Таможенного союза "О безопасности упаковки" от 16.08.2011 ТР ТС № 005/2011, Технический регламент Таможенного союза "О безопасности пищевой продукции" от 09.12.2011 № 021/2011, Технический регламент Таможенного союза "Пищевая продукция в части ее маркировки" от 09.12.2011 № 022/2011, ГОСТ 7066-2019 | H10: =IF(LEN(IFERROR(VLOOKUP(C10,'11. Свод Перечней'!C:H,6,0),""))>1,IFERROR(VLOOKUP(C10,'11. Свод Перечней'!C:H,6,0),""),"") -> 01.11.74.110-00000001
A11: =IF(LEN(C11)>0,MAX($A$5:A10)+1,"") -> 6 | B11: =IFERROR(INDEX('11. Свод Перечней'!B:C,MATCH(C11,'11. Свод Перечней'!C:C,0),1),"") -> Чечевица | C11: Чечевица продовольственная тип 3 | D11: =IFERROR(VLOOKUP(C11,'11. Свод Перечней'!C:H,2,0),"") -> 01.11.74.110 | E11: =IFERROR(VLOOKUP(C11,'11. Свод Перечней'!C:H,3,0),"") -> 003 | F11: =IFERROR(VLOOKUP(C11,'11. Свод Перечней'!C:H,4,0),"") -> КГ | G11: =IFERROR(VLOOKUP(C11,'11. Свод Перечней'!C:H,5,0),"") -> Тип чечевицы: Коричневая Вес, КГ: ≤ 1 Упаковка производителя: Наличие Соответствие нормативно-технической документации: Технический регламент Таможенного союза "О безопасности упаковки" от 16.08.2011 ТР ТС № 005/2011, Технический регламент Таможенного союза "О безопасности пищевой продукции" от 09.12.2011 № 021/2011, Технический регламент Таможенного союза "Пищевая продукция в части ее маркировки" от 09.12.2011 № 022/2011, ГОСТ 7066-2019 | H11: =IF(LEN(IFERROR(VLOOKUP(C11,'11. Свод Перечней'!C:H,6,0),""))>1,IFERROR(VLOOKUP(C11,'11. Свод Перечней'!C:H,6,0),""),"") -> 01.11.74.110-00000002
A12: =IF(LEN(C12)>0,MAX($A$5:A11)+1,"") -> 7 | B12: =IFERROR(INDEX('11. Свод Перечней'!B:C,MATCH(C12,'11. Свод Перечней'!C:C,0),1),"") -> Чечевица | C12: Чечевица продовольственная тип 4 | D12: =IFERROR(VLOOKUP(C12,'11. Свод Перечней'!C:H,2,0),"") -> 01.11.74.110 | E12: =IFERROR(VLOOKUP(C12,'11. Свод Перечней'!C:H,3,0),"") -> 004 | F12: =IFERROR(VLOOKUP(C12,'11. Свод Перечней'!C:H,4,0),"") -> КГ | G12: =IFERROR(VLOOKUP(C12,'11. Свод Перечней'!C:H,5,0),"") -> Тип чечевицы: Неоднородная Вес, КГ: ≤ 1 Упаковка производителя: Наличие Соответствие нормативно-технической документации: Технический регламент Таможенного союза "О безопасности упаковки" от 16.08.2011 ТР ТС № 005/2011, Технический регламент Таможенного союза "О безопасности пищевой продукции" от 09.12.2011 № 021/2011, Технический регламент Таможенного союза "Пищевая продукция в части ее маркировки" от 09.12.2011 № 022/2011, ГОСТ 7066-2019 | H12: =IF(LEN(IFERROR(VLOOKUP(C12,'11. Свод Перечней'!C:H,6,0),""))>1,IFERROR(VLOOKUP(C12,'11. Свод Перечней'!C:H,6,0),""),"") -> 01.11.74.110-00000003
A13: =IF(LEN(C13)>0,MAX($A$5:A12)+1,"") -> 8 | B13: =IFERROR(INDEX('11. Свод Перечней'!B:C,MATCH(C13,'11. Свод Перечней'!C:C,0),1),"") -> Чечевица | C13: Чечевица продовольственная тип 5 | D13: =IFERROR(VLOOKUP(C13,'11. Свод Перечней'!C:H,2,0),"") -> 01.11.74.110 | E13: =IFERROR(VLOOKUP(C13,'11. Свод Перечней'!C:H,3,0),"") -> 005 | F13: =IFERROR(VLOOKUP(C13,'11. Свод Перечней'!C:H,4,0),"") -> КГ | G13: =IFERROR(VLOOKUP(C13,'11. Свод Перечней'!C:H,5,0),"") -> Тип чечевицы: Светло-зеленая Вес, КГ: ≤ 1 Упаковка производителя: Наличие Соответствие нормативно-технической документации: Технический регламент Таможенного союза "О безопасности упаковки" от 16.08.2011 ТР ТС № 005/2011, Технический регламент Таможенного союза "О безопасности пищевой продукции" от 09.12.2011 № 021/2011, Технический регламент Таможенного союза "Пищевая продукция в части ее маркировки" от 09.12.2011 № 022/2011, ГОСТ 7066-2019 | H13: =IF(LEN(IFERROR(VLOOKUP(C13,'11. Свод Перечней'!C:H,6,0),""))>1,IFERROR(VLOOKUP(C13,'11. Свод Перечней'!C:H,6,0),""),"") -> 01.11.74.110-00000004
A14: =IF(LEN(C14)>0,MAX($A$5:A13)+1,"") -> 9 | B14: =IFERROR(INDEX('11. Свод Перечней'!B:C,MATCH(C14,'11. Свод Перечней'!C:C,0),1),"") -> Чечевица | C14: Чечевица продовольственная тип 6 | D14: =IFERROR(VLOOKUP(C14,'11. Свод Перечней'!C:H,2,0),"") -> 01.11.74.110 | E14: =IFERROR(VLOOKUP(C14,'11. Свод Перечней'!C:H,3,0),"") -> 006 | F14: =IFERROR(VLOOKUP(C14,'11. Свод Перечней'!C:H,4,0),"") -> КГ | G14: =IFERROR(VLOOKUP(C14,'11. Свод Перечней'!C:H,5,0),"") -> Тип чечевицы: Темно-зеленая Вес, КГ: ≤ 1 Упаковка производителя: Наличие Соответствие нормативно-технической документации: Технический регламент Таможенного союза "О безопасности упаковки" от 16.08.2011 ТР ТС № 005/2011, Технический регламент Таможенного союза "О безопасности пищевой продукции" от 09.12.2011 № 021/2011, Технический регламент Таможенного союза "Пищевая продукция в части ее маркировки" от 09.12.2011 № 022/2011, ГОСТ 7066-2019 | H14: =IF(LEN(IFERROR(VLOOKUP(C14,'11. Свод Перечней'!C:H,6,0),""))>1,IFERROR(VLOOKUP(C14,'11. Свод Перечней'!C:H,6,0),""),"") -> 01.11.74.110-00000005
A15: =IF(LEN(C15)>0,MAX($A$5:A14)+1,"") -> 10 | B15: =IFERROR(INDEX('11. Свод Перечней'!B:C,MATCH(C15,'11. Свод Перечней'!C:C,0),1),"") -> Горох шлифованный | C15: Горох шлифованный тип 1 | D15: =IFERROR(VLOOKUP(C15,'11. Свод Перечней'!C:H,2,0),"") -> 01.11.75.110 | E15: =IFERROR(VLOOKUP(C15,'11. Свод Перечней'!C:H,3,0),"") -> 001 | F15: =IFERROR(VLOOKUP(C15,'11. Свод Перечней'!C:H,4,0),"") -> КГ | G15: =IFERROR(VLOOKUP(C15,'11. Свод Перечней'!C:H,5,0),"") -> Вид зерна: Целое Сорт: Не ниже первого Вес: не более 1 КГ Упаковка производителя: Наличие Соответствие нормативно-технической документации: Технический регламент Таможенного союза "О безопасности упаковки" от 16.08.2011 ТР ТС № 005/2011, Технический регламент Таможенного союза "О безопасности пищевой продукции" от 09.12.2011 № 021/2011, Технический регламент Таможенного союза "Пищевая продукция в части ее маркировки" от 09.12.2011 № 022/2011, ГОСТ 6201-2020 | H15: =IF(LEN(IFERROR(VLOOKUP(C15,'11. Свод Перечней'!C:H,6,0),""))>1,IFERROR(VLOOKUP(C15,'11. Свод Перечней'!C:H,6,0),""),"") -> 01.11.75.110-00000002
A16: =IF(LEN(C16)>0,MAX($A$5:A15)+1,"") -> 11 | B16: =IFERROR(INDEX('11. Свод Перечней'!B:C,MATCH(C16,'11. Свод Перечней'!C:C,0),1),"") -> Горох шлифованный | C16: Горох шлифованный тип 2 | D16: =IFERROR(VLOOKUP(C16,'11. Свод Перечней'!C:H,2,0),"") -> 01.11.75.110 | E16: =IFERROR(VLOOKUP(C16,'11. Свод Перечней'!C:H,3,0),"") -> 002 | F16: =IFERROR(VLOOKUP(C16,'11. Свод Перечней'!C:H,4,0),"") -> КГ | G16: =IFERROR(VLOOKUP(C16,'11. Свод Перечней'!C:H,5,0),"") -> Вид зерна: Целое Сорт: Не ниже первого Фасовка: Весовая Соответствие нормативно-технической документации: Технический регламент Таможенного союза "О безопасности упаковки" от 16.08.2011 ТР ТС № 005/2011, Технический регламент Таможенного союза "О безопасности пищевой продукции" от 09.12.2011 № 021/2011, Технический регламент Таможенного союза "Пищевая продукция в части ее маркировки" от 09.12.2011 № 022/2011, ГОСТ 6201-2020 | H16: =IF(LEN(IFERROR(VLOOKUP(C16,'11. Свод Перечней'!C:H,6,0),""))>1,IFERROR(VLOOKUP(C16,'11. Свод Перечней'!C:H,6,0),""),"") -> 01.11.75.110-00000002
A17: =IF(LEN(C17)>0,MAX($A$5:A16)+1,"") -> 12 | B17: =IFERROR(INDEX('11. Свод Перечней'!B:C,MATCH(C17,'11. Свод Перечней'!C:C,0),1),"") -> Капуста белокочанная свежая | C17: Капуста белокочанная тип 1 | D17: =IFERROR(VLOOKUP(C17,'11. Свод Перечней'!C:H,2,0),"") -> 01.13.12.120 | E17: =IFERROR(VLOOKUP(C17,'11. Свод Перечней'!C:H,3,0),"") -> 001 | F17: =IFERROR(VLOOKUP(C17,'11. Свод Перечней'!C:H,4,0),"") -> КГ | G17: =IFERROR(VLOOKUP(C17,'11. Свод Перечней'!C:H,5,0),"") -> Капуста очищенная: Нет Вид капусты по сроку созревания: Среднеспелая; Позднеспелая; Среднепоздняя Товарный класс: Первый Вид: Свежая Фасовка: Весовая Соответствие нормативно-технической документации: Технический регламент Таможенного союза "О безопасности упаковки" от 16.08.2011 ТР ТС № 005/2011, Технический регламент Таможенного союза "О безопасности пищевой продукции" от 09.12.2011 № 021/2011, Технический регламент Таможенного союза "Пищевая продукция в части ее маркировки" от 09.12.2011 № 022/2011, ГОСТ Р 51809-2001 | H17: =IF(LEN(IFERROR(VLOOKUP(C17,'11. Свод Перечней'!C:H,6,0),""))>1,IFERROR(VLOOKUP(C17,'11. Свод Перечней'!C:H,6,0),""),"") -> 01.13.12.120-00000002
A18: =IF(LEN(C18)>0,MAX($A$5:A17)+1,"") -> 13 | B18: =IFERROR(INDEX('11. Свод Перечней'!B:C,MATCH(C18,'11. Свод Перечней'!C:C,0),1),"") -> Капуста белокочанная свежая | C18: Капуста белокочанная тип 2 | D18: =IFERROR(VLOOKUP(C18,'11. Свод Перечней'!C:H,2,0),"") -> 01.13.12.120 | E18: =IFERROR(VLOOKUP(C18,'11. Свод Перечней'!C:H,3,0),"") -> 002 | F18: =IFERROR(VLOOKUP(C18,'11. Свод Перечней'!C:H,4,0),"") -> КГ | G18: =IFERROR(VLOOKUP(C18,'11. Свод Перечней'!C:H,5,0),"") -> Капуста очищенная: Нет Вид капусты по сроку созревания: Раннеспелая Товарный класс: Первый Вид: Свежая Фасовка: Весовая Соответствие нормативно-технической документации: Технический регламент Таможенного союза "О безопасности упаковки" от 16.08.2011 ТР ТС № 005/2011, Технический регламент Таможенного союза "О безопасности пищевой продукции" от 09.12.2011 № 021/2011, Технический регламент Таможенного союза "Пищевая продукция в части ее маркировки" от 09.12.2011 № 022/2011, ГОСТ Р 51809-2001 | H18: =IF(LEN(IFERROR(VLOOKUP(C18,'11. Свод Перечней'!C:H,6,0),""))>1,IFERROR(VLOOKUP(C18,'11. Свод Перечней'!C:H,6,0),""),"") -> 01.13.12.120-00000002
... A409: =IF(LEN(C409)>0,MAX($A$5:A408)+1,"") -> 404 | B409: =IFERROR(INDEX('11. Свод Перечней'!B:C,MATCH(C409,'11. Свод Перечней'!C:C,0),1),"") -> Хлеб пшенично-ржаной | C409: Хлеб недлительного хранения тип 5 | D409: =IFERROR(VLOOKUP(C409,'11. Свод Перечней'!C:H,2,0),"") -> 10.71.11.112 | E409: =IFERROR(VLOOKUP(C409,'11. Свод Перечней'!C:H,3,0),"") -> 005 | F409: =IFERROR(VLOOKUP(C409,'11. Свод Перечней'!C:H,4,0),"") -> КГ | G409: =IFERROR(VLOOKUP(C409,'11. Свод Перечней'!C:H,5,0),"") -> Вид хлеба: Пшенично-ржаной Бездрожжевая технология производства: Да; Нет Изделие нарезанное: Да; Нет Хлеб обогащенный витаминами/микроэлементами: Да; Нет Хлеб по способу производства: Формовой; Подовый Вес: не более 1 КГ Упаковка производителя: Наличие Соответствие нормативно-технической документации: Технический регламент Таможенного союза "О безопасности упаковки" от 16.08.2011 ТР ТС № 005/2011, Технический регламент Таможенного союза "О безопасности пищевой продукции" от 09.12.2011 № 021/2011, Технический регламент Таможенного союза "Пищевая продукция в части ее маркировки" от 09.12.2011 № 022/2011, ГОСТ 31807-2018; Технический регламент Таможенного союза "О безопасности упаковки" от 16.08.2011 ТР ТС № 005/2011, Технический регламент Таможенного союза "О безопасности пищевой продукции" от 09.12.2011 № 021/2011, Технический регламент Таможенного союза "Пищевая продукция в части ее маркировки" от 09.12.2011 № 022/2011, ГОСТ 2077-2023 | H409: =IF(LEN(IFERROR(VLOOKUP(C409,'11. Свод Перечней'!C:H,6,0),""))>1,IFERROR(VLOOKUP(C409,'11. Свод Перечней'!C:H,6,0),""),"") -> 10.71.11.110-00000001
A410: =IF(LEN(C410)>0,MAX($A$5:A409)+1,"") | B410: =IFERROR(INDEX('11. Свод Перечней'!B:C,MATCH(C410,'11. Свод Перечней'!C:C,0),1),"") | D410: =IFERROR(VLOOKUP(C410,'11. Свод Перечней'!C:H,2,0),"") | E410: =IFERROR(VLOOKUP(C410,'11. Свод Перечней'!C:H,3,0),"") | F410: =IFERROR(VLOOKUP(C410,'11. Свод Перечней'!C:H,4,0),"") | G410: =IFERROR(VLOOKUP(C410,'11. Свод Перечней'!C:H,5,0),"") | H410: =IF(LEN(IFERROR(VLOOKUP(C410,'11. Свод Перечней'!C:H,6,0),""))>1,IFERROR(VLOOKUP(C410,'11. Свод Перечней'!C:H,6,0),""),"")
A411: =IF(LEN(C411)>0,MAX($A$5:A410)+1,"") | B411: =IFERROR(INDEX('11. Свод Перечней'!B:C,MATCH(C411,'11. Свод Перечней'!C:C,0),1),"") | D411: =IFERROR(VLOOKUP(C411,'11. Свод Перечней'!C:H,2,0),"") | E411: =IFERROR(VLOOKUP(C411,'11. Свод Перечней'!C:H,3,0),"") | F411: =IFERROR(VLOOKUP(C411,'11. Свод Перечней'!C:H,4,0),"") | G411: =IFERROR(VLOOKUP(C411,'11. Свод Перечней'!C:H,5,0),"") | H411: =IF(LEN(IFERROR(VLOOKUP(C411,'11. Свод Перечней'!C:H,6,0),""))>1,IFERROR(VLOOKUP(C411,'11. Свод Перечней'!C:H,6,0),""),"")
A412: =IF(LEN(C412)>0,MAX($A$5:A411)+1,"") | B412: =IFERROR(INDEX('11. Свод Перечней'!B:C,MATCH(C412,'11. Свод Перечней'!C:C,0),1),"") | D412: =IFERROR(VLOOKUP(C412,'11. Свод Перечней'!C:H,2,0),"") | E412: =IFERROR(VLOOKUP(C412,'11. Свод Перечней'!C:H,3,0),"") | F412: =IFERROR(VLOOKUP(C412,'11. Свод Перечней'!C:H,4,0),"") | G412: =IFERROR(VLOOKUP(C412,'11. Свод Перечней'!C:H,5,0),"") | H412: =IF(LEN(IFERROR(VLOOKUP(C412,'11. Свод Перечней'!C:H,6,0),""))>1,IFERROR(VLOOKUP(C412,'11. Свод Перечней'!C:H,6,0),""),"")
A413: =IF(LEN(C413)>0,MAX($A$5:A412)+1,"") | B413: =IFERROR(INDEX('11. Свод Перечней'!B:C,MATCH(C413,'11. Свод Перечней'!C:C,0),1),"") | D413: =IFERROR(VLOOKUP(C413,'11. Свод Перечней'!C:H,2,0),"") | E413: =IFERROR(VLOOKUP(C413,'11. Свод Перечней'!C:H,3,0),"") | F413: =IFERROR(VLOOKUP(C413,'11. Свод Перечней'!C:H,4,0),"") | G413: =IFERROR(VLOOKUP(C413,'11. Свод Перечней'!C:H,5,0),"") | H413: =IF(LEN(IFERROR(VLOOKUP(C413,'11. Свод Перечней'!C:H,6,0),""))>1,IFERROR(VLOOKUP(C413,'11. Свод Перечней'!C:H,6,0),""),"")
A414: =IF(LEN(C414)>0,MAX($A$5:A413)+1,"") | B414: =IFERROR(INDEX('11. Свод Перечней'!B:C,MATCH(C414,'11. Свод Перечней'!C:C,0),1),"") | D414: =IFERROR(VLOOKUP(C414,'11. Свод Перечней'!C:H,2,0),"") | E414: =IFERROR(VLOOKUP(C414,'11. Свод Перечней'!C:H,3,0),"") | F414: =IFERROR(VLOOKUP(C414,'11. Свод Перечней'!C:H,4,0),"") | G414: =IFERROR(VLOOKUP(C414,'11. Свод Перечней'!C:H,5,0),"") | H414: =IF(LEN(IFERROR(VLOOKUP(C414,'11. Свод Перечней'!C:H,6,0),""))>1,IFERROR(VLOOKUP(C414,'11. Свод Перечней'!C:H,6,0),""),"")
A415: =IF(LEN(C415)>0,MAX($A$5:A414)+1,"") | B415: =IFERROR(INDEX('11. Свод Перечней'!B:C,MATCH(C415,'11. Свод Перечней'!C:C,0),1),"") | D415: =IFERROR(VLOOKUP(C415,'11. Свод Перечней'!C:H,2,0),"") | E415: =IFERROR(VLOOKUP(C415,'11. Свод Перечней'!C:H,3,0),"") | F415: =IFERROR(VLOOKUP(C415,'11. Свод Перечней'!C:H,4,0),"") | G415: =IFERROR(VLOOKUP(C415,'11. Свод Перечней'!C:H,5,0),"") | H415: =IF(LEN(IFERROR(VLOOKUP(C415,'11. Свод Перечней'!C:H,6,0),""))>1,IFERROR(VLOOKUP(C415,'11. Свод Перечней'!C:H,6,0),""),"")
A416: =IF(LEN(C416)>0,MAX($A$5:A415)+1,"") | B416: =IFERROR(INDEX('11. Свод Перечней'!B:C,MATCH(C416,'11. Свод Перечней'!C:C,0),1),"") | D416: =IFERROR(VLOOKUP(C416,'11. Свод Перечней'!C:H,2,0),"") | E416: =IFERROR(VLOOKUP(C416,'11. Свод Перечней'!C:H,3,0),"") | F416: =IFERROR(VLOOKUP(C416,'11. Свод Перечней'!C:H,4,0),"") | G416: =IFERROR(VLOOKUP(C416,'11. Свод Перечней'!C:H,5,0),"") | H416: =IF(LEN(IFERROR(VLOOKUP(C416,'11. Свод Перечней'!C:H,6,0),""))>1,IFERROR(VLOOKUP(C416,'11. Свод Перечней'!C:H,6,0),""),"")
A417: =IF(LEN(C417)>0,MAX($A$5:A416)+1,"") | B417: =IFERROR(INDEX('11. Свод Перечней'!B:C,MATCH(C417,'11. Свод Перечней'!C:C,0),1),"") | D417: =IFERROR(VLOOKUP(C417,'11. Свод Перечней'!C:H,2,0),"") | E417: =IFERROR(VLOOKUP(C417,'11. Свод Перечней'!C:H,3,0),"") | F417: =IFERROR(VLOOKUP(C417,'11. Свод Перечней'!C:H,4,0),"") | G417: =IFERROR(VLOOKUP(C417,'11. Свод Перечней'!C:H,5,0),"") | H417: =IF(LEN(IFERROR(VLOOKUP(C417,'11. Свод Перечней'!C:H,6,0),""))>1,IFERROR(VLOOKUP(C417,'11. Свод Перечней'!C:H,6,0),""),"")
A418: =IF(LEN(C418)>0,MAX($A$5:A417)+1,"") | B418: =IFERROR(INDEX('11. Свод Перечней'!B:C,MATCH(C418,'11. Свод Перечней'!C:C,0),1),"") | D418: =IFERROR(VLOOKUP(C418,'11. Свод Перечней'!C:H,2,0),"") | E418: =IFERROR(VLOOKUP(C418,'11. Свод Перечней'!C:H,3,0),"") | F418: =IFERROR(VLOOKUP(C418,'11. Свод Перечней'!C:H,4,0),"") | G418: =IFERROR(VLOOKUP(C418,'11. Свод Перечней'!C:H,5,0),"") | H418: =IF(LEN(IFERROR(VLOOKUP(C418,'11. Свод Перечней'!C:H,6,0),""))>1,IFERROR(VLOOKUP(C418,'11. Свод Перечней'!C:H,6,0),""),"")
A419: =IF(LEN(C419)>0,MAX($A$5:A418)+1,"") | B419: =IFERROR(INDEX('11. Свод Перечней'!B:C,MATCH(C419,'11. Свод Перечней'!C:C,0),1),"") | D419: =IFERROR(VLOOKUP(C419,'11. Свод Перечней'!C:H,2,0),"") | E419: =IFERROR(VLOOKUP(C419,'11. Свод Перечней'!C:H,3,0),"") | F419: =IFERROR(VLOOKUP(C419,'11. Свод Перечней'!C:H,4,0),"") | G419: =IFERROR(VLOOKUP(C419,'11. Свод Перечней'!C:H,5,0),"") | H419: =IF(LEN(IFERROR(VLOOKUP(C419,'11. Свод Перечней'!C:H,6,0),""))>1,IFERROR(VLOOKUP(C419,'11. Свод Перечней'!C:H,6,0),""),"")
A420: =IF(LEN(C420)>0,MAX($A$5:A419)+1,"") | B420: =IFERROR(INDEX('11. Свод Перечней'!B:C,MATCH(C420,'11. Свод Перечней'!C:C,0),1),"") | D420: =IFERROR(VLOOKUP(C420,'11. Свод Перечней'!C:H,2,0),"") | E420: =IFERROR(VLOOKUP(C420,'11. Свод Перечней'!C:H,3,0),"") | F420: =IFERROR(VLOOKUP(C420,'11. Свод Перечней'!C:H,4,0),"") | G420: =IFERROR(VLOOKUP(C420,'11. Свод Перечней'!C:H,5,0),"") | H420: =IF(LEN(IFERROR(VLOOKUP(C420,'11. Свод Перечней'!C:H,6,0),""))>1,IFERROR(VLOOKUP(C420,'11. Свод Перечней'!C:H,6,0),""),"")
A421: =IF(LEN(C421)>0,MAX($A$5:A420)+1,"") | B421: =IFERROR(INDEX('11. Свод Перечней'!B:C,MATCH(C421,'11. Свод Перечней'!C:C,0),1),"") | D421: =IFERROR(VLOOKUP(C421,'11. Свод Перечней'!C:H,2,0),"") | E421: =IFERROR(VLOOKUP(C421,'11. Свод Перечней'!C:H,3,0),"") | F421: =IFERROR(VLOOKUP(C421,'11. Свод Перечней'!C:H,4,0),"") | G421: =IFERROR(VLOOKUP(C421,'11. Свод Перечней'!C:H,5,0),"") | H421: =IF(LEN(IFERROR(VLOOKUP(C421,'11. Свод Перечней'!C:H,6,0),""))>1,IFERROR(VLOOKUP(C421,'11. Свод Перечней'!C:H,6,0),""),"")
... A1177: =IF(LEN(C1177)>0,MAX($A$5:A1176)+1,"") | B1177: =IFERROR(INDEX('11. Свод Перечней'!B:C,MATCH(C1177,'11. Свод Перечней'!C:C,0),1),"") | D1177: =IFERROR(VLOOKUP(C1177,'11. Свод Перечней'!C:H,2,0),"") | E1177: =IFERROR(VLOOKUP(C1177,'11. Свод Перечней'!C:H,3,0),"") | F1177: =IFERROR(VLOOKUP(C1177,'11. Свод Перечней'!C:H,4,0),"") | G1177: =IFERROR(VLOOKUP(C1177,'11. Свод Перечней'!C:H,5,0),"") | H1177: =IF(LEN(IFERROR(VLOOKUP(C1177,'11. Свод Перечней'!C:H,6,0),""))>1,IFERROR(VLOOKUP(C1177,'11. Свод Перечней'!C:H,6,0),""),"")

Sheet 8. Целиакия Взрослые
A1: Дата актуализации ассортиментного перечня «03» марта 2026 г
A2: Ассортиментный перечень основных групп продовольственных товаров и сырья для обеспечения социального питания в учреждениях Санкт-Петербурга для больных целиакией (для взрослых)
A3: Примечание! * - Продукция предназначенная для лечебного, специального питания ** - предназначенные для использования в питании после термической обработки. Информацию о действующей нормативной документации, а также изменениях вносимых в национальные стандарты можно получить в Управлении социального питания по телефонам 576-68-25, 576-68-27 и на сайте Управления по адресу: http://www.gov.spb.ru, вкладка «Нормативные документы».
A4: № | B4: Потребительское наименование товара | C4: Название товара ККН/КТРУ | D4: ОКПД2 | E4: Детализация ККН | F4: Единица измерения ККН | G4: Характеристики товара | H4: Код КТРУ
A5: 1 | B5: 2 | C5: 2 | D5: 3 | E5: 4 | F5: 5 | G5: 6 | H5: 7
A6: 1 | B6: =IFERROR(INDEX('11. Свод Перечней'!B:C,MATCH(C6,'11. Свод Перечней'!C:C,0),1),"") -> Фасоль овощная свежая | C6: {=IFERROR(INDEX('11. Свод Перечней'!$C$4:$C$603,SMALL(IF("ЦВ"='11. Свод Перечней'!$I$4:$Q$603,ROW('11. Свод Перечней'!$C$4:$C$603)-3,""),ROW()-5)),"")} -> Фасоль тип 1 | D6: =IFERROR(VLOOKUP(C6,'11. Свод Перечней'!C:H,2,0),"") -> 01.11.61.000 | E6: =IFERROR(VLOOKUP(C6,'11. Свод Перечней'!C:H,3,0),"") -> 001 | F6: =IFERROR(VLOOKUP(C6,'11. Свод Перечней'!C:H,4,0),"") -> КГ | G6: =IFERROR(VLOOKUP(C6,'11. Свод Перечней'!C:H,5,0),"") -> Тип: Овощная Вид: Свежая Сорт: Высший; Первый Фасовка: Весовая Соответствие нормативно-технической документации: Технический регламент Таможенного союза "О безопасности упаковки" от 16.08.2011 ТР ТС № 005/2011, Технический регламент Таможенного союза "О безопасности пищевой продукции" от 09.12.2011 № 021/2011, Технический регламент Таможенного союза "Пищевая продукция в части ее маркировки" от 09.12.2011 № 022/2011, ГОСТ 34299-2017 | H6: =IF(LEN(IFERROR(VLOOKUP(C6,'11. Свод Перечней'!C:H,6,0),""))>1,IFERROR(VLOOKUP(C6,'11. Свод Перечней'!C:H,6,0),""),"")
A7: =IF(LEN(C7)>0,MAX($A$5:A6)+1,"") -> 2 | B7: =IFERROR(INDEX('11. Свод Перечней'!B:C,MATCH(C7,'11. Свод Перечней'!C:C,0),1),"") -> Фасоль продовольственная | C7: Фасоль продовольственная тип 2 | D7: =IFERROR(VLOOKUP(C7,'11. Свод Перечней'!C:H,2,0),"") -> 01.11.71.110 | E7: =IFERROR(VLOOKUP(C7,'11. Свод Перечней'!C:H,3,0),"") -> 001 | F7: =IFERROR(VLOOKUP(C7,'11. Свод Перечней'!C:H,4,0),"") -> КГ | G7: =IFERROR(VLOOKUP(C7,'11. Свод Перечней'!C:H,5,0),"") -> Номер и наименование типа фасоли: III. Фасоль цветная пестрая Вес, КГ: ≤ 1 Упаковка производителя: Наличие Соответствие нормативно-технической документации: Технический регламент Таможенного союза "О безопасности упаковки" от 16.08.2011 ТР ТС № 005/2011, Технический регламент Таможенного союза "О безопасности пищевой продукции" от 09.12.2011 № 021/2011, Технический регламент Таможенного союза "Пищевая продукция в части ее маркировки" от 09.12.2011 № 022/2011, ГОСТ 7758-2020 | H7: =IF(LEN(IFERROR(VLOOKUP(C7,'11. Свод Перечней'!C:H,6,0),""))>1,IFERROR(VLOOKUP(C7,'11. Свод Перечней'!C:H,6,0),""),"") -> 01.11.71.110-00000001
A8: =IF(LEN(C8)>0,MAX($A$5:A7)+1,"") -> 3 | B8: =IFERROR(INDEX('11. Свод Перечней'!B:C,MATCH(C8,'11. Свод Перечней'!C:C,0),1),"") -> Фасоль продовольственная | C8: Фасоль продовольственная тип 3 | D8: =IFERROR(VLOOKUP(C8,'11. Свод Перечней'!C:H,2,0),"") -> 01.11.71.110 | E8: =IFERROR(VLOOKUP(C8,'11. Свод Перечней'!C:H,3,0),"") -> 003 | F8: =IFERROR(VLOOKUP(C8,'11. Свод Перечней'!C:H,4,0),"") -> КГ | G8: =IFERROR(VLOOKUP(C8,'11. Свод Перечней'!C:H,5,0),"") -> Номер и наименование типа фасоли: II. Фасоль цветная однотонная Вес, КГ: ≤ 1 Упаковка производителя: Наличие Соответствие нормативно-технической документации: Технический регламент Таможенного союза "О безопасности упаковки" от 16.08.2011 ТР ТС № 005/2011, Технический регламент Таможенного союза "О безопасности пищевой продукции" от 09.12.2011 № 021/2011, Технический регламент Таможенного союза "Пищевая продукция в части ее маркировки" от 09.12.2011 № 022/2011, ГОСТ 7758-2020 | H8: =IF(LEN(IFERROR(VLOOKUP(C8,'11. Свод Перечней'!C:H,6,0),""))>1,IFERROR(VLOOKUP(C8,'11. Свод Перечней'!C:H,6,0),""),"") -> 01.11.71.110-00000002
A9: =IF(LEN(C9)>0,MAX($A$5:A8)+1,"") -> 4 | B9: =IFERROR(INDEX('11. Свод Перечней'!B:C,MATCH(C9,'11. Свод Перечней'!C:C,0),1),"") -> Фасоль продовольственная | C9: Фасоль продовольственная тип 4 | D9: =IFERROR(VLOOKUP(C9,'11. Свод Перечней'!C:H,2,0),"") -> 01.11.71.110 | E9: =IFERROR(VLOOKUP(C9,'11. Свод Перечней'!C:H,3,0),"") -> 004 | F9: =IFERROR(VLOOKUP(C9,'11. Свод Перечней'!C:H,4,0),"") -> КГ | G9: =IFERROR(VLOOKUP(C9,'11. Свод Перечней'!C:H,5,0),"") -> Номер и наименование типа фасоли: I. Фасоль белая Вес, КГ: ≤ 1 Упаковка производителя: Наличие Соответствие нормативно-технической документации: Технический регламент Таможенного союза "О безопасности упаковки" от 16.08.2011 ТР ТС № 005/2011, Технический регламент Таможенного союза "О безопасности пищевой продукции" от 09.12.2011 № 021/2011, Технический регламент Таможенного союза "Пищевая продукция в части ее маркировки" от 09.12.2011 № 022/2011, ГОСТ 7758-2020 | H9: =IF(LEN(IFERROR(VLOOKUP(C9,'11. Свод Перечней'!C:H,6,0),""))>1,IFERROR(VLOOKUP(C9,'11. Свод Перечней'!C:H,6,0),""),"") -> 01.11.71.110-00000003
A10: =IF(LEN(C10)>0,MAX($A$5:A9)+1,"") -> 5 | B10: =IFERROR(INDEX('11. Свод Перечней'!B:C,MATCH(C10,'11. Свод Перечней'!C:C,0),1),"") -> Чечевица | C10: Чечевица продовольственная тип 2 | D10: =IFERROR(VLOOKUP(C10,'11. Свод Перечней'!C:H,2,0),"") -> 01.11.74.110 | E10: =IFERROR(VLOOKUP(C10,'11. Свод Перечней'!C:H,3,0),"") -> 001 | F10: =IFERROR(VLOOKUP(C10,'11. Свод Перечней'!C:H,4,0),"") -> КГ | G10: =IFERROR(VLOOKUP(C10,'11. Свод Перечней'!C:H,5,0),"") -> Тип чечевицы: Красная Вес, КГ: ≤ 1 Упаковка производителя: Наличие Соответствие нормативно-технической документации: Технический регламент Таможенного союза "О безопасности упаковки" от 16.08.2011 ТР ТС № 005/2011, Технический регламент Таможенного союза "О безопасности пищевой продукции" от 09.12.2011 № 021/2011, Технический регламент Таможенного союза "Пищевая продукция в части ее маркировки" от 09.12.2011 № 022/2011, ГОСТ 7066-2019 | H10: =IF(LEN(IFERROR(VLOOKUP(C10,'11. Свод Перечней'!C:H,6,0),""))>1,IFERROR(VLOOKUP(C10,'11. Свод Перечней'!C:H,6,0),""),"") -> 01.11.74.110-00000001
A11: =IF(LEN(C11)>0,MAX($A$5:A10)+1,"") -> 6 | B11: =IFERROR(INDEX('11. Свод Перечней'!B:C,MATCH(C11,'11. Свод Перечней'!C:C,0),1),"") -> Чечевица | C11: Чечевица продовольственная тип 3 | D11: =IFERROR(VLOOKUP(C11,'11. Свод Перечней'!C:H,2,0),"") -> 01.11.74.110 | E11: =IFERROR(VLOOKUP(C11,'11. Свод Перечней'!C:H,3,0),"") -> 003 | F11: =IFERROR(VLOOKUP(C11,'11. Свод Перечней'!C:H,4,0),"") -> КГ | G11: =IFERROR(VLOOKUP(C11,'11. Свод Перечней'!C:H,5,0),"") -> Тип чечевицы: Коричневая Вес, КГ: ≤ 1 Упаковка производителя: Наличие Соответствие нормативно-технической документации: Технический регламент Таможенного союза "О безопасности упаковки" от 16.08.2011 ТР ТС № 005/2011, Технический регламент Таможенного союза "О безопасности пищевой продукции" от 09.12.2011 № 021/2011, Технический регламент Таможенного союза "Пищевая продукция в части ее маркировки" от 09.12.2011 № 022/2011, ГОСТ 7066-2019 | H11: =IF(LEN(IFERROR(VLOOKUP(C11,'11. Свод Перечней'!C:H,6,0),""))>1,IFERROR(VLOOKUP(C11,'11. Свод Перечней'!C:H,6,0),""),"") -> 01.11.74.110-00000002
A12: =IF(LEN(C12)>0,MAX($A$5:A11)+1,"") -> 7 | B12: =IFERROR(INDEX('11. Свод Перечней'!B:C,MATCH(C12,'11. Свод Перечней'!C:C,0),1),"") -> Чечевица | C12: Чечевица продовольственная тип 4 | D12: =IFERROR(VLOOKUP(C12,'11. Свод Перечней'!C:H,2,0),"") -> 01.11.74.110 | E12: =IFERROR(VLOOKUP(C12,'11. Свод Перечней'!C:H,3,0),"") -> 004 | F12: =IFERROR(VLOOKUP(C12,'11. Свод Перечней'!C:H,4,0),"") -> КГ | G12: =IFERROR(VLOOKUP(C12,'11. Свод Перечней'!C:H,5,0),"") -> Тип чечевицы: Неоднородная Вес, КГ: ≤ 1 Упаковка производителя: Наличие Соответствие нормативно-технической документации: Технический регламент Таможенного союза "О безопасности упаковки" от 16.08.2011 ТР ТС № 005/2011, Технический регламент Таможенного союза "О безопасности пищевой продукции" от 09.12.2011 № 021/2011, Технический регламент Таможенного союза "Пищевая продукция в части ее маркировки" от 09.12.2011 № 022/2011, ГОСТ 7066-2019 | H12: =IF(LEN(IFERROR(VLOOKUP(C12,'11. Свод Перечней'!C:H,6,0),""))>1,IFERROR(VLOOKUP(C12,'11. Свод Перечней'!C:H,6,0),""),"") -> 01.11.74.110-00000003
A13: =IF(LEN(C13)>0,MAX($A$5:A12)+1,"") -> 8 | B13: =IFERROR(INDEX('11. Свод Перечней'!B:C,MATCH(C13,'11. Свод Перечней'!C:C,0),1),"") -> Чечевица | C13: Чечевица продовольственная тип 5 | D13: =IFERROR(VLOOKUP(C13,'11. Свод Перечней'!C:H,2,0),"") -> 01.11.74.110 | E13: =IFERROR(VLOOKUP(C13,'11. Свод Перечней'!C:H,3,0),"") -> 005 | F13: =IFERROR(VLOOKUP(C13,'11. Свод Перечней'!C:H,4,0),"") -> КГ | G13: =IFERROR(VLOOKUP(C13,'11. Свод Перечней'!C:H,5,0),"") -> Тип чечевицы: Светло-зеленая Вес, КГ: ≤ 1 Упаковка производителя: Наличие Соответствие нормативно-технической документации: Технический регламент Таможенного союза "О безопасности упаковки" от 16.08.2011 ТР ТС № 005/2011, Технический регламент Таможенного союза "О безопасности пищевой продукции" от 09.12.2011 № 021/2011, Технический регламент Таможенного союза "Пищевая продукция в части ее маркировки" от 09.12.2011 № 022/2011, ГОСТ 7066-2019 | H13: =IF(LEN(IFERROR(VLOOKUP(C13,'11. Свод Перечней'!C:H,6,0),""))>1,IFERROR(VLOOKUP(C13,'11. Свод Перечней'!C:H,6,0),""),"") -> 01.11.74.110-00000004
A14: =IF(LEN(C14)>0,MAX($A$5:A13)+1,"") -> 9 | B14: =IFERROR(INDEX('11. Свод Перечней'!B:C,MATCH(C14,'11. Свод Перечней'!C:C,0),1),"") -> Чечевица | C14: Чечевица продовольственная тип 6 | D14: =IFERROR(VLOOKUP(C14,'11. Свод Перечней'!C:H,2,0),"") -> 01.11.74.110 | E14: =IFERROR(VLOOKUP(C14,'11. Свод Перечней'!C:H,3,0),"") -> 006 | F14: =IFERROR(VLOOKUP(C14,'11. Свод Перечней'!C:H,4,0),"") -> КГ | G14: =IFERROR(VLOOKUP(C14,'11. Свод Перечней'!C:H,5,0),"") -> Тип чечевицы: Темно-зеленая Вес, КГ: ≤ 1 Упаковка производителя: Наличие Соответствие нормативно-технической документации: Технический регламент Таможенного союза "О безопасности упаковки" от 16.08.2011 ТР ТС № 005/2011, Технический регламент Таможенного союза "О безопасности пищевой продукции" от 09.12.2011 № 021/2011, Технический регламент Таможенного союза "Пищевая продукция в части ее маркировки" от 09.12.2011 № 022/2011, ГОСТ 7066-2019 | H14: =IF(LEN(IFERROR(VLOOKUP(C14,'11. Свод Перечней'!C:H,6,0),""))>1,IFERROR(VLOOKUP(C14,'11. Свод Перечней'!C:H,6,0),""),"") -> 01.11.74.110-00000005
A15: =IF(LEN(C15)>0,MAX($A$5:A14)+1,"") -> 10 | B15: =IFERROR(INDEX('11. Свод Перечней'!B:C,MATCH(C15,'11. Свод Перечней'!C:C,0),1),"") -> Горох шлифованный | C15: Горох шлифованный тип 1 | D15: =IFERROR(VLOOKUP(C15,'11. Свод Перечней'!C:H,2,0),"") -> 01.11.75.110 | E15: =IFERROR(VLOOKUP(C15,'11. Свод Перечней'!C:H,3,0),"") -> 001 | F15: =IFERROR(VLOOKUP(C15,'11. Свод Перечней'!C:H,4,0),"") -> КГ | G15: =IFERROR(VLOOKUP(C15,'11. Свод Перечней'!C:H,5,0),"") -> Вид зерна: Целое Сорт: Не ниже первого Вес: не более 1 КГ Упаковка производителя: Наличие Соответствие нормативно-технической документации: Технический регламент Таможенного союза "О безопасности упаковки" от 16.08.2011 ТР ТС № 005/2011, Технический регламент Таможенного союза "О безопасности пищевой продукции" от 09.12.2011 № 021/2011, Технический регламент Таможенного союза "Пищевая продукция в части ее маркировки" от 09.12.2011 № 022/2011, ГОСТ 6201-2020 | H15: =IF(LEN(IFERROR(VLOOKUP(C15,'11. Свод Перечней'!C:H,6,0),""))>1,IFERROR(VLOOKUP(C15,'11. Свод Перечней'!C:H,6,0),""),"") -> 01.11.75.110-00000002
A16: =IF(LEN(C16)>0,MAX($A$5:A15)+1,"") -> 11 | B16: =IFERROR(INDEX('11. Свод Перечней'!B:C,MATCH(C16,'11. Свод Перечней'!C:C,0),1),"") -> Горох шлифованный | C16: Горох шлифованный тип 2 | D16: =IFERROR(VLOOKUP(C16,'11. Свод Перечней'!C:H,2,0),"") -> 01.11.75.110 | E16: =IFERROR(VLOOKUP(C16,'11. Свод Перечней'!C:H,3,0),"") -> 002 | F16: =IFERROR(VLOOKUP(C16,'11. Свод Перечней'!C:H,4,0),"") -> КГ | G16: =IFERROR(VLOOKUP(C16,'11. Свод Перечней'!C:H,5,0),"") -> Вид зерна: Целое Сорт: Не ниже первого Фасовка: Весовая Соответствие нормативно-технической документации: Технический регламент Таможенного союза "О безопасности упаковки" от 16.08.2011 ТР ТС № 005/2011, Технический регламент Таможенного союза "О безопасности пищевой продукции" от 09.12.2011 № 021/2011, Технический регламент Таможенного союза "Пищевая продукция в части ее маркировки" от 09.12.2011 № 022/2011, ГОСТ 6201-2020 | H16: =IF(LEN(IFERROR(VLOOKUP(C16,'11. Свод Перечней'!C:H,6,0),""))>1,IFERROR(VLOOKUP(C16,'11. Свод Перечней'!C:H,6,0),""),"") -> 01.11.75.110-00000002
A17: =IF(LEN(C17)>0,MAX($A$5:A16)+1,"") -> 12 | B17: =IFERROR(INDEX('11. Свод Перечней'!B:C,MATCH(C17,'11. Свод Перечней'!C:C,0),1),"") -> Капуста брюссельская свежая | C17: Капуста брюссельская тип 1 | D17: =IFERROR(VLOOKUP(C17,'11. Свод Перечней'!C:H,2,0),"") -> 01.13.12.110 | E17: =IFERROR(VLOOKUP(C17,'11. Свод Перечней'!C:H,3,0),"") -> 001 | F17: =IFERROR(VLOOKUP(C17,'11. Свод Перечней'!C:H,4,0),"") -> КГ | G17: =IFERROR(VLOOKUP(C17,'11. Свод Перечней'!C:H,5,0),"") -> Вид: Свежая Фасовка: Весовая Соответствие нормативно-технической документации: Технический регламент Таможенного союза "О безопасности упаковки" от 16.08.2011 ТР ТС № 005/2011, Технический регламент Таможенного союза "О безопасности пищевой продукции" от 09.12.2011 № 021/2011, Технический регламент Таможенного союза "Пищевая продукция в части ее маркировки" от 09.12.2011 № 022/2011, ГОСТ 33851-2016 | H17: =IF(LEN(IFERROR(VLOOKUP(C17,'11. Свод Перечней'!C:H,6,0),""))>1,IFERROR(VLOOKUP(C17,'11. Свод Перечней'!C:H,6,0),""),"")
A18: =IF(LEN(C18)>0,MAX($A$5:A17)+1,"") -> 13 | B18: =IFERROR(INDEX('11. Свод Перечней'!B:C,MATCH(C18,'11. Свод Перечней'!C:C,0),1),"") -> Капуста белокочанная свежая | C18: Капуста белокочанная тип 1 | D18: =IFERROR(VLOOKUP(C18,'11. Свод Перечней'!C:H,2,0),"") -> 01.13.12.120 | E18: =IFERROR(VLOOKUP(C18,'11. Свод Перечней'!C:H,3,0),"") -> 001 | F18: =IFERROR(VLOOKUP(C18,'11. Свод Перечней'!C:H,4,0),"") -> КГ | G18: =IFERROR(VLOOKUP(C18,'11. Свод Перечней'!C:H,5,0),"") -> Капуста очищенная: Нет Вид капусты по сроку созревания: Среднеспелая; Позднеспелая; Среднепоздняя Товарный класс: Первый Вид: Свежая Фасовка: Весовая Соответствие нормативно-технической документации: Технический регламент Таможенного союза "О безопасности упаковки" от 16.08.2011 ТР ТС № 005/2011, Технический регламент Таможенного союза "О безопасности пищевой продукции" от 09.12.2011 № 021/2011, Технический регламент Таможенного союза "Пищевая продукция в части ее маркировки" от 09.12.2011 № 022/2011, ГОСТ Р 51809-2001 | H18: =IF(LEN(IFERROR(VLOOKUP(C18,'11. Свод Перечней'!C:H,6,0),""))>1,IFERROR(VLOOKUP(C18,'11. Свод Перечней'!C:H,6,0),""),"") -> 01.13.12.120-00000002
... A382: =IF(LEN(C382)>0,MAX($A$5:A381)+1,"") -> 377 | B382: =IFERROR(INDEX('11. Свод Перечней'!B:C,MATCH(C382,'11. Свод Перечней'!C:C,0),1),"") -> Сельдь соленая слабой соли филе | C382: Сельдь соленая тип 2 | D382: =IFERROR(VLOOKUP(C382,'11. Свод Перечней'!C:H,2,0),"") -> 10.20.23.122 | E382: =IFERROR(VLOOKUP(C382,'11. Свод Перечней'!C:H,3,0),"") -> 002 | F382: =IFERROR(VLOOKUP(C382,'11. Свод Перечней'!C:H,4,0),"") -> КГ | G382: =IFERROR(VLOOKUP(C382,'11. Свод Перечней'!C:H,5,0),"") -> Вид разделки: Филе без кожи; Филе с кожей Вид засола: Слабосоленая Сорт: Первый Вес: не более 1 КГ Упаковка производителя: Наличие Особые условия (требования к составу пищевых продуктов): Без химических консервантов, искусственных красителей и ароматизаторов, искусственных пищевых добавок Соответствие нормативно-технической документации: Технический регламент Таможенного союза "О безопасности упаковки" от 16.08.2011 ТР ТС № 005/2011, Технический регламент Таможенного союза "Пищевая продукция в части ее маркировки" от 09.12.2011 № 022/2011, Единые санитарно-эпидемиологические и гигиенические требования к товарам, подлежащим санитарно-эпидемиологическому надзору (контролю) - (Утверждены Решением Комиссии таможенного союза от 28.05.2010 № 299), Технический регламент Евразийского экономического союза "О безопасности рыбы и рыбной продукции" ТР ЕАЭС № 040/2016, ГОСТ 815-2019 | H382: =IF(LEN(IFERROR(VLOOKUP(C382,'11. Свод Перечней'!C:H,6,0),""))>1,IFERROR(VLOOKUP(C382,'11. Свод Перечней'!C:H,6,0),""),"") -> 10.20.23.122-00000004
A383: =IF(LEN(C383)>0,MAX($A$5:A382)+1,"") | B383: =IFERROR(INDEX('11. Свод Перечней'!B:C,MATCH(C383,'11. Свод Перечней'!C:C,0),1),"") | D383: =IFERROR(VLOOKUP(C383,'11. Свод Перечней'!C:H,2,0),"") | E383: =IFERROR(VLOOKUP(C383,'11. Свод Перечней'!C:H,3,0),"") | F383: =IFERROR(VLOOKUP(C383,'11. Свод Перечней'!C:H,4,0),"") | G383: =IFERROR(VLOOKUP(C383,'11. Свод Перечней'!C:H,5,0),"") | H383: =IF(LEN(IFERROR(VLOOKUP(C383,'11. Свод Перечней'!C:H,6,0),""))>1,IFERROR(VLOOKUP(C383,'11. Свод Перечней'!C:H,6,0),""),"")
A384: =IF(LEN(C384)>0,MAX($A$5:A383)+1,"") | B384: =IFERROR(INDEX('11. Свод Перечней'!B:C,MATCH(C384,'11. Свод Перечней'!C:C,0),1),"") | D384: =IFERROR(VLOOKUP(C384,'11. Свод Перечней'!C:H,2,0),"") | E384: =IFERROR(VLOOKUP(C384,'11. Свод Перечней'!C:H,3,0),"") | F384: =IFERROR(VLOOKUP(C384,'11. Свод Перечней'!C:H,4,0),"") | G384: =IFERROR(VLOOKUP(C384,'11. Свод Перечней'!C:H,5,0),"") | H384: =IF(LEN(IFERROR(VLOOKUP(C384,'11. Свод Перечней'!C:H,6,0),""))>1,IFERROR(VLOOKUP(C384,'11. Свод Перечней'!C:H,6,0),""),"")
A385: =IF(LEN(C385)>0,MAX($A$5:A384)+1,"") | B385: =IFERROR(INDEX('11. Свод Перечней'!B:C,MATCH(C385,'11. Свод Перечней'!C:C,0),1),"") | D385: =IFERROR(VLOOKUP(C385,'11. Свод Перечней'!C:H,2,0),"") | E385: =IFERROR(VLOOKUP(C385,'11. Свод Перечней'!C:H,3,0),"") | F385: =IFERROR(VLOOKUP(C385,'11. Свод Перечней'!C:H,4,0),"") | G385: =IFERROR(VLOOKUP(C385,'11. Свод Перечней'!C:H,5,0),"") | H385: =IF(LEN(IFERROR(VLOOKUP(C385,'11. Свод Перечней'!C:H,6,0),""))>1,IFERROR(VLOOKUP(C385,'11. Свод Перечней'!C:H,6,0),""),"")
A386: =IF(LEN(C386)>0,MAX($A$5:A385)+1,"") | B386: =IFERROR(INDEX('11. Свод Перечней'!B:C,MATCH(C386,'11. Свод Перечней'!C:C,0),1),"") | D386: =IFERROR(VLOOKUP(C386,'11. Свод Перечней'!C:H,2,0),"") | E386: =IFERROR(VLOOKUP(C386,'11. Свод Перечней'!C:H,3,0),"") | F386: =IFERROR(VLOOKUP(C386,'11. Свод Перечней'!C:H,4,0),"") | G386: =IFERROR(VLOOKUP(C386,'11. Свод Перечней'!C:H,5,0),"") | H386: =IF(LEN(IFERROR(VLOOKUP(C386,'11. Свод Перечней'!C:H,6,0),""))>1,IFERROR(VLOOKUP(C386,'11. Свод Перечней'!C:H,6,0),""),"")
A387: =IF(LEN(C387)>0,MAX($A$5:A386)+1,"") | B387: =IFERROR(INDEX('11. Свод Перечней'!B:C,MATCH(C387,'11. Свод Перечней'!C:C,0),1),"") | D387: =IFERROR(VLOOKUP(C387,'11. Свод Перечней'!C:H,2,0),"") | E387: =IFERROR(VLOOKUP(C387,'11. Свод Перечней'!C:H,3,0),"") | F387: =IFERROR(VLOOKUP(C387,'11. Свод Перечней'!C:H,4,0),"") | G387: =IFERROR(VLOOKUP(C387,'11. Свод Перечней'!C:H,5,0),"") | H387: =IF(LEN(IFERROR(VLOOKUP(C387,'11. Свод Перечней'!C:H,6,0),""))>1,IFERROR(VLOOKUP(C387,'11. Свод Перечней'!C:H,6,0),""),"")
A388: =IF(LEN(C388)>0,MAX($A$5:A387)+1,"") | B388: =IFERROR(INDEX('11. Свод Перечней'!B:C,MATCH(C388,'11. Свод Перечней'!C:C,0),1),"") | D388: =IFERROR(VLOOKUP(C388,'11. Свод Перечней'!C:H,2,0),"") | E388: =IFERROR(VLOOKUP(C388,'11. Свод Перечней'!C:H,3,0),"") | F388: =IFERROR(VLOOKUP(C388,'11. Свод Перечней'!C:H,4,0),"") | G388: =IFERROR(VLOOKUP(C388,'11. Свод Перечней'!C:H,5,0),"") | H388: =IF(LEN(IFERROR(VLOOKUP(C388,'11. Свод Перечней'!C:H,6,0),""))>1,IFERROR(VLOOKUP(C388,'11. Свод Перечней'!C:H,6,0),""),"")
A389: =IF(LEN(C389)>0,MAX($A$5:A388)+1,"") | B389: =IFERROR(INDEX('11. Свод Перечней'!B:C,MATCH(C389,'11. Свод Перечней'!C:C,0),1),"") | D389: =IFERROR(VLOOKUP(C389,'11. Свод Перечней'!C:H,2,0),"") | E389: =IFERROR(VLOOKUP(C389,'11. Свод Перечней'!C:H,3,0),"") | F389: =IFERROR(VLOOKUP(C389,'11. Свод Перечней'!C:H,4,0),"") | G389: =IFERROR(VLOOKUP(C389,'11. Свод Перечней'!C:H,5,0),"") | H389: =IF(LEN(IFERROR(VLOOKUP(C389,'11. Свод Перечней'!C:H,6,0),""))>1,IFERROR(VLOOKUP(C389,'11. Свод Перечней'!C:H,6,0),""),"")
A390: =IF(LEN(C390)>0,MAX($A$5:A389)+1,"") | B390: =IFERROR(INDEX('11. Свод Перечней'!B:C,MATCH(C390,'11. Свод Перечней'!C:C,0),1),"") | D390: =IFERROR(VLOOKUP(C390,'11. Свод Перечней'!C:H,2,0),"") | E390: =IFERROR(VLOOKUP(C390,'11. Свод Перечней'!C:H,3,0),"") | F390: =IFERROR(VLOOKUP(C390,'11. Свод Перечней'!C:H,4,0),"") | G390: =IFERROR(VLOOKUP(C390,'11. Свод Перечней'!C:H,5,0),"") | H390: =IF(LEN(IFERROR(VLOOKUP(C390,'11. Свод Перечней'!C:H,6,0),""))>1,IFERROR(VLOOKUP(C390,'11. Свод Перечней'!C:H,6,0),""),"")
A391: =IF(LEN(C391)>0,MAX($A$5:A390)+1,"") | B391: =IFERROR(INDEX('11. Свод Перечней'!B:C,MATCH(C391,'11. Свод Перечней'!C:C,0),1),"") | D391: =IFERROR(VLOOKUP(C391,'11. Свод Перечней'!C:H,2,0),"") | E391: =IFERROR(VLOOKUP(C391,'11. Свод Перечней'!C:H,3,0),"") | F391: =IFERROR(VLOOKUP(C391,'11. Свод Перечней'!C:H,4,0),"") | G391: =IFERROR(VLOOKUP(C391,'11. Свод Перечней'!C:H,5,0),"") | H391: =IF(LEN(IFERROR(VLOOKUP(C391,'11. Свод Перечней'!C:H,6,0),""))>1,IFERROR(VLOOKUP(C391,'11. Свод Перечней'!C:H,6,0),""),"")
A392: =IF(LEN(C392)>0,MAX($A$5:A391)+1,"") | B392: =IFERROR(INDEX('11. Свод Перечней'!B:C,MATCH(C392,'11. Свод Перечней'!C:C,0),1),"") | D392: =IFERROR(VLOOKUP(C392,'11. Свод Перечней'!C:H,2,0),"") | E392: =IFERROR(VLOOKUP(C392,'11. Свод Перечней'!C:H,3,0),"") | F392: =IFERROR(VLOOKUP(C392,'11. Свод Перечней'!C:H,4,0),"") | G392: =IFERROR(VLOOKUP(C392,'11. Свод Перечней'!C:H,5,0),"") | H392: =IF(LEN(IFERROR(VLOOKUP(C392,'11. Свод Перечней'!C:H,6,0),""))>1,IFERROR(VLOOKUP(C392,'11. Свод Перечней'!C:H,6,0),""),"")
A393: =IF(LEN(C393)>0,MAX($A$5:A392)+1,"") | B393: =IFERROR(INDEX('11. Свод Перечней'!B:C,MATCH(C393,'11. Свод Перечней'!C:C,0),1),"") | D393: =IFERROR(VLOOKUP(C393,'11. Свод Перечней'!C:H,2,0),"") | E393: =IFERROR(VLOOKUP(C393,'11. Свод Перечней'!C:H,3,0),"") | F393: =IFERROR(VLOOKUP(C393,'11. Свод Перечней'!C:H,4,0),"") | G393: =IFERROR(VLOOKUP(C393,'11. Свод Перечней'!C:H,5,0),"") | H393: =IF(LEN(IFERROR(VLOOKUP(C393,'11. Свод Перечней'!C:H,6,0),""))>1,IFERROR(VLOOKUP(C393,'11. Свод Перечней'!C:H,6,0),""),"")
A394: =IF(LEN(C394)>0,MAX($A$5:A393)+1,"") | B394: =IFERROR(INDEX('11. Свод Перечней'!B:C,MATCH(C394,'11. Свод Перечней'!C:C,0),1),"") | D394: =IFERROR(VLOOKUP(C394,'11. Свод Перечней'!C:H,2,0),"") | E394: =IFERROR(VLOOKUP(C394,'11. Свод Перечней'!C:H,3,0),"") | F394: =IFERROR(VLOOKUP(C394,'11. Свод Перечней'!C:H,4,0),"") | G394: =IFERROR(VLOOKUP(C394,'11. Свод Перечней'!C:H,5,0),"") | H394: =IF(LEN(IFERROR(VLOOKUP(C394,'11. Свод Перечней'!C:H,6,0),""))>1,IFERROR(VLOOKUP(C394,'11. Свод Перечней'!C:H,6,0),""),"")
... A1124: =IF(LEN(C1124)>0,MAX($A$5:A1123)+1,"") | B1124: =IFERROR(INDEX('11. Свод Перечней'!B:C,MATCH(C1124,'11. Свод Перечней'!C:C,0),1),"") | D1124: =IFERROR(VLOOKUP(C1124,'11. Свод Перечней'!C:H,2,0),"") | E1124: =IFERROR(VLOOKUP(C1124,'11. Свод Перечней'!C:H,3,0),"") | F1124: =IFERROR(VLOOKUP(C1124,'11. Свод Перечней'!C:H,4,0),"") | G1124: =IFERROR(VLOOKUP(C1124,'11. Свод Перечней'!C:H,5,0),"") | H1124: =IF(LEN(IFERROR(VLOOKUP(C1124,'11. Свод Перечней'!C:H,6,0),""))>1,IFERROR(VLOOKUP(C1124,'11. Свод Перечней'!C:H,6,0),""),"")

Sheet 10. Фенилкетонурия
A1: Дата актуализации ассортиментного перечня «03» марта 2026 г
A2: Ассортиментный перечень основных групп продовольственных товаров и сырья для обеспечения социального питания в учреждениях Санкт-Петербурга с заболеванием фенилкетонурия
A3: Примечание! * - Продукция предназначенная для лечебного, специального питания ** - предназначенные для использования в питании после термической обработки. Информацию о действующей нормативной документации, а также изменениях вносимых в национальные стандарты можно получить в Управлении социального питания по телефонам 576-68-25, 576-68-27 и на сайте Управления по адресу: http://www.gov.spb.ru, вкладка «Нормативные документы».
A4: № | B4: Потребительское наименование товара | C4: Название товара ККН/КТРУ | D4: ОКПД2 | E4: Детализация ККН | F4: Единица измерения ККН | G4: Характеристики товара | H4: Код КТРУ
A5: 1 | B5: 2 | C5: 2 | D5: 3 | E5: 4 | F5: 5 | G5: 6 | H5: 7
A6: 1 | B6: =IFERROR(INDEX('11. Свод Перечней'!B:C,MATCH(C6,'11. Свод Перечней'!C:C,0),1),"") -> Капуста брюссельская свежая | C6: {=IFERROR(INDEX('11. Свод Перечней'!$C$4:$C$604,SMALL(IF("Ф"='11. Свод Перечней'!$I$4:$R$604,ROW('11. Свод Перечней'!$C$4:$C$604)-3,""),ROW()-5)),"")} -> Капуста брюссельская тип 1 | D6: =IFERROR(VLOOKUP(C6,'11. Свод Перечней'!C:H,2,0),"") -> 01.13.12.110 | E6: =IFERROR(VLOOKUP(C6,'11. Свод Перечней'!C:H,3,0),"") -> 001 | F6: =IFERROR(VLOOKUP(C6,'11. Свод Перечней'!C:H,4,0),"") -> КГ | G6: =IFERROR(VLOOKUP(C6,'11. Свод Перечней'!C:H,5,0),"") -> Вид: Свежая Фасовка: Весовая Соответствие нормативно-технической документации: Технический регламент Таможенного союза "О безопасности упаковки" от 16.08.2011 ТР ТС № 005/2011, Технический регламент Таможенного союза "О безопасности пищевой продукции" от 09.12.2011 № 021/2011, Технический регламент Таможенного союза "Пищевая продукция в части ее маркировки" от 09.12.2011 № 022/2011, ГОСТ 33851-2016 | H6: =IF(LEN(IFERROR(VLOOKUP(C6,'11. Свод Перечней'!C:H,6,0),""))>1,IFERROR(VLOOKUP(C6,'11. Свод Перечней'!C:H,6,0),""),"")
A7: =IF(LEN(C7)>0,MAX($A$5:A6)+1,"") -> 2 | B7: =IFERROR(INDEX('11. Свод Перечней'!B:C,MATCH(C7,'11. Свод Перечней'!C:C,0),1),"") -> Капуста белокочанная свежая | C7: Капуста белокочанная тип 1 | D7: =IFERROR(VLOOKUP(C7,'11. Свод Перечней'!C:H,2,0),"") -> 01.13.12.120 | E7: =IFERROR(VLOOKUP(C7,'11. Свод Перечней'!C:H,3,0),"") -> 001 | F7: =IFERROR(VLOOKUP(C7,'11. Свод Перечней'!C:H,4,0),"") -> КГ | G7: =IFERROR(VLOOKUP(C7,'11. Свод Перечней'!C:H,5,0),"") -> Капуста очищенная: Нет Вид капусты по сроку созревания: Среднеспелая; Позднеспелая; Среднепоздняя Товарный класс: Первый Вид: Свежая Фасовка: Весовая Соответствие нормативно-технической документации: Технический регламент Таможенного союза "О безопасности упаковки" от 16.08.2011 ТР ТС № 005/2011, Технический регламент Таможенного союза "О безопасности пищевой продукции" от 09.12.2011 № 021/2011, Технический регламент Таможенного союза "Пищевая продукция в части ее маркировки" от 09.12.2011 № 022/2011, ГОСТ Р 51809-2001 | H7: =IF(LEN(IFERROR(VLOOKUP(C7,'11. Свод Перечней'!C:H,6,0),""))>1,IFERROR(VLOOKUP(C7,'11. Свод Перечней'!C:H,6,0),""),"") -> 01.13.12.120-00000002
A8: =IF(LEN(C8)>0,MAX($A$5:A7)+1,"") -> 3 | B8: =IFERROR(INDEX('11. Свод Перечней'!B:C,MATCH(C8,'11. Свод Перечней'!C:C,0),1),"") -> Капуста белокочанная свежая | C8: Капуста белокочанная тип 2 | D8: =IFERROR(VLOOKUP(C8,'11. Свод Перечней'!C:H,2,0),"") -> 01.13.12.120 | E8: =IFERROR(VLOOKUP(C8,'11. Свод Перечней'!C:H,3,0),"") -> 002 | F8: =IFERROR(VLOOKUP(C8,'11. Свод Перечней'!C:H,4,0),"") -> КГ | G8: =IFERROR(VLOOKUP(C8,'11. Свод Перечней'!C:H,5,0),"") -> Капуста очищенная: Нет Вид капусты по сроку созревания: Раннеспелая Товарный класс: Первый Вид: Свежая Фасовка: Весовая Соответствие нормативно-технической документации: Технический регламент Таможенного союза "О безопасности упаковки" от 16.08.2011 ТР ТС № 005/2011, Технический регламент Таможенного союза "О безопасности пищевой продукции" от 09.12.2011 № 021/2011, Технический регламент Таможенного союза "Пищевая продукция в части ее маркировки" от 09.12.2011 № 022/2011, ГОСТ Р 51809-2001 | H8: =IF(LEN(IFERROR(VLOOKUP(C8,'11. Свод Перечней'!C:H,6,0),""))>1,IFERROR(VLOOKUP(C8,'11. Свод Перечней'!C:H,6,0),""),"") -> 01.13.12.120-00000002
A9: =IF(LEN(C9)>0,MAX($A$5:A8)+1,"") -> 4 | B9: =IFERROR(INDEX('11. Свод Перечней'!B:C,MATCH(C9,'11. Свод Перечней'!C:C,0),1),"") -> Капуста краснокочанная свежая | C9: Капуста краснокочанная тип 1 | D9: =IFERROR(VLOOKUP(C9,'11. Свод Перечней'!C:H,2,0),"") -> 01.13.12.130 | E9: =IFERROR(VLOOKUP(C9,'11. Свод Перечней'!C:H,3,0),"") -> 001 | F9: =IFERROR(VLOOKUP(C9,'11. Свод Перечней'!C:H,4,0),"") -> КГ | G9: =IFERROR(VLOOKUP(C9,'11. Свод Перечней'!C:H,5,0),"") -> Вид: Свежая Фасовка: Весовая Соответствие нормативно-технической документации: Технический регламент Таможенного союза "О безопасности упаковки" от 16.08.2011 ТР ТС № 005/2011, Технический регламент Таможенного союза "О безопасности пищевой продукции" от 09.12.2011 № 021/2011, Технический регламент Таможенного союза "Пищевая продукция в части ее маркировки" от 09.12.2011 № 022/2011, ГОСТ 7967-2015 | H9: =IF(LEN(IFERROR(VLOOKUP(C9,'11. Свод Перечней'!C:H,6,0),""))>1,IFERROR(VLOOKUP(C9,'11. Свод Перечней'!C:H,6,0),""),"")
A10: =IF(LEN(C10)>0,MAX($A$5:A9)+1,"") -> 5 | B10: =IFERROR(INDEX('11. Свод Перечней'!B:C,MATCH(C10,'11. Свод Перечней'!C:C,0),1),"") -> Капуста савойская свежая | C10: Капуста савойская тип 1 | D10: =IFERROR(VLOOKUP(C10,'11. Свод Перечней'!C:H,2,0),"") -> 01.13.12.140 | E10: =IFERROR(VLOOKUP(C10,'11. Свод Перечней'!C:H,3,0),"") -> 001 | F10: =IFERROR(VLOOKUP(C10,'11. Свод Перечней'!C:H,4,0),"") -> КГ | G10: =IFERROR(VLOOKUP(C10,'11. Свод Перечней'!C:H,5,0),"") -> Вид: Свежая Фасовка: Весовая Соответствие нормативно-технической документации: Технический регламент Таможенного союза "О безопасности упаковки" от 16.08.2011 ТР ТС № 005/2011, Технический регламент Таможенного союза "О безопасности пищевой продукции" от 09.12.2011 № 021/2011, Технический регламент Таможенного союза "Пищевая продукция в части ее маркировки" от 09.12.2011 № 022/2011, ГОСТ 33551-2015, РСТ РСФСР 744-88 | H10: =IF(LEN(IFERROR(VLOOKUP(C10,'11. Свод Перечней'!C:H,6,0),""))>1,IFERROR(VLOOKUP(C10,'11. Свод Перечней'!C:H,6,0),""),"")
A11: =IF(LEN(C11)>0,MAX($A$5:A10)+1,"") -> 6 | B11: =IFERROR(INDEX('11. Свод Перечней'!B:C,MATCH(C11,'11. Свод Перечней'!C:C,0),1),"") -> Капуста китайская свежая | C11: Капуста китайская тип 1 | D11: =IFERROR(VLOOKUP(C11,'11. Свод Перечней'!C:H,2,0),"") -> 01.13.12.150 | E11: =IFERROR(VLOOKUP(C11,'11. Свод Перечней'!C:H,3,0),"") -> 001 | F11: =IFERROR(VLOOKUP(C11,'11. Свод Перечней'!C:H,4,0),"") -> КГ | G11: =IFERROR(VLOOKUP(C11,'11. Свод Перечней'!C:H,5,0),"") -> Вид: Свежая Фасовка: Весовая Соответствие нормативно-технической документации: Технический регламент Таможенного союза "О безопасности упаковки" от 16.08.2011 ТР ТС № 005/2011, Технический регламент Таможенного союза "О безопасности пищевой продукции" от 09.12.2011 № 021/2011, Технический регламент Таможенного союза "Пищевая продукция в части ее маркировки" от 09.12.2011 № 022/2011, ГОСТ 34323-2017 | H11: =IF(LEN(IFERROR(VLOOKUP(C11,'11. Свод Перечней'!C:H,6,0),""))>1,IFERROR(VLOOKUP(C11,'11. Свод Перечней'!C:H,6,0),""),"")
A12: =IF(LEN(C12)>0,MAX($A$5:A11)+1,"") -> 7 | B12: =IFERROR(INDEX('11. Свод Перечней'!B:C,MATCH(C12,'11. Свод Перечней'!C:C,0),1),"") -> Капуста кольраби свежая | C12: Капуста кольраби тип 1 | D12: =IFERROR(VLOOKUP(C12,'11. Свод Перечней'!C:H,2,0),"") -> 01.13.12.160 | E12: =IFERROR(VLOOKUP(C12,'11. Свод Перечней'!C:H,3,0),"") -> 001 | F12: =IFERROR(VLOOKUP(C12,'11. Свод Перечней'!C:H,4,0),"") -> КГ | G12: =IFERROR(VLOOKUP(C12,'11. Свод Перечней'!C:H,5,0),"") -> Вид: Свежая Фасовка: Весовая Соответствие нормативно-технической документации: Технический регламент Таможенного союза "О безопасности упаковки" от 16.08.2011 ТР ТС № 005/2011, Технический регламент Таможенного союза "О безопасности пищевой продукции" от 09.12.2011 № 021/2011, Технический регламент Таможенного союза "Пищевая продукция в части ее маркировки" от 09.12.2011 № 022/2011, ГОСТ 33916-2016 | H12: =IF(LEN(IFERROR(VLOOKUP(C12,'11. Свод Перечней'!C:H,6,0),""))>1,IFERROR(VLOOKUP(C12,'11. Свод Перечней'!C:H,6,0),""),"")
A13: =IF(LEN(C13)>0,MAX($A$5:A12)+1,"") -> 8 | B13: =IFERROR(INDEX('11. Свод Перечней'!B:C,MATCH(C13,'11. Свод Перечней'!C:C,0),1),"") -> Капуста брокколи тип 1 | C13: Капуста брокколи тип 1 | D13: =IFERROR(VLOOKUP(C13,'11. Свод Перечней'!C:H,2,0),"") -> 01.13.13.000 | E13: =IFERROR(VLOOKUP(C13,'11. Свод Перечней'!C:H,3,0),"") -> 001 | F13: =IFERROR(VLOOKUP(C13,'11. Свод Перечней'!C:H,4,0),"") -> КГ | G13: =IFERROR(VLOOKUP(C13,'11. Свод Перечней'!C:H,5,0),"") -> Товарный сорт: Первый Вид: Свежая Фасовка: Весовая Соответствие нормативно-технической документации: Технический регламент Таможенного союза "О безопасности упаковки" от 16.08.2011 ТР ТС № 005/2011, Технический регламент Таможенного союза "О безопасности пищевой продукции" от 09.12.2011 № 021/2011, Технический регламент Таможенного союза "Пищевая продукция в части ее маркировки" от 09.12.2011 № 022/2011, ГОСТ 33854-2016 | H13: =IF(LEN(IFERROR(VLOOKUP(C13,'11. Свод Перечней'!C:H,6,0),""))>1,IFERROR(VLOOKUP(C13,'11. Свод Перечней'!C:H,6,0),""),"") -> 01.13.13.000-00000002
A14: =IF(LEN(C14)>0,MAX($A$5:A13)+1,"") -> 9 | B14: =IFERROR(INDEX('11. Свод Перечней'!B:C,MATCH(C14,'11. Свод Перечней'!C:C,0),1),"") -> Капуста цветная свежая | C14: Капуста цветная тип 1 | D14: =IFERROR(VLOOKUP(C14,'11. Свод Перечней'!C:H,2,0),"") -> 01.13.13.000 | E14: =IFERROR(VLOOKUP(C14,'11. Свод Перечней'!C:H,3,0),"") -> 003 | F14: =IFERROR(VLOOKUP(C14,'11. Свод Перечней'!C:H,4,0),"") -> КГ | G14: =IFERROR(VLOOKUP(C14,'11. Свод Перечней'!C:H,5,0),"") -> Товарный сорт: Высший Вид: Свежая Фасовка: Весовая Соответствие нормативно-технической документации: Технический регламент Таможенного союза "О безопасности упаковки" от 16.08.2011 ТР ТС № 005/2011, Технический регламент Таможенного союза "О безопасности пищевой продукции" от 09.12.2011 № 021/2011, Технический регламент Таможенного союза "Пищевая продукция в части ее маркировки" от 09.12.2011 № 022/2011, ГОСТ 33952-2016 | H14: =IF(LEN(IFERROR(VLOOKUP(C14,'11. Свод Перечней'!C:H,6,0),""))>1,IFERROR(VLOOKUP(C14,'11. Свод Перечней'!C:H,6,0),""),"") -> 01.13.13.000-00000006
A15: =IF(LEN(C15)>0,MAX($A$5:A14)+1,"") -> 10 | B15: =IFERROR(INDEX('11. Свод Перечней'!B:C,MATCH(C15,'11. Свод Перечней'!C:C,0),1),"") -> Капуста цветная свежая | C15: Капуста цветная тип 2 | D15: =IFERROR(VLOOKUP(C15,'11. Свод Перечней'!C:H,2,0),"") -> 01.13.13.000 | E15: =IFERROR(VLOOKUP(C15,'11. Свод Перечней'!C:H,3,0),"") -> 002 | F15: =IFERROR(VLOOKUP(C15,'11. Свод Перечней'!C:H,4,0),"") -> КГ | G15: =IFERROR(VLOOKUP(C15,'11. Свод Перечней'!C:H,5,0),"") -> Товарный сорт: Первый Вид: Свежая Фасовка: Весовая Соответствие нормативно-технической документации: Технический регламент Таможенного союза "О безопасности упаковки" от 16.08.2011 ТР ТС № 005/2011, Технический регламент Таможенного союза "О безопасности пищевой продукции" от 09.12.2011 № 021/2011, Технический регламент Таможенного союза "Пищевая продукция в части ее маркировки" от 09.12.2011 № 022/2011, ГОСТ 33952-2016 | H15: =IF(LEN(IFERROR(VLOOKUP(C15,'11. Свод Перечней'!C:H,6,0),""))>1,IFERROR(VLOOKUP(C15,'11. Свод Перечней'!C:H,6,0),""),"") -> 01.13.13.000-00000005
A16: =IF(LEN(C16)>0,MAX($A$5:A15)+1,"") -> 11 | B16: =IFERROR(INDEX('11. Свод Перечней'!B:C,MATCH(C16,'11. Свод Перечней'!C:C,0),1),"") -> Шпинат свежий | C16: Шпинат тип 1 | D16: =IFERROR(VLOOKUP(C16,'11. Свод Перечней'!C:H,2,0),"") -> 01.13.16.000 | E16: =IFERROR(VLOOKUP(C16,'11. Свод Перечней'!C:H,3,0),"") -> 001 | F16: =IFERROR(VLOOKUP(C16,'11. Свод Перечней'!C:H,4,0),"") -> КГ | G16: =IFERROR(VLOOKUP(C16,'11. Свод Перечней'!C:H,5,0),"") -> Вид: Свежий Фасовка: Весовая Соответствие нормативно-технической документации: Технический регламент Таможенного союза "О безопасности упаковки" от 16.08.2011 ТР ТС № 005/2011, Технический регламент Таможенного союза "О безопасности пищевой продукции" от 09.12.2011 № 021/2011, Технический регламент Таможенного союза "Пищевая продукция в части ее маркировки" от 09.12.2011 № 022/2011, ГОСТ 34301-2017, РСТ РСФСР 367-77 | H16: =IF(LEN(IFERROR(VLOOKUP(C16,'11. Свод Перечней'!C:H,6,0),""))>1,IFERROR(VLOOKUP(C16,'11. Свод Перечней'!C:H,6,0),""),"")
A17: =IF(LEN(C17)>0,MAX($A$5:A16)+1,"") -> 12 | B17: =IFERROR(INDEX('11. Свод Перечней'!B:C,MATCH(C17,'11. Свод Перечней'!C:C,0),1),"") -> Петрушка свежая (зелень) | C17: Петрушка свежая тип 1 | D17: =IFERROR(VLOOKUP(C17,'11. Свод Перечней'!C:H,2,0),"") -> 01.13.19.000 | E17: =IFERROR(VLOOKUP(C17,'11. Свод Перечней'!C:H,3,0),"") -> 001 | F17: =IFERROR(VLOOKUP(C17,'11. Свод Перечней'!C:H,4,0),"") -> КГ | G17: =IFERROR(VLOOKUP(C17,'11. Свод Перечней'!C:H,5,0),"") -> Вид петрушки: Зелень обрезная Фасовка: Весовая Соответствие нормативно-технической документации: Технический регламент Таможенного союза "О безопасности упаковки" от 16.08.2011 ТР ТС № 005/2011, Технический регламент Таможенного союза "О безопасности пищевой продукции" от 09.12.2011 № 021/2011, Технический регламент Таможенного союза "Пищевая продукция в части ее маркировки" от 09.12.2011 № 022/2011, ТУ производителя; Технический регламент Таможенного союза "О безопасности упаковки" от 16.08.2011 ТР ТС № 005/2011, Технический регламент Таможенного союза "О безопасности пищевой продукции" от 09.12.2011 № 021/2011, Технический регламент Таможенного союза "Пищевая продукция в части ее маркировки" от 09.12.2011 № 022/2011, ГОСТ 34212-2017 | H17: =IF(LEN(IFERROR(VLOOKUP(C17,'11. Свод Перечней'!C:H,6,0),""))>1,IFERROR(VLOOKUP(C17,'11. Свод Перечней'!C:H,6,0),""),"") -> 01.13.19.000-00000002
A18: =IF(LEN(C18)>0,MAX($A$5:A17)+1,"") -> 13 | B18: =IFERROR(INDEX('11. Свод Перечней'!B:C,MATCH(C18,'11. Свод Перечней'!C:C,0),1),"") -> Сельдерей свежий (зелень) обрезной | C18: Сельдерей тип 2 | D18: =IFERROR(VLOOKUP(C18,'11. Свод Перечней'!C:H,2,0),"") -> 01.13.19.000 | E18: =IFERROR(VLOOKUP(C18,'11. Свод Перечней'!C:H,3,0),"") -> 003 | F18: =IFERROR(VLOOKUP(C18,'11. Свод Перечней'!C:H,4,0),"") -> КГ | G18: =IFERROR(VLOOKUP(C18,'11. Свод Перечней'!C:H,5,0),"") -> Тип: Зелень, обрезной Вид: Свежий Фасовка: Весовая Соответствие нормативно-технической документации: Технический регламент Таможенного союза "О безопасности упаковки" от 16.08.2011 ТР ТС № 005/2011, Технический регламент Таможенного союза "О безопасности пищевой продукции" от 09.12.2011 № 021/2011, Технический регламент Таможенного союза "Пищевая продукция в части ее маркировки" от 09.12.2011 № 022/2011, РСТ РСФСР 749-88 | H18: =IF(LEN(IFERROR(VLOOKUP(C18,'11. Свод Перечней'!C:H,6,0),""))>1,IFERROR(VLOOKUP(C18,'11. Свод Перечней'!C:H,6,0),""),"")
... A216: =IF(LEN(C216)>0,MAX($A$5:A215)+1,"") -> 211 | B216: =IFERROR(INDEX('11. Свод Перечней'!B:C,MATCH(C216,'11. Свод Перечней'!C:C,0),1),"") -> Напиток из шиповника промышленного производства витаминизированный | C216: Напиток из шиповника витаминизированный тип 2 | D216: =IFERROR(VLOOKUP(C216,'11. Свод Перечней'!C:H,2,0),"") -> 11.07.19.190 | E216: =IFERROR(VLOOKUP(C216,'11. Свод Перечней'!C:H,3,0),"") -> 002 | F216: =IFERROR(VLOOKUP(C216,'11. Свод Перечней'!C:H,4,0),"") -> Л; ДМ3 | G216: =IFERROR(VLOOKUP(C216,'11. Свод Перечней'!C:H,5,0),"") -> Вид применяемого сырья: Плоды шиповника свежие; Плоды шиповника сушеные Объем, Л; ДМ3: > 1 Упаковка производителя: Наличие Особые условия (требования к составу пищевых продуктов): Без химических консервантов, искусственных красителей и ароматизаторов, искусственных пищевых добавок Соответствие нормативно-технической документации: Технический регламент Таможенного союза "О безопасности упаковки" от 16.08.2011 ТР ТС № 005/2011, Технический регламент Таможенного союза "О безопасности пищевой продукции" от 09.12.2011 № 021/2011, Технический регламент Таможенного союза "Пищевая продукция в части ее маркировки" от 09.12.2011 № 022/2011, ТУ производителя | H216: =IF(LEN(IFERROR(VLOOKUP(C216,'11. Свод Перечней'!C:H,6,0),""))>1,IFERROR(VLOOKUP(C216,'11. Свод Перечней'!C:H,6,0),""),"")
A217: =IF(LEN(C217)>0,MAX($A$5:A216)+1,"") | B217: =IFERROR(INDEX('11. Свод Перечней'!B:C,MATCH(C217,'11. Свод Перечней'!C:C,0),1),"") | D217: =IFERROR(VLOOKUP(C217,'11. Свод Перечней'!C:H,2,0),"") | E217: =IFERROR(VLOOKUP(C217,'11. Свод Перечней'!C:H,3,0),"") | F217: =IFERROR(VLOOKUP(C217,'11. Свод Перечней'!C:H,4,0),"") | G217: =IFERROR(VLOOKUP(C217,'11. Свод Перечней'!C:H,5,0),"") | H217: =IF(LEN(IFERROR(VLOOKUP(C217,'11. Свод Перечней'!C:H,6,0),""))>1,IFERROR(VLOOKUP(C217,'11. Свод Перечней'!C:H,6,0),""),"")
