Workbook

Sheet НДС
B1: НДС | C1: =H37 -> 96528.1 | D1: руб. | E1: =C1-C2 -> 87752.818 | I1: 50 | L1: 0 | M1: =SUMIF(ИТОГ!$M$8:$M$45,L1,ИТОГ!$J$8:$J$45) -> 38505.7
B2: 0.1 | C2: =C1*B2/(1+B2) -> 8775.2818 | I2: 1.8 | L2: 8 | M2: =SUMIF(ИТОГ!$M$8:$M$45,L2,ИТОГ!$J$8:$J$45) -> 79762.1
B3: 0.2 | C3: =C1*B3/(1+B3) -> 16088.017 | L3: Итого | M3: =SUM(M1:M2) -> 118267.8
B4: Обеспеч | C4: 16909.38 | D4: =C4*1.5 -> 25364.07
B5: без НДС | C5: размер НДС | D5: итого | E5: Количество | F5: без НДС | G5: размер НДС | H5: итого | I5: Упаковок | J5: НДС
A6: 1 | B6: =D6-C6 -> 5.54 | C6: =ROUND(D6*$B$2/(1+$B$2),2) -> 0.55 | D6: 6.09 | E6: 200 | F6: =H6-G6 -> 1107.27 | G6: =ROUND(H6*$J6/(1+$J6),2) -> 110.73 | H6: =D6*E6 -> 1218 | I6: =E6/$I$2/$I$1 -> 2.2222222 | J6: 0.1
A7: 2 | B7: =D7-C7 -> 5.64 | C7: =ROUND(D7*$B$2/(1+$B$2),2) -> 0.56 | D7: 6.2 | E7: 200 | F7: =H7-G7 -> 1127.27 | G7: =ROUND(H7*$J7/(1+$J7),2) -> 112.73 | H7: =D7*E7 -> 1240 | I7: =E7/$I$2/$I$1 -> 2.2222222 | J7: 0.1
A8: 3 | B8: =D8-C8 -> 6.81 | C8: =ROUND(D8*$B$2/(1+$B$2),2) -> 0.68 | D8: 7.49 | E8: 50 | F8: =H8-G8 -> 340.45 | G8: =ROUND(H8*$J8/(1+$J8),2) -> 34.05 | H8: =D8*E8 -> 374.5 | I8: =E8/$I$2/$I$1 -> 0.55555556 | J8: 0.1
A9: 4 | B9: =D9-C9 -> 4.09 | C9: =ROUND(D9*$B$2/(1+$B$2),2) -> 0.41 | D9: 4.5 | E9: 80 | F9: =H9-G9 -> 327.27 | G9: =ROUND(H9*$J9/(1+$J9),2) -> 32.73 | H9: =D9*E9 -> 360 | I9: =E9/$I$2/$I$1 -> 0.88888889 | J9: 0.1
A10: 5 | B10: =D10-C10 -> 17.27 | C10: =ROUND(D10*$B$2/(1+$B$2),2) -> 1.73 | D10: 19 | E10: 50 | F10: =H10-G10 -> 863.64 | G10: =ROUND(H10*$J10/(1+$J10),2) -> 86.36 | H10: =D10*E10 -> 950 | I10: =E10/$I$2/$I$1 -> 0.55555556 | J10: 0.1
A11: 6 | B11: =D11-C11 -> 20 | C11: =ROUND(D11*$B$2/(1+$B$2),2) -> 2 | D11: 22 | E11: 1150 | F11: =H11-G11 -> 23000 | G11: =ROUND(H11*$J11/(1+$J11),2) -> 2300 | H11: =D11*E11 -> 25300 | I11: =E11/$I$2/$I$1 -> 12.777778 | J11: 0.1
A12: 7 | B12: =D12-C12 -> 2.82 | C12: =ROUND(D12*$B$2/(1+$B$2),2) -> 0.28 | D12: 3.1 | E12: 120 | F12: =H12-G12 -> 338.18 | G12: =ROUND(H12*$J12/(1+$J12),2) -> 33.82 | H12: =D12*E12 -> 372 | I12: =E12/$I$2/$I$1 -> 1.3333333 | J12: 0.1
A13: 8 | B13: =D13-C13 -> 1.33 | C13: =ROUND(D13*$B$2/(1+$B$2),2) -> 0.13 | D13: 1.46 | E13: 150 | F13: =H13-G13 -> 199.09 | G13: =ROUND(H13*$J13/(1+$J13),2) -> 19.91 | H13: =D13*E13 -> 219 | I13: =E13/$I$2/$I$1 -> 1.6666667 | J13: 0.1
A14: 9 | B14: =D14-C14 -> 2.98 | C14: =ROUND(D14*$B$2/(1+$B$2),2) -> 0.3 | D14: 3.28 | E14: 500 | F14: =H14-G14 -> 1490.91 | G14: =ROUND(H14*$J14/(1+$J14),2) -> 149.09 | H14: =D14*E14 -> 1640 | I14: =E14/$I$2/$I$1 -> 5.5555556 | J14: 0.1
A15: 10 | B15: =D15-C15 -> 2.87 | C15: =ROUND(D15*$B$2/(1+$B$2),2) -> 0.29 | D15: 3.16 | E15: 500 | F15: =H15-G15 -> 1436.36 | G15: =ROUND(H15*$J15/(1+$J15),2) -> 143.64 | H15: =D15*E15 -> 1580 | I15: =E15/$I$2/$I$1 -> 5.5555556 | J15: 0.1
A16: 11 | B16: =D16-C16 -> 1.32 | C16: =ROUND(D16*$B$2/(1+$B$2),2) -> 0.13 | D16: 1.45 | E16: 200 | F16: =H16-G16 -> 263.64 | G16: =ROUND(H16*$J16/(1+$J16),2) -> 26.36 | H16: =D16*E16 -> 290 | I16: =E16/$I$2/$I$1 -> 2.2222222 | J16: 0.1
A17: 12 | B17: =D17-C17 -> 5.45 | C17: =ROUND(D17*$B$2/(1+$B$2),2) -> 0.55 | D17: 6 | E17: 100 | F17: =H17-G17 -> 545.45 | G17: =ROUND(H17*$J17/(1+$J17),2) -> 54.55 | H17: =D17*E17 -> 600 | I17: =E17/$I$2/$I$1 -> 1.1111111 | J17: 0.1
... A36: 31 | B36: =D36-C36 -> 7.72 | C36: =ROUND(D36*$B$2/(1+$B$2),2) -> 0.77 | D36: 8.49 | E36: 100 | F36: =H36-G36 -> 771.82 | G36: =ROUND(H36*$J36/(1+$J36),2) -> 77.18 | H36: =D36*E36 -> 849 | I36: =E36/$I$2/$I$1 -> 1.1111111 | J36: 0.1
C37: =D37*$B$2/(1+$B$2) -> 0 | E37: =SUM(E6:E36) -> 100030 | F37: =SUM(F6:F36) -> 87752.8 | G37: =SUM(G6:G36) -> 8775.3 | H37: =SUM(H6:H36) -> 96528.1 | I37: =SUM(I6:I36) -> 1111.4444 | J37: 0.1 | K37: =H37*$J$37/(1+$J$37) -> 8775.2818
H38: =[1]Лист1!J31 -> 173770
H39: =H37-F37 -> 8775.3

Sheet ИТОГ
C1: Расчет НМЦК осуществляется в соответствии с пунктом 9 Порядка по формуле:
C3: n - количество поставляемых лекарственных препаратов;
C4: Цi - цена единицы i-го лекарственного препарата с учетом НДС и оптовой надбавки*
C5: Vi - объем поставки i-го лекарственного препарата.
C6: * | D6: В соотвествии с п. 10 приказа № 1064н оптовая надбавка не применяется
B7: № | D7: Международное непатентованное наименование или химическое, группировочное наименование лекарственного препарата | E7: Цена единицы лекарственного препарата, руб. | F7: НДС 10% | G7: Цена единицы лекарственного препарата с учетом НДС и оптовой надбавки*, руб. | H7: Единица измерения | I7: Объем поставки лекарственного препарата (ед. изм.) | J7: НМЦК, руб. | K7: Код узла СМНН | L7: ОКПД | M7: Омс/пд
B8: 1 | C8: 1 | D8: =VLOOKUP($B8,'Свод '!$B$4:$G$160,3,0) -> Папаверина гидрохлорид 2 % 2 мл №10 | E8: =VLOOKUP($B8,'Свод '!$B$4:$G$160,6,0) -> 6.68 | F8: =ROUND(E8*10%,2) -> 0.67 | G8: =ROUND(E8+F8,2) -> 7.35 | H8: =VLOOKUP(B8,'Анализ рынка'!$1:$1048576,12,0) -> мл | I8: =VLOOKUP(B8,'Анализ рынка'!$1:$1048576,35,0) -> 200 | J8: =G8*I8 -> 1470 | K8: 7.35 | L8: =VLOOKUP($B8,'Спецификация 25'!$A:$J,4,0) -> 21.20.10.113 | M8: 8 | N8: Лекарственная форма: раствор для инъекций. Дозировка: 20 мг/мл. Первичная упаковка: Ампула Описание упаковки: 10 амп. по 2 мл
B9: 2 | C9: 2 | D9: =VLOOKUP($B9,'Свод '!$B$4:$G$160,3,0) -> Анальгин 50 % 2 мл №10 | E9: =VLOOKUP($B9,'Свод '!$B$4:$G$160,6,0) -> 5.14 | F9: =ROUND(E9*10%,2) -> 0.51 | G9: =ROUND(E9+F9,2) -> 5.65 | H9: =VLOOKUP(B9,'Анализ рынка'!$1:$1048576,12,0) -> мл | I9: =VLOOKUP(B9,'Анализ рынка'!$1:$1048576,35,0) -> 100 | J9: =G9*I9 -> 565 | K9: 5.65 | L9: =VLOOKUP($B9,'Спецификация 25'!$A:$J,4,0) -> 21.20.10.232 | M9: 8 | N9: Лекарственная форма: раствор для внутривенного и внутримышечного введения. Дозировка: 500 мг/мл. (Метамизол натрия) Первичная упаковка: Ампула. Описание упаковки: 10 амп. по 2 мл.
B10: 3 | C10: 3 | D10: =VLOOKUP($B10,'Свод '!$B$4:$G$160,3,0) -> Дибазол 1% 1 мл №10 | E10: =VLOOKUP($B10,'Свод '!$B$4:$G$160,6,0) -> 7.63 | F10: =ROUND(E10*10%,2) -> 0.76 | G10: =ROUND(E10+F10,2) -> 8.39 | H10: =VLOOKUP(B10,'Анализ рынка'!$1:$1048576,12,0) -> мл | I10: =VLOOKUP(B10,'Анализ рынка'!$1:$1048576,35,0) -> 70 | J10: =G10*I10 -> 587.3 | K10: 8.39 | L10: =VLOOKUP($B10,'Спецификация 25'!$A:$J,4,0) -> 21.20.10.144 | M10: 8 | N10: Лекарственная форма: раствор для внутривенного и внутримышечного введения. Дозировка: 10 мг/мл (Бендазол); Первичная упаковка: Ампула. Описание упаковки: 10 амп. по 1 мл
B11: 4 | C11: 4 | D11: =VLOOKUP($B11,'Свод '!$B$4:$G$160,3,0) -> Димедрол 1% 1 мл №10 | E11: =VLOOKUP($B11,'Свод '!$B$4:$G$160,6,0) -> 6.36 | F11: =ROUND(E11*10%,2) -> 0.64 | G11: =ROUND(E11+F11,2) -> 7 | H11: =VLOOKUP(B11,'Анализ рынка'!$1:$1048576,12,0) -> мл | I11: =VLOOKUP(B11,'Анализ рынка'!$1:$1048576,35,0) -> 50 | J11: =G11*I11 -> 350 | K11: 7 | L11: =VLOOKUP($B11,'Спецификация 25'!$A:$J,4,0) -> 21.20.10.256 | M11: 8 | N11: Лекарственная форма: раствор для внутривенного и внутримышечного введения. Дозировка: 10 мг/мл (Дифенгидрамин); Первичная упаковка: Ампула. Описание упаковки: 10 амп. по 1 мл
B12: 6 | C12: 5 | D12: =VLOOKUP($B12,'Свод '!$B$4:$G$160,3,0) -> Адреналина гидрохлорид 0,1% 1 мл №5 | E12: =VLOOKUP($B12,'Свод '!$B$4:$G$160,6,0) -> 23.54 | F12: =ROUND(E12*10%,2) -> 2.35 | G12: =ROUND(E12+F12,2) -> 25.89 | H12: =VLOOKUP(B12,'Анализ рынка'!$1:$1048576,12,0) -> мл | I12: =VLOOKUP(B12,'Анализ рынка'!$1:$1048576,35,0) -> 1150 | J12: =G12*I12 -> 29773.5 | K12: 9.58 | L12: =VLOOKUP($B12,'Спецификация 25'!$A:$J,4,0) -> 21.20.10.141 | M12: 8 | N12: Лекарственная форма: Раствор для инъекций. Дозировка: 1 мг/мл. (Эпинефрин) Первичная упаковка: Ампула. Описание упаковки: 5 амп. по 1 мл
B13: 7 | C13: 6 | D13: =VLOOKUP($B13,'Свод '!$B$4:$G$160,3,0) -> Фуросемид 1% 2 мл 10 | E13: =VLOOKUP($B13,'Свод '!$B$4:$G$160,6,0) -> 3.95 | F13: =ROUND(E13*10%,2) -> 0.4 | G13: =ROUND(E13+F13,2) -> 4.35 | H13: =VLOOKUP(B13,'Анализ рынка'!$1:$1048576,12,0) -> мл | I13: =VLOOKUP(B13,'Анализ рынка'!$1:$1048576,35,0) -> 120 | J13: =G13*I13 -> 522 | K13: 0.79 | L13: =VLOOKUP($B13,'Спецификация 25'!$A:$J,4,0) -> 21.20.10.143 | M13: 8 | N13: Лекарственная форма: Раствор для внутривенного и внутримышечного введения. Дозировка: 10 мг/мл. Первичная упаковка: Ампула. Описание упаковки: 10 амп. по 2 мл
B14: 8 | C14: 7 | D14: =VLOOKUP($B14,'Свод '!$B$4:$G$160,3,0) -> Эуфиллин 2,4% 5 мл №10 | E14: =VLOOKUP($B14,'Свод '!$B$4:$G$160,6,0) -> 1.81 | F14: =ROUND(E14*10%,2) -> 0.18 | G14: =ROUND(E14+F14,2) -> 1.99 | H14: =VLOOKUP(B14,'Анализ рынка'!$1:$1048576,12,0) -> мл | I14: =VLOOKUP(B14,'Анализ рынка'!$1:$1048576,35,0) -> 300 | J14: =G14*I14 -> 597 | K14: 0.44 | L14: =VLOOKUP($B14,'Спецификация 25'!$A:$J,4,0) -> 21.20.10.254 | M14: 8 | N14: Лекарственная форма: Раствор для внутривенного введения. Дозировка: 24 мг/мл.(Аминофиллин) Первичная упаковка: Ампула. Описание упаковки: 10 амп. по 5 мл
B15: 9 | C15: 8 | D15: =VLOOKUP($B15,'Свод '!$B$4:$G$160,3,0) -> Пустырника настойка 25 мл | E15: =VLOOKUP($B15,'Свод '!$B$4:$G$160,6,0) -> 1.8 | F15: =ROUND(E15*10%,2) -> 0.18 | G15: =ROUND(E15+F15,2) -> 1.98 | H15: =VLOOKUP(B15,'Анализ рынка'!$1:$1048576,12,0) -> мл | I15: =VLOOKUP(B15,'Анализ рынка'!$1:$1048576,35,0) -> 500 | J15: =G15*I15 -> 990 | K15: 1.98 | L15: =VLOOKUP($B15,'Спецификация 25'!$A:$J,4,0) -> 21.20.10.235 | M15: 8 | N15: Лекарственная форма: Настойка. Первичная упаковка: Флакон. Объем: 25 мл.
B16: 10 | C16: 9 | D16: =VLOOKUP($B16,'Свод '!$B$4:$G$160,3,0) -> Валерианы настойка 25 мл | E16: =VLOOKUP($B16,'Свод '!$B$4:$G$160,6,0) -> 2.54 | F16: =ROUND(E16*10%,2) -> 0.25 | G16: =ROUND(E16+F16,2) -> 2.79 | H16: =VLOOKUP(B16,'Анализ рынка'!$1:$1048576,12,0) -> мл | I16: =VLOOKUP(B16,'Анализ рынка'!$1:$1048576,35,0) -> 500 | J16: =G16*I16 -> 1395 | K16: 2.79 | L16: =VLOOKUP($B16,'Спецификация 25'!$A:$J,4,0) -> 21.20.10.235 | M16: 8 | N16: Лекарственная форма: Настойка. Первичная упаковка: Флакон. Объем: 25 мл.
B17: 12 | C17: 10 | D17: =VLOOKUP($B17,'Свод '!$B$4:$G$160,3,0) -> Андипал 20 мг+250 мг+20 мг+ 20 мг №10 | E17: =VLOOKUP($B17,'Свод '!$B$4:$G$160,6,0) -> 4.18 | F17: =ROUND(E17*10%,2) -> 0.42 | G17: =ROUND(E17+F17,2) -> 4.6 | H17: =VLOOKUP(B17,'Анализ рынка'!$1:$1048576,12,0) -> шт | I17: =VLOOKUP(B17,'Анализ рынка'!$1:$1048576,35,0) -> 100 | J17: =G17*I17 -> 460 | K17: 4.6 | L17: =VLOOKUP($B17,'Спецификация 25'!$A:$J,4,0) -> 21.20.10.232 | M17: 8 | N17: Лекарственная форма: таблетки. Дозировка: 20 мг+250 мг+20 мг + 20 мг.(Бендазол + Метамизол натрия + Папаверин + Фенобарбитал) Описание упаковки: 10 шт
B18: 13 | C18: 11 | D18: =VLOOKUP($B18,'Свод '!$B$4:$G$160,3,0) -> Валидол 60 мг №10 | E18: =VLOOKUP($B18,'Свод '!$B$4:$G$160,6,0) -> 2.18 | F18: =ROUND(E18*10%,2) -> 0.22 | G18: =ROUND(E18+F18,2) -> 2.4 | H18: =VLOOKUP(B18,'Анализ рынка'!$1:$1048576,12,0) -> шт | I18: =VLOOKUP(B18,'Анализ рынка'!$1:$1048576,35,0) -> 100 | J18: =G18*I18 -> 240 | K18: 2.4 | L18: =VLOOKUP($B18,'Спецификация 25'!$A:$J,4,0) -> 21.20.10.141 | M18: 8 | N18: Лекарственная форма: таблетки подъязычные. Дозировка: 60 мг (Левоментола раствор в ментил изовалерате) Описание упаковки: 10 шт.
B19: 14 | C19: 12 | D19: =VLOOKUP($B19,'Свод '!$B$4:$G$160,3,0) -> Капотен 25 мг №40 | E19: =VLOOKUP($B19,'Свод '!$B$4:$G$160,6,0) -> 6.62 | F19: =ROUND(E19*10%,2) -> 0.66 | G19: =ROUND(E19+F19,2) -> 7.28 | H19: =VLOOKUP(B19,'Анализ рынка'!$1:$1048576,12,0) -> шт | I19: =VLOOKUP(B19,'Анализ рынка'!$1:$1048576,35,0) -> 120 | J19: =G19*I19 -> 873.6 | K19: 6.51 | L19: =VLOOKUP($B19,'Спецификация 25'!$A:$J,4,0) -> 21.20.10.148 | M19: 8 | N19: Лекарственная форма: Таблетки. Дозировка: 25 мг (Каптоприл). Описание упаковки: 40 шт
... B45: 43 | C45: 38 | D45: =VLOOKUP($B45,'Свод '!$B$4:$G$160,3,0) -> Супрастин 25 мг № 20 | E45: =VLOOKUP($B45,'Свод '!$B$4:$G$160,6,0) -> 6.4 | F45: =ROUND(E45*10%,2) -> 0.64 | G45: =ROUND(E45+F45,2) -> 7.04 | H45: =VLOOKUP(B45,'Анализ рынка'!$1:$1048576,12,0) -> шт | I45: =VLOOKUP(B45,'Анализ рынка'!$1:$1048576,35,0) -> 120 | J45: =G45*I45 -> 844.8 | K45: 6.29 | L45: =VLOOKUP($B45,'Спецификация 25'!$A:$J,4,0) -> 21.20.10.256 | M45: 8 | N45: Лекарственная форма: Таблетки Дозировка: 25 мг (ХЛОРОПИРАМИН) Описание упаковки: 20 шт.
B46: ИТОГО: | J46: =SUM(J8:J45) -> 118267.8

Sheet Свод 
D1: Сводная информация о значениях цен за единицу планируемого к закупке лекарственного препарата, определенных в соответствии с пунктом 2 Порядка:
A2: - | B2: 1 | C2: 2 | D2: 3 | E2: 4 | F2: 5 | G2: 8 | H2: 9
B3: № расчета | C3: № п/п | D3: Торговое наименование | E3: Метод определения цены единицы лекарственного препарата | F3: Цена единицы планируемого к закупке ЛП, определенная в соответствии с пунктом 2 Порядка (руб.) | G3: Минимальное значение цены из минимальных цен, рассчитанных с одновременным применением методов, предусмотренных пунктом 2 Порядка с учетом оптовой надбавки (руб.) | H3: 2
B4: ='Анализ рынка'!A8 -> 1 | C4: 1 | D4: =VLOOKUP(B4,'Анализ рынка'!$A$8:$AL$50,6,0) -> Папаверина гидрохлорид 2 % 2 мл №10 | E4: Метод сопоставимых рыночных цен (анализа рынка) | F4: =VLOOKUP(B4,'Анализ рынка'!$A:$AL,31,0) -> 6.68 | G4: =IFERROR(IFERROR(IFERROR(SMALL(F4:F7,$H$3),SMALL(F4:F7,2)),SMALL(F4:F7,2)),SMALL(F4:F7,1)) -> 6.68
E5: Тарифный метод | F5: =VLOOKUP(B4,'Тарифный метод'!$A$4:$L$46,11,0) -> Не ЖНВЛП
E6: Расчет средневзвешенной цены | F6: =VLOOKUP(B4,'Средневзвешенная цена'!$D$6:$P$36,9,0) -> нет
E7: Референтная цена | F7: отсутствует
B8: 2 | C8: 2 | D8: =VLOOKUP(B8,'Анализ рынка'!$A$8:$AL$50,6,0) -> Анальгин 50 % 2 мл №10 | E8: Метод сопоставимых рыночных цен (анализа рынка) | F8: =VLOOKUP(B8,'Анализ рынка'!$A:$AL,31,0) -> 5.14 | G8: =IFERROR(IFERROR(IFERROR(SMALL(F8:F11,$H$3),SMALL(F8:F11,2)),SMALL(F8:F11,2)),SMALL(F8:F11,1)) -> 5.14
E9: Тарифный метод | F9: =VLOOKUP(B8,'Тарифный метод'!$A$4:$L$46,11,0) -> Не ЖНВЛП
E10: Расчет средневзвешенной цены | F10: =VLOOKUP(B8,'Средневзвешенная цена'!$D$6:$P$36,9,0) -> нет
E11: Референтная цена | F11: отсутствует
B12: 3 | C12: 3 | D12: =VLOOKUP(B12,'Анализ рынка'!$A$8:$AL$50,6,0) -> Дибазол 1% 1 мл №10 | E12: Метод сопоставимых рыночных цен (анализа рынка) | F12: =VLOOKUP(B12,'Анализ рынка'!$A:$AL,31,0) -> 7.63 | G12: =IFERROR(IFERROR(IFERROR(SMALL(F12:F15,$H$3),SMALL(F12:F15,2)),SMALL(F12:F15,2)),SMALL(F12:F15,1)) -> 7.63
E13: Тарифный метод | F13: =VLOOKUP(B12,'Тарифный метод'!$A$4:$L$46,11,0) -> Не ЖНВЛП
E14: Расчет средневзвешенной цены | F14: =VLOOKUP(B12,'Средневзвешенная цена'!$D$6:$P$36,9,0) -> нет
E15: Референтная цена | F15: отсутствует
B16: 4 | C16: 4 | D16: =VLOOKUP(B16,'Анализ рынка'!$A$8:$AL$50,6,0) -> Димедрол 1% 1 мл №10 | E16: Метод сопоставимых рыночных цен (анализа рынка) | F16: =VLOOKUP(B16,'Анализ рынка'!$A:$AL,31,0) -> 6.36 | G16: =IFERROR(IFERROR(IFERROR(SMALL(F16:F19,$H$3),SMALL(F16:F19,2)),SMALL(F16:F19,2)),SMALL(F16:F19,1)) -> 6.36
E17: Тарифный метод | F17: =VLOOKUP(B16,'Тарифный метод'!$A$4:$L$46,11,0) -> Не ЖНВЛП
E18: Расчет средневзвешенной цены | F18: =VLOOKUP(B16,'Средневзвешенная цена'!$D$6:$P$36,9,0) -> нет
E19: Референтная цена | F19: отсутствует
B20: 6 | C20: 5 | D20: =VLOOKUP(B20,'Анализ рынка'!$A$8:$AL$50,6,0) -> Адреналина гидрохлорид 0,1% 1 мл №5 | E20: Метод сопоставимых рыночных цен (анализа рынка) | F20: =VLOOKUP(B20,'Анализ рынка'!$A:$AL,31,0) -> 23.54 | G20: =IFERROR(IFERROR(IFERROR(SMALL(F20:F23,$H$3),SMALL(F20:F23,2)),SMALL(F20:F23,2)),SMALL(F20:F23,1)) -> 23.54
E21: Тарифный метод | F21: =VLOOKUP(B20,'Тарифный метод'!$A$4:$L$46,11,0) -> 8.706
E22: Расчет средневзвешенной цены | F22: =VLOOKUP(B20,'Средневзвешенная цена'!$D$6:$P$36,9,0) -> нет
E23: Референтная цена | F23: отсутствует
B24: 7 | C24: 6 | D24: =VLOOKUP(B24,'Анализ рынка'!$A$8:$AL$50,6,0) -> Фуросемид 1% 2 мл 10 | E24: Метод сопоставимых рыночных цен (анализа рынка) | F24: =VLOOKUP(B24,'Анализ рынка'!$A:$AL,31,0) -> 3.95 | G24: =IFERROR(IFERROR(IFERROR(SMALL(F24:F27,$H$3),SMALL(F24:F27,2)),SMALL(F24:F27,2)),SMALL(F24:F27,1)) -> 3.95
E25: Тарифный метод | F25: =VLOOKUP(B24,'Тарифный метод'!$A$4:$L$46,11,0) -> 0.719
E26: Расчет средневзвешенной цены | F26: =VLOOKUP(B24,'Средневзвешенная цена'!$D$6:$P$36,9,0) -> нет
E27: Референтная цена | F27: отсутствует
B28: 8 | C28: 7 | D28: =VLOOKUP(B28,'Анализ рынка'!$A$8:$AL$50,6,0) -> Эуфиллин 2,4% 5 мл №10 | E28: Метод сопоставимых рыночных цен (анализа рынка) | F28: =VLOOKUP(B28,'Анализ рынка'!$A:$AL,31,0) -> 1.81 | G28: =IFERROR(IFERROR(IFERROR(SMALL(F28:F31,$H$3),SMALL(F28:F31,2)),SMALL(F28:F31,2)),SMALL(F28:F31,1)) -> 1.81
E29: Тарифный метод | F29: =VLOOKUP(B28,'Тарифный метод'!$A$4:$L$46,11,0) -> 0.4042
E30: Расчет средневзвешенной цены | F30: =VLOOKUP(B28,'Средневзвешенная цена'!$D$6:$P$36,9,0) -> нет
E31: Референтная цена | F31: отсутствует
B32: 9 | C32: 8 | D32: =VLOOKUP(B32,'Анализ рынка'!$A$8:$AL$50,6,0) -> Пустырника настойка 25 мл | E32: Метод сопоставимых рыночных цен (анализа рынка) | F32: =VLOOKUP(B32,'Анализ рынка'!$A:$AL,31,0) -> 1.8 | G32: =IFERROR(IFERROR(IFERROR(SMALL(F32:F35,$H$3),SMALL(F32:F35,2)),SMALL(F32:F35,2)),SMALL(F32:F35,1)) -> 1.8
E33: Тарифный метод | F33: =VLOOKUP(B32,'Тарифный метод'!$A$4:$L$46,11,0) -> Не ЖНВЛП
E34: Расчет средневзвешенной цены | F34: =VLOOKUP(B32,'Средневзвешенная цена'!$D$6:$P$36,9,0) -> нет
E35: Референтная цена | F35: отсутствует
B36: 10 | C36: 9 | D36: =VLOOKUP(B36,'Анализ рынка'!$A$8:$AL$50,6,0) -> Валерианы настойка 25 мл | E36: Метод сопоставимых рыночных цен (анализа рынка) | F36: =VLOOKUP(B36,'Анализ рынка'!$A:$AL,31,0) -> 2.54 | G36: =IFERROR(IFERROR(IFERROR(SMALL(F36:F39,$H$3),SMALL(F36:F39,2)),SMALL(F36:F39,2)),SMALL(F36:F39,1)) -> 2.54
E37: Тарифный метод | F37: =VLOOKUP(B36,'Тарифный метод'!$A$4:$L$46,11,0) -> Не ЖНВЛП
E38: Расчет средневзвешенной цены | F38: =VLOOKUP(B36,'Средневзвешенная цена'!$D$6:$P$36,9,0) -> нет
E39: Референтная цена | F39: отсутствует
B40: 12 | C40: 10 | D40: =VLOOKUP(B40,'Анализ рынка'!$A$8:$AL$50,6,0) -> Андипал 20 мг+250 мг+20 мг+ 20 мг №10 | E40: Метод сопоставимых рыночных цен (анализа рынка) | F40: =VLOOKUP(B40,'Анализ рынка'!$A:$AL,31,0) -> 4.18 | G40: =IFERROR(IFERROR(IFERROR(SMALL(F40:F43,$H$3),SMALL(F40:F43,2)),SMALL(F40:F43,2)),SMALL(F40:F43,1)) -> 4.18
E41: Тарифный метод | F41: =VLOOKUP(B40,'Тарифный метод'!$A$4:$L$46,11,0) -> Не ЖНВЛП
E42: Расчет средневзвешенной цены | F42: =VLOOKUP(B40,'Средневзвешенная цена'!$D$6:$P$36,9,0) -> нет
E43: Референтная цена | F43: отсутствует
B44: 13 | C44: 11 | D44: =VLOOKUP(B44,'Анализ рынка'!$A$8:$AL$50,6,0) -> Валидол 60 мг №10 | E44: Метод сопоставимых рыночных цен (анализа рынка) | F44: =VLOOKUP(B44,'Анализ рынка'!$A:$AL,31,0) -> 2.18 | G44: =IFERROR(IFERROR(IFERROR(SMALL(F44:F47,$H$3),SMALL(F44:F47,2)),SMALL(F44:F47,2)),SMALL(F44:F47,1)) -> 2.18
E45: Тарифный метод | F45: =VLOOKUP(B44,'Тарифный метод'!$A$4:$L$46,11,0) -> Не ЖНВЛП
E46: Расчет средневзвешенной цены | F46: =VLOOKUP(B44,'Средневзвешенная цена'!$D$6:$P$36,9,0) -> нет
E47: Референтная цена | F47: отсутствует
B48: 14 | C48: 12 | D48: =VLOOKUP(B48,'Анализ рынка'!$A$8:$AL$50,6,0) -> Капотен 25 мг №40 | E48: Метод сопоставимых рыночных цен (анализа рынка) | F48: =VLOOKUP(B48,'Анализ рынка'!$A:$AL,31,0) -> 6.62 | G48: =IFERROR(IFERROR(IFERROR(SMALL(F48:F51,$H$3),SMALL(F48:F51,2)),SMALL(F48:F51,2)),SMALL(F48:F51,1)) -> 6.62
E49: Тарифный метод | F49: =VLOOKUP(B48,'Тарифный метод'!$A$4:$L$46,11,0) -> 5.9175
E50: Расчет средневзвешенной цены | F50: =VLOOKUP(B48,'Средневзвешенная цена'!$D$6:$P$36,9,0) -> нет
E51: Референтная цена | F51: отсутствует
B52: 15 | C52: 13 | D52: =VLOOKUP(B52,'Анализ рынка'!$A$8:$AL$50,6,0) -> Кетанов 10 мг № 20 | E52: Метод сопоставимых рыночных цен (анализа рынка) | F52: =VLOOKUP(B52,'Анализ рынка'!$A:$AL,31,0) -> 3.96 | G52: =IFERROR(IFERROR(IFERROR(SMALL(F52:F55,$H$3),SMALL(F52:F55,2)),SMALL(F52:F55,2)),SMALL(F52:F55,1)) -> 5.412
E53: Тарифный метод | F53: =VLOOKUP(B52,'Тарифный метод'!$A$4:$L$46,11,0) -> 5.412
E54: Расчет средневзвешенной цены | F54: =VLOOKUP(B52,'Средневзвешенная цена'!$D$6:$P$36,9,0) -> нет
E55: Референтная цена | F55: отсутствует
B56: 16 | C56: 14 | D56: =VLOOKUP(B56,'Анализ рынка'!$A$8:$AL$50,6,0) -> Конкор 5 мг № 30 | E56: Метод сопоставимых рыночных цен (анализа рынка) | F56: =VLOOKUP(B56,'Анализ рынка'!$A:$AL,31,0) -> 5.94 | G56: =IFERROR(IFERROR(IFERROR(SMALL(F56:F59,$H$3),SMALL(F56:F59,2)),SMALL(F56:F59,2)),SMALL(F56:F59,1)) -> 5.94
E57: Тарифный метод | F57: =VLOOKUP(B56,'Тарифный метод'!$A$4:$L$46,11,0) -> 5.309
E58: Расчет средневзвешенной цены | F58: =VLOOKUP(B56,'Средневзвешенная цена'!$D$6:$P$36,9,0) -> нет
E59: Референтная цена | F59: отсутствует
B60: 17 | C60: 15 | D60: =VLOOKUP(B60,'Анализ рынка'!$A$8:$AL$50,6,0) -> Физиотенз 0,2 мг № 28 | E60: Метод сопоставимых рыночных цен (анализа рынка) | F60: =VLOOKUP(B60,'Анализ рынка'!$A:$AL,31,0) -> 22.03 | G60: =IFERROR(IFERROR(IFERROR(SMALL(F60:F63,$H$3),SMALL(F60:F63,2)),SMALL(F60:F63,2)),SMALL(F60:F63,1)) -> 22.03
E61: Тарифный метод | F61: =VLOOKUP(B60,'Тарифный метод'!$A$4:$L$46,11,0) -> 20.036786
E62: Расчет средневзвешенной цены | F62: =VLOOKUP(B60,'Средневзвешенная цена'!$D$6:$P$36,9,0) -> нет
E63: Референтная цена | F63: отсутствует
B64: 18 | C64: 16 | D64: =VLOOKUP(B64,'Анализ рынка'!$A$8:$AL$50,6,0) -> Кордиамин 25% 1 мл № 10 | E64: Метод сопоставимых рыночных цен (анализа рынка) | F64: =VLOOKUP(B64,'Анализ рынка'!$A:$AL,31,0) -> 18.9 | G64: =IFERROR(IFERROR(IFERROR(SMALL(F64:F67,$H$3),SMALL(F64:F67,2)),SMALL(F64:F67,2)),SMALL(F64:F67,1)) -> 18.9
E65: Тарифный метод | F65: =VLOOKUP(B64,'Тарифный метод'!$A$4:$L$46,11,0) -> Не ЖНВЛП
E66: Расчет средневзвешенной цены | F66: =VLOOKUP(B64,'Средневзвешенная цена'!$D$6:$P$36,9,0) -> нет
E67: Референтная цена | F67: отсутствует
B68: 20 | C68: 17 | D68: =VLOOKUP(B68,'Анализ рынка'!$A$8:$AL$50,6,0) -> Нитроглицерин 0,5 мг №40 | E68: Метод сопоставимых рыночных цен (анализа рынка) | F68: =VLOOKUP(B68,'Анализ рынка'!$A:$AL,31,0) -> 1.36 | G68: =IFERROR(IFERROR(IFERROR(SMALL(F68:F71,$H$3),SMALL(F68:F71,2)),SMALL(F68:F71,2)),SMALL(F68:F71,1)) -> 1.36
E69: Тарифный метод | F69: =VLOOKUP(B68,'Тарифный метод'!$A$4:$L$46,11,0) -> 1.15775
E70: Расчет средневзвешенной цены | F70: =VLOOKUP(B68,'Средневзвешенная цена'!$D$6:$P$36,9,0) -> нет
E71: Референтная цена | F71: отсутствует
B72: 22 | C72: 18 | D72: =VLOOKUP(B72,'Анализ рынка'!$A$8:$AL$50,6,0) -> Аммиак 10% 40 мл. | E72: Метод сопоставимых рыночных цен (анализа рынка) | F72: =VLOOKUP(B72,'Анализ рынка'!$A:$AL,31,0) -> 0.57 | G72: =IFERROR(IFERROR(IFERROR(SMALL(F72:F75,$H$3),SMALL(F72:F75,2)),SMALL(F72:F75,2)),SMALL(F72:F75,1)) -> 0.57
E73: Тарифный метод | F73: =VLOOKUP(B72,'Тарифный метод'!$A$4:$L$46,11,0) -> Не ЖНВЛП
E74: Расчет средневзвешенной цены | F74: =VLOOKUP(B72,'Средневзвешенная цена'!$D$6:$P$36,9,0) -> нет
E75: Референтная цена | F75: отсутствует
B76: 23 | C76: 19 | D76: =VLOOKUP(B76,'Анализ рынка'!$A$8:$AL$50,6,0) -> Вазелин 30 гр | E76: Метод сопоставимых рыночных цен (анализа рынка) | F76: =VLOOKUP(B76,'Анализ рынка'!$A:$AL,31,0) -> 1.96 | G76: =IFERROR(IFERROR(IFERROR(SMALL(F76:F79,$H$3),SMALL(F76:F79,2)),SMALL(F76:F79,2)),SMALL(F76:F79,1)) -> 1.96
E77: Тарифный метод | F77: =VLOOKUP(B76,'Тарифный метод'!$A$4:$L$46,11,0) -> Не ЖНВЛП
E78: Расчет средневзвешенной цены | F78: =VLOOKUP(B76,'Средневзвешенная цена'!$D$6:$P$36,9,0) -> нет
E79: Референтная цена | F79: отсутствует
B80: 24 | C80: 20 | D80: =VLOOKUP(B80,'Анализ рынка'!$A$8:$AL$50,6,0) -> Натрия хлорид 0,9% 200 мл | E80: Метод сопоставимых рыночных цен (анализа рынка) | F80: =VLOOKUP(B80,'Анализ рынка'!$A:$AL,31,0) -> 0.34 | G80: =IFERROR(IFERROR(IFERROR(SMALL(F80:F83,$H$3),SMALL(F80:F83,2)),SMALL(F80:F83,2)),SMALL(F80:F83,1)) -> 0.34
E81: Тарифный метод | F81: =VLOOKUP(B80,'Тарифный метод'!$A$4:$L$46,11,0) -> 0.1102
E82: Расчет средневзвешенной цены | F82: =VLOOKUP(B80,'Средневзвешенная цена'!$D$6:$P$36,9,0) -> нет
E83: Референтная цена | F83: отсутствует
B84: 25 | C84: 21 | D84: =VLOOKUP(B84,'Анализ рынка'!$A$8:$AL$50,6,0) -> Натрия хлорид 0,9% 5,0 №10 | E84: Метод сопоставимых рыночных цен (анализа рынка) | F84: =VLOOKUP(B84,'Анализ рынка'!$A:$AL,31,0) -> 1.21 | G84: =IFERROR(IFERROR(IFERROR(SMALL(F84:F87,$H$3),SMALL(F84:F87,2)),SMALL(F84:F87,2)),SMALL(F84:F87,1)) -> 1.25
E85: Тарифный метод | F85: =VLOOKUP(B84,'Тарифный метод'!$A$4:$L$46,11,0) -> 1.25
E86: Расчет средневзвешенной цены | F86: =VLOOKUP(B84,'Средневзвешенная цена'!$D$6:$P$36,9,0) -> нет
E87: Референтная цена | F87: отсутствует
B88: 26 | C88: 22 | D88: =VLOOKUP(B88,'Анализ рынка'!$A$8:$AL$50,6,0) -> Метрогил дента 20 г. | E88: Метод сопоставимых рыночных цен (анализа рынка) | F88: =VLOOKUP(B88,'Анализ рынка'!$A:$AL,31,0) -> 33.18 | G88: =IFERROR(IFERROR(IFERROR(SMALL(F88:F91,$H$3),SMALL(F88:F91,2)),SMALL(F88:F91,2)),SMALL(F88:F91,1)) -> 33.18
E89: Тарифный метод | F89: =VLOOKUP(B88,'Тарифный метод'!$A$4:$L$46,11,0) -> Не ЖНВЛП
E90: Расчет средневзвешенной цены | F90: =VLOOKUP(B88,'Средневзвешенная цена'!$D$6:$P$36,9,0) -> нет
E91: Референтная цена | F91: отсутствует
B92: 27 | C92: 23 | D92: =VLOOKUP(B92,'Анализ рынка'!$A$8:$AL$50,6,0) -> Перекись водорода 3% 100 мл | E92: Метод сопоставимых рыночных цен (анализа рынка) | F92: =VLOOKUP(B92,'Анализ рынка'!$A:$AL,31,0) -> 0.1 | G92: =IFERROR(IFERROR(IFERROR(SMALL(F92:F95,$H$3),SMALL(F92:F95,2)),SMALL(F92:F95,2)),SMALL(F92:F95,1)) -> 0.1
E93: Тарифный метод | F93: =VLOOKUP(B92,'Тарифный метод'!$A$4:$L$46,11,0) -> 0.0648
E94: Расчет средневзвешенной цены | F94: =VLOOKUP(B92,'Средневзвешенная цена'!$D$6:$P$36,9,0) -> нет
E95: Референтная цена | F95: отсутствует
B96: 28 | C96: 24 | D96: =VLOOKUP(B96,'Анализ рынка'!$A$8:$AL$50,6,0) -> Хлоргексидина биглюконата раствор 0,05% 100 мл | E96: Метод сопоставимых рыночных цен (анализа рынка) | F96: =VLOOKUP(B96,'Анализ рынка'!$A:$AL,31,0) -> 0.18 | G96: =IFERROR(IFERROR(IFERROR(SMALL(F96:F99,$H$3),SMALL(F96:F99,2)),SMALL(F96:F99,2)),SMALL(F96:F99,1)) -> 0.18
E97: Тарифный метод | F97: =VLOOKUP(B96,'Тарифный метод'!$A$4:$L$46,11,0) -> 0.1304
E98: Расчет средневзвешенной цены | F98: =VLOOKUP(B96,'Средневзвешенная цена'!$D$6:$P$36,9,0) -> нет
E99: Референтная цена | F99: отсутствует
B100: 29 | C100: 25 | D100: =VLOOKUP(B100,'Анализ рынка'!$A$8:$AL$50,6,0) -> Сульфацил натрия 20% 1,5 мл №2 | E100: Метод сопоставимых рыночных цен (анализа рынка) | F100: =VLOOKUP(B100,'Анализ рынка'!$A:$AL,31,0) -> 38.18 | G100: =IFERROR(IFERROR(IFERROR(SMALL(F100:F103,$H$3),SMALL(F100:F103,2)),SMALL(F100:F103,2)),SMALL(F100:F103,1)) -> 38.18
...

Sheet Лист1
A1: 2 | B1: 3 | C1: 4 | D1: 5
A3: Наименование товара | B3: Код узла СМНН | C3: ЖНВЛП | D3: Наркотческое средство
A4: Баралгин М р-р для в/в, в/м введ 500 мг/мл (5 амп. по 5 мл) | B4: 21.20.10.232-000011-1-00239-0000000000000 | C4: Нет | D4: Нет
A5: Глюкоза р-р для в/в. введ. 400 мг/мл (10 амп. по 10 мл) | B5: 21.20.10.134-000008-1-00017-0000000000000 | C5: Да | D5: Нет
A6: Преднизолон для в/в, в/м введ 30 мг/мл (10 амп. по 1 мл) | B6: 21.20.10.180-000002-1-00045-0000000000000 | C6: Да | D6: Нет
A7: Папаверина гидрохлорид р-р для инъекций 20 мг/мл (10 амп. по 2 мл) | B7: 21.20.10.113-000006-1-00055-0000000000000 | C7: Нет | D7: Нет
A8: Кордиамин р-р для инъекций 250 мг/мл (10 амп. по 2 мл) | B8: 21.20.10.259-000001-1-00022-0000000000000 | C8: Нет | D8: Нет
A9: Адреналина гидрохлорид р-р для инъекций 1 мг/мл (5 амп. по 1 мл) | B9: 21.20.10.141-000037-1-00041-0000000000000 | C9: Да | D9: Нет
A10: Фуросемид р-р для в/в, в/м введ 10 мг/мл (10 амп. по 2 мл) | B10: 21.20.10.143-000008-1-00036-0000000000000 | C10: Да | D10: Нет
A11: Анальгин р-р для в/в, в/м введ 500 мг/мл (10 амп. по 2 мл) | B11: 21.20.10.232-000011-1-00239-0000000000000 | C11: Нет | D11: Нет
A12: Эуфиллин р-р для в/в. введ. 24 мг/мл (10 амп. по 5 мл) | B12: 21.20.10.254-000008-1-00068-0000000000000 | C12: Да | D12: Нет
A13: Метилурацил мазь 10%, 25 г | B13: 21.20.10.169-000004-1-00059-0000000000000 | C13: Нет | D13: Нет
A14: Пустырника настойка, 25 мл | B14: 21.20.10.235-000106-1-00191-0000000000000 | C14: Нет | D14: Нет
... A31: Йод | B31: 21.20.10.158-000006-1-00072-0000000000000 | C31: Нет | D31: Нет
A32: Спирт этиловый 70% - 100 мл. | C32: Да | D32: Нет
A33: Спирт этиловый 95% - 100 мл. | C33: Да | D33: Нет
A34: Супрастин 25 мг 20 шт. таблетки | B34: 21.20.10.256-000001-1-00019-0000000000000 | C34: Да | D34: Нет
A38: Папаверина гидрохлорид 2 % 2,0 №10 | B38: 1
A39: Анальгин 50 % 2,0 №10 | B39: 2
A40: Дибазол 1% 1,0 №10 | B40: 3
A41: Димедрол 1% 1,0 №10 | B41: 4
A42: Линкомицин 30% 1,0 №10 | B42: 5
A43: Адреналина гидрохлорид 0,1% 1,0 №5 | B43: 6
A44: Фуросемид 1% 2,0 10 | B44: 7
A45: Эуфиллин 2,4% 5,0 №10 | B45: 8
A46: Пустырника настойка 25 мл | B46: 9
A47: Валерианы настойка 25 мл | B47: 10
A48: Ацетилсалициловая кислота 500 мг №10 | B48: 11
A49: Андипал 20 мг+250 мг+20 мг №10 | B49: 12
... A68: Клей БФ-6 10 г | B68: 31

Sheet Спецификация
A1: 1 | B1: 2 | C1: 3 | D1: 4 | E1: 5 | F1: 6 | G1: 7 | H1: 8 | I1: 9 | J1: 10 | K1: 11 | L1: 12 | M1: 13 | N1: 14 | O1: 15 | P1: 16 | Q1: 17 | R1: 18
A2: 1 | B2: Метамизол натрия | C2: =B2 -> Метамизол натрия | D2: 1 | E2: =Таблица3[[#Headers],[Лекарственная форма]] -> Лекарственная форма | F2: =VLOOKUP($B2,#REF!,2,0) -> #REF! | G2: =VLOOKUP($B2,#REF!,6,0) -> #REF! | H2: =VLOOKUP($B2,'Анализ рынка'!$G:$AL,35,0) -> #REF! | I2: =J2&$J$1&K2&$K$1&L2&$L$1 -> #REF! | J2: =VLOOKUP($B2,#REF!,35,0) -> #REF! | K2: =VLOOKUP($B2,#REF!,36,0) -> #REF! | L2: =VLOOKUP($B2,#REF!,37,0) -> #REF! | M2: =VLOOKUP($C2,ИТОГ!$D$8:$M$45,4,0) -> #N/A | N2: =M2*H2 -> #N/A | O2: =VLOOKUP($C2,ИТОГ!$D$8:$M$45,9,0) -> #N/A
B3: Метамизол натрия | D3: 2 | E3: =Таблица3[[#Headers],[Дозировка]] -> Дозировка | F3: =VLOOKUP($B3,#REF!,3,0) -> #REF!
B4: Метамизол натрия | D4: 3 | E4: =Таблица3[[#Headers],[Первичная упаковка]] -> Первичная упаковка | F4: =VLOOKUP($B4,#REF!,4,0) -> #REF!
B5: Метамизол натрия | D5: 4 | E5: =Таблица3[[#Headers],[Описание упаковки]] -> Описание упаковки | F5: =VLOOKUP($B5,#REF!,5,0) -> #REF!
A6: 2 | B6: Декстроза | C6: Декстроза | D6: 1 | E6: =Таблица3[[#Headers],[Лекарственная форма]] -> Лекарственная форма | F6: =VLOOKUP($B6,#REF!,2,0) -> #REF! | G6: =VLOOKUP($B6,#REF!,6,0) -> #REF! | H6: =VLOOKUP($B6,#REF!,38,0) -> #REF! | I6: =J6&$J$1&K6&$K$1&L6&$L$1 -> #REF! | J6: =VLOOKUP($B6,#REF!,35,0) -> #REF! | K6: =VLOOKUP($B6,#REF!,36,0) -> #REF! | L6: =VLOOKUP($B6,#REF!,37,0) -> #REF!
B7: Декстроза | D7: 2 | E7: =Таблица3[[#Headers],[Дозировка]] -> Дозировка | F7: =VLOOKUP($B7,#REF!,3,0) -> #REF!
B8: Декстроза | D8: 3 | E8: =Таблица3[[#Headers],[Первичная упаковка]] -> Первичная упаковка | F8: =VLOOKUP($B8,#REF!,4,0) -> #REF!
B9: Декстроза | D9: 4 | E9: =Таблица3[[#Headers],[Описание упаковки]] -> Описание упаковки | F9: =VLOOKUP($B9,#REF!,5,0) -> #REF!
A10: 3 | B10: Преднизолон | C10: Преднизолон | D10: 1 | E10: =Таблица3[[#Headers],[Лекарственная форма]] -> Лекарственная форма | F10: =VLOOKUP($B10,#REF!,2,0) -> #REF! | G10: =VLOOKUP($B10,#REF!,6,0) -> #REF! | H10: =VLOOKUP($B10,'Анализ рынка'!$G:$AL,35,0) -> #N/A | I10: =J10&$J$1&K10&$K$1&L10&$L$1 -> #REF! | J10: =VLOOKUP($B10,#REF!,35,0) -> #REF! | K10: =VLOOKUP($B10,#REF!,36,0) -> #REF! | L10: =VLOOKUP($B10,#REF!,37,0) -> #REF! | M10: =VLOOKUP($C10,ИТОГ!$D$8:$M$45,4,0) -> #N/A | N10: =M10*H10 -> #N/A | O10: =VLOOKUP($C10,ИТОГ!$D$8:$M$45,9,0) -> #N/A
B11: Преднизолон | D11: 2 | E11: =Таблица3[[#Headers],[Дозировка]] -> Дозировка | F11: =VLOOKUP($B11,#REF!,3,0) -> #REF!
B12: Преднизолон | D12: 3 | E12: =Таблица3[[#Headers],[Первичная упаковка]] -> Первичная упаковка | F12: =VLOOKUP($B12,#REF!,4,0) -> #REF!
B13: Преднизолон | D13: 4 | E13: =Таблица3[[#Headers],[Описание упаковки]] -> Описание упаковки | F13: =VLOOKUP($B13,#REF!,5,0) -> #REF!
A14: 4 | B14: Папаверин | C14: Папаверин | D14: 1 | E14: =Таблица3[[#Headers],[Лекарственная форма]] -> Лекарственная форма | F14: =VLOOKUP($B14,#REF!,2,0) -> #REF! | G14: =VLOOKUP($B14,#REF!,6,0) -> #REF! | H14: =VLOOKUP($B14,'Анализ рынка'!$G:$AL,35,0) -> #REF! | I14: =J14&$J$1&K14&$K$1&L14&$L$1 -> #REF! | J14: =VLOOKUP($B14,#REF!,35,0) -> #REF! | K14: =VLOOKUP($B14,#REF!,36,0) -> #REF! | L14: =VLOOKUP($B14,#REF!,37,0) -> #REF! | M14: =VLOOKUP($C14,ИТОГ!$D$8:$M$45,4,0) -> #N/A | N14: =M14*H14 -> #N/A | O14: =VLOOKUP($C14,ИТОГ!$D$8:$M$45,9,0) -> #N/A
B15: Папаверин | D15: 2 | E15: =Таблица3[[#Headers],[Дозировка]] -> Дозировка | F15: =VLOOKUP($B15,#REF!,3,0) -> #REF!
B16: Папаверин | D16: 3 | E16: =Таблица3[[#Headers],[Первичная упаковка]] -> Первичная упаковка | F16: =VLOOKUP($B16,#REF!,4,0) -> #REF!
B17: Папаверин | D17: 4 | E17: =Таблица3[[#Headers],[Описание упаковки]] -> Описание упаковки | F17: =VLOOKUP($B17,#REF!,5,0) -> #REF!
A18: 5 | B18: Никетамид | C18: Никетамид | D18: 1 | E18: =Таблица3[[#Headers],[Лекарственная форма]] -> Лекарственная форма | F18: =VLOOKUP($B18,#REF!,2,0) -> #REF! | G18: =VLOOKUP($B18,#REF!,6,0) -> #REF! | H18: =VLOOKUP($B18,#REF!,38,0) -> #REF! | I18: =J18&$J$1&K18&$K$1&L18&$L$1 -> #REF! | J18: =VLOOKUP($B18,#REF!,35,0) -> #REF! | K18: =VLOOKUP($B18,#REF!,36,0) -> #REF! | L18: =VLOOKUP($B18,#REF!,37,0) -> #REF!
B19: Никетамид | D19: 2 | E19: =Таблица3[[#Headers],[Дозировка]] -> Дозировка | F19: =VLOOKUP($B19,#REF!,3,0) -> #REF!
B20: Никетамид | D20: 3 | E20: =Таблица3[[#Headers],[Первичная упаковка]] -> Первичная упаковка | F20: =VLOOKUP($B20,#REF!,4,0) -> #REF!
B21: Никетамид | D21: 4 | E21: =Таблица3[[#Headers],[Описание упаковки]] -> Описание упаковки | F21: =VLOOKUP($B21,#REF!,5,0) -> #REF!
A22: 6 | B22: Эпинефрин | C22: Эпинефрин | D22: 1 | E22: =Таблица3[[#Headers],[Лекарственная форма]] -> Лекарственная форма | F22: =VLOOKUP($B22,#REF!,2,0) -> #REF! | G22: =VLOOKUP($B22,#REF!,6,0) -> #REF! | H22: =VLOOKUP($B22,'Анализ рынка'!$G:$AL,35,0) -> #REF! | I22: =J22&$J$1&K22&$K$1&L22&$L$1 -> #REF! | J22: =VLOOKUP($B22,#REF!,35,0) -> #REF! | K22: =VLOOKUP($B22,#REF!,36,0) -> #REF! | L22: =VLOOKUP($B22,#REF!,37,0) -> #REF! | M22: =VLOOKUP($C22,ИТОГ!$D$8:$M$45,4,0) -> #N/A | N22: =M22*H22 -> #N/A | O22: =VLOOKUP($C22,ИТОГ!$D$8:$M$45,9,0) -> #N/A
B23: Эпинефрин | D23: 2 | E23: =Таблица3[[#Headers],[Дозировка]] -> Дозировка | F23: =VLOOKUP($B23,#REF!,3,0) -> #REF!
B24: Эпинефрин | D24: 3 | E24: =Таблица3[[#Headers],[Первичная упаковка]] -> Первичная упаковка | F24: =VLOOKUP($B24,#REF!,4,0) -> #REF!
B25: Эпинефрин | D25: 4 | E25: =Таблица3[[#Headers],[Описание упаковки]] -> Описание упаковки | F25: =VLOOKUP($B25,#REF!,5,0) -> #REF!
A26: 7 | B26: Фуросемид | C26: Фуросемид | D26: 1 | E26: =Таблица3[[#Headers],[Лекарственная форма]] -> Лекарственная форма | F26: =VLOOKUP($B26,#REF!,2,0) -> #REF! | G26: =VLOOKUP($B26,#REF!,6,0) -> #REF! | H26: =VLOOKUP($B26,'Анализ рынка'!$G:$AL,35,0) -> #REF! | I26: =J26&$J$1&K26&$K$1&L26&$L$1 -> #REF! | J26: =VLOOKUP($B26,#REF!,35,0) -> #REF! | K26: =VLOOKUP($B26,#REF!,36,0) -> #REF! | L26: =VLOOKUP($B26,#REF!,37,0) -> #REF! | M26: =VLOOKUP($C26,ИТОГ!$D$8:$M$45,4,0) -> #N/A | N26: =M26*H26 -> #N/A | O26: =VLOOKUP($C26,ИТОГ!$D$8:$M$45,9,0) -> #N/A
B27: Фуросемид | D27: 2 | E27: =Таблица3[[#Headers],[Дозировка]] -> Дозировка | F27: =VLOOKUP($B27,#REF!,3,0) -> #REF!
B28: Фуросемид | D28: 3 | E28: =Таблица3[[#Headers],[Первичная упаковка]] -> Первичная упаковка | F28: =VLOOKUP($B28,#REF!,4,0) -> #REF!
B29: Фуросемид | D29: 4 | E29: =Таблица3[[#Headers],[Описание упаковки]] -> Описание упаковки | F29: =VLOOKUP($B29,#REF!,5,0) -> #REF!
A30: 8 | B30: Метамизол натрия 2 | C30: Метамизол натрия 2 | D30: 1 | E30: =Таблица3[[#Headers],[Лекарственная форма]] -> Лекарственная форма | F30: =VLOOKUP($B30,#REF!,2,0) -> #REF! | G30: =VLOOKUP($B30,#REF!,6,0) -> #REF! | H30: =VLOOKUP($B30,#REF!,38,0) -> #REF! | I30: =J30&$J$1&K30&$K$1&L30&$L$1 -> #REF! | J30: =VLOOKUP($B30,#REF!,35,0) -> #REF! | K30: =VLOOKUP($B30,#REF!,36,0) -> #REF! | L30: =VLOOKUP($B30,#REF!,37,0) -> #REF!
B31: Метамизол натрия 2 | D31: 2 | E31: =Таблица3[[#Headers],[Дозировка]] -> Дозировка | F31: =VLOOKUP($B31,#REF!,3,0) -> #REF!
B32: Метамизол натрия 2 | D32: 3 | E32: =Таблица3[[#Headers],[Первичная упаковка]] -> Первичная упаковка | F32: =VLOOKUP($B32,#REF!,4,0) -> #REF!
B33: Метамизол натрия 2 | D33: 4 | E33: =Таблица3[[#Headers],[Описание упаковки]] -> Описание упаковки | F33: =VLOOKUP($B33,#REF!,5,0) -> #REF!
A34: 9 | B34: Аминофиллин | C34: Аминофиллин | D34: 1 | E34: =Таблица3[[#Headers],[Лекарственная форма]] -> Лекарственная форма | F34: =VLOOKUP($B34,#REF!,2,0) -> #REF! | G34: =VLOOKUP($B34,#REF!,6,0) -> #REF! | H34: =VLOOKUP($B34,'Анализ рынка'!$G:$AL,35,0) -> #REF! | I34: =J34&$J$1&K34&$K$1&L34&$L$1 -> #REF! | J34: =VLOOKUP($B34,#REF!,35,0) -> #REF! | K34: =VLOOKUP($B34,#REF!,36,0) -> #REF! | L34: =VLOOKUP($B34,#REF!,37,0) -> #REF! | M34: =VLOOKUP($C34,ИТОГ!$D$8:$M$45,4,0) -> #N/A | N34: =M34*H34 -> #N/A | O34: =VLOOKUP($C34,ИТОГ!$D$8:$M$45,9,0) -> #N/A
B35: Аминофиллин | D35: 2 | E35: =Таблица3[[#Headers],[Дозировка]] -> Дозировка | F35: =VLOOKUP($B35,#REF!,3,0) -> #REF!
B36: Аминофиллин | D36: 3 | E36: =Таблица3[[#Headers],[Первичная упаковка]] -> Первичная упаковка | F36: =VLOOKUP($B36,#REF!,4,0) -> #REF!
B37: Аминофиллин | D37: 4 | E37: =Таблица3[[#Headers],[Описание упаковки]] -> Описание упаковки | F37: =VLOOKUP($B37,#REF!,5,0) -> #REF!
A38: 10 | B38: Диоксометилтетрагидропиримидин | C38: Диоксометилтетрагидропиримидин | D38: 1 | E38: =Таблица3[[#Headers],[Лекарственная форма]] -> Лекарственная форма | F38: =VLOOKUP($B38,#REF!,2,0) -> #REF! | G38: =VLOOKUP($B38,#REF!,6,0) -> #REF! | H38: =VLOOKUP($B38,#REF!,38,0) -> #REF! | I38: =J38&$J$1&K38&$K$1&L38&$L$1 -> #REF! | J38: =VLOOKUP($B38,#REF!,35,0) -> #REF! | K38: =VLOOKUP($B38,#REF!,36,0) -> #REF! | L38: =VLOOKUP($B38,#REF!,37,0) -> #REF!
B39: Диоксометилтетрагидропиримидин | D39: 2 | E39: =Таблица3[[#Headers],[Дозировка]] -> Дозировка | F39: =VLOOKUP($B39,#REF!,3,0) -> #REF!
B40: Диоксометилтетрагидропиримидин | D40: 3 | E40: =Таблица3[[#Headers],[Первичная упаковка]] -> Первичная упаковка | F40: =VLOOKUP($B40,#REF!,4,0) -> #REF!
B41: Диоксометилтетрагидропиримидин | D41: 4 | E41: =Таблица3[[#Headers],[Описание упаковки]] -> Описание упаковки | F41: =VLOOKUP($B41,#REF!,5,0) -> #REF!
A42: 11 | B42: Пустырника травы настойка | C42: Пустырника травы настойка | D42: 1 | E42: =Таблица3[[#Headers],[Лекарственная форма]] -> Лекарственная форма | F42: =VLOOKUP($B42,#REF!,2,0) -> #REF! | G42: =VLOOKUP($B42,#REF!,6,0) -> #REF! | H42: =VLOOKUP($B42,'Анализ рынка'!$G:$AL,35,0) -> #REF! | I42: =J42&$J$1&K42&$K$1&L42&$L$1 -> #REF! | J42: =VLOOKUP($B42,#REF!,35,0) -> #REF! | K42: =VLOOKUP($B42,#REF!,36,0) -> #REF! | L42: =VLOOKUP($B42,#REF!,37,0) -> #REF! | M42: =VLOOKUP($C42,ИТОГ!$D$8:$M$45,4,0) -> #N/A | N42: =M42*H42 -> #N/A | O42: =VLOOKUP($C42,ИТОГ!$D$8:$M$45,9,0) -> #N/A
B43: Пустырника травы настойка | D43: 2 | E43: =Таблица3[[#Headers],[Дозировка]] -> Дозировка | F43: =VLOOKUP($B43,#REF!,3,0) -> #REF!
B44: Пустырника травы настойка | D44: 3 | E44: =Таблица3[[#Headers],[Первичная упаковка]] -> Первичная упаковка | F44: =VLOOKUP($B44,#REF!,4,0) -> #REF!
B45: Пустырника травы настойка | D45: 4 | E45: =Таблица3[[#Headers],[Описание упаковки]] -> Описание упаковки | F45: =VLOOKUP($B45,#REF!,5,0) -> #REF!
A46: 12 | B46: Мяты перечной листьев масло+фенобарбитал+этилбромизовалерианат | C46: Мяты перечной листьев масло+фенобарбитал+этилбромизовалерианат | D46: 1 | E46: =Таблица3[[#Headers],[Лекарственная форма]] -> Лекарственная форма | F46: =VLOOKUP($B46,#REF!,2,0) -> #REF! | G46: =VLOOKUP($B46,#REF!,6,0) -> #REF! | H46: =VLOOKUP($B46,#REF!,38,0) -> #REF! | I46: =J46&$J$1&K46&$K$1&L46&$L$1 -> #REF! | J46: =VLOOKUP($B46,#REF!,35,0) -> #REF! | K46: =VLOOKUP($B46,#REF!,36,0) -> #REF! | L46: =VLOOKUP($B46,#REF!,37,0) -> #REF!
B47: Мяты перечной листьев масло+фенобарбитал+этилбромизовалерианат | D47: 2 | E47: =Таблица3[[#Headers],[Дозировка]] -> Дозировка | F47: =VLOOKUP($B47,#REF!,3,0) -> #REF!
B48: Мяты перечной листьев масло+фенобарбитал+этилбромизовалерианат | D48: 3 | E48: =Таблица3[[#Headers],[Первичная упаковка]] -> Первичная упаковка | F48: =VLOOKUP($B48,#REF!,4,0) -> #REF!
B49: Мяты перечной листьев масло+фенобарбитал+этилбромизовалерианат | D49: 4 | E49: =Таблица3[[#Headers],[Описание упаковки]] -> Описание упаковки | F49: =VLOOKUP($B49,#REF!,5,0) -> #REF!
A50: 13 | B50: Валерианы Лекарственной Корневища С Корнями | C50: Валерианы Лекарственной Корневища С Корнями | D50: 1 | E50: =Таблица3[[#Headers],[Лекарственная форма]] -> Лекарственная форма | F50: =VLOOKUP($B50,#REF!,2,0) -> #REF! | G50: =VLOOKUP($B50,#REF!,6,0) -> #REF! | H50: =VLOOKUP($B50,#REF!,38,0) -> #REF! | I50: =J50&$J$1&K50&$K$1&L50&$L$1 -> #REF! | J50: =VLOOKUP($B50,#REF!,35,0) -> #REF! | K50: =VLOOKUP($B50,#REF!,36,0) -> #REF! | L50: =VLOOKUP($B50,#REF!,37,0) -> #REF!
B51: Валерианы Лекарственной Корневища С Корнями | D51: 2 | E51: =Таблица3[[#Headers],[Дозировка]] -> Дозировка | F51: =VLOOKUP($B51,#REF!,3,0) -> #REF!
B52: Валерианы Лекарственной Корневища С Корнями | D52: 3 | E52: =Таблица3[[#Headers],[Первичная упаковка]] -> Первичная упаковка | F52: =VLOOKUP($B52,#REF!,4,0) -> #REF!
B53: Валерианы Лекарственной Корневища С Корнями | D53: 4 | E53: =Таблица3[[#Headers],[Описание упаковки]] -> Описание упаковки | F53: =VLOOKUP($B53,#REF!,5,0) -> #REF!
A54: 14 | B54: Боярышника плодов настойка+валерианы лекарственной корневищ с корнями настойка+дифенгидрамин+мяты перечной листьев настойка+пустырника травы настойка | C54: Боярышника плодов настойка+валерианы лекарственной корневищ с корнями настойка+дифенгидрамин+мяты перечной листьев настойка+пустырника травы настойка | D54: 1 | E54: =Таблица3[[#Headers],[Лекарственная форма]] -> Лекарственная форма | F54: =VLOOKUP($B54,#REF!,2,0) -> #REF! | G54: =VLOOKUP($B54,#REF!,6,0) -> #REF! | H54: =VLOOKUP($B54,'Анализ рынка'!$G:$AL,35,0) -> #N/A | I54: =J54&$J$1&K54&$K$1&L54&$L$1 -> #REF! | J54: =VLOOKUP($B54,#REF!,35,0) -> #REF! | K54: =VLOOKUP($B54,#REF!,36,0) -> #REF! | L54: =VLOOKUP($B54,#REF!,37,0) -> #REF! | M54: =VLOOKUP($C54,ИТОГ!$D$8:$M$45,4,0) -> #N/A | N54: =M54*H54 -> #N/A | O54: =VLOOKUP($C54,ИТОГ!$D$8:$M$45,9,0) -> #N/A
B55: Боярышника плодов настойка+валерианы лекарственной корневищ с корнями настойка+дифенгидрамин+мяты перечной листьев настойка+пустырника травы настойка | D55: 2 | E55: =Таблица3[[#Headers],[Дозировка]] -> Дозировка | F55: =VLOOKUP($B55,#REF!,3,0) -> #REF!
B56: Боярышника плодов настойка+валерианы лекарственной корневищ с корнями настойка+дифенгидрамин+мяты перечной листьев настойка+пустырника травы настойка | D56: 3 | E56: =Таблица3[[#Headers],[Первичная упаковка]] -> Первичная упаковка | F56: =VLOOKUP($B56,#REF!,4,0) -> #REF!
B57: Боярышника плодов настойка+валерианы лекарственной корневищ с корнями настойка+дифенгидрамин+мяты перечной листьев настойка+пустырника травы настойка | D57: 4 | E57: =Таблица3[[#Headers],[Описание упаковки]] -> Описание упаковки | F57: =VLOOKUP($B57,#REF!,5,0) -> #REF!
A58: 15 | B58: Бендазол+метамизол натрия+папаверин+фенобарбитал | C58: Бендазол+метамизол натрия+папаверин+фенобарбитал | D58: 1 | E58: =Таблица3[[#Headers],[Лекарственная форма]] -> Лекарственная форма | F58: =VLOOKUP($B58,#REF!,2,0) -> #REF! | G58: =VLOOKUP($B58,#REF!,6,0) -> #REF! | H58: =VLOOKUP($B58,'Анализ рынка'!$G:$AL,35,0) -> #N/A | I58: =J58&$J$1&K58&$K$1&L58&$L$1 -> #REF! | J58: =VLOOKUP($B58,#REF!,35,0) -> #REF! | K58: =VLOOKUP($B58,#REF!,36,0) -> #REF! | L58: =VLOOKUP($B58,#REF!,37,0) -> #REF! | M58: =VLOOKUP($C58,ИТОГ!$D$8:$M$45,4,0) -> #N/A | N58: =M58*H58 -> #N/A | O58: =VLOOKUP($C58,ИТОГ!$D$8:$M$45,9,0) -> #N/A
B59: Бендазол+метамизол натрия+папаверин+фенобарбитал | D59: 2 | E59: =Таблица3[[#Headers],[Дозировка]] -> Дозировка | F59: =VLOOKUP($B59,#REF!,3,0) -> #REF!
B60: Бендазол+метамизол натрия+папаверин+фенобарбитал | D60: 3 | E60: =Таблица3[[#Headers],[Первичная упаковка]] -> Первичная упаковка | F60: =VLOOKUP($B60,#REF!,4,0) -> #REF!
B61: Бендазол+метамизол натрия+папаверин+фенобарбитал | D61: 4 | E61: =Таблица3[[#Headers],[Описание упаковки]] -> Описание упаковки | F61: =VLOOKUP($B61,#REF!,5,0) -> #REF!
A62: 16 | B62: Левоментола раствор в ментил изовалерате | C62: Левоментола раствор в ментил изовалерате | D62: 1 | E62: =Таблица3[[#Headers],[Лекарственная форма]] -> Лекарственная форма | F62: =VLOOKUP($B62,#REF!,2,0) -> #REF! | G62: =VLOOKUP($B62,#REF!,6,0) -> #REF! | H62: =VLOOKUP($B62,'Анализ рынка'!$G:$AL,35,0) -> #REF! | I62: =J62&$J$1&K62&$K$1&L62&$L$1 -> #REF! | J62: =VLOOKUP($B62,#REF!,35,0) -> #REF! | K62: =VLOOKUP($B62,#REF!,36,0) -> #REF! | L62: =VLOOKUP($B62,#REF!,37,0) -> #REF! | M62: =VLOOKUP($C62,ИТОГ!$D$8:$M$45,4,0) -> #N/A | N62: =M62*H62 -> #N/A | O62: =VLOOKUP($C62,ИТОГ!$D$8:$M$45,9,0) -> #N/A
B63: Левоментола раствор в ментил изовалерате | D63: 2 | E63: =Таблица3[[#Headers],[Дозировка]] -> Дозировка | F63: =VLOOKUP($B63,#REF!,3,0) -> #REF!
B64: Левоментола раствор в ментил изовалерате | D64: 3 | E64: =Таблица3[[#Headers],[Первичная упаковка]] -> Первичная упаковка | F64: =VLOOKUP($B64,#REF!,4,0) -> #REF!
B65: Левоментола раствор в ментил изовалерате | D65: 4 | E65: =Таблица3[[#Headers],[Описание упаковки]] -> Описание упаковки | F65: =VLOOKUP($B65,#REF!,5,0) -> #REF!
A66: 17 | B66: Кеторолак | C66: Кеторолак | D66: 1 | E66: =Таблица3[[#Headers],[Лекарственная форма]] -> Лекарственная форма | F66: =VLOOKUP($B66,#REF!,2,0) -> #REF! | G66: =VLOOKUP($B66,#REF!,6,0) -> #REF! | H66: =VLOOKUP($B66,'Анализ рынка'!$G:$AL,35,0) -> #N/A | I66: =J66&$J$1&K66&$K$1&L66&$L$1 -> #REF! | J66: =VLOOKUP($B66,#REF!,35,0) -> #REF! | K66: =VLOOKUP($B66,#REF!,36,0) -> #REF! | L66: =VLOOKUP($B66,#REF!,37,0) -> #REF! | M66: =VLOOKUP($C66,ИТОГ!$D$8:$M$45,4,0) -> #N/A | N66: =M66*H66 -> #N/A | O66: =VLOOKUP($C66,ИТОГ!$D$8:$M$45,9,0) -> #N/A
B67: Кеторолак | D67: 2 | E67: =Таблица3[[#Headers],[Дозировка]] -> Дозировка | F67: =VLOOKUP($B67,#REF!,3,0) -> #REF!
B68: Кеторолак | D68: 3 | E68: =Таблица3[[#Headers],[Первичная упаковка]] -> Первичная упаковка | F68: =VLOOKUP($B68,#REF!,4,0) -> #REF!
B69: Кеторолак | D69: 4 | E69: =Таблица3[[#Headers],[Описание упаковки]] -> Описание упаковки | F69: =VLOOKUP($B69,#REF!,5,0) -> #REF!
A70: 18 | B70: Нитроглицерин | C70: Нитроглицерин | D70: 1 | E70: =Таблица3[[#Headers],[Лекарственная форма]] -> Лекарственная форма | F70: =VLOOKUP($B70,#REF!,2,0) -> #REF! | G70: =VLOOKUP($B70,#REF!,6,0) -> #REF! | H70: =VLOOKUP($B70,'Анализ рынка'!$G:$AL,35,0) -> #N/A | I70: =J70&$J$1&K70&$K$1&L70&$L$1 -> #REF! | J70: =VLOOKUP($B70,#REF!,35,0) -> #REF! | K70: =VLOOKUP($B70,#REF!,36,0) -> #REF! | L70: =VLOOKUP($B70,#REF!,37,0) -> #REF! | M70: =VLOOKUP($C70,ИТОГ!$D$8:$M$45,4,0) -> #N/A | N70: =M70*H70 -> #N/A | O70: =VLOOKUP($C70,ИТОГ!$D$8:$M$45,9,0) -> #N/A
B71: Нитроглицерин | D71: 2 | E71: =Таблица3[[#Headers],[Дозировка]] -> Дозировка | F71: =VLOOKUP($B71,#REF!,3,0) -> #REF!
B72: Нитроглицерин | D72: 3 | E72: =Таблица3[[#Headers],[Первичная упаковка]] -> Первичная упаковка | F72: =VLOOKUP($B72,#REF!,4,0) -> #REF!
B73: Нитроглицерин | D73: 4 | E73: =Таблица3[[#Headers],[Описание упаковки]] -> Описание упаковки | F73: =VLOOKUP($B73,#REF!,5,0) -> #REF!
A74: 19 | B74: Моксонидин | C74: Моксонидин | D74: 1 | E74: =Таблица3[[#Headers],[Лекарственная форма]] -> Лекарственная форма | F74: =VLOOKUP($B74,#REF!,2,0) -> #REF! | G74: =VLOOKUP($B74,#REF!,6,0) -> #REF! | H74: =VLOOKUP($B74,#REF!,38,0) -> #REF! | I74: =J74&$J$1&K74&$K$1&L74&$L$1 -> #REF! | J74: =VLOOKUP($B74,#REF!,35,0) -> #REF! | K74: =VLOOKUP($B74,#REF!,36,0) -> #REF! | L74: =VLOOKUP($B74,#REF!,37,0) -> #REF!
B75: Моксонидин | D75: 2 | E75: =Таблица3[[#Headers],[Дозировка]] -> Дозировка | F75: =VLOOKUP($B75,#REF!,3,0) -> #REF!
B76: Моксонидин | D76: 3 | E76: =Таблица3[[#Headers],[Первичная упаковка]] -> Первичная упаковка | F76: =VLOOKUP($B76,#REF!,4,0) -> #REF!
B77: Моксонидин | D77: 4 | E77: =Таблица3[[#Headers],[Описание упаковки]] -> Описание упаковки | F77: =VLOOKUP($B77,#REF!,5,0) -> #REF!
A78: 20 | B78: Бензилдиметил-миристоиламино-пропиламмоний | C78: Бензилдиметил-миристоиламино-пропиламмоний | D78: 1 | E78: =Таблица3[[#Headers],[Лекарственная форма]] -> Лекарственная форма | F78: =VLOOKUP($B78,#REF!,2,0) -> #REF! | G78: =VLOOKUP($B78,#REF!,6,0) -> #REF! | H78: =VLOOKUP($B78,'Анализ рынка'!$G:$AL,35,0) -> #REF! | I78: =J78&$J$1&K78&$K$1&L78&$L$1 -> #REF! | J78: =VLOOKUP($B78,#REF!,35,0) -> #REF! | K78: =VLOOKUP($B78,#REF!,36,0) -> #REF! | L78: =VLOOKUP($B78,#REF!,37,0) -> #REF! | M78: =VLOOKUP($C78,ИТОГ!$D$8:$M$45,4,0) -> #N/A | N78: =M78*H78 -> #N/A | O78: =VLOOKUP($C78,ИТОГ!$D$8:$M$45,9,0) -> #N/A
B79: Бензилдиметил-миристоиламино-пропиламмоний | D79: 2 | E79: =Таблица3[[#Headers],[Дозировка]] -> Дозировка | F79: =VLOOKUP($B79,#REF!,3,0) -> #REF!
B80: Бензилдиметил-миристоиламино-пропиламмоний | D80: 3 | E80: =Таблица3[[#Headers],[Первичная упаковка]] -> Первичная упаковка | F80: =VLOOKUP($B80,#REF!,4,0) -> #REF!
B81: Бензилдиметил-миристоиламино-пропиламмоний | D81: 4 | E81: =Таблица3[[#Headers],[Описание упаковки]] -> Описание упаковки | F81: =VLOOKUP($B81,#REF!,5,0) -> #REF!
A82: 21 | B82: Аммиак | C82: Аммиак | D82: 1 | E82: =Таблица3[[#Headers],[Лекарственная форма]] -> Лекарственная форма | F82: =VLOOKUP($B82,#REF!,2,0) -> #REF! | G82: =VLOOKUP($B82,#REF!,6,0) -> #REF! | H82: =VLOOKUP($B82,'Анализ рынка'!$G:$AL,35,0) -> #REF! | I82: =J82&$J$1&K82&$K$1&L82&$L$1 -> #REF! | J82: =VLOOKUP($B82,#REF!,35,0) -> #REF! | K82: =VLOOKUP($B82,#REF!,36,0) -> #REF! | L82: =VLOOKUP($B82,#REF!,37,0) -> #REF! | M82: =VLOOKUP($C82,ИТОГ!$D$8:$M$45,4,0) -> #N/A | N82: =M82*H82 -> #N/A | O82: =VLOOKUP($C82,ИТОГ!$D$8:$M$45,9,0) -> #N/A
B83: Аммиак | D83: 2 | E83: =Таблица3[[#Headers],[Дозировка]] -> Дозировка | F83: =VLOOKUP($B83,#REF!,3,0) -> #REF!
B84: Аммиак | D84: 3 | E84: =Таблица3[[#Headers],[Первичная упаковка]] -> Первичная упаковка | F84: =VLOOKUP($B84,#REF!,4,0) -> #REF!
B85: Аммиак | D85: 4 | E85: =Таблица3[[#Headers],[Описание упаковки]] -> Описание упаковки | F85: =VLOOKUP($B85,#REF!,5,0) -> #REF!
A86: 22 | B86: Натрия Хлорид | C86: Натрия Хлорид | D86: 1 | E86: =Таблица3[[#Headers],[Лекарственная форма]] -> Лекарственная форма | F86: =VLOOKUP($B86,#REF!,2,0) -> #REF! | G86: =VLOOKUP($B86,#REF!,6,0) -> #REF! | H86: =VLOOKUP($B86,#REF!,38,0) -> #REF! | I86: =J86&$J$1&K86&$K$1&L86&$L$1 -> #REF! | J86: =VLOOKUP($B86,#REF!,35,0) -> #REF! | K86: =VLOOKUP($B86,#REF!,36,0) -> #REF! | L86: =VLOOKUP($B86,#REF!,37,0) -> #REF!
B87: Натрия Хлорид | D87: 2 | E87: =Таблица3[[#Headers],[Дозировка]] -> Дозировка | F87: =VLOOKUP($B87,#REF!,3,0) -> #REF!
B88: Натрия Хлорид | D88: 3 | E88: =Таблица3[[#Headers],[Первичная упаковка]] -> Первичная упаковка | F88: =VLOOKUP($B88,#REF!,4,0) -> #REF!
B89: Натрия Хлорид | D89: 4 | E89: =Таблица3[[#Headers],[Описание упаковки]] -> Описание упаковки | F89: =VLOOKUP($B89,#REF!,5,0) -> #REF!
A90: 23 | B90: Водорода пероксид | C90: Водорода пероксид | D90: 1 | E90: =Таблица3[[#Headers],[Лекарственная форма]] -> Лекарственная форма | F90: =VLOOKUP($B90,#REF!,2,0) -> #REF! | G90: =VLOOKUP($B90,#REF!,6,0) -> #REF! | H90: =VLOOKUP($B90,'Анализ рынка'!$G:$AL,35,0) -> #REF! | I90: =J90&$J$1&K90&$K$1&L90&$L$1 -> #REF! | J90: =VLOOKUP($B90,#REF!,35,0) -> #REF! | K90: =VLOOKUP($B90,#REF!,36,0) -> #REF! | L90: =VLOOKUP($B90,#REF!,37,0) -> #REF! | M90: =VLOOKUP($C90,ИТОГ!$D$8:$M$45,4,0) -> #N/A | N90: =M90*H90 -> #N/A | O90: =VLOOKUP($C90,ИТОГ!$D$8:$M$45,9,0) -> #N/A
B91: Водорода пероксид | D91: 2 | E91: =Таблица3[[#Headers],[Дозировка]] -> Дозировка | F91: =VLOOKUP($B91,#REF!,3,0) -> #REF!
B92: Водорода пероксид | D92: 3 | E92: =Таблица3[[#Headers],[Первичная упаковка]] -> Первичная упаковка | F92: =VLOOKUP($B92,#REF!,4,0) -> #REF!
B93: Водорода пероксид | D93: 4 | E93: =Таблица3[[#Headers],[Описание упаковки]] -> Описание упаковки | F93: =VLOOKUP($B93,#REF!,5,0) -> #REF!
A94: 24 | B94: Хлоргексидин | C94: Хлоргексидин | D94: 1 | E94: =Таблица3[[#Headers],[Лекарственная форма]] -> Лекарственная форма | F94: =VLOOKUP($B94,#REF!,2,0) -> #REF! | G94: =VLOOKUP($B94,#REF!,6,0) -> #REF! | H94: =VLOOKUP($B94,'Анализ рынка'!$G:$AL,35,0) -> #REF! | I94: =J94&$J$1&K94&$K$1&L94&$L$1 -> #REF! | J94: =VLOOKUP($B94,#REF!,35,0) -> #REF! | K94: =VLOOKUP($B94,#REF!,36,0) -> #REF! | L94: =VLOOKUP($B94,#REF!,37,0) -> #REF! | M94: =VLOOKUP($C94,ИТОГ!$D$8:$M$45,4,0) -> #N/A | N94: =M94*H94 -> #N/A | O94: =VLOOKUP($C94,ИТОГ!$D$8:$M$45,9,0) -> #N/A
B95: Хлоргексидин | D95: 2 | E95: =Таблица3[[#Headers],[Дозировка]] -> Дозировка | F95: =VLOOKUP($B95,#REF!,3,0) -> #REF!
B96: Хлоргексидин | D96: 3 | E96: =Таблица3[[#Headers],[Первичная упаковка]] -> Первичная упаковка | F96: =VLOOKUP($B96,#REF!,4,0) -> #REF!
B97: Хлоргексидин | D97: 4 | E97: =Таблица3[[#Headers],[Описание упаковки]] -> Описание упаковки | F97: =VLOOKUP($B97,#REF!,5,0) -> #REF!
A98: 25 | B98: Сульфацетамид | C98: Сульфацетамид | D98: 1 | E98: =Таблица3[[#Headers],[Лекарственная форма]] -> Лекарственная форма | F98: =VLOOKUP($B98,#REF!,2,0) -> #REF! | G98: =VLOOKUP($B98,#REF!,6,0) -> #REF! | H98: =VLOOKUP($B98,#REF!,38,0) -> #REF! | I98: =J98&$J$1&K98&$K$1&L98&$L$1 -> #REF! | J98: =VLOOKUP($B98,#REF!,35,0) -> #REF! | K98: =VLOOKUP($B98,#REF!,36,0) -> #REF! | L98: =VLOOKUP($B98,#REF!,37,0) -> #REF!
B99: Сульфацетамид | D99: 2 | E99: =Таблица3[[#Headers],[Дозировка]] -> Дозировка | F99: =VLOOKUP($B99,#REF!,3,0) -> #REF!
B100: Сульфацетамид | D100: 3 | E100: =Таблица3[[#Headers],[Первичная упаковка]] -> Первичная упаковка | F100: =VLOOKUP($B100,#REF!,4,0) -> #REF!
...

Sheet Анализ рынка
F1: Обоснование начальной (максимальной) цены контракта на закупку "Поставка лекарственных средств для медицинского применения "
F3: Начальная (максимальная) цена контракта (далее - НМЦК) определена в соответствии Приказом Министерства здравоохранения РФ от 19 декабря 2019 г. N 1064н “Об утверждении Порядка определения начальной (максимальной) цены контракта, цены контракта, заключаемого с единственным поставщиком (подрядчиком, исполнителем), начальной цены единицы товара, работы, услуги при осуществлении закупок лекарственных препаратов (ЛП) для медицинского применения” (далее – Порядок).
F4: 1. Метод определения цены единицы планируемого к закупке лекарственного препарата: метод сопоставимых рыночных цен (анализа рынка).
B5: 2 | C5: 3 | D5: 4 | E5: 5 | G5: 6 | H5: 7 | I5: 8 | J5: 9 | K5: 10 | L5: 11 | M5: 12 | N5: 13 | O5: 14 | P5: 15 | Q5: 16 | R5: 17 | S5: 18 | T5: 19 | U5: 20 | V5: 21 | W5: 22 | X5: 23 | Y5: 24 | Z5: 25 | AA5: 26 | AB5: 27 | AC5: 28 | AD5: 29 | AE5: 36 | AG5: 38 | AH5: 39 | AI5: 40 | AJ5: 41 | AL5: 42 | AM5: 47 | AN5: 48
G6: Источник данных | M6: Вх.№185/кп от 03.06.2026 г | S6: Вх.№186/кп от 03.06.2026 г | Y6: Вх.№187/кп от 03.06.2026 г
A7: № п/п | B7: Наименование товара | C7: Код узла СМНН | D7: ЖНВЛП | E7: Наркотческое средство | F7: Торговое наименование | G7: МНН | H7: Лекарственная форма | I7: Дозировка | J7: Первичная упаковка | K7: Описание упаковки | L7: Ед. изм. | M7: 1 Цена за уп с НДС | N7: 1 НДС | O7: 1 Цена за уп без НДС | P7: 1 Кол-во шт в уп | Q7: 1 Объем катриджа | R7: 1 Цена за единицу без НДС | S7: 2 Цена за уп с НДС | T7: 2 НДС | U7: 2 Цена за уп без НДС и Оптовой над. | V7: 2 Кол-во шт в уп | W7: 2 Объем катриджа | X7: 2 Цена за единицу без НДС | Y7: 3 Цена за уп с НДС | Z7: 3 НДС | AA7: 3 Цена за уп без НДС и Оптовой над. | AB7: 3 Кол-во шт в уп | AC7: 3 Объем катриджа | AD7: 3 Цена за единицу без НДС | AE7: Цена за единицу, руб. | AF7: Кол-во Упак | AG7: Объем | AH7: Кол-во шт в уп | AI7: Кол-во ЛП (мл/шт) | AJ7: Коэф. вариации* | AK7: НМЦК без НДС | AL7: НМЦК
A8: 1 | B8: 1 | D8: нет | F8: =VLOOKUP(Таблица3[[#This Row],[№ п/п]],'Спецификация 25'!$1:$1048576,2,0) -> Папаверина гидрохлорид 2 % 2 мл №10 | G8: =VLOOKUP(Таблица3[[#This Row],[№ п/п]],'Спецификация 25'!$1:$1048576,3,0) -> Папаверин | H8: =VLOOKUP(Таблица3[[#This Row],[№ п/п]],'Спецификация 25'!$1:$1048576,7,0) -> Раствор для инъекций | I8: {=IFERROR(INDEX('Спецификация 25'!$G$2:$G$113,MATCH(Таблица3[[#This Row],[№ п/п]]&Таблица3[[#Headers],[Дозировка]],'Спецификация 25'!$A$2:$A$113&'Спецификация 25'!$F$2:$F$113,0)),"нет")} -> 20 мг/мл | J8: {=IFERROR(INDEX('Спецификация 25'!$G$2:$G$113,MATCH(Таблица3[[#This Row],[№ п/п]]&Таблица3[[#Headers],[Первичная упаковка]],'Спецификация 25'!$A$2:$A$113&'Спецификация 25'!$F$2:$F$113,0)),"нет")} -> Ампула | K8: {=IFERROR(INDEX('Спецификация 25'!$G$2:$G$113,MATCH(Таблица3[[#This Row],[№ п/п]]&Таблица3[[#Headers],[Описание упаковки]],'Спецификация 25'!$A$2:$A$113&'Спецификация 25'!$F$2:$F$113,0)),"")} -> 10 амп. по 2 мл | L8: =VLOOKUP(Таблица3[[#This Row],[№ п/п]],'Спецификация 25'!$1:$1048576,8,0) -> мл | M8: 147 | N8: 0.1 | O8: =Таблица3[[#This Row],[1 Цена за уп с НДС]]-Таблица3[[#This Row],[1 Цена за уп с НДС]]*(1-1/(1+N8)) -> 133.63636 | P8: =LEFT(Таблица3[[#This Row],[Описание упаковки]],2) -> 10 | Q8: =IF(LEFT(Таблица3[[#This Row],[Лекарственная форма]],7)="Раствор",LEFT(RIGHT(Таблица3[[#This Row],[Описание упаковки]],4),1),IF(LEFT(Таблица3[[#This Row],[Лекарственная форма]],5)="Капли",LEFT(RIGHT(Таблица3[[#This Row],[Описание упаковки]],4)),1)) -> 2 | R8: =ROUNDDOWN(Таблица3[[#This Row],[1 Цена за уп без НДС]]/Таблица3[[#This Row],[1 Кол-во шт в уп]]/Таблица3[[#This Row],[1 Объем катриджа]],2) -> 6.68 | S8: 148 | T8: 0.1 | U8: =Таблица3[[#This Row],[2 Цена за уп с НДС]]-(Таблица3[[#This Row],[2 Цена за уп с НДС]]*(1-1/(1+T8))) -> 134.54545 | V8: =Таблица3[[#This Row],[1 Кол-во шт в уп]] -> 10 | W8: =Таблица3[[#This Row],[1 Объем катриджа]] -> 2 | X8: =ROUNDDOWN(Таблица3[[#This Row],[2 Цена за уп без НДС и Оптовой над.]]/Таблица3[[#This Row],[2 Кол-во шт в уп]]/Таблица3[[#This Row],[2 Объем катриджа]],2) -> 6.72 | Y8: 148.44 | Z8: 0.1 | AA8: =Таблица3[[#This Row],[3 Цена за уп с НДС]]-(Таблица3[[#This Row],[3 Цена за уп с НДС]]*(1-1/(1+Z8))) -> 134.94545 | AB8: =Таблица3[[#This Row],[1 Кол-во шт в уп]] -> 10 | AC8: =Таблица3[[#This Row],[1 Объем катриджа]] -> 2 | AD8: =ROUNDDOWN(Таблица3[[#This Row],[3 Цена за уп без НДС и Оптовой над.]]/Таблица3[[#This Row],[3 Кол-во шт в уп]]/Таблица3[[#This Row],[3 Объем катриджа]],2) -> 6.74 | AE8: =ROUND(MIN(Таблица3[[#This Row],[1 Цена за единицу без НДС]],Таблица3[[#This Row],[2 Цена за единицу без НДС]],Таблица3[[#This Row],[3 Цена за единицу без НДС]]),2) -> 6.68 | AF8: =VLOOKUP(Таблица3[[#This Row],[№ п/п]],'Спецификация 25'!$1:$1048576,10,0) -> 10 | AG8: =Таблица3[[#This Row],[1 Кол-во шт в уп]] -> 10 | AH8: =Таблица3[[#This Row],[1 Объем катриджа]] -> 2 | AI8: =Таблица3[[#This Row],[Кол-во Упак]]*Таблица3[[#This Row],[Объем]]*Таблица3[[#This Row],[Кол-во шт в уп]] -> 200 | AJ8: =STDEV(Таблица3[[#This Row],[1 Цена за единицу без НДС]],Таблица3[[#This Row],[2 Цена за единицу без НДС]],Таблица3[[#This Row],[3 Цена за единицу без НДС]])/Таблица3[[#This Row],[Цена за единицу, руб. ]] -> 0.0045734288 | AK8: =Таблица3[[#This Row],[Цена за единицу, руб. ]]*Таблица3[[#This Row],[Кол-во ЛП (мл/шт)]] -> 1336 | AL8: =ROUND((Таблица3[[#This Row],[Цена за единицу, руб. ]]+Таблица3[[#This Row],[Цена за единицу, руб. ]]*10%),2)*Таблица3[[#This Row],[Кол-во ЛП (мл/шт)]] -> 1470
A9: 2 | B9: 2 | D9: нет | F9: =VLOOKUP(Таблица3[[#This Row],[№ п/п]],'Спецификация 25'!$1:$1048576,2,0) -> Анальгин 50 % 2 мл №10 | G9: =VLOOKUP(Таблица3[[#This Row],[№ п/п]],'Спецификация 25'!$1:$1048576,3,0) -> Метамизол натрия | H9: =VLOOKUP(Таблица3[[#This Row],[№ п/п]],'Спецификация 25'!$1:$1048576,7,0) -> Раствор для внутривенного и внутримышечного введения | I9: {=IFERROR(INDEX('Спецификация 25'!$G$2:$G$113,MATCH(Таблица3[[#This Row],[№ п/п]]&Таблица3[[#Headers],[Дозировка]],'Спецификация 25'!$A$2:$A$113&'Спецификация 25'!$F$2:$F$113,0)),"нет")} -> 500 мг/мл | J9: {=IFERROR(INDEX('Спецификация 25'!$G$2:$G$113,MATCH(Таблица3[[#This Row],[№ п/п]]&Таблица3[[#Headers],[Первичная упаковка]],'Спецификация 25'!$A$2:$A$113&'Спецификация 25'!$F$2:$F$113,0)),"нет")} -> Ампула | K9: {=IFERROR(INDEX('Спецификация 25'!$G$2:$G$113,MATCH(Таблица3[[#This Row],[№ п/п]]&Таблица3[[#Headers],[Описание упаковки]],'Спецификация 25'!$A$2:$A$113&'Спецификация 25'!$F$2:$F$113,0)),"")} -> 10 амп. по 2 мл | L9: =VLOOKUP(Таблица3[[#This Row],[№ п/п]],'Спецификация 25'!$1:$1048576,8,0) -> мл | M9: 113.25 | N9: 0.1 | O9: =Таблица3[[#This Row],[1 Цена за уп с НДС]]-Таблица3[[#This Row],[1 Цена за уп с НДС]]*(1-1/(1+N9)) -> 102.95455 | P9: =LEFT(Таблица3[[#This Row],[Описание упаковки]],2) -> 10 | Q9: =IF(LEFT(Таблица3[[#This Row],[Лекарственная форма]],7)="Раствор",LEFT(RIGHT(Таблица3[[#This Row],[Описание упаковки]],4),1),IF(LEFT(Таблица3[[#This Row],[Лекарственная форма]],5)="Капли",LEFT(RIGHT(Таблица3[[#This Row],[Описание упаковки]],4)),1)) -> 2 | R9: =ROUNDDOWN(Таблица3[[#This Row],[1 Цена за уп без НДС]]/Таблица3[[#This Row],[1 Кол-во шт в уп]]/Таблица3[[#This Row],[1 Объем катриджа]],2) -> 5.14 | S9: 114.25 | T9: 0.1 | U9: =Таблица3[[#This Row],[2 Цена за уп с НДС]]-(Таблица3[[#This Row],[2 Цена за уп с НДС]]*(1-1/(1+T9))) -> 103.86364 | V9: =Таблица3[[#This Row],[1 Кол-во шт в уп]] -> 10 | W9: =Таблица3[[#This Row],[1 Объем катриджа]] -> 2 | X9: =ROUNDDOWN(Таблица3[[#This Row],[2 Цена за уп без НДС и Оптовой над.]]/Таблица3[[#This Row],[2 Кол-во шт в уп]]/Таблица3[[#This Row],[2 Объем катриджа]],2) -> 5.19 | Y9: 114.59 | Z9: 0.1 | AA9: =Таблица3[[#This Row],[3 Цена за уп с НДС]]-(Таблица3[[#This Row],[3 Цена за уп с НДС]]*(1-1/(1+Z9))) -> 104.17273 | AB9: =Таблица3[[#This Row],[1 Кол-во шт в уп]] -> 10 | AC9: =Таблица3[[#This Row],[1 Объем катриджа]] -> 2 | AD9: =ROUNDDOWN(Таблица3[[#This Row],[3 Цена за уп без НДС и Оптовой над.]]/Таблица3[[#This Row],[3 Кол-во шт в уп]]/Таблица3[[#This Row],[3 Объем катриджа]],2) -> 5.2 | AE9: =ROUND(MIN(Таблица3[[#This Row],[1 Цена за единицу без НДС]],Таблица3[[#This Row],[2 Цена за единицу без НДС]],Таблица3[[#This Row],[3 Цена за единицу без НДС]]),2) -> 5.14 | AF9: =VLOOKUP(Таблица3[[#This Row],[№ п/п]],'Спецификация 25'!$1:$1048576,10,0) -> 5 | AG9: =Таблица3[[#This Row],[1 Кол-во шт в уп]] -> 10 | AH9: =Таблица3[[#This Row],[1 Объем катриджа]] -> 2 | AI9: =Таблица3[[#This Row],[Кол-во Упак]]*Таблица3[[#This Row],[Объем]]*Таблица3[[#This Row],[Кол-во шт в уп]] -> 100 | AJ9: =STDEV(Таблица3[[#This Row],[1 Цена за единицу без НДС]],Таблица3[[#This Row],[2 Цена за единицу без НДС]],Таблица3[[#This Row],[3 Цена за единицу без НДС]])/Таблица3[[#This Row],[Цена за единицу, руб. ]] -> 0.0062539888 | AK9: =Таблица3[[#This Row],[Цена за единицу, руб. ]]*Таблица3[[#This Row],[Кол-во ЛП (мл/шт)]] -> 514 | AL9: =ROUND((Таблица3[[#This Row],[Цена за единицу, руб. ]]+Таблица3[[#This Row],[Цена за единицу, руб. ]]*10%),2)*Таблица3[[#This Row],[Кол-во ЛП (мл/шт)]] -> 565
A10: 3 | B10: 3 | D10: нет | F10: =VLOOKUP(Таблица3[[#This Row],[№ п/п]],'Спецификация 25'!$1:$1048576,2,0) -> Дибазол 1% 1 мл №10 | G10: =VLOOKUP(Таблица3[[#This Row],[№ п/п]],'Спецификация 25'!$1:$1048576,3,0) -> Бендазол | H10: =VLOOKUP(Таблица3[[#This Row],[№ п/п]],'Спецификация 25'!$1:$1048576,7,0) -> Раствор для внутривенного и внутримышечного введения | I10: {=IFERROR(INDEX('Спецификация 25'!$G$2:$G$113,MATCH(Таблица3[[#This Row],[№ п/п]]&Таблица3[[#Headers],[Дозировка]],'Спецификация 25'!$A$2:$A$113&'Спецификация 25'!$F$2:$F$113,0)),"нет")} -> 10 мг/мл | J10: {=IFERROR(INDEX('Спецификация 25'!$G$2:$G$113,MATCH(Таблица3[[#This Row],[№ п/п]]&Таблица3[[#Headers],[Первичная упаковка]],'Спецификация 25'!$A$2:$A$113&'Спецификация 25'!$F$2:$F$113,0)),"нет")} -> Ампула | K10: {=IFERROR(INDEX('Спецификация 25'!$G$2:$G$113,MATCH(Таблица3[[#This Row],[№ п/п]]&Таблица3[[#Headers],[Описание упаковки]],'Спецификация 25'!$A$2:$A$113&'Спецификация 25'!$F$2:$F$113,0)),"")} -> 10 амп. по 1 мл | L10: =VLOOKUP(Таблица3[[#This Row],[№ п/п]],'Спецификация 25'!$1:$1048576,8,0) -> мл | M10: 84 | N10: 0.1 | O10: =Таблица3[[#This Row],[1 Цена за уп с НДС]]-Таблица3[[#This Row],[1 Цена за уп с НДС]]*(1-1/(1+N10)) -> 76.363636 | P10: =LEFT(Таблица3[[#This Row],[Описание упаковки]],2) -> 10 | Q10: =IF(LEFT(Таблица3[[#This Row],[Лекарственная форма]],7)="Раствор",LEFT(RIGHT(Таблица3[[#This Row],[Описание упаковки]],4),1),IF(LEFT(Таблица3[[#This Row],[Лекарственная форма]],5)="Капли",LEFT(RIGHT(Таблица3[[#This Row],[Описание упаковки]],4)),1)) -> 1 | R10: =ROUNDDOWN(Таблица3[[#This Row],[1 Цена за уп без НДС]]/Таблица3[[#This Row],[1 Кол-во шт в уп]]/Таблица3[[#This Row],[1 Объем катриджа]],2) -> 7.63 | S10: 85 | T10: 0.1 | U10: =Таблица3[[#This Row],[2 Цена за уп с НДС]]-(Таблица3[[#This Row],[2 Цена за уп с НДС]]*(1-1/(1+T10))) -> 77.272727 | V10: =Таблица3[[#This Row],[1 Кол-во шт в уп]] -> 10 | W10: =Таблица3[[#This Row],[1 Объем катриджа]] -> 1 | X10: =ROUNDDOWN(Таблица3[[#This Row],[2 Цена за уп без НДС и Оптовой над.]]/Таблица3[[#This Row],[2 Кол-во шт в уп]]/Таблица3[[#This Row],[2 Объем катриджа]],2) -> 7.72 | Y10: 85.26 | Z10: 0.1 | AA10: =Таблица3[[#This Row],[3 Цена за уп с НДС]]-(Таблица3[[#This Row],[3 Цена за уп с НДС]]*(1-1/(1+Z10))) -> 77.509091 | AB10: =Таблица3[[#This Row],[1 Кол-во шт в уп]] -> 10 | AC10: =Таблица3[[#This Row],[1 Объем катриджа]] -> 1 | AD10: =ROUNDDOWN(Таблица3[[#This Row],[3 Цена за уп без НДС и Оптовой над.]]/Таблица3[[#This Row],[3 Кол-во шт в уп]]/Таблица3[[#This Row],[3 Объем катриджа]],2) -> 7.75 | AE10: =ROUND(MIN(Таблица3[[#This Row],[1 Цена за единицу без НДС]],Таблица3[[#This Row],[2 Цена за единицу без НДС]],Таблица3[[#This Row],[3 Цена за единицу без НДС]]),2) -> 7.63 | AF10: =VLOOKUP(Таблица3[[#This Row],[№ п/п]],'Спецификация 25'!$1:$1048576,10,0) -> 7 | AG10: =Таблица3[[#This Row],[1 Кол-во шт в уп]] -> 10 | AH10: =Таблица3[[#This Row],[1 Объем катриджа]] -> 1 | AI10: =Таблица3[[#This Row],[Кол-во Упак]]*Таблица3[[#This Row],[Объем]]*Таблица3[[#This Row],[Кол-во шт в уп]] -> 70 | AJ10: =STDEV(Таблица3[[#This Row],[1 Цена за единицу без НДС]],Таблица3[[#This Row],[2 Цена за единицу без НДС]],Таблица3[[#This Row],[3 Цена за единицу без НДС]])/Таблица3[[#This Row],[Цена за единицу, руб. ]] -> 0.0081847942 | AK10: =Таблица3[[#This Row],[Цена за единицу, руб. ]]*Таблица3[[#This Row],[Кол-во ЛП (мл/шт)]] -> 534.1 | AL10: =ROUND((Таблица3[[#This Row],[Цена за единицу, руб. ]]+Таблица3[[#This Row],[Цена за единицу, руб. ]]*10%),2)*Таблица3[[#This Row],[Кол-во ЛП (мл/шт)]] -> 587.3
A11: 4 | B11: 4 | D11: нет | F11: =VLOOKUP(Таблица3[[#This Row],[№ п/п]],'Спецификация 25'!$1:$1048576,2,0) -> Димедрол 1% 1 мл №10 | G11: =VLOOKUP(Таблица3[[#This Row],[№ п/п]],'Спецификация 25'!$1:$1048576,3,0) -> Дифенгидрамин | H11: =VLOOKUP(Таблица3[[#This Row],[№ п/п]],'Спецификация 25'!$1:$1048576,7,0) -> Раствор для внутривенного и внутримышечного введения | I11: {=IFERROR(INDEX('Спецификация 25'!$G$2:$G$113,MATCH(Таблица3[[#This Row],[№ п/п]]&Таблица3[[#Headers],[Дозировка]],'Спецификация 25'!$A$2:$A$113&'Спецификация 25'!$F$2:$F$113,0)),"нет")} -> 10 мг/мл | J11: {=IFERROR(INDEX('Спецификация 25'!$G$2:$G$113,MATCH(Таблица3[[#This Row],[№ п/п]]&Таблица3[[#Headers],[Первичная упаковка]],'Спецификация 25'!$A$2:$A$113&'Спецификация 25'!$F$2:$F$113,0)),"нет")} -> Ампула | K11: {=IFERROR(INDEX('Спецификация 25'!$G$2:$G$113,MATCH(Таблица3[[#This Row],[№ п/п]]&Таблица3[[#Headers],[Описание упаковки]],'Спецификация 25'!$A$2:$A$113&'Спецификация 25'!$F$2:$F$113,0)),"")} -> 10 амп. по 1 мл | L11: =VLOOKUP(Таблица3[[#This Row],[№ п/п]],'Спецификация 25'!$1:$1048576,8,0) -> мл | M11: 70 | N11: 0.1 | O11: =Таблица3[[#This Row],[1 Цена за уп с НДС]]-Таблица3[[#This Row],[1 Цена за уп с НДС]]*(1-1/(1+N11)) -> 63.636364 | P11: =LEFT(Таблица3[[#This Row],[Описание упаковки]],2) -> 10 | Q11: =IF(LEFT(Таблица3[[#This Row],[Лекарственная форма]],7)="Раствор",LEFT(RIGHT(Таблица3[[#This Row],[Описание упаковки]],4),1),IF(LEFT(Таблица3[[#This Row],[Лекарственная форма]],5)="Капли",LEFT(RIGHT(Таблица3[[#This Row],[Описание упаковки]],4)),1)) -> 1 | R11: =ROUNDDOWN(Таблица3[[#This Row],[1 Цена за уп без НДС]]/Таблица3[[#This Row],[1 Кол-во шт в уп]]/Таблица3[[#This Row],[1 Объем катриджа]],2) -> 6.36 | S11: 71 | T11: 0.1 | U11: =Таблица3[[#This Row],[2 Цена за уп с НДС]]-(Таблица3[[#This Row],[2 Цена за уп с НДС]]*(1-1/(1+T11))) -> 64.545455 | V11: =Таблица3[[#This Row],[1 Кол-во шт в уп]] -> 10 | W11: =Таблица3[[#This Row],[1 Объем катриджа]] -> 1 | X11: =ROUNDDOWN(Таблица3[[#This Row],[2 Цена за уп без НДС и Оптовой над.]]/Таблица3[[#This Row],[2 Кол-во шт в уп]]/Таблица3[[#This Row],[2 Объем катриджа]],2) -> 6.45 | Y11: 71.21 | Z11: 0.1 | AA11: =Таблица3[[#This Row],[3 Цена за уп с НДС]]-(Таблица3[[#This Row],[3 Цена за уп с НДС]]*(1-1/(1+Z11))) -> 64.736364 | AB11: =Таблица3[[#This Row],[1 Кол-во шт в уп]] -> 10 | AC11: =Таблица3[[#This Row],[1 Объем катриджа]] -> 1 | AD11: =ROUNDDOWN(Таблица3[[#This Row],[3 Цена за уп без НДС и Оптовой над.]]/Таблица3[[#This Row],[3 Кол-во шт в уп]]/Таблица3[[#This Row],[3 Объем катриджа]],2) -> 6.47 | AE11: =ROUND(MIN(Таблица3[[#This Row],[1 Цена за единицу без НДС]],Таблица3[[#This Row],[2 Цена за единицу без НДС]],Таблица3[[#This Row],[3 Цена за единицу без НДС]]),2) -> 6.36 | AF11: =VLOOKUP(Таблица3[[#This Row],[№ п/п]],'Спецификация 25'!$1:$1048576,10,0) -> 5 | AG11: =Таблица3[[#This Row],[1 Кол-во шт в уп]] -> 10 | AH11: =Таблица3[[#This Row],[1 Объем катриджа]] -> 1 | AI11: =Таблица3[[#This Row],[Кол-во Упак]]*Таблица3[[#This Row],[Объем]]*Таблица3[[#This Row],[Кол-во шт в уп]] -> 50 | AJ11: =STDEV(Таблица3[[#This Row],[1 Цена за единицу без НДС]],Таблица3[[#This Row],[2 Цена за единицу без НДС]],Таблица3[[#This Row],[3 Цена за единицу без НДС]])/Таблица3[[#This Row],[Цена за единицу, руб. ]] -> 0.0092129957 | AK11: =Таблица3[[#This Row],[Цена за единицу, руб. ]]*Таблица3[[#This Row],[Кол-во ЛП (мл/шт)]] -> 318 | AL11: =ROUND((Таблица3[[#This Row],[Цена за единицу, руб. ]]+Таблица3[[#This Row],[Цена за единицу, руб. ]]*10%),2)*Таблица3[[#This Row],[Кол-во ЛП (мл/шт)]] -> 350
A12: 5 | D12: нет | F12: =VLOOKUP(Таблица3[[#This Row],[№ п/п]],'Спецификация 25'!$1:$1048576,2,0) -> Линкомицин 30% 1,0 №10 | G12: =VLOOKUP(Таблица3[[#This Row],[№ п/п]],'Спецификация 25'!$1:$1048576,3,0) -> Линкомицин | H12: =VLOOKUP(Таблица3[[#This Row],[№ п/п]],'Спецификация 25'!$1:$1048576,7,0) -> Раствор для внутривенного и внутримышечного введения | I12: {=IFERROR(INDEX('Спецификация 25'!$G$2:$G$113,MATCH(Таблица3[[#This Row],[№ п/п]]&Таблица3[[#Headers],[Дозировка]],'Спецификация 25'!$A$2:$A$113&'Спецификация 25'!$F$2:$F$113,0)),"нет")} -> 300 мг/мл | J12: {=IFERROR(INDEX('Спецификация 25'!$G$2:$G$113,MATCH(Таблица3[[#This Row],[№ п/п]]&Таблица3[[#Headers],[Первичная упаковка]],'Спецификация 25'!$A$2:$A$113&'Спецификация 25'!$F$2:$F$113,0)),"нет")} -> Ампула | K12: {=IFERROR(INDEX('Спецификация 25'!$G$2:$G$113,MATCH(Таблица3[[#This Row],[№ п/п]]&Таблица3[[#Headers],[Описание упаковки]],'Спецификация 25'!$A$2:$A$113&'Спецификация 25'!$F$2:$F$113,0)),"")} -> 10 амп. по 1 мл | L12: =VLOOKUP(Таблица3[[#This Row],[№ п/п]],'Спецификация 25'!$1:$1048576,8,0) -> мл | N12: 0.1 | O12: =Таблица3[[#This Row],[1 Цена за уп с НДС]]-Таблица3[[#This Row],[1 Цена за уп с НДС]]*(1-1/(1+N12)) -> 0 | P12: =LEFT(Таблица3[[#This Row],[Описание упаковки]],2) -> 10 | Q12: =IF(LEFT(Таблица3[[#This Row],[Лекарственная форма]],7)="Раствор",LEFT(RIGHT(Таблица3[[#This Row],[Описание упаковки]],4),1),IF(LEFT(Таблица3[[#This Row],[Лекарственная форма]],5)="Капли",LEFT(RIGHT(Таблица3[[#This Row],[Описание упаковки]],4)),1)) -> 1 | R12: =ROUNDDOWN(Таблица3[[#This Row],[1 Цена за уп без НДС]]/Таблица3[[#This Row],[1 Кол-во шт в уп]]/Таблица3[[#This Row],[1 Объем катриджа]],2) -> 0 | T12: 0.1 | U12: =Таблица3[[#This Row],[2 Цена за уп с НДС]]-(Таблица3[[#This Row],[2 Цена за уп с НДС]]*(1-1/(1+T12))) -> 0 | V12: =Таблица3[[#This Row],[1 Кол-во шт в уп]] -> 10 | W12: =Таблица3[[#This Row],[1 Объем катриджа]] -> 1 | X12: =ROUNDDOWN(Таблица3[[#This Row],[2 Цена за уп без НДС и Оптовой над.]]/Таблица3[[#This Row],[2 Кол-во шт в уп]]/Таблица3[[#This Row],[2 Объем катриджа]],2) -> 0 | Z12: 0.1 | AA12: =Таблица3[[#This Row],[3 Цена за уп с НДС]]-(Таблица3[[#This Row],[3 Цена за уп с НДС]]*(1-1/(1+Z12))) -> 0 | AB12: =Таблица3[[#This Row],[1 Кол-во шт в уп]] -> 10 | AC12: =Таблица3[[#This Row],[1 Объем катриджа]] -> 1 | AD12: =ROUNDDOWN(Таблица3[[#This Row],[3 Цена за уп без НДС и Оптовой над.]]/Таблица3[[#This Row],[3 Кол-во шт в уп]]/Таблица3[[#This Row],[3 Объем катриджа]],2) -> 0 | AE12: =ROUND(MIN(Таблица3[[#This Row],[1 Цена за единицу без НДС]],Таблица3[[#This Row],[2 Цена за единицу без НДС]],Таблица3[[#This Row],[3 Цена за единицу без НДС]]),2) -> 0 | AF12: =VLOOKUP(Таблица3[[#This Row],[№ п/п]],'Спецификация 25'!$1:$1048576,10,0) -> 0 | AG12: =Таблица3[[#This Row],[1 Кол-во шт в уп]] -> 10 | AH12: =Таблица3[[#This Row],[1 Объем катриджа]] -> 1 | AI12: =Таблица3[[#This Row],[Кол-во Упак]]*Таблица3[[#This Row],[Объем]]*Таблица3[[#This Row],[Кол-во шт в уп]] -> 0 | AJ12: =STDEV(Таблица3[[#This Row],[1 Цена за единицу без НДС]],Таблица3[[#This Row],[2 Цена за единицу без НДС]],Таблица3[[#This Row],[3 Цена за единицу без НДС]])/Таблица3[[#This Row],[Цена за единицу, руб. ]] -> #DIV/0! | AK12: =Таблица3[[#This Row],[Цена за единицу, руб. ]]*Таблица3[[#This Row],[Кол-во ЛП (мл/шт)]] -> 0 | AL12: =ROUND((Таблица3[[#This Row],[Цена за единицу, руб. ]]+Таблица3[[#This Row],[Цена за единицу, руб. ]]*10%),2)*Таблица3[[#This Row],[Кол-во ЛП (мл/шт)]] -> 0
A13: 6 | B13: 5 | D13: да | F13: =VLOOKUP(Таблица3[[#This Row],[№ п/п]],'Спецификация 25'!$1:$1048576,2,0) -> Адреналина гидрохлорид 0,1% 1 мл №5 | G13: =VLOOKUP(Таблица3[[#This Row],[№ п/п]],'Спецификация 25'!$1:$1048576,3,0) -> Эпинефрин | H13: =VLOOKUP(Таблица3[[#This Row],[№ п/п]],'Спецификация 25'!$1:$1048576,7,0) -> Раствор для инъекций | I13: {=IFERROR(INDEX('Спецификация 25'!$G$2:$G$113,MATCH(Таблица3[[#This Row],[№ п/п]]&Таблица3[[#Headers],[Дозировка]],'Спецификация 25'!$A$2:$A$113&'Спецификация 25'!$F$2:$F$113,0)),"нет")} -> 1 мг/мл. | J13: {=IFERROR(INDEX('Спецификация 25'!$G$2:$G$113,MATCH(Таблица3[[#This Row],[№ п/п]]&Таблица3[[#Headers],[Первичная упаковка]],'Спецификация 25'!$A$2:$A$113&'Спецификация 25'!$F$2:$F$113,0)),"нет")} -> Ампула | K13: {=IFERROR(INDEX('Спецификация 25'!$G$2:$G$113,MATCH(Таблица3[[#This Row],[№ п/п]]&Таблица3[[#Headers],[Описание упаковки]],'Спецификация 25'!$A$2:$A$113&'Спецификация 25'!$F$2:$F$113,0)),"")} -> 5 амп. по 1 мл | L13: =VLOOKUP(Таблица3[[#This Row],[№ п/п]],'Спецификация 25'!$1:$1048576,8,0) -> мл | M13: 129.48 | N13: 0.1 | O13: =Таблица3[[#This Row],[1 Цена за уп с НДС]]-Таблица3[[#This Row],[1 Цена за уп с НДС]]*(1-1/(1+N13)) -> 117.70909 | P13: =LEFT(Таблица3[[#This Row],[Описание упаковки]],2) -> 5 | Q13: =IF(LEFT(Таблица3[[#This Row],[Лекарственная форма]],7)="Раствор",LEFT(RIGHT(Таблица3[[#This Row],[Описание упаковки]],4),1),IF(LEFT(Таблица3[[#This Row],[Лекарственная форма]],5)="Капли",LEFT(RIGHT(Таблица3[[#This Row],[Описание упаковки]],4)),1)) -> 1 | R13: =ROUNDDOWN(Таблица3[[#This Row],[1 Цена за уп без НДС]]/Таблица3[[#This Row],[1 Кол-во шт в уп]]/Таблица3[[#This Row],[1 Объем катриджа]],2) -> 23.54 | S13: 129.49 | T13: 0.1 | U13: =Таблица3[[#This Row],[2 Цена за уп с НДС]]-(Таблица3[[#This Row],[2 Цена за уп с НДС]]*(1-1/(1+T13))) -> 117.71818 | V13: =Таблица3[[#This Row],[1 Кол-во шт в уп]] -> 5 | W13: =Таблица3[[#This Row],[1 Объем катриджа]] -> 1 | X13: =ROUNDDOWN(Таблица3[[#This Row],[2 Цена за уп без НДС и Оптовой над.]]/Таблица3[[#This Row],[2 Кол-во шт в уп]]/Таблица3[[#This Row],[2 Объем катриджа]],2) -> 23.54 | Y13: 129.88 | Z13: 0.1 | AA13: =Таблица3[[#This Row],[3 Цена за уп с НДС]]-(Таблица3[[#This Row],[3 Цена за уп с НДС]]*(1-1/(1+Z13))) -> 118.07273 | AB13: =Таблица3[[#This Row],[1 Кол-во шт в уп]] -> 5 | AC13: =Таблица3[[#This Row],[1 Объем катриджа]] -> 1 | AD13: =ROUNDDOWN(Таблица3[[#This Row],[3 Цена за уп без НДС и Оптовой над.]]/Таблица3[[#This Row],[3 Кол-во шт в уп]]/Таблица3[[#This Row],[3 Объем катриджа]],2) -> 23.61 | AE13: =ROUND(MIN(Таблица3[[#This Row],[1 Цена за единицу без НДС]],Таблица3[[#This Row],[2 Цена за единицу без НДС]],Таблица3[[#This Row],[3 Цена за единицу без НДС]]),2) -> 23.54 | AF13: =VLOOKUP(Таблица3[[#This Row],[№ п/п]],'Спецификация 25'!$1:$1048576,10,0) -> 230 | AG13: =Таблица3[[#This Row],[1 Кол-во шт в уп]] -> 5 | AH13: =Таблица3[[#This Row],[1 Объем катриджа]] -> 1 | AI13: =Таблица3[[#This Row],[Кол-во Упак]]*Таблица3[[#This Row],[Объем]]*Таблица3[[#This Row],[Кол-во шт в уп]] -> 1150 | AJ13: =STDEV(Таблица3[[#This Row],[1 Цена за единицу без НДС]],Таблица3[[#This Row],[2 Цена за единицу без НДС]],Таблица3[[#This Row],[3 Цена за единицу без НДС]])/Таблица3[[#This Row],[Цена за единицу, руб. ]] -> 0.0017168445 | AK13: =Таблица3[[#This Row],[Цена за единицу, руб. ]]*Таблица3[[#This Row],[Кол-во ЛП (мл/шт)]] -> 27071 | AL13: =ROUND((Таблица3[[#This Row],[Цена за единицу, руб. ]]+Таблица3[[#This Row],[Цена за единицу, руб. ]]*10%),2)*Таблица3[[#This Row],[Кол-во ЛП (мл/шт)]] -> 29773.5
A14: 7 | B14: 6 | D14: да | F14: =VLOOKUP(Таблица3[[#This Row],[№ п/п]],'Спецификация 25'!$1:$1048576,2,0) -> Фуросемид 1% 2 мл 10 | G14: =VLOOKUP(Таблица3[[#This Row],[№ п/п]],'Спецификация 25'!$1:$1048576,3,0) -> Фуросемид | H14: =VLOOKUP(Таблица3[[#This Row],[№ п/п]],'Спецификация 25'!$1:$1048576,7,0) -> Раствор для внутривенного и внутримышечного введения | I14: {=IFERROR(INDEX('Спецификация 25'!$G$2:$G$113,MATCH(Таблица3[[#This Row],[№ п/п]]&Таблица3[[#Headers],[Дозировка]],'Спецификация 25'!$A$2:$A$113&'Спецификация 25'!$F$2:$F$113,0)),"нет")} -> 10 мг/мл. | J14: {=IFERROR(INDEX('Спецификация 25'!$G$2:$G$113,MATCH(Таблица3[[#This Row],[№ п/п]]&Таблица3[[#Headers],[Первичная упаковка]],'Спецификация 25'!$A$2:$A$113&'Спецификация 25'!$F$2:$F$113,0)),"нет")} -> Ампула | K14: {=IFERROR(INDEX('Спецификация 25'!$G$2:$G$113,MATCH(Таблица3[[#This Row],[№ п/п]]&Таблица3[[#Headers],[Описание упаковки]],'Спецификация 25'!$A$2:$A$113&'Спецификация 25'!$F$2:$F$113,0)),"")} -> 10 амп. по 2 мл | L14: =VLOOKUP(Таблица3[[#This Row],[№ п/п]],'Спецификация 25'!$1:$1048576,8,0) -> мл | M14: 87 | N14: 0.1 | O14: =Таблица3[[#This Row],[1 Цена за уп с НДС]]-Таблица3[[#This Row],[1 Цена за уп с НДС]]*(1-1/(1+N14)) -> 79.090909 | P14: =LEFT(Таблица3[[#This Row],[Описание упаковки]],2) -> 10 | Q14: =IF(LEFT(Таблица3[[#This Row],[Лекарственная форма]],7)="Раствор",LEFT(RIGHT(Таблица3[[#This Row],[Описание упаковки]],4),1),IF(LEFT(Таблица3[[#This Row],[Лекарственная форма]],5)="Капли",LEFT(RIGHT(Таблица3[[#This Row],[Описание упаковки]],4)),1)) -> 2 | R14: =ROUNDDOWN(Таблица3[[#This Row],[1 Цена за уп без НДС]]/Таблица3[[#This Row],[1 Кол-во шт в уп]]/Таблица3[[#This Row],[1 Объем катриджа]],2) -> 3.95 | S14: 87.01 | T14: 0.1 | U14: =Таблица3[[#This Row],[2 Цена за уп с НДС]]-(Таблица3[[#This Row],[2 Цена за уп с НДС]]*(1-1/(1+T14))) -> 79.1 | V14: =Таблица3[[#This Row],[1 Кол-во шт в уп]] -> 10 | W14: =Таблица3[[#This Row],[1 Объем катриджа]] -> 2 | X14: =ROUNDDOWN(Таблица3[[#This Row],[2 Цена за уп без НДС и Оптовой над.]]/Таблица3[[#This Row],[2 Кол-во шт в уп]]/Таблица3[[#This Row],[2 Объем катриджа]],2) -> 3.95 | Y14: 87.27 | Z14: 0.1 | AA14: =Таблица3[[#This Row],[3 Цена за уп с НДС]]-(Таблица3[[#This Row],[3 Цена за уп с НДС]]*(1-1/(1+Z14))) -> 79.336364 | AB14: =Таблица3[[#This Row],[1 Кол-во шт в уп]] -> 10 | AC14: =Таблица3[[#This Row],[1 Объем катриджа]] -> 2 | AD14: =ROUNDDOWN(Таблица3[[#This Row],[3 Цена за уп без НДС и Оптовой над.]]/Таблица3[[#This Row],[3 Кол-во шт в уп]]/Таблица3[[#This Row],[3 Объем катриджа]],2) -> 3.96 | AE14: =ROUND(MIN(Таблица3[[#This Row],[1 Цена за единицу без НДС]],Таблица3[[#This Row],[2 Цена за единицу без НДС]],Таблица3[[#This Row],[3 Цена за единицу без НДС]]),2) -> 3.95 | AF14: =VLOOKUP(Таблица3[[#This Row],[№ п/п]],'Спецификация 25'!$1:$1048576,10,0) -> 6 | AG14: =Таблица3[[#This Row],[1 Кол-во шт в уп]] -> 10 | AH14: =Таблица3[[#This Row],[1 Объем катриджа]] -> 2 | AI14: =Таблица3[[#This Row],[Кол-во Упак]]*Таблица3[[#This Row],[Объем]]*Таблица3[[#This Row],[Кол-во шт в уп]] -> 120 | AJ14: =STDEV(Таблица3[[#This Row],[1 Цена за единицу без НДС]],Таблица3[[#This Row],[2 Цена за единицу без НДС]],Таблица3[[#This Row],[3 Цена за единицу без НДС]])/Таблица3[[#This Row],[Цена за единицу, руб. ]] -> 0.0014616463 | AK14: =Таблица3[[#This Row],[Цена за единицу, руб. ]]*Таблица3[[#This Row],[Кол-во ЛП (мл/шт)]] -> 474 | AL14: =ROUND((Таблица3[[#This Row],[Цена за единицу, руб. ]]+Таблица3[[#This Row],[Цена за единицу, руб. ]]*10%),2)*Таблица3[[#This Row],[Кол-во ЛП (мл/шт)]] -> 522
A15: 8 | B15: 7 | D15: да | F15: =VLOOKUP(Таблица3[[#This Row],[№ п/п]],'Спецификация 25'!$1:$1048576,2,0) -> Эуфиллин 2,4% 5 мл №10 | G15: =VLOOKUP(Таблица3[[#This Row],[№ п/п]],'Спецификация 25'!$1:$1048576,3,0) -> Аминофиллин | H15: =VLOOKUP(Таблица3[[#This Row],[№ п/п]],'Спецификация 25'!$1:$1048576,7,0) -> Раствор для внутривенного введения | I15: {=IFERROR(INDEX('Спецификация 25'!$G$2:$G$113,MATCH(Таблица3[[#This Row],[№ п/п]]&Таблица3[[#Headers],[Дозировка]],'Спецификация 25'!$A$2:$A$113&'Спецификация 25'!$F$2:$F$113,0)),"нет")} -> 24 мг/мл. | J15: {=IFERROR(INDEX('Спецификация 25'!$G$2:$G$113,MATCH(Таблица3[[#This Row],[№ п/п]]&Таблица3[[#Headers],[Первичная упаковка]],'Спецификация 25'!$A$2:$A$113&'Спецификация 25'!$F$2:$F$113,0)),"нет")} -> Ампула | K15: {=IFERROR(INDEX('Спецификация 25'!$G$2:$G$113,MATCH(Таблица3[[#This Row],[№ п/п]]&Таблица3[[#Headers],[Описание упаковки]],'Спецификация 25'!$A$2:$A$113&'Спецификация 25'!$F$2:$F$113,0)),"")} -> 10 амп. по 5 мл | L15: =VLOOKUP(Таблица3[[#This Row],[№ п/п]],'Спецификация 25'!$1:$1048576,8,0) -> мл | M15: 99.96 | N15: 0.1 | O15: =Таблица3[[#This Row],[1 Цена за уп с НДС]]-Таблица3[[#This Row],[1 Цена за уп с НДС]]*(1-1/(1+N15)) -> 90.872727 | P15: =LEFT(Таблица3[[#This Row],[Описание упаковки]],2) -> 10 | Q15: =IF(LEFT(Таблица3[[#This Row],[Лекарственная форма]],7)="Раствор",LEFT(RIGHT(Таблица3[[#This Row],[Описание упаковки]],4),1),IF(LEFT(Таблица3[[#This Row],[Лекарственная форма]],5)="Капли",LEFT(RIGHT(Таблица3[[#This Row],[Описание упаковки]],4)),1)) -> 5 | R15: =ROUNDDOWN(Таблица3[[#This Row],[1 Цена за уп без НДС]]/Таблица3[[#This Row],[1 Кол-во шт в уп]]/Таблица3[[#This Row],[1 Объем катриджа]],2) -> 1.81 | S15: 99.97 | T15: 0.1 | U15: =Таблица3[[#This Row],[2 Цена за уп с НДС]]-(Таблица3[[#This Row],[2 Цена за уп с НДС]]*(1-1/(1+T15))) -> 90.881818 | V15: =Таблица3[[#This Row],[1 Кол-во шт в уп]] -> 10 | W15: =Таблица3[[#This Row],[1 Объем катриджа]] -> 5 | X15: =ROUNDDOWN(Таблица3[[#This Row],[2 Цена за уп без НДС и Оптовой над.]]/Таблица3[[#This Row],[2 Кол-во шт в уп]]/Таблица3[[#This Row],[2 Объем катриджа]],2) -> 1.81 | Y15: 100.27 | Z15: 0.1 | AA15: =Таблица3[[#This Row],[3 Цена за уп с НДС]]-(Таблица3[[#This Row],[3 Цена за уп с НДС]]*(1-1/(1+Z15))) -> 91.154545 | AB15: =Таблица3[[#This Row],[1 Кол-во шт в уп]] -> 10 | AC15: =Таблица3[[#This Row],[1 Объем катриджа]] -> 5 | AD15: =ROUNDDOWN(Таблица3[[#This Row],[3 Цена за уп без НДС и Оптовой над.]]/Таблица3[[#This Row],[3 Кол-во шт в уп]]/Таблица3[[#This Row],[3 Объем катриджа]],2) -> 1.82 | AE15: =ROUND(MIN(Таблица3[[#This Row],[1 Цена за единицу без НДС]],Таблица3[[#This Row],[2 Цена за единицу без НДС]],Таблица3[[#This Row],[3 Цена за единицу без НДС]]),2) -> 1.81 | AF15: =VLOOKUP(Таблица3[[#This Row],[№ п/п]],'Спецификация 25'!$1:$1048576,10,0) -> 6 | AG15: =Таблица3[[#This Row],[1 Кол-во шт в уп]] -> 10 | AH15: =Таблица3[[#This Row],[1 Объем катриджа]] -> 5 | AI15: =Таблица3[[#This Row],[Кол-во Упак]]*Таблица3[[#This Row],[Объем]]*Таблица3[[#This Row],[Кол-во шт в уп]] -> 300 | AJ15: =STDEV(Таблица3[[#This Row],[1 Цена за единицу без НДС]],Таблица3[[#This Row],[2 Цена за единицу без НДС]],Таблица3[[#This Row],[3 Цена за единицу без НДС]])/Таблица3[[#This Row],[Цена за единицу, руб. ]] -> 0.0031897805 | AK15: =Таблица3[[#This Row],[Цена за единицу, руб. ]]*Таблица3[[#This Row],[Кол-во ЛП (мл/шт)]] -> 543 | AL15: =ROUND((Таблица3[[#This Row],[Цена за единицу, руб. ]]+Таблица3[[#This Row],[Цена за единицу, руб. ]]*10%),2)*Таблица3[[#This Row],[Кол-во ЛП (мл/шт)]] -> 597
A16: 9 | B16: 8 | D16: нет | F16: =VLOOKUP(Таблица3[[#This Row],[№ п/п]],'Спецификация 25'!$1:$1048576,2,0) -> Пустырника настойка 25 мл | G16: =VLOOKUP(Таблица3[[#This Row],[№ п/п]],'Спецификация 25'!$1:$1048576,3,0) -> Пустырника травы настойка | H16: =VLOOKUP(Таблица3[[#This Row],[№ п/п]],'Спецификация 25'!$1:$1048576,7,0) -> Настойка | I16: {=IFERROR(INDEX('Спецификация 25'!$G$2:$G$113,MATCH(Таблица3[[#This Row],[№ п/п]]&Таблица3[[#Headers],[Дозировка]],'Спецификация 25'!$A$2:$A$113&'Спецификация 25'!$F$2:$F$113,0)),"нет")} -> нет | J16: {=IFERROR(INDEX('Спецификация 25'!$G$2:$G$113,MATCH(Таблица3[[#This Row],[№ п/п]]&Таблица3[[#Headers],[Первичная упаковка]],'Спецификация 25'!$A$2:$A$113&'Спецификация 25'!$F$2:$F$113,0)),"нет")} -> Флакон | K16: {=IFERROR(INDEX('Спецификация 25'!$G$2:$G$113,MATCH(Таблица3[[#This Row],[№ п/п]]&Таблица3[[#Headers],[Описание упаковки]],'Спецификация 25'!$A$2:$A$113&'Спецификация 25'!$F$2:$F$113,0)),"")} -> 25 мл | L16: =VLOOKUP(Таблица3[[#This Row],[№ п/п]],'Спецификация 25'!$1:$1048576,8,0) -> мл | M16: 49.5 | N16: 0.1 | O16: =Таблица3[[#This Row],[1 Цена за уп с НДС]]-Таблица3[[#This Row],[1 Цена за уп с НДС]]*(1-1/(1+N16)) -> 45 | P16: =LEFT(Таблица3[[#This Row],[Описание упаковки]],2) -> 25 | Q16: =IF(LEFT(Таблица3[[#This Row],[Лекарственная форма]],7)="Раствор",LEFT(RIGHT(Таблица3[[#This Row],[Описание упаковки]],4),1),IF(LEFT(Таблица3[[#This Row],[Лекарственная форма]],5)="Капли",LEFT(RIGHT(Таблица3[[#This Row],[Описание упаковки]],4)),1)) -> 1 | R16: =ROUNDDOWN(Таблица3[[#This Row],[1 Цена за уп без НДС]]/Таблица3[[#This Row],[1 Кол-во шт в уп]]/Таблица3[[#This Row],[1 Объем катриджа]],2) -> 1.8 | S16: 50.5 | T16: 0.1 | U16: =Таблица3[[#This Row],[2 Цена за уп с НДС]]-(Таблица3[[#This Row],[2 Цена за уп с НДС]]*(1-1/(1+T16))) -> 45.909091 | V16: =Таблица3[[#This Row],[1 Кол-во шт в уп]] -> 25 | W16: =Таблица3[[#This Row],[1 Объем катриджа]] -> 1 | X16: =ROUNDDOWN(Таблица3[[#This Row],[2 Цена за уп без НДС и Оптовой над.]]/Таблица3[[#This Row],[2 Кол-во шт в уп]]/Таблица3[[#This Row],[2 Объем катриджа]],2) -> 1.83 | Y16: 50.65 | Z16: 0.1 | AA16: =Таблица3[[#This Row],[3 Цена за уп с НДС]]-(Таблица3[[#This Row],[3 Цена за уп с НДС]]*(1-1/(1+Z16))) -> 46.045455 | AB16: =Таблица3[[#This Row],[1 Кол-во шт в уп]] -> 25 | AC16: =Таблица3[[#This Row],[1 Объем катриджа]] -> 1 | AD16: =ROUNDDOWN(Таблица3[[#This Row],[3 Цена за уп без НДС и Оптовой над.]]/Таблица3[[#This Row],[3 Кол-во шт в уп]]/Таблица3[[#This Row],[3 Объем катриджа]],2) -> 1.84 | AE16: =ROUND(MIN(Таблица3[[#This Row],[1 Цена за единицу без НДС]],Таблица3[[#This Row],[2 Цена за единицу без НДС]],Таблица3[[#This Row],[3 Цена за единицу без НДС]]),2) -> 1.8 | AF16: =VLOOKUP(Таблица3[[#This Row],[№ п/п]],'Спецификация 25'!$1:$1048576,10,0) -> 20 | AG16: =Таблица3[[#This Row],[1 Кол-во шт в уп]] -> 25 | AH16: =Таблица3[[#This Row],[1 Объем катриджа]] -> 1 | AI16: =Таблица3[[#This Row],[Кол-во Упак]]*Таблица3[[#This Row],[Объем]]*Таблица3[[#This Row],[Кол-во шт в уп]] -> 500 | AJ16: =STDEV(Таблица3[[#This Row],[1 Цена за единицу без НДС]],Таблица3[[#This Row],[2 Цена за единицу без НДС]],Таблица3[[#This Row],[3 Цена за единицу без НДС]])/Таблица3[[#This Row],[Цена за единицу, руб. ]] -> 0.011564811 | AK16: =Таблица3[[#This Row],[Цена за единицу, руб. ]]*Таблица3[[#This Row],[Кол-во ЛП (мл/шт)]] -> 900 | AL16: =ROUND((Таблица3[[#This Row],[Цена за единицу, руб. ]]+Таблица3[[#This Row],[Цена за единицу, руб. ]]*10%),2)*Таблица3[[#This Row],[Кол-во ЛП (мл/шт)]] -> 990
A17: 10 | B17: 9 | D17: нет | F17: =VLOOKUP(Таблица3[[#This Row],[№ п/п]],'Спецификация 25'!$1:$1048576,2,0) -> Валерианы настойка 25 мл | G17: =VLOOKUP(Таблица3[[#This Row],[№ п/п]],'Спецификация 25'!$1:$1048576,3,0) -> Валерианы лекарственной корневища с корнями | H17: =VLOOKUP(Таблица3[[#This Row],[№ п/п]],'Спецификация 25'!$1:$1048576,7,0) -> Настойка | I17: {=IFERROR(INDEX('Спецификация 25'!$G$2:$G$113,MATCH(Таблица3[[#This Row],[№ п/п]]&Таблица3[[#Headers],[Дозировка]],'Спецификация 25'!$A$2:$A$113&'Спецификация 25'!$F$2:$F$113,0)),"нет")} -> нет | J17: {=IFERROR(INDEX('Спецификация 25'!$G$2:$G$113,MATCH(Таблица3[[#This Row],[№ п/п]]&Таблица3[[#Headers],[Первичная упаковка]],'Спецификация 25'!$A$2:$A$113&'Спецификация 25'!$F$2:$F$113,0)),"нет")} -> Флакон | K17: {=IFERROR(INDEX('Спецификация 25'!$G$2:$G$113,MATCH(Таблица3[[#This Row],[№ п/п]]&Таблица3[[#Headers],[Описание упаковки]],'Спецификация 25'!$A$2:$A$113&'Спецификация 25'!$F$2:$F$113,0)),"")} -> 25 мл | L17: =VLOOKUP(Таблица3[[#This Row],[№ п/п]],'Спецификация 25'!$1:$1048576,8,0) -> мл | M17: 70 | N17: 0.1 | O17: =Таблица3[[#This Row],[1 Цена за уп с НДС]]-Таблица3[[#This Row],[1 Цена за уп с НДС]]*(1-1/(1+N17)) -> 63.636364 | P17: =LEFT(Таблица3[[#This Row],[Описание упаковки]],2) -> 25 | Q17: =IF(LEFT(Таблица3[[#This Row],[Лекарственная форма]],7)="Раствор",LEFT(RIGHT(Таблица3[[#This Row],[Описание упаковки]],4),1),IF(LEFT(Таблица3[[#This Row],[Лекарственная форма]],5)="Капли",LEFT(RIGHT(Таблица3[[#This Row],[Описание упаковки]],4)),1)) -> 1 | R17: =ROUNDDOWN(Таблица3[[#This Row],[1 Цена за уп без НДС]]/Таблица3[[#This Row],[1 Кол-во шт в уп]]/Таблица3[[#This Row],[1 Объем катриджа]],2) -> 2.54 | S17: 71 | T17: 0.1 | U17: =Таблица3[[#This Row],[2 Цена за уп с НДС]]-(Таблица3[[#This Row],[2 Цена за уп с НДС]]*(1-1/(1+T17))) -> 64.545455 | V17: =Таблица3[[#This Row],[1 Кол-во шт в уп]] -> 25 | W17: =Таблица3[[#This Row],[1 Объем катриджа]] -> 1 | X17: =ROUNDDOWN(Таблица3[[#This Row],[2 Цена за уп без НДС и Оптовой над.]]/Таблица3[[#This Row],[2 Кол-во шт в уп]]/Таблица3[[#This Row],[2 Объем катриджа]],2) -> 2.58 | Y17: 71.21 | Z17: 0.1 | AA17: =Таблица3[[#This Row],[3 Цена за уп с НДС]]-(Таблица3[[#This Row],[3 Цена за уп с НДС]]*(1-1/(1+Z17))) -> 64.736364 | AB17: =Таблица3[[#This Row],[1 Кол-во шт в уп]] -> 25 | AC17: =Таблица3[[#This Row],[1 Объем катриджа]] -> 1 | AD17: =ROUNDDOWN(Таблица3[[#This Row],[3 Цена за уп без НДС и Оптовой над.]]/Таблица3[[#This Row],[3 Кол-во шт в уп]]/Таблица3[[#This Row],[3 Объем катриджа]],2) -> 2.58 | AE17: =ROUND(MIN(Таблица3[[#This Row],[1 Цена за единицу без НДС]],Таблица3[[#This Row],[2 Цена за единицу без НДС]],Таблица3[[#This Row],[3 Цена за единицу без НДС]]),2) -> 2.54 | AF17: =VLOOKUP(Таблица3[[#This Row],[№ п/п]],'Спецификация 25'!$1:$1048576,10,0) -> 20 | AG17: =Таблица3[[#This Row],[1 Кол-во шт в уп]] -> 25 | AH17: =Таблица3[[#This Row],[1 Объем катриджа]] -> 1 | AI17: =Таблица3[[#This Row],[Кол-во Упак]]*Таблица3[[#This Row],[Объем]]*Таблица3[[#This Row],[Кол-во шт в уп]] -> 500 | AJ17: =STDEV(Таблица3[[#This Row],[1 Цена за единицу без НДС]],Таблица3[[#This Row],[2 Цена за единицу без НДС]],Таблица3[[#This Row],[3 Цена за единицу без НДС]])/Таблица3[[#This Row],[Цена за единицу, руб. ]] -> 0.0090921302 | AK17: =Таблица3[[#This Row],[Цена за единицу, руб. ]]*Таблица3[[#This Row],[Кол-во ЛП (мл/шт)]] -> 1270 | AL17: =ROUND((Таблица3[[#This Row],[Цена за единицу, руб. ]]+Таблица3[[#This Row],[Цена за единицу, руб. ]]*10%),2)*Таблица3[[#This Row],[Кол-во ЛП (мл/шт)]] -> 1395
A18: 11 | D18: нет | F18: =VLOOKUP(Таблица3[[#This Row],[№ п/п]],'Спецификация 25'!$1:$1048576,2,0) -> Ацетилсалициловая кислота 500 мг №10 | G18: =VLOOKUP(Таблица3[[#This Row],[№ п/п]],'Спецификация 25'!$1:$1048576,3,0) -> Ацетилсалициловая кислота | H18: =VLOOKUP(Таблица3[[#This Row],[№ п/п]],'Спецификация 25'!$1:$1048576,7,0) -> Таблетки | I18: {=IFERROR(INDEX('Спецификация 25'!$G$2:$G$113,MATCH(Таблица3[[#This Row],[№ п/п]]&Таблица3[[#Headers],[Дозировка]],'Спецификация 25'!$A$2:$A$113&'Спецификация 25'!$F$2:$F$113,0)),"нет")} -> 500 мг | J18: {=IFERROR(INDEX('Спецификация 25'!$G$2:$G$113,MATCH(Таблица3[[#This Row],[№ п/п]]&Таблица3[[#Headers],[Первичная упаковка]],'Спецификация 25'!$A$2:$A$113&'Спецификация 25'!$F$2:$F$113,0)),"нет")} -> нет | K18: {=IFERROR(INDEX('Спецификация 25'!$G$2:$G$113,MATCH(Таблица3[[#This Row],[№ п/п]]&Таблица3[[#Headers],[Описание упаковки]],'Спецификация 25'!$A$2:$A$113&'Спецификация 25'!$F$2:$F$113,0)),"")} -> 10 шт | L18: =VLOOKUP(Таблица3[[#This Row],[№ п/п]],'Спецификация 25'!$1:$1048576,8,0) -> шт | N18: 0.1 | O18: =Таблица3[[#This Row],[1 Цена за уп с НДС]]-Таблица3[[#This Row],[1 Цена за уп с НДС]]*(1-1/(1+N18)) -> 0 | P18: =LEFT(Таблица3[[#This Row],[Описание упаковки]],2) -> 10 | Q18: =IF(LEFT(Таблица3[[#This Row],[Лекарственная форма]],7)="Раствор",LEFT(RIGHT(Таблица3[[#This Row],[Описание упаковки]],4),1),IF(LEFT(Таблица3[[#This Row],[Лекарственная форма]],5)="Капли",LEFT(RIGHT(Таблица3[[#This Row],[Описание упаковки]],4)),1)) -> 1 | R18: =ROUNDDOWN(Таблица3[[#This Row],[1 Цена за уп без НДС]]/Таблица3[[#This Row],[1 Кол-во шт в уп]]/Таблица3[[#This Row],[1 Объем катриджа]],2) -> 0 | T18: 0.1 | U18: =Таблица3[[#This Row],[2 Цена за уп с НДС]]-(Таблица3[[#This Row],[2 Цена за уп с НДС]]*(1-1/(1+T18))) -> 0 | V18: =Таблица3[[#This Row],[1 Кол-во шт в уп]] -> 10 | W18: =Таблица3[[#This Row],[1 Объем катриджа]] -> 1 | X18: =ROUNDDOWN(Таблица3[[#This Row],[2 Цена за уп без НДС и Оптовой над.]]/Таблица3[[#This Row],[2 Кол-во шт в уп]]/Таблица3[[#This Row],[2 Объем катриджа]],2) -> 0 | Z18: 0.1 | AA18: =Таблица3[[#This Row],[3 Цена за уп с НДС]]-(Таблица3[[#This Row],[3 Цена за уп с НДС]]*(1-1/(1+Z18))) -> 0 | AB18: =Таблица3[[#This Row],[1 Кол-во шт в уп]] -> 10 | AC18: =Таблица3[[#This Row],[1 Объем катриджа]] -> 1 | AD18: =ROUNDDOWN(Таблица3[[#This Row],[3 Цена за уп без НДС и Оптовой над.]]/Таблица3[[#This Row],[3 Кол-во шт в уп]]/Таблица3[[#This Row],[3 Объем катриджа]],2) -> 0 | AE18: =ROUND(MIN(Таблица3[[#This Row],[1 Цена за единицу без НДС]],Таблица3[[#This Row],[2 Цена за единицу без НДС]],Таблица3[[#This Row],[3 Цена за единицу без НДС]]),2) -> 0 | AF18: =VLOOKUP(Таблица3[[#This Row],[№ п/п]],'Спецификация 25'!$1:$1048576,10,0) -> 0 | AG18: =Таблица3[[#This Row],[1 Кол-во шт в уп]] -> 10 | AH18: =Таблица3[[#This Row],[1 Объем катриджа]] -> 1 | AI18: =Таблица3[[#This Row],[Кол-во Упак]]*Таблица3[[#This Row],[Объем]]*Таблица3[[#This Row],[Кол-во шт в уп]] -> 0 | AJ18: =STDEV(Таблица3[[#This Row],[1 Цена за единицу без НДС]],Таблица3[[#This Row],[2 Цена за единицу без НДС]],Таблица3[[#This Row],[3 Цена за единицу без НДС]])/Таблица3[[#This Row],[Цена за единицу, руб. ]] -> #DIV/0! | AK18: =Таблица3[[#This Row],[Цена за единицу, руб. ]]*Таблица3[[#This Row],[Кол-во ЛП (мл/шт)]] -> 0 | AL18: =ROUND((Таблица3[[#This Row],[Цена за единицу, руб. ]]+Таблица3[[#This Row],[Цена за единицу, руб. ]]*10%),2)*Таблица3[[#This Row],[Кол-во ЛП (мл/шт)]] -> 0
A19: 12 | B19: 10 | D19: нет | F19: =VLOOKUP(Таблица3[[#This Row],[№ п/п]],'Спецификация 25'!$1:$1048576,2,0) -> Андипал 20 мг+250 мг+20 мг+ 20 мг №10 | G19: =VLOOKUP(Таблица3[[#This Row],[№ п/п]],'Спецификация 25'!$1:$1048576,3,0) -> Бендазол + Метамизол натрия + Папаверин + Фенобарбитал | H19: =VLOOKUP(Таблица3[[#This Row],[№ п/п]],'Спецификация 25'!$1:$1048576,7,0) -> Таблетки | I19: {=IFERROR(INDEX('Спецификация 25'!$G$2:$G$113,MATCH(Таблица3[[#This Row],[№ п/п]]&Таблица3[[#Headers],[Дозировка]],'Спецификация 25'!$A$2:$A$113&'Спецификация 25'!$F$2:$F$113,0)),"нет")} -> 20 мг+250 мг+20 мг | J19: {=IFERROR(INDEX('Спецификация 25'!$G$2:$G$113,MATCH(Таблица3[[#This Row],[№ п/п]]&Таблица3[[#Headers],[Первичная упаковка]],'Спецификация 25'!$A$2:$A$113&'Спецификация 25'!$F$2:$F$113,0)),"нет")} -> нет | K19: {=IFERROR(INDEX('Спецификация 25'!$G$2:$G$113,MATCH(Таблица3[[#This Row],[№ п/п]]&Таблица3[[#Headers],[Описание упаковки]],'Спецификация 25'!$A$2:$A$113&'Спецификация 25'!$F$2:$F$113,0)),"")} -> 10 шт | L19: =VLOOKUP(Таблица3[[#This Row],[№ п/п]],'Спецификация 25'!$1:$1048576,8,0) -> шт | M19: 46 | N19: 0.1 | O19: =Таблица3[[#This Row],[1 Цена за уп с НДС]]-Таблица3[[#This Row],[1 Цена за уп с НДС]]*(1-1/(1+N19)) -> 41.818182 | P19: =LEFT(Таблица3[[#This Row],[Описание упаковки]],2) -> 10 | Q19: =IF(LEFT(Таблица3[[#This Row],[Лекарственная форма]],7)="Раствор",LEFT(RIGHT(Таблица3[[#This Row],[Описание упаковки]],4),1),IF(LEFT(Таблица3[[#This Row],[Лекарственная форма]],5)="Капли",LEFT(RIGHT(Таблица3[[#This Row],[Описание упаковки]],4)),1)) -> 1 | R19: =ROUNDDOWN(Таблица3[[#This Row],[1 Цена за уп без НДС]]/Таблица3[[#This Row],[1 Кол-во шт в уп]]/Таблица3[[#This Row],[1 Объем катриджа]],2) -> 4.18 | S19: 47 | T19: 0.1 | U19: =Таблица3[[#This Row],[2 Цена за уп с НДС]]-(Таблица3[[#This Row],[2 Цена за уп с НДС]]*(1-1/(1+T19))) -> 42.727273 | V19: =Таблица3[[#This Row],[1 Кол-во шт в уп]] -> 10 | W19: =Таблица3[[#This Row],[1 Объем катриджа]] -> 1 | X19: =ROUNDDOWN(Таблица3[[#This Row],[2 Цена за уп без НДС и Оптовой над.]]/Таблица3[[#This Row],[2 Кол-во шт в уп]]/Таблица3[[#This Row],[2 Объем катриджа]],2) -> 4.27 | Y19: 47.14 | Z19: 0.1 | AA19: =Таблица3[[#This Row],[3 Цена за уп с НДС]]-(Таблица3[[#This Row],[3 Цена за уп с НДС]]*(1-1/(1+Z19))) -> 42.854545 | AB19: =Таблица3[[#This Row],[1 Кол-во шт в уп]] -> 10 | AC19: =Таблица3[[#This Row],[1 Объем катриджа]] -> 1 | AD19: =ROUNDDOWN(Таблица3[[#This Row],[3 Цена за уп без НДС и Оптовой над.]]/Таблица3[[#This Row],[3 Кол-во шт в уп]]/Таблица3[[#This Row],[3 Объем катриджа]],2) -> 4.28 | AE19: =ROUND(MIN(Таблица3[[#This Row],[1 Цена за единицу без НДС]],Таблица3[[#This Row],[2 Цена за единицу без НДС]],Таблица3[[#This Row],[3 Цена за единицу без НДС]]),2) -> 4.18 | AF19: =VLOOKUP(Таблица3[[#This Row],[№ п/п]],'Спецификация 25'!$1:$1048576,10,0) -> 10 | AG19: =Таблица3[[#This Row],[1 Кол-во шт в уп]] -> 10 | AH19: =Таблица3[[#This Row],[1 Объем катриджа]] -> 1 | AI19: =Таблица3[[#This Row],[Кол-во Упак]]*Таблица3[[#This Row],[Объем]]*Таблица3[[#This Row],[Кол-во шт в уп]] -> 100 | AJ19: =STDEV(Таблица3[[#This Row],[1 Цена за единицу без НДС]],Таблица3[[#This Row],[2 Цена за единицу без НДС]],Таблица3[[#This Row],[3 Цена за единицу без НДС]])/Таблица3[[#This Row],[Цена за единицу, руб. ]] -> 0.013176006 | AK19: =Таблица3[[#This Row],[Цена за единицу, руб. ]]*Таблица3[[#This Row],[Кол-во ЛП (мл/шт)]] -> 418 | AL19: =ROUND((Таблица3[[#This Row],[Цена за единицу, руб. ]]+Таблица3[[#This Row],[Цена за единицу, руб. ]]*10%),2)*Таблица3[[#This Row],[Кол-во ЛП (мл/шт)]] -> 460
A20: 13 | B20: 11 | D20: нет | F20: =VLOOKUP(Таблица3[[#This Row],[№ п/п]],'Спецификация 25'!$1:$1048576,2,0) -> Валидол 60 мг №10 | G20: =VLOOKUP(Таблица3[[#This Row],[№ п/п]],'Спецификация 25'!$1:$1048576,3,0) -> Левоментола раствор в ментил изовалерате | H20: =VLOOKUP(Таблица3[[#This Row],[№ п/п]],'Спецификация 25'!$1:$1048576,7,0) -> Таблетки подъязычные | I20: {=IFERROR(INDEX('Спецификация 25'!$G$2:$G$113,MATCH(Таблица3[[#This Row],[№ п/п]]&Таблица3[[#Headers],[Дозировка]],'Спецификация 25'!$A$2:$A$113&'Спецификация 25'!$F$2:$F$113,0)),"нет")} -> 60 мг | J20: {=IFERROR(INDEX('Спецификация 25'!$G$2:$G$113,MATCH(Таблица3[[#This Row],[№ п/п]]&Таблица3[[#Headers],[Первичная упаковка]],'Спецификация 25'!$A$2:$A$113&'Спецификация 25'!$F$2:$F$113,0)),"нет")} -> нет | K20: {=IFERROR(INDEX('Спецификация 25'!$G$2:$G$113,MATCH(Таблица3[[#This Row],[№ п/п]]&Таблица3[[#Headers],[Описание упаковки]],'Спецификация 25'!$A$2:$A$113&'Спецификация 25'!$F$2:$F$113,0)),"")} -> 10 шт | L20: =VLOOKUP(Таблица3[[#This Row],[№ п/п]],'Спецификация 25'!$1:$1048576,8,0) -> шт | M20: 24 | N20: 0.1 | O20: =Таблица3[[#This Row],[1 Цена за уп с НДС]]-Таблица3[[#This Row],[1 Цена за уп с НДС]]*(1-1/(1+N20)) -> 21.818182 | P20: =LEFT(Таблица3[[#This Row],[Описание упаковки]],2) -> 10 | Q20: =IF(LEFT(Таблица3[[#This Row],[Лекарственная форма]],7)="Раствор",LEFT(RIGHT(Таблица3[[#This Row],[Описание упаковки]],4),1),IF(LEFT(Таблица3[[#This Row],[Лекарственная форма]],5)="Капли",LEFT(RIGHT(Таблица3[[#This Row],[Описание упаковки]],4)),1)) -> 1 | R20: =ROUNDDOWN(Таблица3[[#This Row],[1 Цена за уп без НДС]]/Таблица3[[#This Row],[1 Кол-во шт в уп]]/Таблица3[[#This Row],[1 Объем катриджа]],2) -> 2.18 | S20: 25 | T20: 0.1 | U20: =Таблица3[[#This Row],[2 Цена за уп с НДС]]-(Таблица3[[#This Row],[2 Цена за уп с НДС]]*(1-1/(1+T20))) -> 22.727273 | V20: =Таблица3[[#This Row],[1 Кол-во шт в уп]] -> 10 | W20: =Таблица3[[#This Row],[1 Объем катриджа]] -> 1 | X20: =ROUNDDOWN(Таблица3[[#This Row],[2 Цена за уп без НДС и Оптовой над.]]/Таблица3[[#This Row],[2 Кол-во шт в уп]]/Таблица3[[#This Row],[2 Объем катриджа]],2) -> 2.27 | Y20: 25.08 | Z20: 0.1 | AA20: =Таблица3[[#This Row],[3 Цена за уп с НДС]]-(Таблица3[[#This Row],[3 Цена за уп с НДС]]*(1-1/(1+Z20))) -> 22.8 | AB20: =Таблица3[[#This Row],[1 Кол-во шт в уп]] -> 10 | AC20: =Таблица3[[#This Row],[1 Объем катриджа]] -> 1 | AD20: =ROUNDDOWN(Таблица3[[#This Row],[3 Цена за уп без НДС и Оптовой над.]]/Таблица3[[#This Row],[3 Кол-во шт в уп]]/Таблица3[[#This Row],[3 Объем катриджа]],2) -> 2.28 | AE20: =ROUND(MIN(Таблица3[[#This Row],[1 Цена за единицу без НДС]],Таблица3[[#This Row],[2 Цена за единицу без НДС]],Таблица3[[#This Row],[3 Цена за единицу без НДС]]),2) -> 2.18 | AF20: =VLOOKUP(Таблица3[[#This Row],[№ п/п]],'Спецификация 25'!$1:$1048576,10,0) -> 10 | AG20: =Таблица3[[#This Row],[1 Кол-во шт в уп]] -> 10 | AH20: =Таблица3[[#This Row],[1 Объем катриджа]] -> 1 | AI20: =Таблица3[[#This Row],[Кол-во Упак]]*Таблица3[[#This Row],[Объем]]*Таблица3[[#This Row],[Кол-во шт в уп]] -> 100 | AJ20: =STDEV(Таблица3[[#This Row],[1 Цена за единицу без НДС]],Таблица3[[#This Row],[2 Цена за единицу без НДС]],Таблица3[[#This Row],[3 Цена за единицу без НДС]])/Таблица3[[#This Row],[Цена за единицу, руб. ]] -> 0.025264085 | AK20: =Таблица3[[#This Row],[Цена за единицу, руб. ]]*Таблица3[[#This Row],[Кол-во ЛП (мл/шт)]] -> 218 | AL20: =ROUND((Таблица3[[#This Row],[Цена за единицу, руб. ]]+Таблица3[[#This Row],[Цена за единицу, руб. ]]*10%),2)*Таблица3[[#This Row],[Кол-во ЛП (мл/шт)]] -> 240
A21: 14 | B21: 12 | D21: да | F21: =VLOOKUP(Таблица3[[#This Row],[№ п/п]],'Спецификация 25'!$1:$1048576,2,0) -> Капотен 25 мг №40 | G21: =VLOOKUP(Таблица3[[#This Row],[№ п/п]],'Спецификация 25'!$1:$1048576,3,0) -> Каптоприл | H21: =VLOOKUP(Таблица3[[#This Row],[№ п/п]],'Спецификация 25'!$1:$1048576,7,0) -> Таблетки | I21: {=IFERROR(INDEX('Спецификация 25'!$G$2:$G$113,MATCH(Таблица3[[#This Row],[№ п/п]]&Таблица3[[#Headers],[Дозировка]],'Спецификация 25'!$A$2:$A$113&'Спецификация 25'!$F$2:$F$113,0)),"нет")} -> 25 мг | J21: {=IFERROR(INDEX('Спецификация 25'!$G$2:$G$113,MATCH(Таблица3[[#This Row],[№ п/п]]&Таблица3[[#Headers],[Первичная упаковка]],'Спецификация 25'!$A$2:$A$113&'Спецификация 25'!$F$2:$F$113,0)),"нет")} -> нет | K21: {=IFERROR(INDEX('Спецификация 25'!$G$2:$G$113,MATCH(Таблица3[[#This Row],[№ п/п]]&Таблица3[[#Headers],[Описание упаковки]],'Спецификация 25'!$A$2:$A$113&'Спецификация 25'!$F$2:$F$113,0)),"")} -> 40 шт | L21: =VLOOKUP(Таблица3[[#This Row],[№ п/п]],'Спецификация 25'!$1:$1048576,8,0) -> шт | M21: 291.58 | N21: 0.1 | O21: =Таблица3[[#This Row],[1 Цена за уп с НДС]]-Таблица3[[#This Row],[1 Цена за уп с НДС]]*(1-1/(1+N21)) -> 265.07273 | P21: =LEFT(Таблица3[[#This Row],[Описание упаковки]],2) -> 40 | Q21: =IF(LEFT(Таблица3[[#This Row],[Лекарственная форма]],7)="Раствор",LEFT(RIGHT(Таблица3[[#This Row],[Описание упаковки]],4),1),IF(LEFT(Таблица3[[#This Row],[Лекарственная форма]],5)="Капли",LEFT(RIGHT(Таблица3[[#This Row],[Описание упаковки]],4)),1)) -> 1 | R21: =ROUNDDOWN(Таблица3[[#This Row],[1 Цена за уп без НДС]]/Таблица3[[#This Row],[1 Кол-во шт в уп]]/Таблица3[[#This Row],[1 Объем катриджа]],2) -> 6.62 | S21: 291.59 | T21: 0.1 | U21: =Таблица3[[#This Row],[2 Цена за уп с НДС]]-(Таблица3[[#This Row],[2 Цена за уп с НДС]]*(1-1/(1+T21))) -> 265.08182 | V21: =Таблица3[[#This Row],[1 Кол-во шт в уп]] -> 40 | W21: =Таблица3[[#This Row],[1 Объем катриджа]] -> 1 | X21: =ROUNDDOWN(Таблица3[[#This Row],[2 Цена за уп без НДС и Оптовой над.]]/Таблица3[[#This Row],[2 Кол-во шт в уп]]/Таблица3[[#This Row],[2 Объем катриджа]],2) -> 6.62 | Y21: 292.46 | Z21: 0.1 | AA21: =Таблица3[[#This Row],[3 Цена за уп с НДС]]-(Таблица3[[#This Row],[3 Цена за уп с НДС]]*(1-1/(1+Z21))) -> 265.87273 | AB21: =Таблица3[[#This Row],[1 Кол-во шт в уп]] -> 40 | AC21: =Таблица3[[#This Row],[1 Объем катриджа]] -> 1 | AD21: =ROUNDDOWN(Таблица3[[#This Row],[3 Цена за уп без НДС и Оптовой над.]]/Таблица3[[#This Row],[3 Кол-во шт в уп]]/Таблица3[[#This Row],[3 Объем катриджа]],2) -> 6.64 | AE21: =ROUND(MIN(Таблица3[[#This Row],[1 Цена за единицу без НДС]],Таблица3[[#This Row],[2 Цена за единицу без НДС]],Таблица3[[#This Row],[3 Цена за единицу без НДС]]),2) -> 6.62 | AF21: =VLOOKUP(Таблица3[[#This Row],[№ п/п]],'Спецификация 25'!$1:$1048576,10,0) -> 3 | AG21: =Таблица3[[#This Row],[1 Кол-во шт в уп]] -> 40 | AH21: =Таблица3[[#This Row],[1 Объем катриджа]] -> 1 | AI21: =Таблица3[[#This Row],[Кол-во Упак]]*Таблица3[[#This Row],[Объем]]*Таблица3[[#This Row],[Кол-во шт в уп]] -> 120 | AJ21: =STDEV(Таблица3[[#This Row],[1 Цена за единицу без НДС]],Таблица3[[#This Row],[2 Цена за единицу без НДС]],Таблица3[[#This Row],[3 Цена за единицу без НДС]])/Таблица3[[#This Row],[Цена за единицу, руб. ]] -> 0.0017442606 | AK21: =Таблица3[[#This Row],[Цена за единицу, руб. ]]*Таблица3[[#This Row],[Кол-во ЛП (мл/шт)]] -> 794.4 | AL21: =ROUND((Таблица3[[#This Row],[Цена за единицу, руб. ]]+Таблица3[[#This Row],[Цена за единицу, руб. ]]*10%),2)*Таблица3[[#This Row],[Кол-во ЛП (мл/шт)]] -> 873.6
A22: 15 | B22: 13 | D22: да | F22: =VLOOKUP(Таблица3[[#This Row],[№ п/п]],'Спецификация 25'!$1:$1048576,2,0) -> Кетанов 10 мг № 20 | G22: =VLOOKUP(Таблица3[[#This Row],[№ п/п]],'Спецификация 25'!$1:$1048576,3,0) -> Кеторолак | H22: =VLOOKUP(Таблица3[[#This Row],[№ п/п]],'Спецификация 25'!$1:$1048576,7,0) -> Таблетки покрытые пленочной оболочкой | I22: {=IFERROR(INDEX('Спецификация 25'!$G$2:$G$113,MATCH(Таблица3[[#This Row],[№ п/п]]&Таблица3[[#Headers],[Дозировка]],'Спецификация 25'!$A$2:$A$113&'Спецификация 25'!$F$2:$F$113,0)),"нет")} -> 10 мг | J22: {=IFERROR(INDEX('Спецификация 25'!$G$2:$G$113,MATCH(Таблица3[[#This Row],[№ п/п]]&Таблица3[[#Headers],[Первичная упаковка]],'Спецификация 25'!$A$2:$A$113&'Спецификация 25'!$F$2:$F$113,0)),"нет")} -> нет | K22: {=IFERROR(INDEX('Спецификация 25'!$G$2:$G$113,MATCH(Таблица3[[#This Row],[№ п/п]]&Таблица3[[#Headers],[Описание упаковки]],'Спецификация 25'!$A$2:$A$113&'Спецификация 25'!$F$2:$F$113,0)),"")} -> 20 шт | L22: =VLOOKUP(Таблица3[[#This Row],[№ п/п]],'Спецификация 25'!$1:$1048576,8,0) -> шт | M22: 87.29 | N22: 0.1 | O22: =Таблица3[[#This Row],[1 Цена за уп с НДС]]-Таблица3[[#This Row],[1 Цена за уп с НДС]]*(1-1/(1+N22)) -> 79.354545 | P22: =LEFT(Таблица3[[#This Row],[Описание упаковки]],2) -> 20 | Q22: =IF(LEFT(Таблица3[[#This Row],[Лекарственная форма]],7)="Раствор",LEFT(RIGHT(Таблица3[[#This Row],[Описание упаковки]],4),1),IF(LEFT(Таблица3[[#This Row],[Лекарственная форма]],5)="Капли",LEFT(RIGHT(Таблица3[[#This Row],[Описание упаковки]],4)),1)) -> 1 | R22: =ROUNDDOWN(Таблица3[[#This Row],[1 Цена за уп без НДС]]/Таблица3[[#This Row],[1 Кол-во шт в уп]]/Таблица3[[#This Row],[1 Объем катриджа]],2) -> 3.96 | S22: 87.3 | T22: 0.1 | U22: =Таблица3[[#This Row],[2 Цена за уп с НДС]]-(Таблица3[[#This Row],[2 Цена за уп с НДС]]*(1-1/(1+T22))) -> 79.363636 | V22: =Таблица3[[#This Row],[1 Кол-во шт в уп]] -> 20 | W22: =Таблица3[[#This Row],[1 Объем катриджа]] -> 1 | X22: =ROUNDDOWN(Таблица3[[#This Row],[2 Цена за уп без НДС и Оптовой над.]]/Таблица3[[#This Row],[2 Кол-во шт в уп]]/Таблица3[[#This Row],[2 Объем катриджа]],2) -> 3.96 | Y22: 87.56 | Z22: 0.1 | AA22: =Таблица3[[#This Row],[3 Цена за уп с НДС]]-(Таблица3[[#This Row],[3 Цена за уп с НДС]]*(1-1/(1+Z22))) -> 79.6 | AB22: =Таблица3[[#This Row],[1 Кол-во шт в уп]] -> 20 | AC22: =Таблица3[[#This Row],[1 Объем катриджа]] -> 1 | AD22: =ROUNDDOWN(Таблица3[[#This Row],[3 Цена за уп без НДС и Оптовой над.]]/Таблица3[[#This Row],[3 Кол-во шт в уп]]/Таблица3[[#This Row],[3 Объем катриджа]],2) -> 3.98 | AE22: =ROUND(MIN(Таблица3[[#This Row],[1 Цена за единицу без НДС]],Таблица3[[#This Row],[2 Цена за единицу без НДС]],Таблица3[[#This Row],[3 Цена за единицу без НДС]]),2) -> 3.96 | AF22: =VLOOKUP(Таблица3[[#This Row],[№ п/п]],'Спецификация 25'!$1:$1048576,10,0) -> 6 | AG22: =Таблица3[[#This Row],[1 Кол-во шт в уп]] -> 20 | AH22: =Таблица3[[#This Row],[1 Объем катриджа]] -> 1 | AI22: =Таблица3[[#This Row],[Кол-во Упак]]*Таблица3[[#This Row],[Объем]]*Таблица3[[#This Row],[Кол-во шт в уп]] -> 120 | AJ22: =STDEV(Таблица3[[#This Row],[1 Цена за единицу без НДС]],Таблица3[[#This Row],[2 Цена за единицу без НДС]],Таблица3[[#This Row],[3 Цена за единицу без НДС]])/Таблица3[[#This Row],[Цена за единицу, руб. ]] -> 0.0029159105 | AK22: =Таблица3[[#This Row],[Цена за единицу, руб. ]]*Таблица3[[#This Row],[Кол-во ЛП (мл/шт)]] -> 475.2 | AL22: =ROUND((Таблица3[[#This Row],[Цена за единицу, руб. ]]+Таблица3[[#This Row],[Цена за единицу, руб. ]]*10%),2)*Таблица3[[#This Row],[Кол-во ЛП (мл/шт)]] -> 523.2
A23: 16 | B23: 14 | D23: да | F23: =VLOOKUP(Таблица3[[#This Row],[№ п/п]],'Спецификация 25'!$1:$1048576,2,0) -> Конкор 5 мг № 30 | G23: =VLOOKUP(Таблица3[[#This Row],[№ п/п]],'Спецификация 25'!$1:$1048576,3,0) -> Бисопролол | H23: =VLOOKUP(Таблица3[[#This Row],[№ п/п]],'Спецификация 25'!$1:$1048576,7,0) -> Таблетки покрытые пленочной оболочкой | I23: {=IFERROR(INDEX('Спецификация 25'!$G$2:$G$113,MATCH(Таблица3[[#This Row],[№ п/п]]&Таблица3[[#Headers],[Дозировка]],'Спецификация 25'!$A$2:$A$113&'Спецификация 25'!$F$2:$F$113,0)),"нет")} -> 5 мг | J23: {=IFERROR(INDEX('Спецификация 25'!$G$2:$G$113,MATCH(Таблица3[[#This Row],[№ п/п]]&Таблица3[[#Headers],[Первичная упаковка]],'Спецификация 25'!$A$2:$A$113&'Спецификация 25'!$F$2:$F$113,0)),"нет")} -> нет | K23: {=IFERROR(INDEX('Спецификация 25'!$G$2:$G$113,MATCH(Таблица3[[#This Row],[№ п/п]]&Таблица3[[#Headers],[Описание упаковки]],'Спецификация 25'!$A$2:$A$113&'Спецификация 25'!$F$2:$F$113,0)),"")} -> 30 шт | L23: =VLOOKUP(Таблица3[[#This Row],[№ п/п]],'Спецификация 25'!$1:$1048576,8,0) -> шт | M23: 196.19 | N23: 0.1 | O23: =Таблица3[[#This Row],[1 Цена за уп с НДС]]-Таблица3[[#This Row],[1 Цена за уп с НДС]]*(1-1/(1+N23)) -> 178.35455 | P23: =LEFT(Таблица3[[#This Row],[Описание упаковки]],2) -> 30 | Q23: =IF(LEFT(Таблица3[[#This Row],[Лекарственная форма]],7)="Раствор",LEFT(RIGHT(Таблица3[[#This Row],[Описание упаковки]],4),1),IF(LEFT(Таблица3[[#This Row],[Лекарственная форма]],5)="Капли",LEFT(RIGHT(Таблица3[[#This Row],[Описание упаковки]],4)),1)) -> 1 | R23: =ROUNDDOWN(Таблица3[[#This Row],[1 Цена за уп без НДС]]/Таблица3[[#This Row],[1 Кол-во шт в уп]]/Таблица3[[#This Row],[1 Объем катриджа]],2) -> 5.94 | S23: 196.2 | T23: 0.1 | U23: =Таблица3[[#This Row],[2 Цена за уп с НДС]]-(Таблица3[[#This Row],[2 Цена за уп с НДС]]*(1-1/(1+T23))) -> 178.36364 | V23: =Таблица3[[#This Row],[1 Кол-во шт в уп]] -> 30 | W23: =Таблица3[[#This Row],[1 Объем катриджа]] -> 1 | X23: =ROUNDDOWN(Таблица3[[#This Row],[2 Цена за уп без НДС и Оптовой над.]]/Таблица3[[#This Row],[2 Кол-во шт в уп]]/Таблица3[[#This Row],[2 Объем катриджа]],2) -> 5.94 | Y23: 196.79 | Z23: 0.1 | AA23: =Таблица3[[#This Row],[3 Цена за уп с НДС]]-(Таблица3[[#This Row],[3 Цена за уп с НДС]]*(1-1/(1+Z23))) -> 178.9 | AB23: =Таблица3[[#This Row],[1 Кол-во шт в уп]] -> 30 | AC23: =Таблица3[[#This Row],[1 Объем катриджа]] -> 1 | AD23: =ROUNDDOWN(Таблица3[[#This Row],[3 Цена за уп без НДС и Оптовой над.]]/Таблица3[[#This Row],[3 Кол-во шт в уп]]/Таблица3[[#This Row],[3 Объем катриджа]],2) -> 5.96 | AE23: =ROUND(MIN(Таблица3[[#This Row],[1 Цена за единицу без НДС]],Таблица3[[#This Row],[2 Цена за единицу без НДС]],Таблица3[[#This Row],[3 Цена за единицу без НДС]]),2) -> 5.94 | AF23: =VLOOKUP(Таблица3[[#This Row],[№ п/п]],'Спецификация 25'!$1:$1048576,10,0) -> 3 | AG23: =Таблица3[[#This Row],[1 Кол-во шт в уп]] -> 30 | AH23: =Таблица3[[#This Row],[1 Объем катриджа]] -> 1 | AI23: =Таблица3[[#This Row],[Кол-во Упак]]*Таблица3[[#This Row],[Объем]]*Таблица3[[#This Row],[Кол-во шт в уп]] -> 90 | AJ23: =STDEV(Таблица3[[#This Row],[1 Цена за единицу без НДС]],Таблица3[[#This Row],[2 Цена за единицу без НДС]],Таблица3[[#This Row],[3 Цена за единицу без НДС]])/Таблица3[[#This Row],[Цена за единицу, руб. ]] -> 0.0019439403 | AK23: =Таблица3[[#This Row],[Цена за единицу, руб. ]]*Таблица3[[#This Row],[Кол-во ЛП (мл/шт)]] -> 534.6 | AL23: =ROUND((Таблица3[[#This Row],[Цена за единицу, руб. ]]+Таблица3[[#This Row],[Цена за единицу, руб. ]]*10%),2)*Таблица3[[#This Row],[Кол-во ЛП (мл/шт)]] -> 587.7
A24: 17 | B24: 15 | D24: да | F24: =VLOOKUP(Таблица3[[#This Row],[№ п/п]],'Спецификация 25'!$1:$1048576,2,0) -> Физиотенз 0,2 мг № 28 | G24: =VLOOKUP(Таблица3[[#This Row],[№ п/п]],'Спецификация 25'!$1:$1048576,3,0) -> Моксонидин | H24: =VLOOKUP(Таблица3[[#This Row],[№ п/п]],'Спецификация 25'!$1:$1048576,7,0) -> Таблетки покрытые пленочной оболочкой | I24: {=IFERROR(INDEX('Спецификация 25'!$G$2:$G$113,MATCH(Таблица3[[#This Row],[№ п/п]]&Таблица3[[#Headers],[Дозировка]],'Спецификация 25'!$A$2:$A$113&'Спецификация 25'!$F$2:$F$113,0)),"нет")} -> 0,2 мг | J24: {=IFERROR(INDEX('Спецификация 25'!$G$2:$G$113,MATCH(Таблица3[[#This Row],[№ п/п]]&Таблица3[[#Headers],[Первичная упаковка]],'Спецификация 25'!$A$2:$A$113&'Спецификация 25'!$F$2:$F$113,0)),"нет")} -> нет | K24: {=IFERROR(INDEX('Спецификация 25'!$G$2:$G$113,MATCH(Таблица3[[#This Row],[№ п/п]]&Таблица3[[#Headers],[Описание упаковки]],'Спецификация 25'!$A$2:$A$113&'Спецификация 25'!$F$2:$F$113,0)),"")} -> 28 шт | L24: =VLOOKUP(Таблица3[[#This Row],[№ п/п]],'Спецификация 25'!$1:$1048576,8,0) -> шт | M24: 678.81 | N24: 0.1 | O24: =Таблица3[[#This Row],[1 Цена за уп с НДС]]-Таблица3[[#This Row],[1 Цена за уп с НДС]]*(1-1/(1+N24)) -> 617.1 | P24: =LEFT(Таблица3[[#This Row],[Описание упаковки]],2) -> 28 | Q24: =IF(LEFT(Таблица3[[#This Row],[Лекарственная форма]],7)="Раствор",LEFT(RIGHT(Таблица3[[#This Row],[Описание упаковки]],4),1),IF(LEFT(Таблица3[[#This Row],[Лекарственная форма]],5)="Капли",LEFT(RIGHT(Таблица3[[#This Row],[Описание упаковки]],4)),1)) -> 1 | R24: =ROUNDDOWN(Таблица3[[#This Row],[1 Цена за уп без НДС]]/Таблица3[[#This Row],[1 Кол-во шт в уп]]/Таблица3[[#This Row],[1 Объем катриджа]],2) -> 22.03 | S24: 678.82 | T24: 0.1 | U24: =Таблица3[[#This Row],[2 Цена за уп с НДС]]-(Таблица3[[#This Row],[2 Цена за уп с НДС]]*(1-1/(1+T24))) -> 617.10909 | V24: =Таблица3[[#This Row],[1 Кол-во шт в уп]] -> 28 | W24: =Таблица3[[#This Row],[1 Объем катриджа]] -> 1 | X24: =ROUNDDOWN(Таблица3[[#This Row],[2 Цена за уп без НДС и Оптовой над.]]/Таблица3[[#This Row],[2 Кол-во шт в уп]]/Таблица3[[#This Row],[2 Объем катриджа]],2) -> 22.03 | Y24: 680.86 | Z24: 0.1 | AA24: =Таблица3[[#This Row],[3 Цена за уп с НДС]]-(Таблица3[[#This Row],[3 Цена за уп с НДС]]*(1-1/(1+Z24))) -> 618.96364 | AB24: =Таблица3[[#This Row],[1 Кол-во шт в уп]] -> 28 | AC24: =Таблица3[[#This Row],[1 Объем катриджа]] -> 1 | AD24: =ROUNDDOWN(Таблица3[[#This Row],[3 Цена за уп без НДС и Оптовой над.]]/Таблица3[[#This Row],[3 Кол-во шт в уп]]/Таблица3[[#This Row],[3 Объем катриджа]],2) -> 22.1 | AE24: =ROUND(MIN(Таблица3[[#This Row],[1 Цена за единицу без НДС]],Таблица3[[#This Row],[2 Цена за единицу без НДС]],Таблица3[[#This Row],[3 Цена за единицу без НДС]]),2) -> 22.03 | AF24: =VLOOKUP(Таблица3[[#This Row],[№ п/п]],'Спецификация 25'!$1:$1048576,10,0) -> 10 | AG24: =Таблица3[[#This Row],[1 Кол-во шт в уп]] -> 28 | AH24: =Таблица3[[#This Row],[1 Объем катриджа]] -> 1 | AI24: =Таблица3[[#This Row],[Кол-во Упак]]*Таблица3[[#This Row],[Объем]]*Таблица3[[#This Row],[Кол-во шт в уп]] -> 280 | AJ24: =STDEV(Таблица3[[#This Row],[1 Цена за единицу без НДС]],Таблица3[[#This Row],[2 Цена за единицу без НДС]],Таблица3[[#This Row],[3 Цена за единицу без НДС]])/Таблица3[[#This Row],[Цена за единицу, руб. ]] -> 0.001834522 | AK24: =Таблица3[[#This Row],[Цена за единицу, руб. ]]*Таблица3[[#This Row],[Кол-во ЛП (мл/шт)]] -> 6168.4 | AL24: =ROUND((Таблица3[[#This Row],[Цена за единицу, руб. ]]+Таблица3[[#This Row],[Цена за единицу, руб. ]]*10%),2)*Таблица3[[#This Row],[Кол-во ЛП (мл/шт)]] -> 6784.4
A25: 18 | B25: 16 | D25: нет | F25: =VLOOKUP(Таблица3[[#This Row],[№ п/п]],'Спецификация 25'!$1:$1048576,2,0) -> Кордиамин 25% 1 мл № 10 | G25: =VLOOKUP(Таблица3[[#This Row],[№ п/п]],'Спецификация 25'!$1:$1048576,3,0) -> Никетамид | H25: =VLOOKUP(Таблица3[[#This Row],[№ п/п]],'Спецификация 25'!$1:$1048576,7,0) -> Раствор для инъекций | I25: {=IFERROR(INDEX('Спецификация 25'!$G$2:$G$113,MATCH(Таблица3[[#This Row],[№ п/п]]&Таблица3[[#Headers],[Дозировка]],'Спецификация 25'!$A$2:$A$113&'Спецификация 25'!$F$2:$F$113,0)),"нет")} -> 250 мг/мл | J25: {=IFERROR(INDEX('Спецификация 25'!$G$2:$G$113,MATCH(Таблица3[[#This Row],[№ п/п]]&Таблица3[[#Headers],[Первичная упаковка]],'Спецификация 25'!$A$2:$A$113&'Спецификация 25'!$F$2:$F$113,0)),"нет")} -> Ампула | K25: {=IFERROR(INDEX('Спецификация 25'!$G$2:$G$113,MATCH(Таблица3[[#This Row],[№ п/п]]&Таблица3[[#Headers],[Описание упаковки]],'Спецификация 25'!$A$2:$A$113&'Спецификация 25'!$F$2:$F$113,0)),"")} -> 10 амп. по 1 мл | L25: =VLOOKUP(Таблица3[[#This Row],[№ п/п]],'Спецификация 25'!$1:$1048576,8,0) -> мл | M25: 208 | N25: 0.1 | O25: =Таблица3[[#This Row],[1 Цена за уп с НДС]]-Таблица3[[#This Row],[1 Цена за уп с НДС]]*(1-1/(1+N25)) -> 189.09091 | P25: =LEFT(Таблица3[[#This Row],[Описание упаковки]],2) -> 10 | Q25: =IF(LEFT(Таблица3[[#This Row],[Лекарственная форма]],7)="Раствор",LEFT(RIGHT(Таблица3[[#This Row],[Описание упаковки]],4),1),IF(LEFT(Таблица3[[#This Row],[Лекарственная форма]],5)="Капли",LEFT(RIGHT(Таблица3[[#This Row],[Описание упаковки]],4)),1)) -> 1 | R25: =ROUNDDOWN(Таблица3[[#This Row],[1 Цена за уп без НДС]]/Таблица3[[#This Row],[1 Кол-во шт в уп]]/Таблица3[[#This Row],[1 Объем катриджа]],2) -> 18.9 | S25: 209 | T25: 0.1 | U25: =Таблица3[[#This Row],[2 Цена за уп с НДС]]-(Таблица3[[#This Row],[2 Цена за уп с НДС]]*(1-1/(1+T25))) -> 190 | V25: =Таблица3[[#This Row],[1 Кол-во шт в уп]] -> 10 | W25: =Таблица3[[#This Row],[1 Объем катриджа]] -> 1 | X25: =ROUNDDOWN(Таблица3[[#This Row],[2 Цена за уп без НДС и Оптовой над.]]/Таблица3[[#This Row],[2 Кол-во шт в уп]]/Таблица3[[#This Row],[2 Объем катриджа]],2) -> 19 | Y25: 209.63 | Z25: 0.1 | AA25: =Таблица3[[#This Row],[3 Цена за уп с НДС]]-(Таблица3[[#This Row],[3 Цена за уп с НДС]]*(1-1/(1+Z25))) -> 190.57273 | AB25: =Таблица3[[#This Row],[1 Кол-во шт в уп]] -> 10 | AC25: =Таблица3[[#This Row],[1 Объем катриджа]] -> 1 | AD25: =ROUNDDOWN(Таблица3[[#This Row],[3 Цена за уп без НДС и Оптовой над.]]/Таблица3[[#This Row],[3 Кол-во шт в уп]]/Таблица3[[#This Row],[3 Объем катриджа]],2) -> 19.05 | AE25: =ROUND(MIN(Таблица3[[#This Row],[1 Цена за единицу без НДС]],Таблица3[[#This Row],[2 Цена за единицу без НДС]],Таблица3[[#This Row],[3 Цена за единицу без НДС]]),2) -> 18.9 | AF25: =VLOOKUP(Таблица3[[#This Row],[№ п/п]],'Спецификация 25'!$1:$1048576,10,0) -> 8 | AG25: =Таблица3[[#This Row],[1 Кол-во шт в уп]] -> 10 | AH25: =Таблица3[[#This Row],[1 Объем катриджа]] -> 1 | AI25: =Таблица3[[#This Row],[Кол-во Упак]]*Таблица3[[#This Row],[Объем]]*Таблица3[[#This Row],[Кол-во шт в уп]] -> 80 | AJ25: =STDEV(Таблица3[[#This Row],[1 Цена за единицу без НДС]],Таблица3[[#This Row],[2 Цена за единицу без НДС]],Таблица3[[#This Row],[3 Цена за единицу без НДС]])/Таблица3[[#This Row],[Цена за единицу, руб. ]] -> 0.004041072 | AK25: =Таблица3[[#This Row],[Цена за единицу, руб. ]]*Таблица3[[#This Row],[Кол-во ЛП (мл/шт)]] -> 1512 | AL25: =ROUND((Таблица3[[#This Row],[Цена за единицу, руб. ]]+Таблица3[[#This Row],[Цена за единицу, руб. ]]*10%),2)*Таблица3[[#This Row],[Кол-во ЛП (мл/шт)]] -> 1663.2
A26: 19 | D26: нет | F26: =VLOOKUP(Таблица3[[#This Row],[№ п/п]],'Спецификация 25'!$1:$1048576,2,0) -> Кофеин-бензоат натрия 20 % 1,0 №10 | G26: =VLOOKUP(Таблица3[[#This Row],[№ п/п]],'Спецификация 25'!$1:$1048576,3,0) -> Кофеин | H26: =VLOOKUP(Таблица3[[#This Row],[№ п/п]],'Спецификация 25'!$1:$1048576,7,0) -> Раствор для подкожного введения | I26: {=IFERROR(INDEX('Спецификация 25'!$G$2:$G$113,MATCH(Таблица3[[#This Row],[№ п/п]]&Таблица3[[#Headers],[Дозировка]],'Спецификация 25'!$A$2:$A$113&'Спецификация 25'!$F$2:$F$113,0)),"нет")} -> 200 мг/мл | J26: {=IFERROR(INDEX('Спецификация 25'!$G$2:$G$113,MATCH(Таблица3[[#This Row],[№ п/п]]&Таблица3[[#Headers],[Первичная упаковка]],'Спецификация 25'!$A$2:$A$113&'Спецификация 25'!$F$2:$F$113,0)),"нет")} -> Ампула | K26: {=IFERROR(INDEX('Спецификация 25'!$G$2:$G$113,MATCH(Таблица3[[#This Row],[№ п/п]]&Таблица3[[#Headers],[Описание упаковки]],'Спецификация 25'!$A$2:$A$113&'Спецификация 25'!$F$2:$F$113,0)),"")} -> 10 амп. по 1 мл | L26: =VLOOKUP(Таблица3[[#This Row],[№ п/п]],'Спецификация 25'!$1:$1048576,8,0) -> мл | N26: 0.1 | O26: =Таблица3[[#This Row],[1 Цена за уп с НДС]]-Таблица3[[#This Row],[1 Цена за уп с НДС]]*(1-1/(1+N26)) -> 0 | P26: =LEFT(Таблица3[[#This Row],[Описание упаковки]],2) -> 10 | Q26: =IF(LEFT(Таблица3[[#This Row],[Лекарственная форма]],7)="Раствор",LEFT(RIGHT(Таблица3[[#This Row],[Описание упаковки]],4),1),IF(LEFT(Таблица3[[#This Row],[Лекарственная форма]],5)="Капли",LEFT(RIGHT(Таблица3[[#This Row],[Описание упаковки]],4)),1)) -> 1 | R26: =ROUNDDOWN(Таблица3[[#This Row],[1 Цена за уп без НДС]]/Таблица3[[#This Row],[1 Кол-во шт в уп]]/Таблица3[[#This Row],[1 Объем катриджа]],2) -> 0 | T26: 0.1 | U26: =Таблица3[[#This Row],[2 Цена за уп с НДС]]-(Таблица3[[#This Row],[2 Цена за уп с НДС]]*(1-1/(1+T26))) -> 0 | V26: =Таблица3[[#This Row],[1 Кол-во шт в уп]] -> 10 | W26: =Таблица3[[#This Row],[1 Объем катриджа]] -> 1 | X26: =ROUNDDOWN(Таблица3[[#This Row],[2 Цена за уп без НДС и Оптовой над.]]/Таблица3[[#This Row],[2 Кол-во шт в уп]]/Таблица3[[#This Row],[2 Объем катриджа]],2) -> 0 | Z26: 0.1 | AA26: =Таблица3[[#This Row],[3 Цена за уп с НДС]]-(Таблица3[[#This Row],[3 Цена за уп с НДС]]*(1-1/(1+Z26))) -> 0 | AB26: =Таблица3[[#This Row],[1 Кол-во шт в уп]] -> 10 | AC26: =Таблица3[[#This Row],[1 Объем катриджа]] -> 1 | AD26: =ROUNDDOWN(Таблица3[[#This Row],[3 Цена за уп без НДС и Оптовой над.]]/Таблица3[[#This Row],[3 Кол-во шт в уп]]/Таблица3[[#This Row],[3 Объем катриджа]],2) -> 0 | AE26: =ROUND(MIN(Таблица3[[#This Row],[1 Цена за единицу без НДС]],Таблица3[[#This Row],[2 Цена за единицу без НДС]],Таблица3[[#This Row],[3 Цена за единицу без НДС]]),2) -> 0 | AF26: =VLOOKUP(Таблица3[[#This Row],[№ п/п]],'Спецификация 25'!$1:$1048576,10,0) -> 0 | AG26: =Таблица3[[#This Row],[1 Кол-во шт в уп]] -> 10 | AH26: =Таблица3[[#This Row],[1 Объем катриджа]] -> 1 | AI26: =Таблица3[[#This Row],[Кол-во Упак]]*Таблица3[[#This Row],[Объем]]*Таблица3[[#This Row],[Кол-во шт в уп]] -> 0 | AJ26: =STDEV(Таблица3[[#This Row],[1 Цена за единицу без НДС]],Таблица3[[#This Row],[2 Цена за единицу без НДС]],Таблица3[[#This Row],[3 Цена за единицу без НДС]])/Таблица3[[#This Row],[Цена за единицу, руб. ]] -> #DIV/0! | AK26: =Таблица3[[#This Row],[Цена за единицу, руб. ]]*Таблица3[[#This Row],[Кол-во ЛП (мл/шт)]] -> 0 | AL26: =ROUND((Таблица3[[#This Row],[Цена за единицу, руб. ]]+Таблица3[[#This Row],[Цена за единицу, руб. ]]*10%),2)*Таблица3[[#This Row],[Кол-во ЛП (мл/шт)]] -> 0
A27: 20 | B27: 17 | D27: да | F27: =VLOOKUP(Таблица3[[#This Row],[№ п/п]],'Спецификация 25'!$1:$1048576,2,0) -> Нитроглицерин 0,5 мг №40 | G27: =VLOOKUP(Таблица3[[#This Row],[№ п/п]],'Спецификация 25'!$1:$1048576,3,0) -> Нитроглицерин | H27: =VLOOKUP(Таблица3[[#This Row],[№ п/п]],'Спецификация 25'!$1:$1048576,7,0) -> Таблетки подъязычные | I27: {=IFERROR(INDEX('Спецификация 25'!$G$2:$G$113,MATCH(Таблица3[[#This Row],[№ п/п]]&Таблица3[[#Headers],[Дозировка]],'Спецификация 25'!$A$2:$A$113&'Спецификация 25'!$F$2:$F$113,0)),"нет")} -> 0.5 мг | J27: {=IFERROR(INDEX('Спецификация 25'!$G$2:$G$113,MATCH(Таблица3[[#This Row],[№ п/п]]&Таблица3[[#Headers],[Первичная упаковка]],'Спецификация 25'!$A$2:$A$113&'Спецификация 25'!$F$2:$F$113,0)),"нет")} -> нет | K27: {=IFERROR(INDEX('Спецификация 25'!$G$2:$G$113,MATCH(Таблица3[[#This Row],[№ п/п]]&Таблица3[[#Headers],[Описание упаковки]],'Спецификация 25'!$A$2:$A$113&'Спецификация 25'!$F$2:$F$113,0)),"")} -> 40 шт | L27: =VLOOKUP(Таблица3[[#This Row],[№ п/п]],'Спецификация 25'!$1:$1048576,8,0) -> шт | M27: 60.08 | N27: 0.1 | O27: =Таблица3[[#This Row],[1 Цена за уп с НДС]]-Таблица3[[#This Row],[1 Цена за уп с НДС]]*(1-1/(1+N27)) -> 54.618182 | P27: =LEFT(Таблица3[[#This Row],[Описание упаковки]],2) -> 40 | Q27: =IF(LEFT(Таблица3[[#This Row],[Лекарственная форма]],7)="Раствор",LEFT(RIGHT(Таблица3[[#This Row],[Описание упаковки]],4),1),IF(LEFT(Таблица3[[#This Row],[Лекарственная форма]],5)="Капли",LEFT(RIGHT(Таблица3[[#This Row],[Описание упаковки]],4)),1)) -> 1 | R27: =ROUNDDOWN(Таблица3[[#This Row],[1 Цена за уп без НДС]]/Таблица3[[#This Row],[1 Кол-во шт в уп]]/Таблица3[[#This Row],[1 Объем катриджа]],2) -> 1.36 | S27: 60.09 | T27: 0.1 | U27: =Таблица3[[#This Row],[2 Цена за уп с НДС]]-(Таблица3[[#This Row],[2 Цена за уп с НДС]]*(1-1/(1+T27))) -> 54.627273 | V27: =Таблица3[[#This Row],[1 Кол-во шт в уп]] -> 40 | W27: =Таблица3[[#This Row],[1 Объем катриджа]] -> 1 | X27: =ROUNDDOWN(Таблица3[[#This Row],[2 Цена за уп без НДС и Оптовой над.]]/Таблица3[[#This Row],[2 Кол-во шт в уп]]/Таблица3[[#This Row],[2 Объем катриджа]],2) -> 1.36 | Y27: 60.27 | Z27: 0.1 | AA27: =Таблица3[[#This Row],[3 Цена за уп с НДС]]-(Таблица3[[#This Row],[3 Цена за уп с НДС]]*(1-1/(1+Z27))) -> 54.790909 | AB27: =Таблица3[[#This Row],[1 Кол-во шт в уп]] -> 40 | AC27: =Таблица3[[#This Row],[1 Объем катриджа]] -> 1 | AD27: =ROUNDDOWN(Таблица3[[#This Row],[3 Цена за уп без НДС и Оптовой над.]]/Таблица3[[#This Row],[3 Кол-во шт в уп]]/Таблица3[[#This Row],[3 Объем катриджа]],2) -> 1.36 | AE27: =ROUND(MIN(Таблица3[[#This Row],[1 Цена за единицу без НДС]],Таблица3[[#This Row],[2 Цена за единицу без НДС]],Таблица3[[#This Row],[3 Цена за единицу без НДС]]),2) -> 1.36 | AF27: =VLOOKUP(Таблица3[[#This Row],[№ п/п]],'Спецификация 25'!$1:$1048576,10,0) -> 10 | AG27: =Таблица3[[#This Row],[1 Кол-во шт в уп]] -> 40 | AH27: =Таблица3[[#This Row],[1 Объем катриджа]] -> 1 | AI27: =Таблица3[[#This Row],[Кол-во Упак]]*Таблица3[[#This Row],[Объем]]*Таблица3[[#This Row],[Кол-во шт в уп]] -> 400 | AJ27: =STDEV(Таблица3[[#This Row],[1 Цена за единицу без НДС]],Таблица3[[#This Row],[2 Цена за единицу без НДС]],Таблица3[[#This Row],[3 Цена за единицу без НДС]])/Таблица3[[#This Row],[Цена за единицу, руб. ]] -> 0 | AK27: =Таблица3[[#This Row],[Цена за единицу, руб. ]]*Таблица3[[#This Row],[Кол-во ЛП (мл/шт)]] -> 544 | AL27: =ROUND((Таблица3[[#This Row],[Цена за единицу, руб. ]]+Таблица3[[#This Row],[Цена за единицу, руб. ]]*10%),2)*Таблица3[[#This Row],[Кол-во ЛП (мл/шт)]] -> 600
A28: 21 | D28: нет | F28: =VLOOKUP(Таблица3[[#This Row],[№ п/п]],'Спецификация 25'!$1:$1048576,2,0) -> Окомистин 0,01% 10 мл | G28: =VLOOKUP(Таблица3[[#This Row],[№ п/п]],'Спецификация 25'!$1:$1048576,3,0) -> Бензилдиметил-миристоиламино-пропиламмоний | H28: =VLOOKUP(Таблица3[[#This Row],[№ п/п]],'Спецификация 25'!$1:$1048576,7,0) -> Капли глазные ушные и назальные. | I28: {=IFERROR(INDEX('Спецификация 25'!$G$2:$G$113,MATCH(Таблица3[[#This Row],[№ п/п]]&Таблица3[[#Headers],[Дозировка]],'Спецификация 25'!$A$2:$A$113&'Спецификация 25'!$F$2:$F$113,0)),"нет")} -> 0.1 мг/мл | J28: {=IFERROR(INDEX('Спецификация 25'!$G$2:$G$113,MATCH(Таблица3[[#This Row],[№ п/п]]&Таблица3[[#Headers],[Первичная упаковка]],'Спецификация 25'!$A$2:$A$113&'Спецификация 25'!$F$2:$F$113,0)),"нет")} -> Флакон-капельница | K28: {=IFERROR(INDEX('Спецификация 25'!$G$2:$G$113,MATCH(Таблица3[[#This Row],[№ п/п]]&Таблица3[[#Headers],[Описание упаковки]],'Спецификация 25'!$A$2:$A$113&'Спецификация 25'!$F$2:$F$113,0)),"")} -> 10 мл | L28: =VLOOKUP(Таблица3[[#This Row],[№ п/п]],'Спецификация 25'!$1:$1048576,8,0) -> мл | N28: 0.1 | O28: =Таблица3[[#This Row],[1 Цена за уп с НДС]]-Таблица3[[#This Row],[1 Цена за уп с НДС]]*(1-1/(1+N28)) -> 0 | P28: =LEFT(Таблица3[[#This Row],[Описание упаковки]],2) -> 10 | Q28: 1 | R28: =ROUNDDOWN(Таблица3[[#This Row],[1 Цена за уп без НДС]]/Таблица3[[#This Row],[1 Кол-во шт в уп]]/Таблица3[[#This Row],[1 Объем катриджа]],2) -> 0 | T28: 0.1 | U28: =Таблица3[[#This Row],[2 Цена за уп с НДС]]-(Таблица3[[#This Row],[2 Цена за уп с НДС]]*(1-1/(1+T28))) -> 0 | V28: =Таблица3[[#This Row],[1 Кол-во шт в уп]] -> 10 | W28: =Таблица3[[#This Row],[1 Объем катриджа]] -> 1 | X28: =ROUNDDOWN(Таблица3[[#This Row],[2 Цена за уп без НДС и Оптовой над.]]/Таблица3[[#This Row],[2 Кол-во шт в уп]]/Таблица3[[#This Row],[2 Объем катриджа]],2) -> 0 | Z28: 0.1 | AA28: =Таблица3[[#This Row],[3 Цена за уп с НДС]]-(Таблица3[[#This Row],[3 Цена за уп с НДС]]*(1-1/(1+Z28))) -> 0 | AB28: =Таблица3[[#This Row],[1 Кол-во шт в уп]] -> 10 | AC28: =Таблица3[[#This Row],[1 Объем катриджа]] -> 1 | AD28: =ROUNDDOWN(Таблица3[[#This Row],[3 Цена за уп без НДС и Оптовой над.]]/Таблица3[[#This Row],[3 Кол-во шт в уп]]/Таблица3[[#This Row],[3 Объем катриджа]],2) -> 0 | AE28: =ROUND(MIN(Таблица3[[#This Row],[1 Цена за единицу без НДС]],Таблица3[[#This Row],[2 Цена за единицу без НДС]],Таблица3[[#This Row],[3 Цена за единицу без НДС]]),2) -> 0 | AF28: =VLOOKUP(Таблица3[[#This Row],[№ п/п]],'Спецификация 25'!$1:$1048576,10,0) -> 0 | AG28: =Таблица3[[#This Row],[1 Кол-во шт в уп]] -> 10 | AH28: =Таблица3[[#This Row],[1 Объем катриджа]] -> 1 | AI28: =Таблица3[[#This Row],[Кол-во Упак]]*Таблица3[[#This Row],[Объем]]*Таблица3[[#This Row],[Кол-во шт в уп]] -> 0 | AJ28: =STDEV(Таблица3[[#This Row],[1 Цена за единицу без НДС]],Таблица3[[#This Row],[2 Цена за единицу без НДС]],Таблица3[[#This Row],[3 Цена за единицу без НДС]])/Таблица3[[#This Row],[Цена за единицу, руб. ]] -> #DIV/0! | AK28: =Таблица3[[#This Row],[Цена за единицу, руб. ]]*Таблица3[[#This Row],[Кол-во ЛП (мл/шт)]] -> 0 | AL28: =ROUND((Таблица3[[#This Row],[Цена за единицу, руб. ]]+Таблица3[[#This Row],[Цена за единицу, руб. ]]*10%),2)*Таблица3[[#This Row],[Кол-во ЛП (мл/шт)]] -> 0
A29: 22 | B29: 18 | D29: нет | F29: =VLOOKUP(Таблица3[[#This Row],[№ п/п]],'Спецификация 25'!$1:$1048576,2,0) -> Аммиак 10% 40 мл. | G29: =VLOOKUP(Таблица3[[#This Row],[№ п/п]],'Спецификация 25'!$1:$1048576,3,0) -> Аммиак | H29: =VLOOKUP(Таблица3[[#This Row],[№ п/п]],'Спецификация 25'!$1:$1048576,7,0) -> Раствор для наружного применения и ингаляций | I29: {=IFERROR(INDEX('Спецификация 25'!$G$2:$G$113,MATCH(Таблица3[[#This Row],[№ п/п]]&Таблица3[[#Headers],[Дозировка]],'Спецификация 25'!$A$2:$A$113&'Спецификация 25'!$F$2:$F$113,0)),"нет")} -> 100 мг/мл | J29: {=IFERROR(INDEX('Спецификация 25'!$G$2:$G$113,MATCH(Таблица3[[#This Row],[№ п/п]]&Таблица3[[#Headers],[Первичная упаковка]],'Спецификация 25'!$A$2:$A$113&'Спецификация 25'!$F$2:$F$113,0)),"нет")} -> Флакон | K29: {=IFERROR(INDEX('Спецификация 25'!$G$2:$G$113,MATCH(Таблица3[[#This Row],[№ п/п]]&Таблица3[[#Headers],[Описание упаковки]],'Спецификация 25'!$A$2:$A$113&'Спецификация 25'!$F$2:$F$113,0)),"")} -> 40 мл | L29: =VLOOKUP(Таблица3[[#This Row],[№ п/п]],'Спецификация 25'!$1:$1048576,8,0) -> мл | M29: 25.5 | N29: 0.1 | O29: =Таблица3[[#This Row],[1 Цена за уп с НДС]]-Таблица3[[#This Row],[1 Цена за уп с НДС]]*(1-1/(1+N29)) -> 23.181818 | P29: =LEFT(Таблица3[[#This Row],[Описание упаковки]],2) -> 40 | Q29: 1 | R29: =ROUNDDOWN(Таблица3[[#This Row],[1 Цена за уп без НДС]]/Таблица3[[#This Row],[1 Кол-во шт в уп]]/Таблица3[[#This Row],[1 Объем катриджа]],2) -> 0.57 | S29: 26.5 | T29: 0.1 | U29: =Таблица3[[#This Row],[2 Цена за уп с НДС]]-(Таблица3[[#This Row],[2 Цена за уп с НДС]]*(1-1/(1+T29))) -> 24.090909 | V29: =Таблица3[[#This Row],[1 Кол-во шт в уп]] -> 40 | W29: =Таблица3[[#This Row],[1 Объем катриджа]] -> 1 | X29: =ROUNDDOWN(Таблица3[[#This Row],[2 Цена за уп без НДС и Оптовой над.]]/Таблица3[[#This Row],[2 Кол-во шт в уп]]/Таблица3[[#This Row],[2 Объем катриджа]],2) -> 0.6 | Y29: 26.58 | Z29: 0.1 | AA29: =Таблица3[[#This Row],[3 Цена за уп с НДС]]-(Таблица3[[#This Row],[3 Цена за уп с НДС]]*(1-1/(1+Z29))) -> 24.163636 | AB29: =Таблица3[[#This Row],[1 Кол-во шт в уп]] -> 40 | AC29: =Таблица3[[#This Row],[1 Объем катриджа]] -> 1 | AD29: =ROUNDDOWN(Таблица3[[#This Row],[3 Цена за уп без НДС и Оптовой над.]]/Таблица3[[#This Row],[3 Кол-во шт в уп]]/Таблица3[[#This Row],[3 Объем катриджа]],2) -> 0.6 | AE29: =ROUND(MIN(Таблица3[[#This Row],[1 Цена за единицу без НДС]],Таблица3[[#This Row],[2 Цена за единицу без НДС]],Таблица3[[#This Row],[3 Цена за единицу без НДС]]),2) -> 0.57 | AF29: =VLOOKUP(Таблица3[[#This Row],[№ п/п]],'Спецификация 25'!$1:$1048576,10,0) -> 30 | AG29: =Таблица3[[#This Row],[1 Кол-во шт в уп]] -> 40 | AH29: =Таблица3[[#This Row],[1 Объем катриджа]] -> 1 | AI29: =Таблица3[[#This Row],[Кол-во Упак]]*Таблица3[[#This Row],[Объем]]*Таблица3[[#This Row],[Кол-во шт в уп]] -> 1200 | AJ29: =STDEV(Таблица3[[#This Row],[1 Цена за единицу без НДС]],Таблица3[[#This Row],[2 Цена за единицу без НДС]],Таблица3[[#This Row],[3 Цена за единицу без НДС]])/Таблица3[[#This Row],[Цена за единицу, руб. ]] -> 0.030386856 | AK29: =Таблица3[[#This Row],[Цена за единицу, руб. ]]*Таблица3[[#This Row],[Кол-во ЛП (мл/шт)]] -> 684 | AL29: =ROUND((Таблица3[[#This Row],[Цена за единицу, руб. ]]+Таблица3[[#This Row],[Цена за единицу, руб. ]]*10%),2)*Таблица3[[#This Row],[Кол-во ЛП (мл/шт)]] -> 756
A30: 23 | B30: 19 | D30: нет | F30: =VLOOKUP(Таблица3[[#This Row],[№ п/п]],'Спецификация 25'!$1:$1048576,2,0) -> Вазелин 30 гр | G30: =VLOOKUP(Таблица3[[#This Row],[№ п/п]],'Спецификация 25'!$1:$1048576,3,0) -> Вазелин | H30: =VLOOKUP(Таблица3[[#This Row],[№ п/п]],'Спецификация 25'!$1:$1048576,7,0) -> Мазь для наружного применения | I30: {=IFERROR(INDEX('Спецификация 25'!$G$2:$G$113,MATCH(Таблица3[[#This Row],[№ п/п]]&Таблица3[[#Headers],[Дозировка]],'Спецификация 25'!$A$2:$A$113&'Спецификация 25'!$F$2:$F$113,0)),"нет")} -> нет | J30: {=IFERROR(INDEX('Спецификация 25'!$G$2:$G$113,MATCH(Таблица3[[#This Row],[№ п/п]]&Таблица3[[#Headers],[Первичная упаковка]],'Спецификация 25'!$A$2:$A$113&'Спецификация 25'!$F$2:$F$113,0)),"нет")} -> Туба | K30: {=IFERROR(INDEX('Спецификация 25'!$G$2:$G$113,MATCH(Таблица3[[#This Row],[№ п/п]]&Таблица3[[#Headers],[Описание упаковки]],'Спецификация 25'!$A$2:$A$113&'Спецификация 25'!$F$2:$F$113,0)),"")} -> 30 гр | L30: =VLOOKUP(Таблица3[[#This Row],[№ п/п]],'Спецификация 25'!$1:$1048576,8,0) -> г | M30: 65 | N30: 0.1 | O30: =Таблица3[[#This Row],[1 Цена за уп с НДС]]-Таблица3[[#This Row],[1 Цена за уп с НДС]]*(1-1/(1+N30)) -> 59.090909 | P30: =LEFT(Таблица3[[#This Row],[Описание упаковки]],2) -> 30 | Q30: =IF(LEFT(Таблица3[[#This Row],[Лекарственная форма]],7)="Раствор",LEFT(RIGHT(Таблица3[[#This Row],[Описание упаковки]],4),1),IF(LEFT(Таблица3[[#This Row],[Лекарственная форма]],5)="Капли",LEFT(RIGHT(Таблица3[[#This Row],[Описание упаковки]],4)),1)) -> 1 | R30: =ROUNDDOWN(Таблица3[[#This Row],[1 Цена за уп без НДС]]/Таблица3[[#This Row],[1 Кол-во шт в уп]]/Таблица3[[#This Row],[1 Объем катриджа]],2) -> 1.96 | S30: 66 | T30: 0.1 | U30: =Таблица3[[#This Row],[2 Цена за уп с НДС]]-(Таблица3[[#This Row],[2 Цена за уп с НДС]]*(1-1/(1+T30))) -> 60 | V30: =Таблица3[[#This Row],[1 Кол-во шт в уп]] -> 30 | W30: =Таблица3[[#This Row],[1 Объем катриджа]] -> 1 | X30: =ROUNDDOWN(Таблица3[[#This Row],[2 Цена за уп без НДС и Оптовой над.]]/Таблица3[[#This Row],[2 Кол-во шт в уп]]/Таблица3[[#This Row],[2 Объем катриджа]],2) -> 2 | Y30: 66.2 | Z30: 0.1 | AA30: =Таблица3[[#This Row],[3 Цена за уп с НДС]]-(Таблица3[[#This Row],[3 Цена за уп с НДС]]*(1-1/(1+Z30))) -> 60.181818 | AB30: =Таблица3[[#This Row],[1 Кол-во шт в уп]] -> 30 | AC30: =Таблица3[[#This Row],[1 Объем катриджа]] -> 1 | AD30: =ROUNDDOWN(Таблица3[[#This Row],[3 Цена за уп без НДС и Оптовой над.]]/Таблица3[[#This Row],[3 Кол-во шт в уп]]/Таблица3[[#This Row],[3 Объем катриджа]],2) -> 2 | AE30: =ROUND(MIN(Таблица3[[#This Row],[1 Цена за единицу без НДС]],Таблица3[[#This Row],[2 Цена за единицу без НДС]],Таблица3[[#This Row],[3 Цена за единицу без НДС]]),2) -> 1.96 | AF30: =VLOOKUP(Таблица3[[#This Row],[№ п/п]],'Спецификация 25'!$1:$1048576,10,0) -> 10 | AG30: =Таблица3[[#This Row],[1 Кол-во шт в уп]] -> 30 | AH30: =Таблица3[[#This Row],[1 Объем катриджа]] -> 1 | AI30: =Таблица3[[#This Row],[Кол-во Упак]]*Таблица3[[#This Row],[Объем]]*Таблица3[[#This Row],[Кол-во шт в уп]] -> 300 | AJ30: =STDEV(Таблица3[[#This Row],[1 Цена за единицу без НДС]],Таблица3[[#This Row],[2 Цена за единицу без НДС]],Таблица3[[#This Row],[3 Цена за единицу без НДС]])/Таблица3[[#This Row],[Цена за единицу, руб. ]] -> 0.011782659 | AK30: =Таблица3[[#This Row],[Цена за единицу, руб. ]]*Таблица3[[#This Row],[Кол-во ЛП (мл/шт)]] -> 588 | AL30: =ROUND((Таблица3[[#This Row],[Цена за единицу, руб. ]]+Таблица3[[#This Row],[Цена за единицу, руб. ]]*10%),2)*Таблица3[[#This Row],[Кол-во ЛП (мл/шт)]] -> 648
A31: 24 | B31: 20 | D31: да | F31: =VLOOKUP(Таблица3[[#This Row],[№ п/п]],'Спецификация 25'!$1:$1048576,2,0) -> Натрия хлорид 0,9% 200 мл | G31: =VLOOKUP(Таблица3[[#This Row],[№ п/п]],'Спецификация 25'!$1:$1048576,3,0) -> Натрия хлорид | H31: =VLOOKUP(Таблица3[[#This Row],[№ п/п]],'Спецификация 25'!$1:$1048576,7,0) -> Раствор для инфузий | I31: {=IFERROR(INDEX('Спецификация 25'!$G$2:$G$113,MATCH(Таблица3[[#This Row],[№ п/п]]&Таблица3[[#Headers],[Дозировка]],'Спецификация 25'!$A$2:$A$113&'Спецификация 25'!$F$2:$F$113,0)),"нет")} -> 9 мг/мл | J31: {=IFERROR(INDEX('Спецификация 25'!$G$2:$G$113,MATCH(Таблица3[[#This Row],[№ п/п]]&Таблица3[[#Headers],[Первичная упаковка]],'Спецификация 25'!$A$2:$A$113&'Спецификация 25'!$F$2:$F$113,0)),"нет")} -> Флакон (полимерный) | K31: {=IFERROR(INDEX('Спецификация 25'!$G$2:$G$113,MATCH(Таблица3[[#This Row],[№ п/п]]&Таблица3[[#Headers],[Описание упаковки]],'Спецификация 25'!$A$2:$A$113&'Спецификация 25'!$F$2:$F$113,0)),"")} -> 200 мл | L31: =VLOOKUP(Таблица3[[#This Row],[№ п/п]],'Спецификация 25'!$1:$1048576,8,0) -> мл | M31: 76.21 | N31: 0.1 | O31: =Таблица3[[#This Row],[1 Цена за уп с НДС]]-Таблица3[[#This Row],[1 Цена за уп с НДС]]*(1-1/(1+N31)) -> 69.281818 | P31: 200 | Q31: 1 | R31: =ROUNDDOWN(Таблица3[[#This Row],[1 Цена за уп без НДС]]/Таблица3[[#This Row],[1 Кол-во шт в уп]]/Таблица3[[#This Row],[1 Объем катриджа]],2) -> 0.34 | S31: 76.22 | T31: 0.1 | U31: =Таблица3[[#This Row],[2 Цена за уп с НДС]]-(Таблица3[[#This Row],[2 Цена за уп с НДС]]*(1-1/(1+T31))) -> 69.290909 | V31: =Таблица3[[#This Row],[1 Кол-во шт в уп]] -> 200 | W31: =Таблица3[[#This Row],[1 Объем катриджа]] -> 1 | X31: =ROUNDDOWN(Таблица3[[#This Row],[2 Цена за уп без НДС и Оптовой над.]]/Таблица3[[#This Row],[2 Кол-во шт в уп]]/Таблица3[[#This Row],[2 Объем катриджа]],2) -> 0.34 | Y31: 76.45 | Z31: 0.1 | AA31: =Таблица3[[#This Row],[3 Цена за уп с НДС]]-(Таблица3[[#This Row],[3 Цена за уп с НДС]]*(1-1/(1+Z31))) -> 69.5 | AB31: =Таблица3[[#This Row],[1 Кол-во шт в уп]] -> 200 | AC31: =Таблица3[[#This Row],[1 Объем катриджа]] -> 1 | AD31: =ROUNDDOWN(Таблица3[[#This Row],[3 Цена за уп без НДС и Оптовой над.]]/Таблица3[[#This Row],[3 Кол-во шт в уп]]/Таблица3[[#This Row],[3 Объем катриджа]],2) -> 0.34 | AE31: =ROUND(MIN(Таблица3[[#This Row],[1 Цена за единицу без НДС]],Таблица3[[#This Row],[2 Цена за единицу без НДС]],Таблица3[[#This Row],[3 Цена за единицу без НДС]]),2) -> 0.34 | AF31: =VLOOKUP(Таблица3[[#This Row],[№ п/п]],'Спецификация 25'!$1:$1048576,10,0) -> 336 | AG31: =Таблица3[[#This Row],[1 Кол-во шт в уп]] -> 200 | AH31: =Таблица3[[#This Row],[1 Объем катриджа]] -> 1 | AI31: =Таблица3[[#This Row],[Кол-во Упак]]*Таблица3[[#This Row],[Объем]]*Таблица3[[#This Row],[Кол-во шт в уп]] -> 67200 | AJ31: =STDEV(Таблица3[[#This Row],[1 Цена за единицу без НДС]],Таблица3[[#This Row],[2 Цена за единицу без НДС]],Таблица3[[#This Row],[3 Цена за единицу без НДС]])/Таблица3[[#This Row],[Цена за единицу, руб. ]] -> 0 | AK31: =Таблица3[[#This Row],[Цена за единицу, руб. ]]*Таблица3[[#This Row],[Кол-во ЛП (мл/шт)]] -> 22848 | AL31: =ROUND((Таблица3[[#This Row],[Цена за единицу, руб. ]]+Таблица3[[#This Row],[Цена за единицу, руб. ]]*10%),2)*Таблица3[[#This Row],[Кол-во ЛП (мл/шт)]] -> 24864
A32: 25 | B32: 21 | D32: да | F32: =VLOOKUP(Таблица3[[#This Row],[№ п/п]],'Спецификация 25'!$1:$1048576,2,0) -> Натрия хлорид 0,9% 5,0 №10 | G32: =VLOOKUP(Таблица3[[#This Row],[№ п/п]],'Спецификация 25'!$1:$1048576,3,0) -> Натрия хлорид | H32: =VLOOKUP(Таблица3[[#This Row],[№ п/п]],'Спецификация 25'!$1:$1048576,7,0) -> Раствор для инъекций | I32: {=IFERROR(INDEX('Спецификация 25'!$G$2:$G$113,MATCH(Таблица3[[#This Row],[№ п/п]]&Таблица3[[#Headers],[Дозировка]],'Спецификация 25'!$A$2:$A$113&'Спецификация 25'!$F$2:$F$113,0)),"нет")} -> 9 мг/мл | J32: {=IFERROR(INDEX('Спецификация 25'!$G$2:$G$113,MATCH(Таблица3[[#This Row],[№ п/п]]&Таблица3[[#Headers],[Первичная упаковка]],'Спецификация 25'!$A$2:$A$113&'Спецификация 25'!$F$2:$F$113,0)),"нет")} -> Ампула | K32: {=IFERROR(INDEX('Спецификация 25'!$G$2:$G$113,MATCH(Таблица3[[#This Row],[№ п/п]]&Таблица3[[#Headers],[Описание упаковки]],'Спецификация 25'!$A$2:$A$113&'Спецификация 25'!$F$2:$F$113,0)),"")} -> 10 амп. по 5 мл | L32: =VLOOKUP(Таблица3[[#This Row],[№ п/п]],'Спецификация 25'!$1:$1048576,8,0) -> мл | M32: 66.72 | N32: 0.1 | O32: =Таблица3[[#This Row],[1 Цена за уп с НДС]]-Таблица3[[#This Row],[1 Цена за уп с НДС]]*(1-1/(1+N32)) -> 60.654545 | P32: =LEFT(Таблица3[[#This Row],[Описание упаковки]],2) -> 10 | Q32: =IF(LEFT(Таблица3[[#This Row],[Лекарственная форма]],7)="Раствор",LEFT(RIGHT(Таблица3[[#This Row],[Описание упаковки]],4),1),IF(LEFT(Таблица3[[#This Row],[Лекарственная форма]],5)="Капли",LEFT(RIGHT(Таблица3[[#This Row],[Описание упаковки]],4)),1)) -> 5 | R32: =ROUNDDOWN(Таблица3[[#This Row],[1 Цена за уп без НДС]]/Таблица3[[#This Row],[1 Кол-во шт в уп]]/Таблица3[[#This Row],[1 Объем катриджа]],2) -> 1.21 | S32: 66.73 | T32: 0.1 | U32: =Таблица3[[#This Row],[2 Цена за уп с НДС]]-(Таблица3[[#This Row],[2 Цена за уп с НДС]]*(1-1/(1+T32))) -> 60.663636 | V32: =Таблица3[[#This Row],[1 Кол-во шт в уп]] -> 10 | W32: =Таблица3[[#This Row],[1 Объем катриджа]] -> 5 | X32: =ROUNDDOWN(Таблица3[[#This Row],[2 Цена за уп без НДС и Оптовой над.]]/Таблица3[[#This Row],[2 Кол-во шт в уп]]/Таблица3[[#This Row],[2 Объем катриджа]],2) -> 1.21 | Y32: 66.93 | Z32: 0.1 | AA32: =Таблица3[[#This Row],[3 Цена за уп с НДС]]-(Таблица3[[#This Row],[3 Цена за уп с НДС]]*(1-1/(1+Z32))) -> 60.845455 | AB32: =Таблица3[[#This Row],[1 Кол-во шт в уп]] -> 10 | AC32: =Таблица3[[#This Row],[1 Объем катриджа]] -> 5 | AD32: =ROUNDDOWN(Таблица3[[#This Row],[3 Цена за уп без НДС и Оптовой над.]]/Таблица3[[#This Row],[3 Кол-во шт в уп]]/Таблица3[[#This Row],[3 Объем катриджа]],2) -> 1.21 | AE32: =ROUND(MIN(Таблица3[[#This Row],[1 Цена за единицу без НДС]],Таблица3[[#This Row],[2 Цена за единицу без НДС]],Таблица3[[#This Row],[3 Цена за единицу без НДС]]),2) -> 1.21 | AF32: =VLOOKUP(Таблица3[[#This Row],[№ п/п]],'Спецификация 25'!$1:$1048576,10,0) -> 8 | AG32: =Таблица3[[#This Row],[1 Кол-во шт в уп]] -> 10 | AH32: =Таблица3[[#This Row],[1 Объем катриджа]] -> 5 | AI32: =Таблица3[[#This Row],[Кол-во Упак]]*Таблица3[[#This Row],[Объем]]*Таблица3[[#This Row],[Кол-во шт в уп]] -> 400 | AJ32: =STDEV(Таблица3[[#This Row],[1 Цена за единицу без НДС]],Таблица3[[#This Row],[2 Цена за единицу без НДС]],Таблица3[[#This Row],[3 Цена за единицу без НДС]])/Таблица3[[#This Row],[Цена за единицу, руб. ]] -> 0 | AK32: =Таблица3[[#This Row],[Цена за единицу, руб. ]]*Таблица3[[#This Row],[Кол-во ЛП (мл/шт)]] -> 484 | AL32: =ROUND((Таблица3[[#This Row],[Цена за единицу, руб. ]]+Таблица3[[#This Row],[Цена за единицу, руб. ]]*10%),2)*Таблица3[[#This Row],[Кол-во ЛП (мл/шт)]] -> 532
A33: 26 | B33: 22 | D33: нет | F33: =VLOOKUP(Таблица3[[#This Row],[№ п/п]],'Спецификация 25'!$1:$1048576,2,0) -> Метрогил дента 20 г. | G33: =VLOOKUP(Таблица3[[#This Row],[№ п/п]],'Спецификация 25'!$1:$1048576,3,0) -> Метронидазол + Хлоргексидин | H33: =VLOOKUP(Таблица3[[#This Row],[№ п/п]],'Спецификация 25'!$1:$1048576,7,0) -> Гель стоматологический | I33: {=IFERROR(INDEX('Спецификация 25'!$G$2:$G$113,MATCH(Таблица3[[#This Row],[№ п/п]]&Таблица3[[#Headers],[Дозировка]],'Спецификация 25'!$A$2:$A$113&'Спецификация 25'!$F$2:$F$113,0)),"нет")} -> 10 мг/г + 0,5 мг/г | J33: {=IFERROR(INDEX('Спецификация 25'!$G$2:$G$113,MATCH(Таблица3[[#This Row],[№ п/п]]&Таблица3[[#Headers],[Первичная упаковка]],'Спецификация 25'!$A$2:$A$113&'Спецификация 25'!$F$2:$F$113,0)),"нет")} -> Туба | K33: {=IFERROR(INDEX('Спецификация 25'!$G$2:$G$113,MATCH(Таблица3[[#This Row],[№ п/п]]&Таблица3[[#Headers],[Описание упаковки]],'Спецификация 25'!$A$2:$A$113&'Спецификация 25'!$F$2:$F$113,0)),"")} -> 20 гр | L33: =VLOOKUP(Таблица3[[#This Row],[№ п/п]],'Спецификация 25'!$1:$1048576,8,0) -> г | M33: 730 | N33: 0.1 | O33: =Таблица3[[#This Row],[1 Цена за уп с НДС]]-Таблица3[[#This Row],[1 Цена за уп с НДС]]*(1-1/(1+N33)) -> 663.63636 | P33: =LEFT(Таблица3[[#This Row],[Описание упаковки]],2) -> 20 | Q33: =IF(LEFT(Таблица3[[#This Row],[Лекарственная форма]],7)="Раствор",LEFT(RIGHT(Таблица3[[#This Row],[Описание упаковки]],4),1),IF(LEFT(Таблица3[[#This Row],[Лекарственная форма]],5)="Капли",LEFT(RIGHT(Таблица3[[#This Row],[Описание упаковки]],4)),1)) -> 1 | R33: =ROUNDDOWN(Таблица3[[#This Row],[1 Цена за уп без НДС]]/Таблица3[[#This Row],[1 Кол-во шт в уп]]/Таблица3[[#This Row],[1 Объем катриджа]],2) -> 33.18 | S33: 731 | T33: 0.1 | U33: =Таблица3[[#This Row],[2 Цена за уп с НДС]]-(Таблица3[[#This Row],[2 Цена за уп с НДС]]*(1-1/(1+T33))) -> 664.54545 | V33: =Таблица3[[#This Row],[1 Кол-во шт в уп]] -> 20 | W33: =Таблица3[[#This Row],[1 Объем катриджа]] -> 1 | X33: =ROUNDDOWN(Таблица3[[#This Row],[2 Цена за уп без НДС и Оптовой над.]]/Таблица3[[#This Row],[2 Кол-во шт в уп]]/Таблица3[[#This Row],[2 Объем катриджа]],2) -> 33.22 | Y33: 733.19 | Z33: 0.1 | AA33: =Таблица3[[#This Row],[3 Цена за уп с НДС]]-(Таблица3[[#This Row],[3 Цена за уп с НДС]]*(1-1/(1+Z33))) -> 666.53636 | AB33: =Таблица3[[#This Row],[1 Кол-во шт в уп]] -> 20 | AC33: =Таблица3[[#This Row],[1 Объем катриджа]] -> 1 | AD33: =ROUNDDOWN(Таблица3[[#This Row],[3 Цена за уп без НДС и Оптовой над.]]/Таблица3[[#This Row],[3 Кол-во шт в уп]]/Таблица3[[#This Row],[3 Объем катриджа]],2) -> 33.32 | AE33: =ROUND(MIN(Таблица3[[#This Row],[1 Цена за единицу без НДС]],Таблица3[[#This Row],[2 Цена за единицу без НДС]],Таблица3[[#This Row],[3 Цена за единицу без НДС]]),2) -> 33.18 | AF33: =VLOOKUP(Таблица3[[#This Row],[№ п/п]],'Спецификация 25'!$1:$1048576,10,0) -> 30 | AG33: =Таблица3[[#This Row],[1 Кол-во шт в уп]] -> 20 | AH33: =Таблица3[[#This Row],[1 Объем катриджа]] -> 1 | AI33: =Таблица3[[#This Row],[Кол-во Упак]]*Таблица3[[#This Row],[Объем]]*Таблица3[[#This Row],[Кол-во шт в уп]] -> 600 | AJ33: =STDEV(Таблица3[[#This Row],[1 Цена за единицу без НДС]],Таблица3[[#This Row],[2 Цена за единицу без НДС]],Таблица3[[#This Row],[3 Цена за единицу без НДС]])/Таблица3[[#This Row],[Цена за единицу, руб. ]] -> 0.0021733281 | AK33: =Таблица3[[#This Row],[Цена за единицу, руб. ]]*Таблица3[[#This Row],[Кол-во ЛП (мл/шт)]] -> 19908 | AL33: =ROUND((Таблица3[[#This Row],[Цена за единицу, руб. ]]+Таблица3[[#This Row],[Цена за единицу, руб. ]]*10%),2)*Таблица3[[#This Row],[Кол-во ЛП (мл/шт)]] -> 21900
A34: 27 | B34: 23 | D34: да | F34: =VLOOKUP(Таблица3[[#This Row],[№ п/п]],'Спецификация 25'!$1:$1048576,2,0) -> Перекись водорода 3% 100 мл | G34: =VLOOKUP(Таблица3[[#This Row],[№ п/п]],'Спецификация 25'!$1:$1048576,3,0) -> Водорода пероксид | H34: =VLOOKUP(Таблица3[[#This Row],[№ п/п]],'Спецификация 25'!$1:$1048576,7,0) -> Раствор для местного и наружного применения. | I34: {=IFERROR(INDEX('Спецификация 25'!$G$2:$G$113,MATCH(Таблица3[[#This Row],[№ п/п]]&Таблица3[[#Headers],[Дозировка]],'Спецификация 25'!$A$2:$A$113&'Спецификация 25'!$F$2:$F$113,0)),"нет")} -> нет | J34: {=IFERROR(INDEX('Спецификация 25'!$G$2:$G$113,MATCH(Таблица3[[#This Row],[№ п/п]]&Таблица3[[#Headers],[Первичная упаковка]],'Спецификация 25'!$A$2:$A$113&'Спецификация 25'!$F$2:$F$113,0)),"нет")} -> Флакон (полимерный) | K34: {=IFERROR(INDEX('Спецификация 25'!$G$2:$G$113,MATCH(Таблица3[[#This Row],[№ п/п]]&Таблица3[[#Headers],[Описание упаковки]],'Спецификация 25'!$A$2:$A$113&'Спецификация 25'!$F$2:$F$113,0)),"")} -> 100 мл | L34: =VLOOKUP(Таблица3[[#This Row],[№ п/п]],'Спецификация 25'!$1:$1048576,8,0) -> мл | M34: 12.03 | N34: 0.1 | O34: =Таблица3[[#This Row],[1 Цена за уп с НДС]]-Таблица3[[#This Row],[1 Цена за уп с НДС]]*(1-1/(1+N34)) -> 10.936364 | P34: 100 | Q34: 1 | R34: =ROUNDDOWN(Таблица3[[#This Row],[1 Цена за уп без НДС]]/Таблица3[[#This Row],[1 Кол-во шт в уп]]/Таблица3[[#This Row],[1 Объем катриджа]],2) -> 0.1 | S34: 12.03 | T34: 0.1 | U34: =Таблица3[[#This Row],[2 Цена за уп с НДС]]-(Таблица3[[#This Row],[2 Цена за уп с НДС]]*(1-1/(1+T34))) -> 10.936364 | V34: =Таблица3[[#This Row],[1 Кол-во шт в уп]] -> 100 | W34: =Таблица3[[#This Row],[1 Объем катриджа]] -> 1 | X34: =ROUNDDOWN(Таблица3[[#This Row],[2 Цена за уп без НДС и Оптовой над.]]/Таблица3[[#This Row],[2 Кол-во шт в уп]]/Таблица3[[#This Row],[2 Объем катриджа]],2) -> 0.1 | Y34: 12.07 | Z34: 0.1 | AA34: =Таблица3[[#This Row],[3 Цена за уп с НДС]]-(Таблица3[[#This Row],[3 Цена за уп с НДС]]*(1-1/(1+Z34))) -> 10.972727 | AB34: =Таблица3[[#This Row],[1 Кол-во шт в уп]] -> 100 | AC34: =Таблица3[[#This Row],[1 Объем катриджа]] -> 1 | AD34: =ROUNDDOWN(Таблица3[[#This Row],[3 Цена за уп без НДС и Оптовой над.]]/Таблица3[[#This Row],[3 Кол-во шт в уп]]/Таблица3[[#This Row],[3 Объем катриджа]],2) -> 0.1 | AE34: =ROUND(MIN(Таблица3[[#This Row],[1 Цена за единицу без НДС]],Таблица3[[#This Row],[2 Цена за единицу без НДС]],Таблица3[[#This Row],[3 Цена за единицу без НДС]]),2) -> 0.1 | AF34: =VLOOKUP(Таблица3[[#This Row],[№ п/п]],'Спецификация 25'!$1:$1048576,10,0) -> 150 | AG34: =Таблица3[[#This Row],[1 Кол-во шт в уп]] -> 100 | AH34: =Таблица3[[#This Row],[1 Объем катриджа]] -> 1 | AI34: =Таблица3[[#This Row],[Кол-во Упак]]*Таблица3[[#This Row],[Объем]]*Таблица3[[#This Row],[Кол-во шт в уп]] -> 15000 | AJ34: =STDEV(Таблица3[[#This Row],[1 Цена за единицу без НДС]],Таблица3[[#This Row],[2 Цена за единицу без НДС]],Таблица3[[#This Row],[3 Цена за единицу без НДС]])/Таблица3[[#This Row],[Цена за единицу, руб. ]] -> 1.6996749e-16 | AK34: =Таблица3[[#This Row],[Цена за единицу, руб. ]]*Таблица3[[#This Row],[Кол-во ЛП (мл/шт)]] -> 1500 | AL34: =ROUND((Таблица3[[#This Row],[Цена за единицу, руб. ]]+Таблица3[[#This Row],[Цена за единицу, руб. ]]*10%),2)*Таблица3[[#This Row],[Кол-во ЛП (мл/шт)]] -> 1650
A35: 28 | B35: 24 | D35: да | F35: =VLOOKUP(Таблица3[[#This Row],[№ п/п]],'Спецификация 25'!$1:$1048576,2,0) -> Хлоргексидина биглюконата раствор 0,05% 100 мл | G35: =VLOOKUP(Таблица3[[#This Row],[№ п/п]],'Спецификация 25'!$1:$1048576,3,0) -> Хлоргексидин | H35: =VLOOKUP(Таблица3[[#This Row],[№ п/п]],'Спецификация 25'!$1:$1048576,7,0) -> Раствор для наружного применения. | I35: {=IFERROR(INDEX('Спецификация 25'!$G$2:$G$113,MATCH(Таблица3[[#This Row],[№ п/п]]&Таблица3[[#Headers],[Дозировка]],'Спецификация 25'!$A$2:$A$113&'Спецификация 25'!$F$2:$F$113,0)),"нет")} -> 0.5 мг/мл | J35: {=IFERROR(INDEX('Спецификация 25'!$G$2:$G$113,MATCH(Таблица3[[#This Row],[№ п/п]]&Таблица3[[#Headers],[Первичная упаковка]],'Спецификация 25'!$A$2:$A$113&'Спецификация 25'!$F$2:$F$113,0)),"нет")} -> Флакон (полимерный) | K35: {=IFERROR(INDEX('Спецификация 25'!$G$2:$G$113,MATCH(Таблица3[[#This Row],[№ п/п]]&Таблица3[[#Headers],[Описание упаковки]],'Спецификация 25'!$A$2:$A$113&'Спецификация 25'!$F$2:$F$113,0)),"")} -> 100 мл | L35: =VLOOKUP(Таблица3[[#This Row],[№ п/п]],'Спецификация 25'!$1:$1048576,8,0) -> мл | M35: 20.68 | N35: 0.1 | O35: =Таблица3[[#This Row],[1 Цена за уп с НДС]]-Таблица3[[#This Row],[1 Цена за уп с НДС]]*(1-1/(1+N35)) -> 18.8 | P35: 100 | Q35: 1 | R35: =ROUNDDOWN(Таблица3[[#This Row],[1 Цена за уп без НДС]]/Таблица3[[#This Row],[1 Кол-во шт в уп]]/Таблица3[[#This Row],[1 Объем катриджа]],2) -> 0.18 | S35: 20.69 | T35: 0.1 | U35: =Таблица3[[#This Row],[2 Цена за уп с НДС]]-(Таблица3[[#This Row],[2 Цена за уп с НДС]]*(1-1/(1+T35))) -> 18.809091 | V35: =Таблица3[[#This Row],[1 Кол-во шт в уп]] -> 100 | W35: =Таблица3[[#This Row],[1 Объем катриджа]] -> 1 | X35: =ROUNDDOWN(Таблица3[[#This Row],[2 Цена за уп без НДС и Оптовой над.]]/Таблица3[[#This Row],[2 Кол-во шт в уп]]/Таблица3[[#This Row],[2 Объем катриджа]],2) -> 0.18 | Y35: 20.75 | Z35: 0.1 | AA35: =Таблица3[[#This Row],[3 Цена за уп с НДС]]-(Таблица3[[#This Row],[3 Цена за уп с НДС]]*(1-1/(1+Z35))) -> 18.863636 | AB35: =Таблица3[[#This Row],[1 Кол-во шт в уп]] -> 100 | AC35: =Таблица3[[#This Row],[1 Объем катриджа]] -> 1 | AD35: =ROUNDDOWN(Таблица3[[#This Row],[3 Цена за уп без НДС и Оптовой над.]]/Таблица3[[#This Row],[3 Кол-во шт в уп]]/Таблица3[[#This Row],[3 Объем катриджа]],2) -> 0.18 | AE35: =ROUND(MIN(Таблица3[[#This Row],[1 Цена за единицу без НДС]],Таблица3[[#This Row],[2 Цена за единицу без НДС]],Таблица3[[#This Row],[3 Цена за единицу без НДС]]),2) -> 0.18 | AF35: =VLOOKUP(Таблица3[[#This Row],[№ п/п]],'Спецификация 25'!$1:$1048576,10,0) -> 400 | AG35: =Таблица3[[#This Row],[1 Кол-во шт в уп]] -> 100 | AH35: =Таблица3[[#This Row],[1 Объем катриджа]] -> 1 | AI35: =Таблица3[[#This Row],[Кол-во Упак]]*Таблица3[[#This Row],[Объем]]*Таблица3[[#This Row],[Кол-во шт в уп]] -> 40000 | AJ35: =STDEV(Таблица3[[#This Row],[1 Цена за единицу без НДС]],Таблица3[[#This Row],[2 Цена за единицу без НДС]],Таблица3[[#This Row],[3 Цена за единицу без НДС]])/Таблица3[[#This Row],[Цена за единицу, руб. ]] -> 1.8885277e-16 | AK35: =Таблица3[[#This Row],[Цена за единицу, руб. ]]*Таблица3[[#This Row],[Кол-во ЛП (мл/шт)]] -> 7200 | AL35: =ROUND((Таблица3[[#This Row],[Цена за единицу, руб. ]]+Таблица3[[#This Row],[Цена за единицу, руб. ]]*10%),2)*Таблица3[[#This Row],[Кол-во ЛП (мл/шт)]] -> 8000
A36: 29 | B36: 25 | D36: нет | F36: =VLOOKUP(Таблица3[[#This Row],[№ п/п]],'Спецификация 25'!$1:$1048576,2,0) -> Сульфацил натрия 20% 1,5 мл №2 | G36: =VLOOKUP(Таблица3[[#This Row],[№ п/п]],'Спецификация 25'!$1:$1048576,3,0) -> Сульфацетамид | H36: =VLOOKUP(Таблица3[[#This Row],[№ п/п]],'Спецификация 25'!$1:$1048576,7,0) -> Капли глазные | I36: {=IFERROR(INDEX('Спецификация 25'!$G$2:$G$113,MATCH(Таблица3[[#This Row],[№ п/п]]&Таблица3[[#Headers],[Дозировка]],'Спецификация 25'!$A$2:$A$113&'Спецификация 25'!$F$2:$F$113,0)),"нет")} -> 200 мг | J36: {=IFERROR(INDEX('Спецификация 25'!$G$2:$G$113,MATCH(Таблица3[[#This Row],[№ п/п]]&Таблица3[[#Headers],[Первичная упаковка]],'Спецификация 25'!$A$2:$A$113&'Спецификация 25'!$F$2:$F$113,0)),"нет")} -> Флакон-капельница | K36: {=IFERROR(INDEX('Спецификация 25'!$G$2:$G$113,MATCH(Таблица3[[#This Row],[№ п/п]]&Таблица3[[#Headers],[Описание упаковки]],'Спецификация 25'!$A$2:$A$113&'Спецификация 25'!$F$2:$F$113,0)),"")} -> 2 шт. по 1,5 мл | L36: =VLOOKUP(Таблица3[[#This Row],[№ п/п]],'Спецификация 25'!$1:$1048576,8,0) -> мл | M36: 126 | N36: 0.1 | O36: =Таблица3[[#This Row],[1 Цена за уп с НДС]]-Таблица3[[#This Row],[1 Цена за уп с НДС]]*(1-1/(1+N36)) -> 114.54545 | P36: =LEFT(Таблица3[[#This Row],[Описание упаковки]],2) -> 2 | Q36: 1.5 | R36: =ROUNDDOWN(Таблица3[[#This Row],[1 Цена за уп без НДС]]/Таблица3[[#This Row],[1 Кол-во шт в уп]]/Таблица3[[#This Row],[1 Объем катриджа]],2) -> 38.18 | S36: 127 | T36: 0.1 | U36: =Таблица3[[#This Row],[2 Цена за уп с НДС]]-(Таблица3[[#This Row],[2 Цена за уп с НДС]]*(1-1/(1+T36))) -> 115.45455 | V36: =Таблица3[[#This Row],[1 Кол-во шт в уп]] -> 2 | W36: =Таблица3[[#This Row],[1 Объем катриджа]] -> 1.5 | X36: =ROUNDDOWN(Таблица3[[#This Row],[2 Цена за уп без НДС и Оптовой над.]]/Таблица3[[#This Row],[2 Кол-во шт в уп]]/Таблица3[[#This Row],[2 Объем катриджа]],2) -> 38.48 | Y36: 127.38 | Z36: 0.1 | AA36: =Таблица3[[#This Row],[3 Цена за уп с НДС]]-(Таблица3[[#This Row],[3 Цена за уп с НДС]]*(1-1/(1+Z36))) -> 115.8 | AB36: =Таблица3[[#This Row],[1 Кол-во шт в уп]] -> 2 | AC36: =Таблица3[[#This Row],[1 Объем катриджа]] -> 1.5 | AD36: =ROUNDDOWN(Таблица3[[#This Row],[3 Цена за уп без НДС и Оптовой над.]]/Таблица3[[#This Row],[3 Кол-во шт в уп]]/Таблица3[[#This Row],[3 Объем катриджа]],2) -> 38.6 | AE36: =ROUND(MIN(Таблица3[[#This Row],[1 Цена за единицу без НДС]],Таблица3[[#This Row],[2 Цена за единицу без НДС]],Таблица3[[#This Row],[3 Цена за единицу без НДС]]),2) -> 38.18 | AF36: =VLOOKUP(Таблица3[[#This Row],[№ п/п]],'Спецификация 25'!$1:$1048576,10,0) -> 10 | AG36: =Таблица3[[#This Row],[1 Кол-во шт в уп]] -> 2 | AH36: =Таблица3[[#This Row],[1 Объем катриджа]] -> 1.5 | AI36: =Таблица3[[#This Row],[Кол-во Упак]]*Таблица3[[#This Row],[Объем]]*Таблица3[[#This Row],[Кол-во шт в уп]] -> 30 | AJ36: =STDEV(Таблица3[[#This Row],[1 Цена за единицу без НДС]],Таблица3[[#This Row],[2 Цена за единицу без НДС]],Таблица3[[#This Row],[3 Цена за единицу без НДС]])/Таблица3[[#This Row],[Цена за единицу, руб. ]] -> 0.0056661361 | AK36: =Таблица3[[#This Row],[Цена за единицу, руб. ]]*Таблица3[[#This Row],[Кол-во ЛП (мл/шт)]] -> 1145.4 | AL36: =ROUND((Таблица3[[#This Row],[Цена за единицу, руб. ]]+Таблица3[[#This Row],[Цена за единицу, руб. ]]*10%),2)*Таблица3[[#This Row],[Кол-во ЛП (мл/шт)]] -> 1260
A37: 30 | D37: нет | F37: =VLOOKUP(Таблица3[[#This Row],[№ п/п]],'Спецификация 25'!$1:$1048576,2,0) -> Диоксидин 0,25 мг/мл 150 мл | G37: =VLOOKUP(Таблица3[[#This Row],[№ п/п]],'Спецификация 25'!$1:$1048576,3,0) -> Гидроксиметилхиноксалиндиоксид | H37: =VLOOKUP(Таблица3[[#This Row],[№ п/п]],'Спецификация 25'!$1:$1048576,7,0) -> Раствор для местного применения | I37: {=IFERROR(INDEX('Спецификация 25'!$G$2:$G$113,MATCH(Таблица3[[#This Row],[№ п/п]]&Таблица3[[#Headers],[Дозировка]],'Спецификация 25'!$A$2:$A$113&'Спецификация 25'!$F$2:$F$113,0)),"нет")} -> 0,25 мг/мл | J37: {=IFERROR(INDEX('Спецификация 25'!$G$2:$G$113,MATCH(Таблица3[[#This Row],[№ п/п]]&Таблица3[[#Headers],[Первичная упаковка]],'Спецификация 25'!$A$2:$A$113&'Спецификация 25'!$F$2:$F$113,0)),"нет")} -> Флаконы | K37: {=IFERROR(INDEX('Спецификация 25'!$G$2:$G$113,MATCH(Таблица3[[#This Row],[№ п/п]]&Таблица3[[#Headers],[Описание упаковки]],'Спецификация 25'!$A$2:$A$113&'Спецификация 25'!$F$2:$F$113,0)),"")} -> 150 мл | L37: =VLOOKUP(Таблица3[[#This Row],[№ п/п]],'Спецификация 25'!$1:$1048576,8,0) -> мл | N37: 0.1 | O37: =Таблица3[[#This Row],[1 Цена за уп с НДС]]-Таблица3[[#This Row],[1 Цена за уп с НДС]]*(1-1/(1+N37)) -> 0 | P37: 150 | Q37: 1 | R37: =ROUNDDOWN(Таблица3[[#This Row],[1 Цена за уп без НДС]]/Таблица3[[#This Row],[1 Кол-во шт в уп]]/Таблица3[[#This Row],[1 Объем катриджа]],2) -> 0 | T37: 0.1 | U37: =Таблица3[[#This Row],[2 Цена за уп с НДС]]-(Таблица3[[#This Row],[2 Цена за уп с НДС]]*(1-1/(1+T37))) -> 0 | V37: =Таблица3[[#This Row],[1 Кол-во шт в уп]] -> 150 | W37: =Таблица3[[#This Row],[1 Объем катриджа]] -> 1 | X37: =ROUNDDOWN(Таблица3[[#This Row],[2 Цена за уп без НДС и Оптовой над.]]/Таблица3[[#This Row],[2 Кол-во шт в уп]]/Таблица3[[#This Row],[2 Объем катриджа]],2) -> 0 | Z37: 0.1 | AA37: =Таблица3[[#This Row],[3 Цена за уп с НДС]]-(Таблица3[[#This Row],[3 Цена за уп с НДС]]*(1-1/(1+Z37))) -> 0 | AB37: =Таблица3[[#This Row],[1 Кол-во шт в уп]] -> 150 | AC37: =Таблица3[[#This Row],[1 Объем катриджа]] -> 1 | AD37: =ROUNDDOWN(Таблица3[[#This Row],[3 Цена за уп без НДС и Оптовой над.]]/Таблица3[[#This Row],[3 Кол-во шт в уп]]/Таблица3[[#This Row],[3 Объем катриджа]],2) -> 0 | AE37: =ROUND(MIN(Таблица3[[#This Row],[1 Цена за единицу без НДС]],Таблица3[[#This Row],[2 Цена за единицу без НДС]],Таблица3[[#This Row],[3 Цена за единицу без НДС]]),2) -> 0 | AF37: =VLOOKUP(Таблица3[[#This Row],[№ п/п]],'Спецификация 25'!$1:$1048576,10,0) -> 0 | AG37: =Таблица3[[#This Row],[1 Кол-во шт в уп]] -> 150 | AH37: =Таблица3[[#This Row],[1 Объем катриджа]] -> 1 | AI37: =Таблица3[[#This Row],[Кол-во Упак]]*Таблица3[[#This Row],[Объем]]*Таблица3[[#This Row],[Кол-во шт в уп]] -> 0 | AJ37: =STDEV(Таблица3[[#This Row],[1 Цена за единицу без НДС]],Таблица3[[#This Row],[2 Цена за единицу без НДС]],Таблица3[[#This Row],[3 Цена за единицу без НДС]])/Таблица3[[#This Row],[Цена за единицу, руб. ]] -> #DIV/0! | AK37: =Таблица3[[#This Row],[Цена за единицу, руб. ]]*Таблица3[[#This Row],[Кол-во ЛП (мл/шт)]] -> 0 | AL37: =ROUND((Таблица3[[#This Row],[Цена за единицу, руб. ]]+Таблица3[[#This Row],[Цена за единицу, руб. ]]*10%),2)*Таблица3[[#This Row],[Кол-во ЛП (мл/шт)]] -> 0
A38: 31 | B38: 26 | D38: нет | F38: =VLOOKUP(Таблица3[[#This Row],[№ п/п]],'Спецификация 25'!$1:$1048576,2,0) -> Клей БФ-6 10 г | G38: =VLOOKUP(Таблица3[[#This Row],[№ п/п]],'Спецификация 25'!$1:$1048576,3,0) -> ДИБУТИЛФТАЛАТ+КАНИФОЛЬ+КАСТОРОВОЕ МАСЛО+ПОЛИВИНИЛБУТИРАЛ+ ФЕНОЛФОРМАЛЬДЕГИДНАЯ СМОЛА+ЭТАНОЛ | H38: =VLOOKUP(Таблица3[[#This Row],[№ п/п]],'Спецификация 25'!$1:$1048576,7,0) -> Раствор для наружного применения спиртовой | I38: {=IFERROR(INDEX('Спецификация 25'!$G$2:$G$113,MATCH(Таблица3[[#This Row],[№ п/п]]&Таблица3[[#Headers],[Дозировка]],'Спецификация 25'!$A$2:$A$113&'Спецификация 25'!$F$2:$F$113,0)),"нет")} -> нет | J38: {=IFERROR(INDEX('Спецификация 25'!$G$2:$G$113,MATCH(Таблица3[[#This Row],[№ п/п]]&Таблица3[[#Headers],[Первичная упаковка]],'Спецификация 25'!$A$2:$A$113&'Спецификация 25'!$F$2:$F$113,0)),"нет")} -> Туба | K38: {=IFERROR(INDEX('Спецификация 25'!$G$2:$G$113,MATCH(Таблица3[[#This Row],[№ п/п]]&Таблица3[[#Headers],[Описание упаковки]],'Спецификация 25'!$A$2:$A$113&'Спецификация 25'!$F$2:$F$113,0)),"")} -> 10 г | L38: =VLOOKUP(Таблица3[[#This Row],[№ п/п]],'Спецификация 25'!$1:$1048576,8,0) -> г | M38: 186 | N38: 0.1 | O38: =Таблица3[[#This Row],[1 Цена за уп с НДС]]-Таблица3[[#This Row],[1 Цена за уп с НДС]]*(1-1/(1+N38)) -> 169.09091 | P38: =LEFT(Таблица3[[#This Row],[Описание упаковки]],2) -> 10 | Q38: 1 | R38: =ROUNDDOWN(Таблица3[[#This Row],[1 Цена за уп без НДС]]/Таблица3[[#This Row],[1 Кол-во шт в уп]]/Таблица3[[#This Row],[1 Объем катриджа]],2) -> 16.9 | S38: 186 | T38: 0.1 | U38: =Таблица3[[#This Row],[2 Цена за уп с НДС]]-(Таблица3[[#This Row],[2 Цена за уп с НДС]]*(1-1/(1+T38))) -> 169.09091 | V38: =Таблица3[[#This Row],[1 Кол-во шт в уп]] -> 10 | W38: =Таблица3[[#This Row],[1 Объем катриджа]] -> 1 | X38: =ROUNDDOWN(Таблица3[[#This Row],[2 Цена за уп без НДС и Оптовой над.]]/Таблица3[[#This Row],[2 Кол-во шт в уп]]/Таблица3[[#This Row],[2 Объем катриджа]],2) -> 16.9 | Y38: 186.56 | Z38: 0.1 | AA38: =Таблица3[[#This Row],[3 Цена за уп с НДС]]-(Таблица3[[#This Row],[3 Цена за уп с НДС]]*(1-1/(1+Z38))) -> 169.6 | AB38: =Таблица3[[#This Row],[1 Кол-во шт в уп]] -> 10 | AC38: =Таблица3[[#This Row],[1 Объем катриджа]] -> 1 | AD38: =ROUNDDOWN(Таблица3[[#This Row],[3 Цена за уп без НДС и Оптовой над.]]/Таблица3[[#This Row],[3 Кол-во шт в уп]]/Таблица3[[#This Row],[3 Объем катриджа]],2) -> 16.96 | AE38: =ROUND(MIN(Таблица3[[#This Row],[1 Цена за единицу без НДС]],Таблица3[[#This Row],[2 Цена за единицу без НДС]],Таблица3[[#This Row],[3 Цена за единицу без НДС]]),2) -> 16.9 | AF38: =VLOOKUP(Таблица3[[#This Row],[№ п/п]],'Спецификация 25'!$1:$1048576,10,0) -> 5 | AG38: =Таблица3[[#This Row],[1 Кол-во шт в уп]] -> 10 | AH38: =Таблица3[[#This Row],[1 Объем катриджа]] -> 1 | AI38: =Таблица3[[#This Row],[Кол-во Упак]]*Таблица3[[#This Row],[Объем]]*Таблица3[[#This Row],[Кол-во шт в уп]] -> 50 | AJ38: =STDEV(Таблица3[[#This Row],[1 Цена за единицу без НДС]],Таблица3[[#This Row],[2 Цена за единицу без НДС]],Таблица3[[#This Row],[3 Цена за единицу без НДС]])/Таблица3[[#This Row],[Цена за единицу, руб. ]] -> 0.0020497643 | AK38: =Таблица3[[#This Row],[Цена за единицу, руб. ]]*Таблица3[[#This Row],[Кол-во ЛП (мл/шт)]] -> 845 | AL38: =ROUND((Таблица3[[#This Row],[Цена за единицу, руб. ]]+Таблица3[[#This Row],[Цена за единицу, руб. ]]*10%),2)*Таблица3[[#This Row],[Кол-во ЛП (мл/шт)]] -> 929.5
A39: 32 | B39: 27 | D39: да | F39: =VLOOKUP(Таблица3[[#This Row],[№ п/п]],'Спецификация 25'!$1:$1048576,2,0) -> Лидокаин 10% | G39: =VLOOKUP(Таблица3[[#This Row],[№ п/п]],'Спецификация 25'!$1:$1048576,3,0) -> Лидокаин | H39: =VLOOKUP(Таблица3[[#This Row],[№ п/п]],'Спецификация 25'!$1:$1048576,7,0) -> Спрей для местного и наружного применения дозированный | I39: {=IFERROR(INDEX('Спецификация 25'!$G$2:$G$160,MATCH(Таблица3[[#This Row],[№ п/п]]&Таблица3[[#Headers],[Дозировка]],'Спецификация 25'!$A$2:$A$160&'Спецификация 25'!$F$2:$F$160,0)),"нет")} -> 4.6 мг/доза (10%) | J39: {=IFERROR(INDEX('Спецификация 25'!$G$2:$G$160,MATCH(Таблица3[[#This Row],[№ п/п]]&Таблица3[[#Headers],[Первичная упаковка]],'Спецификация 25'!$A$2:$A$160&'Спецификация 25'!$F$2:$F$160,0)),"нет")} -> нет | K39: {=IFERROR(INDEX('Спецификация 25'!$G$2:$G$160,MATCH(Таблица3[[#This Row],[№ п/п]]&Таблица3[[#Headers],[Описание упаковки]],'Спецификация 25'!$A$2:$A$160&'Спецификация 25'!$F$2:$F$160,0)),"")} -> 38 г | L39: =VLOOKUP(Таблица3[[#This Row],[№ п/п]],'Спецификация 25'!$1:$1048576,8,0) -> г | M39: 328.85 | N39: 0.1 | O39: =Таблица3[[#This Row],[1 Цена за уп с НДС]]-Таблица3[[#This Row],[1 Цена за уп с НДС]]*(1-1/(1+N39)) -> 298.95455 | P39: =LEFT(Таблица3[[#This Row],[Описание упаковки]],3) -> 38 | Q39: =IF(LEFT(Таблица3[[#This Row],[Лекарственная форма]],7)="Раствор",LEFT(RIGHT(Таблица3[[#This Row],[Описание упаковки]],4),1),IF(LEFT(Таблица3[[#This Row],[Лекарственная форма]],5)="Капли",LEFT(RIGHT(Таблица3[[#This Row],[Описание упаковки]],4)),1)) -> 1 | R39: =ROUNDDOWN(Таблица3[[#This Row],[1 Цена за уп без НДС]]/Таблица3[[#This Row],[1 Кол-во шт в уп]]/Таблица3[[#This Row],[1 Объем катриджа]],2) -> 7.86 | S39: 328.86 | T39: 0.1 | U39: =Таблица3[[#This Row],[2 Цена за уп с НДС]]-(Таблица3[[#This Row],[2 Цена за уп с НДС]]*(1-1/(1+T39))) -> 298.96364 | V39: =Таблица3[[#This Row],[1 Кол-во шт в уп]] -> 38 | W39: =Таблица3[[#This Row],[1 Объем катриджа]] -> 1 | X39: =ROUNDDOWN(Таблица3[[#This Row],[2 Цена за уп без НДС и Оптовой над.]]/Таблица3[[#This Row],[2 Кол-во шт в уп]]/Таблица3[[#This Row],[2 Объем катриджа]],2) -> 7.86 | Y39: 329.85 | Z39: 0.1 | AA39: =Таблица3[[#This Row],[3 Цена за уп с НДС]]-(Таблица3[[#This Row],[3 Цена за уп с НДС]]*(1-1/(1+Z39))) -> 299.86364 | AB39: =Таблица3[[#This Row],[1 Кол-во шт в уп]] -> 38 | AC39: =Таблица3[[#This Row],[1 Объем катриджа]] -> 1 | AD39: =ROUNDDOWN(Таблица3[[#This Row],[3 Цена за уп без НДС и Оптовой над.]]/Таблица3[[#This Row],[3 Кол-во шт в уп]]/Таблица3[[#This Row],[3 Объем катриджа]],2) -> 7.89 | AE39: =ROUND(MIN(Таблица3[[#This Row],[1 Цена за единицу без НДС]],Таблица3[[#This Row],[2 Цена за единицу без НДС]],Таблица3[[#This Row],[3 Цена за единицу без НДС]]),2) -> 7.86 | AF39: =VLOOKUP(Таблица3[[#This Row],[№ п/п]],'Спецификация 25'!$1:$1048576,10,0) -> 6 | AG39: =Таблица3[[#This Row],[1 Кол-во шт в уп]] -> 38 | AH39: =Таблица3[[#This Row],[1 Объем катриджа]] -> 1 | AI39: =Таблица3[[#This Row],[Кол-во Упак]]*Таблица3[[#This Row],[Объем]]*Таблица3[[#This Row],[Кол-во шт в уп]] -> 228 | AJ39: =STDEV(Таблица3[[#This Row],[1 Цена за единицу без НДС]],Таблица3[[#This Row],[2 Цена за единицу без НДС]],Таблица3[[#This Row],[3 Цена за единицу без НДС]])/Таблица3[[#This Row],[Цена за единицу, руб. ]] -> 0.002203627 | AK39: =Таблица3[[#This Row],[Цена за единицу, руб. ]]*Таблица3[[#This Row],[Кол-во ЛП (мл/шт)]] -> 1792.08 | AL39: =ROUND((Таблица3[[#This Row],[Цена за единицу, руб. ]]+Таблица3[[#This Row],[Цена за единицу, руб. ]]*10%),2)*Таблица3[[#This Row],[Кол-во ЛП (мл/шт)]] -> 1972.2
A40: 33 | B40: 28 | D40: да | F40: =VLOOKUP(Таблица3[[#This Row],[№ п/п]],'Спецификация 25'!$1:$1048576,2,0) -> Трихопол 250 мг № 20 | G40: =VLOOKUP(Таблица3[[#This Row],[№ п/п]],'Спецификация 25'!$1:$1048576,3,0) -> МЕТРОНИДАЗОЛ | H40: =VLOOKUP(Таблица3[[#This Row],[№ п/п]],'Спецификация 25'!$1:$1048576,7,0) -> Таблетки | I40: {=IFERROR(INDEX('Спецификация 25'!$G$2:$G$160,MATCH(Таблица3[[#This Row],[№ п/п]]&Таблица3[[#Headers],[Дозировка]],'Спецификация 25'!$A$2:$A$160&'Спецификация 25'!$F$2:$F$160,0)),"нет")} -> 250 мг | J40: {=IFERROR(INDEX('Спецификация 25'!$G$2:$G$160,MATCH(Таблица3[[#This Row],[№ п/п]]&Таблица3[[#Headers],[Первичная упаковка]],'Спецификация 25'!$A$2:$A$160&'Спецификация 25'!$F$2:$F$160,0)),"нет")} -> нет | K40: {=IFERROR(INDEX('Спецификация 25'!$G$2:$G$160,MATCH(Таблица3[[#This Row],[№ п/п]]&Таблица3[[#Headers],[Описание упаковки]],'Спецификация 25'!$A$2:$A$160&'Спецификация 25'!$F$2:$F$160,0)),"")} -> 20 шт. | L40: =VLOOKUP(Таблица3[[#This Row],[№ п/п]],'Спецификация 25'!$1:$1048576,8,0) -> шт | M40: 89.73 | N40: 0.1 | O40: =Таблица3[[#This Row],[1 Цена за уп с НДС]]-Таблица3[[#This Row],[1 Цена за уп с НДС]]*(1-1/(1+N40)) -> 81.572727 | P40: =LEFT(Таблица3[[#This Row],[Описание упаковки]],2) -> 20 | Q40: =IF(LEFT(Таблица3[[#This Row],[Лекарственная форма]],7)="Раствор",LEFT(RIGHT(Таблица3[[#This Row],[Описание упаковки]],4),1),IF(LEFT(Таблица3[[#This Row],[Лекарственная форма]],5)="Капли",LEFT(RIGHT(Таблица3[[#This Row],[Описание упаковки]],4)),1)) -> 1 | R40: =ROUNDDOWN(Таблица3[[#This Row],[1 Цена за уп без НДС]]/Таблица3[[#This Row],[1 Кол-во шт в уп]]/Таблица3[[#This Row],[1 Объем катриджа]],2) -> 4.07 | S40: 89.74 | T40: 0.1 | U40: =Таблица3[[#This Row],[2 Цена за уп с НДС]]-(Таблица3[[#This Row],[2 Цена за уп с НДС]]*(1-1/(1+T40))) -> 81.581818 | V40: =Таблица3[[#This Row],[1 Кол-во шт в уп]] -> 20 | W40: =Таблица3[[#This Row],[1 Объем катриджа]] -> 1 | X40: =ROUNDDOWN(Таблица3[[#This Row],[2 Цена за уп без НДС и Оптовой над.]]/Таблица3[[#This Row],[2 Кол-во шт в уп]]/Таблица3[[#This Row],[2 Объем катриджа]],2) -> 4.07 | Y40: 90.01 | Z40: 0.1 | AA40: =Таблица3[[#This Row],[3 Цена за уп с НДС]]-(Таблица3[[#This Row],[3 Цена за уп с НДС]]*(1-1/(1+Z40))) -> 81.827273 | AB40: =Таблица3[[#This Row],[1 Кол-во шт в уп]] -> 20 | AC40: =Таблица3[[#This Row],[1 Объем катриджа]] -> 1 | AD40: =ROUNDDOWN(Таблица3[[#This Row],[3 Цена за уп без НДС и Оптовой над.]]/Таблица3[[#This Row],[3 Кол-во шт в уп]]/Таблица3[[#This Row],[3 Объем катриджа]],2) -> 4.09 | AE40: =ROUND(MIN(Таблица3[[#This Row],[1 Цена за единицу без НДС]],Таблица3[[#This Row],[2 Цена за единицу без НДС]],Таблица3[[#This Row],[3 Цена за единицу без НДС]]),2) -> 4.07 | AF40: =VLOOKUP(Таблица3[[#This Row],[№ п/п]],'Спецификация 25'!$1:$1048576,10,0) -> 3 | AG40: =Таблица3[[#This Row],[1 Кол-во шт в уп]] -> 20 | AH40: =Таблица3[[#This Row],[1 Объем катриджа]] -> 1 | AI40: =Таблица3[[#This Row],[Кол-во Упак]]*Таблица3[[#This Row],[Объем]]*Таблица3[[#This Row],[Кол-во шт в уп]] -> 60 | AJ40: =STDEV(Таблица3[[#This Row],[1 Цена за единицу без НДС]],Таблица3[[#This Row],[2 Цена за единицу без НДС]],Таблица3[[#This Row],[3 Цена за единицу без НДС]])/Таблица3[[#This Row],[Цена за единицу, руб. ]] -> 0.0028371021 | AK40: =Таблица3[[#This Row],[Цена за единицу, руб. ]]*Таблица3[[#This Row],[Кол-во ЛП (мл/шт)]] -> 244.2 | AL40: =ROUND((Таблица3[[#This Row],[Цена за единицу, руб. ]]+Таблица3[[#This Row],[Цена за единицу, руб. ]]*10%),2)*Таблица3[[#This Row],[Кол-во ЛП (мл/шт)]] -> 268.8
A41: 34 | B41: 29 | D41: нет | F41: =VLOOKUP(Таблица3[[#This Row],[№ п/п]],'Спецификация 25'!$1:$1048576,2,0) -> Тетрациклин 100 мг № 20 | G41: =VLOOKUP(Таблица3[[#This Row],[№ п/п]],'Спецификация 25'!$1:$1048576,3,0) -> ТЕТРАЦИКЛИН | H41: =VLOOKUP(Таблица3[[#This Row],[№ п/п]],'Спецификация 25'!$1:$1048576,7,0) -> Таблетки, покрытые оболочкой | I41: {=IFERROR(INDEX('Спецификация 25'!$G$2:$G$160,MATCH(Таблица3[[#This Row],[№ п/п]]&Таблица3[[#Headers],[Дозировка]],'Спецификация 25'!$A$2:$A$160&'Спецификация 25'!$F$2:$F$160,0)),"нет")} -> 100 мг | J41: {=IFERROR(INDEX('Спецификация 25'!$G$2:$G$160,MATCH(Таблица3[[#This Row],[№ п/п]]&Таблица3[[#Headers],[Первичная упаковка]],'Спецификация 25'!$A$2:$A$160&'Спецификация 25'!$F$2:$F$160,0)),"нет")} -> нет | K41: {=IFERROR(INDEX('Спецификация 25'!$G$2:$G$160,MATCH(Таблица3[[#This Row],[№ п/п]]&Таблица3[[#Headers],[Описание упаковки]],'Спецификация 25'!$A$2:$A$160&'Спецификация 25'!$F$2:$F$160,0)),"")} -> 20 шт. | L41: =VLOOKUP(Таблица3[[#This Row],[№ п/п]],'Спецификация 25'!$1:$1048576,8,0) -> шт | M41: 154 | N41: 0.1 | O41: =Таблица3[[#This Row],[1 Цена за уп с НДС]]-Таблица3[[#This Row],[1 Цена за уп с НДС]]*(1-1/(1+N41)) -> 140 | P41: =LEFT(Таблица3[[#This Row],[Описание упаковки]],2) -> 20 | Q41: =IF(LEFT(Таблица3[[#This Row],[Лекарственная форма]],7)="Раствор",LEFT(RIGHT(Таблица3[[#This Row],[Описание упаковки]],4),1),IF(LEFT(Таблица3[[#This Row],[Лекарственная форма]],5)="Капли",LEFT(RIGHT(Таблица3[[#This Row],[Описание упаковки]],4)),1)) -> 1 | R41: =ROUNDDOWN(Таблица3[[#This Row],[1 Цена за уп без НДС]]/Таблица3[[#This Row],[1 Кол-во шт в уп]]/Таблица3[[#This Row],[1 Объем катриджа]],2) -> 7 | S41: 155 | T41: 0.1 | U41: =Таблица3[[#This Row],[2 Цена за уп с НДС]]-(Таблица3[[#This Row],[2 Цена за уп с НДС]]*(1-1/(1+T41))) -> 140.90909 | V41: =Таблица3[[#This Row],[1 Кол-во шт в уп]] -> 20 | W41: =Таблица3[[#This Row],[1 Объем катриджа]] -> 1 | X41: =ROUNDDOWN(Таблица3[[#This Row],[2 Цена за уп без НДС и Оптовой над.]]/Таблица3[[#This Row],[2 Кол-во шт в уп]]/Таблица3[[#This Row],[2 Объем катриджа]],2) -> 7.04 | Y41: 155.47 | Z41: 0.1 | AA41: =Таблица3[[#This Row],[3 Цена за уп с НДС]]-(Таблица3[[#This Row],[3 Цена за уп с НДС]]*(1-1/(1+Z41))) -> 141.33636 | AB41: =Таблица3[[#This Row],[1 Кол-во шт в уп]] -> 20 | AC41: =Таблица3[[#This Row],[1 Объем катриджа]] -> 1 | AD41: =ROUNDDOWN(Таблица3[[#This Row],[3 Цена за уп без НДС и Оптовой над.]]/Таблица3[[#This Row],[3 Кол-во шт в уп]]/Таблица3[[#This Row],[3 Объем катриджа]],2) -> 7.06 | AE41: =ROUND(MIN(Таблица3[[#This Row],[1 Цена за единицу без НДС]],Таблица3[[#This Row],[2 Цена за единицу без НДС]],Таблица3[[#This Row],[3 Цена за единицу без НДС]]),2) -> 7 | AF41: =VLOOKUP(Таблица3[[#This Row],[№ п/п]],'Спецификация 25'!$1:$1048576,10,0) -> 3 | AG41: =Таблица3[[#This Row],[1 Кол-во шт в уп]] -> 20 | AH41: =Таблица3[[#This Row],[1 Объем катриджа]] -> 1 | AI41: =Таблица3[[#This Row],[Кол-во Упак]]*Таблица3[[#This Row],[Объем]]*Таблица3[[#This Row],[Кол-во шт в уп]] -> 60 | AJ41: =STDEV(Таблица3[[#This Row],[1 Цена за единицу без НДС]],Таблица3[[#This Row],[2 Цена за единицу без НДС]],Таблица3[[#This Row],[3 Цена за единицу без НДС]])/Таблица3[[#This Row],[Цена за единицу, руб. ]] -> 0.0043643578 | AK41: =Таблица3[[#This Row],[Цена за единицу, руб. ]]*Таблица3[[#This Row],[Кол-во ЛП (мл/шт)]] -> 420 | AL41: =ROUND((Таблица3[[#This Row],[Цена за единицу, руб. ]]+Таблица3[[#This Row],[Цена за единицу, руб. ]]*10%),2)*Таблица3[[#This Row],[Кол-во ЛП (мл/шт)]] -> 462
A42: 35 | B42: 30 | D42: да | F42: =VLOOKUP(Таблица3[[#This Row],[№ п/п]],'Спецификация 25'!$1:$1048576,2,0) -> Метронидазол 5 мг/мл 100 мл | G42: =VLOOKUP(Таблица3[[#This Row],[№ п/п]],'Спецификация 25'!$1:$1048576,3,0) -> Метронидазол | H42: =VLOOKUP(Таблица3[[#This Row],[№ п/п]],'Спецификация 25'!$1:$1048576,7,0) -> Раствор для инфузий | I42: {=IFERROR(INDEX('Спецификация 25'!$G$2:$G$160,MATCH(Таблица3[[#This Row],[№ п/п]]&Таблица3[[#Headers],[Дозировка]],'Спецификация 25'!$A$2:$A$160&'Спецификация 25'!$F$2:$F$160,0)),"нет")} -> 5 мг/мл | J42: {=IFERROR(INDEX('Спецификация 25'!$G$2:$G$160,MATCH(Таблица3[[#This Row],[№ п/п]]&Таблица3[[#Headers],[Первичная упаковка]],'Спецификация 25'!$A$2:$A$160&'Спецификация 25'!$F$2:$F$160,0)),"нет")} -> Бутыль | K42: {=IFERROR(INDEX('Спецификация 25'!$G$2:$G$160,MATCH(Таблица3[[#This Row],[№ п/п]]&Таблица3[[#Headers],[Описание упаковки]],'Спецификация 25'!$A$2:$A$160&'Спецификация 25'!$F$2:$F$160,0)),"")} -> 100 мл | L42: =VLOOKUP(Таблица3[[#This Row],[№ п/п]],'Спецификация 25'!$1:$1048576,8,0) -> мл | M42: 34.62 | N42: 0.1 | O42: =Таблица3[[#This Row],[1 Цена за уп с НДС]]-Таблица3[[#This Row],[1 Цена за уп с НДС]]*(1-1/(1+N42)) -> 31.472727 | P42: =LEFT(Таблица3[[#This Row],[Описание упаковки]],3) -> 100 | Q42: =IF(LEFT(Таблица3[[#This Row],[Лекарственная форма]],7)="Раствор",LEFT(RIGHT(Таблица3[[#This Row],[Описание упаковки]],4),1),IF(LEFT(Таблица3[[#This Row],[Лекарственная форма]],5)="Капли",LEFT(RIGHT(Таблица3[[#This Row],[Описание упаковки]],4)),1)) -> 1 | R42: =ROUNDDOWN(Таблица3[[#This Row],[1 Цена за уп без НДС]]/Таблица3[[#This Row],[1 Кол-во шт в уп]]/Таблица3[[#This Row],[1 Объем катриджа]],2) -> 0.31 | S42: 34.63 | T42: 0.1 | U42: =Таблица3[[#This Row],[2 Цена за уп с НДС]]-(Таблица3[[#This Row],[2 Цена за уп с НДС]]*(1-1/(1+T42))) -> 31.481818 | V42: =Таблица3[[#This Row],[1 Кол-во шт в уп]] -> 100 | W42: =Таблица3[[#This Row],[1 Объем катриджа]] -> 1 | X42: =ROUNDDOWN(Таблица3[[#This Row],[2 Цена за уп без НДС и Оптовой над.]]/Таблица3[[#This Row],[2 Кол-во шт в уп]]/Таблица3[[#This Row],[2 Объем катриджа]],2) -> 0.31 | Y42: 34.73 | Z42: 0.1 | AA42: =Таблица3[[#This Row],[3 Цена за уп с НДС]]-(Таблица3[[#This Row],[3 Цена за уп с НДС]]*(1-1/(1+Z42))) -> 31.572727 | AB42: =Таблица3[[#This Row],[1 Кол-во шт в уп]] -> 100 | AC42: =Таблица3[[#This Row],[1 Объем катриджа]] -> 1 | AD42: =ROUNDDOWN(Таблица3[[#This Row],[3 Цена за уп без НДС и Оптовой над.]]/Таблица3[[#This Row],[3 Кол-во шт в уп]]/Таблица3[[#This Row],[3 Объем катриджа]],2) -> 0.31 | AE42: =ROUND(MIN(Таблица3[[#This Row],[1 Цена за единицу без НДС]],Таблица3[[#This Row],[2 Цена за единицу без НДС]],Таблица3[[#This Row],[3 Цена за единицу без НДС]]),2) -> 0.31 | AF42: =VLOOKUP(Таблица3[[#This Row],[№ п/п]],'Спецификация 25'!$1:$1048576,10,0) -> 5 | AG42: =Таблица3[[#This Row],[1 Кол-во шт в уп]] -> 100 | AH42: =Таблица3[[#This Row],[1 Объем катриджа]] -> 1 | AI42: =Таблица3[[#This Row],[Кол-во Упак]]*Таблица3[[#This Row],[Объем]]*Таблица3[[#This Row],[Кол-во шт в уп]] -> 500 | AJ42: =STDEV(Таблица3[[#This Row],[1 Цена за единицу без НДС]],Таблица3[[#This Row],[2 Цена за единицу без НДС]],Таблица3[[#This Row],[3 Цена за единицу без НДС]])/Таблица3[[#This Row],[Цена за единицу, руб. ]] -> 0 | AK42: =Таблица3[[#This Row],[Цена за единицу, руб. ]]*Таблица3[[#This Row],[Кол-во ЛП (мл/шт)]] -> 155 | AL42: =ROUND((Таблица3[[#This Row],[Цена за единицу, руб. ]]+Таблица3[[#This Row],[Цена за единицу, руб. ]]*10%),2)*Таблица3[[#This Row],[Кол-во ЛП (мл/шт)]] -> 170
A43: 36 | B43: 31 | D43: нет | F43: =VLOOKUP(Таблица3[[#This Row],[№ п/п]],'Спецификация 25'!$1:$1048576,2,0) -> Метилурацил 10% 25 | G43: =VLOOKUP(Таблица3[[#This Row],[№ п/п]],'Спецификация 25'!$1:$1048576,3,0) -> ДИОКСОМЕТИЛТЕТРАГИДРОПИРИМИДИН | H43: =VLOOKUP(Таблица3[[#This Row],[№ п/п]],'Спецификация 25'!$1:$1048576,7,0) -> Мазь для наружного применения | I43: {=IFERROR(INDEX('Спецификация 25'!$G$2:$G$160,MATCH(Таблица3[[#This Row],[№ п/п]]&Таблица3[[#Headers],[Дозировка]],'Спецификация 25'!$A$2:$A$160&'Спецификация 25'!$F$2:$F$160,0)),"нет")} -> нет | J43: {=IFERROR(INDEX('Спецификация 25'!$G$2:$G$160,MATCH(Таблица3[[#This Row],[№ п/п]]&Таблица3[[#Headers],[Первичная упаковка]],'Спецификация 25'!$A$2:$A$160&'Спецификация 25'!$F$2:$F$160,0)),"нет")} -> Туба | K43: {=IFERROR(INDEX('Спецификация 25'!$G$2:$G$160,MATCH(Таблица3[[#This Row],[№ п/п]]&Таблица3[[#Headers],[Описание упаковки]],'Спецификация 25'!$A$2:$A$160&'Спецификация 25'!$F$2:$F$160,0)),"")} -> 25 мл | L43: =VLOOKUP(Таблица3[[#This Row],[№ п/п]],'Спецификация 25'!$1:$1048576,8,0) -> мл | M43: 84 | N43: 0.1 | O43: =Таблица3[[#This Row],[1 Цена за уп с НДС]]-Таблица3[[#This Row],[1 Цена за уп с НДС]]*(1-1/(1+N43)) -> 76.363636 | P43: =LEFT(Таблица3[[#This Row],[Описание упаковки]],2) -> 25 | Q43: =IF(LEFT(Таблица3[[#This Row],[Лекарственная форма]],7)="Раствор",LEFT(RIGHT(Таблица3[[#This Row],[Описание упаковки]],4),1),IF(LEFT(Таблица3[[#This Row],[Лекарственная форма]],5)="Капли",LEFT(RIGHT(Таблица3[[#This Row],[Описание упаковки]],4)),1)) -> 1 | R43: =ROUNDDOWN(Таблица3[[#This Row],[1 Цена за уп без НДС]]/Таблица3[[#This Row],[1 Кол-во шт в уп]]/Таблица3[[#This Row],[1 Объем катриджа]],2) -> 3.05 | S43: 85 | T43: 0.1 | U43: =Таблица3[[#This Row],[2 Цена за уп с НДС]]-(Таблица3[[#This Row],[2 Цена за уп с НДС]]*(1-1/(1+T43))) -> 77.272727 | V43: =Таблица3[[#This Row],[1 Кол-во шт в уп]] -> 25 | W43: =Таблица3[[#This Row],[1 Объем катриджа]] -> 1 | X43: =ROUNDDOWN(Таблица3[[#This Row],[2 Цена за уп без НДС и Оптовой над.]]/Таблица3[[#This Row],[2 Кол-во шт в уп]]/Таблица3[[#This Row],[2 Объем катриджа]],2) -> 3.09 | Y43: 85.25 | Z43: 0.1 | AA43: =Таблица3[[#This Row],[3 Цена за уп с НДС]]-(Таблица3[[#This Row],[3 Цена за уп с НДС]]*(1-1/(1+Z43))) -> 77.5 | AB43: =Таблица3[[#This Row],[1 Кол-во шт в уп]] -> 25 | AC43: =Таблица3[[#This Row],[1 Объем катриджа]] -> 1 | AD43: =ROUNDDOWN(Таблица3[[#This Row],[3 Цена за уп без НДС и Оптовой над.]]/Таблица3[[#This Row],[3 Кол-во шт в уп]]/Таблица3[[#This Row],[3 Объем катриджа]],2) -> 3.1 | AE43: =ROUND(MIN(Таблица3[[#This Row],[1 Цена за единицу без НДС]],Таблица3[[#This Row],[2 Цена за единицу без НДС]],Таблица3[[#This Row],[3 Цена за единицу без НДС]]),2) -> 3.05 | AF43: =VLOOKUP(Таблица3[[#This Row],[№ п/п]],'Спецификация 25'!$1:$1048576,10,0) -> 3 | AG43: =Таблица3[[#This Row],[1 Кол-во шт в уп]] -> 25 | AH43: =Таблица3[[#This Row],[1 Объем катриджа]] -> 1 | AI43: =Таблица3[[#This Row],[Кол-во Упак]]*Таблица3[[#This Row],[Объем]]*Таблица3[[#This Row],[Кол-во шт в уп]] -> 75 | AJ43: =STDEV(Таблица3[[#This Row],[1 Цена за единицу без НДС]],Таблица3[[#This Row],[2 Цена за единицу без НДС]],Таблица3[[#This Row],[3 Цена за единицу без НДС]])/Таблица3[[#This Row],[Цена за единицу, руб. ]] -> 0.0086745945 | AK43: =Таблица3[[#This Row],[Цена за единицу, руб. ]]*Таблица3[[#This Row],[Кол-во ЛП (мл/шт)]] -> 228.75 | AL43: =ROUND((Таблица3[[#This Row],[Цена за единицу, руб. ]]+Таблица3[[#This Row],[Цена за единицу, руб. ]]*10%),2)*Таблица3[[#This Row],[Кол-во ЛП (мл/шт)]] -> 252
A44: 37 | B44: 32 | D44: нет | F44: =VLOOKUP(Таблица3[[#This Row],[№ п/п]],'Спецификация 25'!$1:$1048576,2,0) -> Хлорофиллипт 2% 20 мл | G44: =VLOOKUP(Таблица3[[#This Row],[№ п/п]],'Спецификация 25'!$1:$1048576,3,0) -> ЭВКАЛИПТА ЛИСТЬЕВ ЭКСТРАКТ | H44: =VLOOKUP(Таблица3[[#This Row],[№ п/п]],'Спецификация 25'!$1:$1048576,7,0) -> Раствор для местного и наружного применения | I44: {=IFERROR(INDEX('Спецификация 25'!$G$2:$G$160,MATCH(Таблица3[[#This Row],[№ п/п]]&Таблица3[[#Headers],[Дозировка]],'Спецификация 25'!$A$2:$A$160&'Спецификация 25'!$F$2:$F$160,0)),"нет")} -> 20 мг/мл | J44: {=IFERROR(INDEX('Спецификация 25'!$G$2:$G$160,MATCH(Таблица3[[#This Row],[№ п/п]]&Таблица3[[#Headers],[Первичная упаковка]],'Спецификация 25'!$A$2:$A$160&'Спецификация 25'!$F$2:$F$160,0)),"нет")} -> Флакон | K44: {=IFERROR(INDEX('Спецификация 25'!$G$2:$G$160,MATCH(Таблица3[[#This Row],[№ п/п]]&Таблица3[[#Headers],[Описание упаковки]],'Спецификация 25'!$A$2:$A$160&'Спецификация 25'!$F$2:$F$160,0)),"")} -> 20 мл | L44: =VLOOKUP(Таблица3[[#This Row],[№ п/п]],'Спецификация 25'!$1:$1048576,8,0) -> мл | M44: 435 | N44: 0.1 | O44: =Таблица3[[#This Row],[1 Цена за уп с НДС]]-Таблица3[[#This Row],[1 Цена за уп с НДС]]*(1-1/(1+N44)) -> 395.45455 | P44: =LEFT(Таблица3[[#This Row],[Описание упаковки]],2) -> 20 | Q44: =IF(LEFT(Таблица3[[#This Row],[Лекарственная форма]],7)="Раствор",LEFT(RIGHT(Таблица3[[#This Row],[Описание упаковки]],4),1),IF(LEFT(Таблица3[[#This Row],[Лекарственная форма]],5)="Капли",LEFT(RIGHT(Таблица3[[#This Row],[Описание упаковки]],4)),1)) -> 1 | R44: =ROUNDDOWN(Таблица3[[#This Row],[1 Цена за уп без НДС]]/Таблица3[[#This Row],[1 Кол-во шт в уп]]/Таблица3[[#This Row],[1 Объем катриджа]],2) -> 19.77 | S44: 436 | T44: 0.1 | U44: =Таблица3[[#This Row],[2 Цена за уп с НДС]]-(Таблица3[[#This Row],[2 Цена за уп с НДС]]*(1-1/(1+T44))) -> 396.36364 | V44: =Таблица3[[#This Row],[1 Кол-во шт в уп]] -> 20 | W44: =Таблица3[[#This Row],[1 Объем катриджа]] -> 1 | X44: =ROUNDDOWN(Таблица3[[#This Row],[2 Цена за уп без НДС и Оптовой над.]]/Таблица3[[#This Row],[2 Кол-во шт в уп]]/Таблица3[[#This Row],[2 Объем катриджа]],2) -> 19.81 | Y44: 437.31 | Z44: 0.1 | AA44: =Таблица3[[#This Row],[3 Цена за уп с НДС]]-(Таблица3[[#This Row],[3 Цена за уп с НДС]]*(1-1/(1+Z44))) -> 397.55455 | AB44: =Таблица3[[#This Row],[1 Кол-во шт в уп]] -> 20 | AC44: =Таблица3[[#This Row],[1 Объем катриджа]] -> 1 | AD44: =ROUNDDOWN(Таблица3[[#This Row],[3 Цена за уп без НДС и Оптовой над.]]/Таблица3[[#This Row],[3 Кол-во шт в уп]]/Таблица3[[#This Row],[3 Объем катриджа]],2) -> 19.87 | AE44: =ROUND(MIN(Таблица3[[#This Row],[1 Цена за единицу без НДС]],Таблица3[[#This Row],[2 Цена за единицу без НДС]],Таблица3[[#This Row],[3 Цена за единицу без НДС]]),2) -> 19.77 | AF44: =VLOOKUP(Таблица3[[#This Row],[№ п/п]],'Спецификация 25'!$1:$1048576,10,0) -> 5 | AG44: =Таблица3[[#This Row],[1 Кол-во шт в уп]] -> 20 | AH44: =Таблица3[[#This Row],[1 Объем катриджа]] -> 1 | AI44: =Таблица3[[#This Row],[Кол-во Упак]]*Таблица3[[#This Row],[Объем]]*Таблица3[[#This Row],[Кол-во шт в уп]] -> 100 | AJ44: =STDEV(Таблица3[[#This Row],[1 Цена за единицу без НДС]],Таблица3[[#This Row],[2 Цена за единицу без НДС]],Таблица3[[#This Row],[3 Цена за единицу без НДС]])/Таблица3[[#This Row],[Цена за единицу, руб. ]] -> 0.0025458892 | AK44: =Таблица3[[#This Row],[Цена за единицу, руб. ]]*Таблица3[[#This Row],[Кол-во ЛП (мл/шт)]] -> 1977 | AL44: =ROUND((Таблица3[[#This Row],[Цена за единицу, руб. ]]+Таблица3[[#This Row],[Цена за единицу, руб. ]]*10%),2)*Таблица3[[#This Row],[Кол-во ЛП (мл/шт)]] -> 2175
A45: 38 | B45: 33 | D45: нет | F45: =VLOOKUP(Таблица3[[#This Row],[№ п/п]],'Спецификация 25'!$1:$1048576,2,0) -> Облепиховое масло 50 мл | G45: =VLOOKUP(Таблица3[[#This Row],[№ п/п]],'Спецификация 25'!$1:$1048576,3,0) -> ОБЛЕПИХИ МАСЛО | H45: =VLOOKUP(Таблица3[[#This Row],[№ п/п]],'Спецификация 25'!$1:$1048576,7,0) -> Масло для приема внутрь, местного и наружного применения | I45: {=IFERROR(INDEX('Спецификация 25'!$G$2:$G$160,MATCH(Таблица3[[#This Row],[№ п/п]]&Таблица3[[#Headers],[Дозировка]],'Спецификация 25'!$A$2:$A$160&'Спецификация 25'!$F$2:$F$160,0)),"нет")} -> нет | J45: {=IFERROR(INDEX('Спецификация 25'!$G$2:$G$160,MATCH(Таблица3[[#This Row],[№ п/п]]&Таблица3[[#Headers],[Первичная упаковка]],'Спецификация 25'!$A$2:$A$160&'Спецификация 25'!$F$2:$F$160,0)),"нет")} -> Флакон | K45: {=IFERROR(INDEX('Спецификация 25'!$G$2:$G$160,MATCH(Таблица3[[#This Row],[№ п/п]]&Таблица3[[#Headers],[Описание упаковки]],'Спецификация 25'!$A$2:$A$160&'Спецификация 25'!$F$2:$F$160,0)),"")} -> 50 мл | L45: =VLOOKUP(Таблица3[[#This Row],[№ п/п]],'Спецификация 25'!$1:$1048576,8,0) -> мл | M45: 326 | N45: 0.1 | O45: =Таблица3[[#This Row],[1 Цена за уп с НДС]]-Таблица3[[#This Row],[1 Цена за уп с НДС]]*(1-1/(1+N45)) -> 296.36364 | P45: =LEFT(Таблица3[[#This Row],[Описание упаковки]],2) -> 50 | Q45: =IF(LEFT(Таблица3[[#This Row],[Лекарственная форма]],7)="Раствор",LEFT(RIGHT(Таблица3[[#This Row],[Описание упаковки]],4),1),IF(LEFT(Таблица3[[#This Row],[Лекарственная форма]],5)="Капли",LEFT(RIGHT(Таблица3[[#This Row],[Описание упаковки]],4)),1)) -> 1 | R45: =ROUNDDOWN(Таблица3[[#This Row],[1 Цена за уп без НДС]]/Таблица3[[#This Row],[1 Кол-во шт в уп]]/Таблица3[[#This Row],[1 Объем катриджа]],2) -> 5.92 | S45: 327 | T45: 0.1 | U45: =Таблица3[[#This Row],[2 Цена за уп с НДС]]-(Таблица3[[#This Row],[2 Цена за уп с НДС]]*(1-1/(1+T45))) -> 297.27273 | V45: =Таблица3[[#This Row],[1 Кол-во шт в уп]] -> 50 | W45: =Таблица3[[#This Row],[1 Объем катриджа]] -> 1 | X45: =ROUNDDOWN(Таблица3[[#This Row],[2 Цена за уп без НДС и Оптовой над.]]/Таблица3[[#This Row],[2 Кол-во шт в уп]]/Таблица3[[#This Row],[2 Объем катриджа]],2) -> 5.94 | Y45: 327.98 | Z45: 0.1 | AA45: =Таблица3[[#This Row],[3 Цена за уп с НДС]]-(Таблица3[[#This Row],[3 Цена за уп с НДС]]*(1-1/(1+Z45))) -> 298.16364 | AB45: =Таблица3[[#This Row],[1 Кол-во шт в уп]] -> 50 | AC45: =Таблица3[[#This Row],[1 Объем катриджа]] -> 1 | AD45: =ROUNDDOWN(Таблица3[[#This Row],[3 Цена за уп без НДС и Оптовой над.]]/Таблица3[[#This Row],[3 Кол-во шт в уп]]/Таблица3[[#This Row],[3 Объем катриджа]],2) -> 5.96 | AE45: =ROUND(MIN(Таблица3[[#This Row],[1 Цена за единицу без НДС]],Таблица3[[#This Row],[2 Цена за единицу без НДС]],Таблица3[[#This Row],[3 Цена за единицу без НДС]]),2) -> 5.92 | AF45: =VLOOKUP(Таблица3[[#This Row],[№ п/п]],'Спецификация 25'!$1:$1048576,10,0) -> 3 | AG45: =Таблица3[[#This Row],[1 Кол-во шт в уп]] -> 50 | AH45: =Таблица3[[#This Row],[1 Объем катриджа]] -> 1 | AI45: =Таблица3[[#This Row],[Кол-во Упак]]*Таблица3[[#This Row],[Объем]]*Таблица3[[#This Row],[Кол-во шт в уп]] -> 150 | AJ45: =STDEV(Таблица3[[#This Row],[1 Цена за единицу без НДС]],Таблица3[[#This Row],[2 Цена за единицу без НДС]],Таблица3[[#This Row],[3 Цена за единицу без НДС]])/Таблица3[[#This Row],[Цена за единицу, руб. ]] -> 0.0033783784 | AK45: =Таблица3[[#This Row],[Цена за единицу, руб. ]]*Таблица3[[#This Row],[Кол-во ЛП (мл/шт)]] -> 888 | AL45: =ROUND((Таблица3[[#This Row],[Цена за единицу, руб. ]]+Таблица3[[#This Row],[Цена за единицу, руб. ]]*10%),2)*Таблица3[[#This Row],[Кол-во ЛП (мл/шт)]] -> 976.5
A46: 39 | B46: 34 | D46: нет | F46: =VLOOKUP(Таблица3[[#This Row],[№ п/п]],'Спецификация 25'!$1:$1048576,2,0) -> Шиповника масло 50 мл | G46: =VLOOKUP(Таблица3[[#This Row],[№ п/п]],'Спецификация 25'!$1:$1048576,3,0) -> ШИПОВНИКА СЕМЯН МАСЛО | H46: =VLOOKUP(Таблица3[[#This Row],[№ п/п]],'Спецификация 25'!$1:$1048576,7,0) -> Масло для приема внутрь, местного и наружного применения | I46: {=IFERROR(INDEX('Спецификация 25'!$G$2:$G$160,MATCH(Таблица3[[#This Row],[№ п/п]]&Таблица3[[#Headers],[Дозировка]],'Спецификация 25'!$A$2:$A$160&'Спецификация 25'!$F$2:$F$160,0)),"нет")} -> нет | J46: {=IFERROR(INDEX('Спецификация 25'!$G$2:$G$160,MATCH(Таблица3[[#This Row],[№ п/п]]&Таблица3[[#Headers],[Первичная упаковка]],'Спецификация 25'!$A$2:$A$160&'Спецификация 25'!$F$2:$F$160,0)),"нет")} -> Флакон | K46: {=IFERROR(INDEX('Спецификация 25'!$G$2:$G$160,MATCH(Таблица3[[#This Row],[№ п/п]]&Таблица3[[#Headers],[Описание упаковки]],'Спецификация 25'!$A$2:$A$160&'Спецификация 25'!$F$2:$F$160,0)),"")} -> 50 мл | L46: =VLOOKUP(Таблица3[[#This Row],[№ п/п]],'Спецификация 25'!$1:$1048576,8,0) -> мл | M46: 500 | N46: 0.1 | O46: =Таблица3[[#This Row],[1 Цена за уп с НДС]]-Таблица3[[#This Row],[1 Цена за уп с НДС]]*(1-1/(1+N46)) -> 454.54545 | P46: =LEFT(Таблица3[[#This Row],[Описание упаковки]],2) -> 50 | Q46: =IF(LEFT(Таблица3[[#This Row],[Лекарственная форма]],7)="Раствор",LEFT(RIGHT(Таблица3[[#This Row],[Описание упаковки]],4),1),IF(LEFT(Таблица3[[#This Row],[Лекарственная форма]],5)="Капли",LEFT(RIGHT(Таблица3[[#This Row],[Описание упаковки]],4)),1)) -> 1 | R46: =ROUNDDOWN(Таблица3[[#This Row],[1 Цена за уп без НДС]]/Таблица3[[#This Row],[1 Кол-во шт в уп]]/Таблица3[[#This Row],[1 Объем катриджа]],2) -> 9.09 | S46: 501 | T46: 0.1 | U46: =Таблица3[[#This Row],[2 Цена за уп с НДС]]-(Таблица3[[#This Row],[2 Цена за уп с НДС]]*(1-1/(1+T46))) -> 455.45455 | V46: =Таблица3[[#This Row],[1 Кол-во шт в уп]] -> 50 | W46: =Таблица3[[#This Row],[1 Объем катриджа]] -> 1 | X46: =ROUNDDOWN(Таблица3[[#This Row],[2 Цена за уп без НДС и Оптовой над.]]/Таблица3[[#This Row],[2 Кол-во шт в уп]]/Таблица3[[#This Row],[2 Объем катриджа]],2) -> 9.1 | Y46: 502.5 | Z46: 0.1 | AA46: =Таблица3[[#This Row],[3 Цена за уп с НДС]]-(Таблица3[[#This Row],[3 Цена за уп с НДС]]*(1-1/(1+Z46))) -> 456.81818 | AB46: =Таблица3[[#This Row],[1 Кол-во шт в уп]] -> 50 | AC46: =Таблица3[[#This Row],[1 Объем катриджа]] -> 1 | AD46: =ROUNDDOWN(Таблица3[[#This Row],[3 Цена за уп без НДС и Оптовой над.]]/Таблица3[[#This Row],[3 Кол-во шт в уп]]/Таблица3[[#This Row],[3 Объем катриджа]],2) -> 9.13 | AE46: =ROUND(MIN(Таблица3[[#This Row],[1 Цена за единицу без НДС]],Таблица3[[#This Row],[2 Цена за единицу без НДС]],Таблица3[[#This Row],[3 Цена за единицу без НДС]]),2) -> 9.09 | AF46: =VLOOKUP(Таблица3[[#This Row],[№ п/п]],'Спецификация 25'!$1:$1048576,10,0) -> 3 | AG46: =Таблица3[[#This Row],[1 Кол-во шт в уп]] -> 50 | AH46: =Таблица3[[#This Row],[1 Объем катриджа]] -> 1 | AI46: =Таблица3[[#This Row],[Кол-во Упак]]*Таблица3[[#This Row],[Объем]]*Таблица3[[#This Row],[Кол-во шт в уп]] -> 150 | AJ46: =STDEV(Таблица3[[#This Row],[1 Цена за единицу без НДС]],Таблица3[[#This Row],[2 Цена за единицу без НДС]],Таблица3[[#This Row],[3 Цена за единицу без НДС]])/Таблица3[[#This Row],[Цена за единицу, руб. ]] -> 0.0022900616 | AK46: =Таблица3[[#This Row],[Цена за единицу, руб. ]]*Таблица3[[#This Row],[Кол-во ЛП (мл/шт)]] -> 1363.5 | AL46: =ROUND((Таблица3[[#This Row],[Цена за единицу, руб. ]]+Таблица3[[#This Row],[Цена за единицу, руб. ]]*10%),2)*Таблица3[[#This Row],[Кол-во ЛП (мл/шт)]] -> 1500
A47: 40 | B47: 35 | D47: нет | F47: =VLOOKUP(Таблица3[[#This Row],[№ п/п]],'Спецификация 25'!$1:$1048576,2,0) -> Гепариновая мазь 25 г | G47: =VLOOKUP(Таблица3[[#This Row],[№ п/п]],'Спецификация 25'!$1:$1048576,3,0) -> ГЕПАРИН НАТРИЯ+БЕНЗОКАИН+БЕНЗИЛНИКОТИНАТ | H47: =VLOOKUP(Таблица3[[#This Row],[№ п/п]],'Спецификация 25'!$1:$1048576,7,0) -> Мазь для наружного применения | I47: {=IFERROR(INDEX('Спецификация 25'!$G$2:$G$160,MATCH(Таблица3[[#This Row],[№ п/п]]&Таблица3[[#Headers],[Дозировка]],'Спецификация 25'!$A$2:$A$160&'Спецификация 25'!$F$2:$F$160,0)),"нет")} -> 100 ЕД+40 мг+0.8 мг/г | J47: {=IFERROR(INDEX('Спецификация 25'!$G$2:$G$160,MATCH(Таблица3[[#This Row],[№ п/п]]&Таблица3[[#Headers],[Первичная упаковка]],'Спецификация 25'!$A$2:$A$160&'Спецификация 25'!$F$2:$F$160,0)),"нет")} -> Туба | K47: {=IFERROR(INDEX('Спецификация 25'!$G$2:$G$160,MATCH(Таблица3[[#This Row],[№ п/п]]&Таблица3[[#Headers],[Описание упаковки]],'Спецификация 25'!$A$2:$A$160&'Спецификация 25'!$F$2:$F$160,0)),"")} -> 25 г | L47: =VLOOKUP(Таблица3[[#This Row],[№ п/п]],'Спецификация 25'!$1:$1048576,8,0) -> г | M47: 114 | N47: 0.1 | O47: =Таблица3[[#This Row],[1 Цена за уп с НДС]]-Таблица3[[#This Row],[1 Цена за уп с НДС]]*(1-1/(1+N47)) -> 103.63636 | P47: =LEFT(Таблица3[[#This Row],[Описание упаковки]],2) -> 25 | Q47: =IF(LEFT(Таблица3[[#This Row],[Лекарственная форма]],7)="Раствор",LEFT(RIGHT(Таблица3[[#This Row],[Описание упаковки]],4),1),IF(LEFT(Таблица3[[#This Row],[Лекарственная форма]],5)="Капли",LEFT(RIGHT(Таблица3[[#This Row],[Описание упаковки]],4)),1)) -> 1 | R47: =ROUNDDOWN(Таблица3[[#This Row],[1 Цена за уп без НДС]]/Таблица3[[#This Row],[1 Кол-во шт в уп]]/Таблица3[[#This Row],[1 Объем катриджа]],2) -> 4.14 | S47: 115 | T47: 0.1 | U47: =Таблица3[[#This Row],[2 Цена за уп с НДС]]-(Таблица3[[#This Row],[2 Цена за уп с НДС]]*(1-1/(1+T47))) -> 104.54545 | V47: =Таблица3[[#This Row],[1 Кол-во шт в уп]] -> 25 | W47: =Таблица3[[#This Row],[1 Объем катриджа]] -> 1 | X47: =ROUNDDOWN(Таблица3[[#This Row],[2 Цена за уп без НДС и Оптовой над.]]/Таблица3[[#This Row],[2 Кол-во шт в уп]]/Таблица3[[#This Row],[2 Объем катриджа]],2) -> 4.18 | Y47: 115.35 | Z47: 0.1 | AA47: =Таблица3[[#This Row],[3 Цена за уп с НДС]]-(Таблица3[[#This Row],[3 Цена за уп с НДС]]*(1-1/(1+Z47))) -> 104.86364 | AB47: =Таблица3[[#This Row],[1 Кол-во шт в уп]] -> 25 | AC47: =Таблица3[[#This Row],[1 Объем катриджа]] -> 1 | AD47: =ROUNDDOWN(Таблица3[[#This Row],[3 Цена за уп без НДС и Оптовой над.]]/Таблица3[[#This Row],[3 Кол-во шт в уп]]/Таблица3[[#This Row],[3 Объем катриджа]],2) -> 4.19 | AE47: =ROUND(MIN(Таблица3[[#This Row],[1 Цена за единицу без НДС]],Таблица3[[#This Row],[2 Цена за единицу без НДС]],Таблица3[[#This Row],[3 Цена за единицу без НДС]]),2) -> 4.14 | AF47: =VLOOKUP(Таблица3[[#This Row],[№ п/п]],'Спецификация 25'!$1:$1048576,10,0) -> 2 | AG47: =Таблица3[[#This Row],[1 Кол-во шт в уп]] -> 25 | AH47: =Таблица3[[#This Row],[1 Объем катриджа]] -> 1 | AI47: =Таблица3[[#This Row],[Кол-во Упак]]*Таблица3[[#This Row],[Объем]]*Таблица3[[#This Row],[Кол-во шт в уп]] -> 50 | AJ47: =STDEV(Таблица3[[#This Row],[1 Цена за единицу без НДС]],Таблица3[[#This Row],[2 Цена за единицу без НДС]],Таблица3[[#This Row],[3 Цена за единицу без НДС]])/Таблица3[[#This Row],[Цена за единицу, руб. ]] -> 0.0063907036 | AK47: =Таблица3[[#This Row],[Цена за единицу, руб. ]]*Таблица3[[#This Row],[Кол-во ЛП (мл/шт)]] -> 207 | AL47: =ROUND((Таблица3[[#This Row],[Цена за единицу, руб. ]]+Таблица3[[#This Row],[Цена за единицу, руб. ]]*10%),2)*Таблица3[[#This Row],[Кол-во ЛП (мл/шт)]] -> 227.5
A48: 41 | B48: 36 | D48: да | F48: =VLOOKUP(Таблица3[[#This Row],[№ п/п]],'Спецификация 25'!$1:$1048576,2,0) -> Витамин А 3.44% 10 мл | G48: =VLOOKUP(Таблица3[[#This Row],[№ п/п]],'Спецификация 25'!$1:$1048576,3,0) -> РЕТИНОЛ | H48: =VLOOKUP(Таблица3[[#This Row],[№ п/п]],'Спецификация 25'!$1:$1048576,7,0) -> Раствор для приема внутрь и наружного применения | I48: {=IFERROR(INDEX('Спецификация 25'!$G$2:$G$160,MATCH(Таблица3[[#This Row],[№ п/п]]&Таблица3[[#Headers],[Дозировка]],'Спецификация 25'!$A$2:$A$160&'Спецификация 25'!$F$2:$F$160,0)),"нет")} -> 34.4 мг/мл | J48: {=IFERROR(INDEX('Спецификация 25'!$G$2:$G$160,MATCH(Таблица3[[#This Row],[№ п/п]]&Таблица3[[#Headers],[Первичная упаковка]],'Спецификация 25'!$A$2:$A$160&'Спецификация 25'!$F$2:$F$160,0)),"нет")} -> Флакон | K48: {=IFERROR(INDEX('Спецификация 25'!$G$2:$G$160,MATCH(Таблица3[[#This Row],[№ п/п]]&Таблица3[[#Headers],[Описание упаковки]],'Спецификация 25'!$A$2:$A$160&'Спецификация 25'!$F$2:$F$160,0)),"")} -> 10 мл. | L48: =VLOOKUP(Таблица3[[#This Row],[№ п/п]],'Спецификация 25'!$1:$1048576,8,0) -> мл | M48: 106.38 | N48: 0.1 | O48: =Таблица3[[#This Row],[1 Цена за уп с НДС]]-Таблица3[[#This Row],[1 Цена за уп с НДС]]*(1-1/(1+N48)) -> 96.709091 | P48: =LEFT(Таблица3[[#This Row],[Описание упаковки]],2) -> 10 | Q48: =IF(LEFT(Таблица3[[#This Row],[Лекарственная форма]],7)="Раствор",LEFT(RIGHT(Таблица3[[#This Row],[Описание упаковки]],4),1),IF(LEFT(Таблица3[[#This Row],[Лекарственная форма]],5)="Капли",LEFT(RIGHT(Таблица3[[#This Row],[Описание упаковки]],4)),1)) -> 1 | R48: =ROUNDDOWN(Таблица3[[#This Row],[1 Цена за уп без НДС]]/Таблица3[[#This Row],[1 Кол-во шт в уп]]/Таблица3[[#This Row],[1 Объем катриджа]],2) -> 9.67 | S48: 106.39 | T48: 0.1 | U48: =Таблица3[[#This Row],[2 Цена за уп с НДС]]-(Таблица3[[#This Row],[2 Цена за уп с НДС]]*(1-1/(1+T48))) -> 96.718182 | V48: =Таблица3[[#This Row],[1 Кол-во шт в уп]] -> 10 | W48: =Таблица3[[#This Row],[1 Объем катриджа]] -> 1 | X48: =ROUNDDOWN(Таблица3[[#This Row],[2 Цена за уп без НДС и Оптовой над.]]/Таблица3[[#This Row],[2 Кол-во шт в уп]]/Таблица3[[#This Row],[2 Объем катриджа]],2) -> 9.67 | Y48: 106.71 | Z48: 0.1 | AA48: =Таблица3[[#This Row],[3 Цена за уп с НДС]]-(Таблица3[[#This Row],[3 Цена за уп с НДС]]*(1-1/(1+Z48))) -> 97.009091 | AB48: =Таблица3[[#This Row],[1 Кол-во шт в уп]] -> 10 | AC48: =Таблица3[[#This Row],[1 Объем катриджа]] -> 1 | AD48: =ROUNDDOWN(Таблица3[[#This Row],[3 Цена за уп без НДС и Оптовой над.]]/Таблица3[[#This Row],[3 Кол-во шт в уп]]/Таблица3[[#This Row],[3 Объем катриджа]],2) -> 9.7 | AE48: =ROUND(MIN(Таблица3[[#This Row],[1 Цена за единицу без НДС]],Таблица3[[#This Row],[2 Цена за единицу без НДС]],Таблица3[[#This Row],[3 Цена за единицу без НДС]]),2) -> 9.67 | AF48: =VLOOKUP(Таблица3[[#This Row],[№ п/п]],'Спецификация 25'!$1:$1048576,10,0) -> 4 | AG48: =Таблица3[[#This Row],[1 Кол-во шт в уп]] -> 10 | AH48: =Таблица3[[#This Row],[1 Объем катриджа]] -> 1 | AI48: =Таблица3[[#This Row],[Кол-во Упак]]*Таблица3[[#This Row],[Объем]]*Таблица3[[#This Row],[Кол-во шт в уп]] -> 40 | AJ48: =STDEV(Таблица3[[#This Row],[1 Цена за единицу без НДС]],Таблица3[[#This Row],[2 Цена за единицу без НДС]],Таблица3[[#This Row],[3 Цена за единицу без НДС]])/Таблица3[[#This Row],[Цена за единицу, руб. ]] -> 0.0017911591 | AK48: =Таблица3[[#This Row],[Цена за единицу, руб. ]]*Таблица3[[#This Row],[Кол-во ЛП (мл/шт)]] -> 386.8 | AL48: =ROUND((Таблица3[[#This Row],[Цена за единицу, руб. ]]+Таблица3[[#This Row],[Цена за единицу, руб. ]]*10%),2)*Таблица3[[#This Row],[Кол-во ЛП (мл/шт)]] -> 425.6
