Workbook

Sheet НДС
B1: НДС | C1: =H37 -> 96528.1 | D1: руб. | E1: =C1-C2 -> 87752.818 | I1: 50 | L1: 0 | M1: =SUMIF(ИТОГ!$M$8:$M$45,L1,ИТОГ!$J$8:$J$45) -> 38505.7
B2: 0.1 | C2: =C1*B2/(1+B2) -> 8775.2818 | I2: 1.8 | L2: 8 | M2: =SUMIF(ИТОГ!$M$8:$M$45,L2,ИТОГ!$J$8:$J$45) -> 79762.1
B3: 0.2 | C3: =C1*B3/(1+B3) -> 16088.017 | L3: Итого | M3: =SUM(M1:M2) -> 118267.8
B4: Обеспеч | C4: 16909.38 | D4: =C4*1.5 -> 25364.07
B5: без НДС | C5: размер НДС | D5: итого | E5: Количество | F5: без НДС | G5: размер НДС | H5: итого | I5: Упаковок | J5: НДС
A6: 1 | B6: =D6-C6 -> 5.54 | C6: =ROUND(D6*$B$2/(1+$B$2),2) -> 0.55 | D6: 6.09 | E6: 200 | F6: =H6-G6 -> 1107.27 | G6: =ROUND(H6*$J6/(1+$J6),2) -> 110.73 | H6: =D6*E6 -> 1218 | I6: =E6/$I$2/$I$1 -> 2.2222222 | J6: 0.1
A7: 2 | B7: =D7-C7 -> 5.64 | C7: =ROUND(D7*$B$2/(1+$B$2),2) -> 0.56 | D7: 6.2 | E7: 200 | F7: =H7-G7 -> 1127.27 | G7: =ROUND(H7*$J7/(1+$J7),2) -> 112.73 | H7: =D7*E7 -> 1240 | I7: =E7/$I$2/$I$1 -> 2.2222222 | J7: 0.1
A8: 3 | B8: =D8-C8 -> 6.81 | C8: =ROUND(D8*$B$2/(1+$B$2),2) -> 0.68 | D8: 7.49 | E8: 50 | F8: =H8-G8 -> 340.45 | G8: =ROUND(H8*$J8/(1+$J8),2) -> 34.05 | H8: =D8*E8 -> 374.5 | I8: =E8/$I$2/$I$1 -> 0.55555556 | J8: 0.1
A9: 4 | B9: =D9-C9 -> 4.09 | C9: =ROUND(D9*$B$2/(1+$B$2),2) -> 0.41 | D9: 4.5 | E9: 80 | F9: =H9-G9 -> 327.27 | G9: =ROUND(H9*$J9/(1+$J9),2) -> 32.73 | H9: =D9*E9 -> 360 | I9: =E9/$I$2/$I$1 -> 0.88888889 | J9: 0.1
A10: 5 | B10: =D10-C10 -> 17.27 | C10: =ROUND(D10*$B$2/(1+$B$2),2) -> 1.73 | D10: 19 | E10: 50 | F10: =H10-G10 -> 863.64 | G10: =ROUND(H10*$J10/(1+$J10),2) -> 86.36 | H10: =D10*E10 -> 950 | I10: =E10/$I$2/$I$1 -> 0.55555556 | J10: 0.1
A11: 6 | B11: =D11-C11 -> 20 | C11: =ROUND(D11*$B$2/(1+$B$2),2) -> 2 | D11: 22 | E11: 1150 | F11: =H11-G11 -> 23000 | G11: =ROUND(H11*$J11/(1+$J11),2) -> 2300 | H11: =D11*E11 -> 25300 | I11: =E11/$I$2/$I$1 -> 12.777778 | J11: 0.1
A12: 7 | B12: =D12-C12 -> 2.82 | C12: =ROUND(D12*$B$2/(1+$B$2),2) -> 0.28 | D12: 3.1 | E12: 120 | F12: =H12-G12 -> 338.18 | G12: =ROUND(H12*$J12/(1+$J12),2) -> 33.82 | H12: =D12*E12 -> 372 | I12: =E12/$I$2/$I$1 -> 1.3333333 | J12: 0.1
A13: 8 | B13: =D13-C13 -> 1.33 | C13: =ROUND(D13*$B$2/(1+$B$2),2) -> 0.13 | D13: 1.46 | E13: 150 | F13: =H13-G13 -> 199.09 | G13: =ROUND(H13*$J13/(1+$J13),2) -> 19.91 | H13: =D13*E13 -> 219 | I13: =E13/$I$2/$I$1 -> 1.6666667 | J13: 0.1
A14: 9 | B14: =D14-C14 -> 2.98 | C14: =ROUND(D14*$B$2/(1+$B$2),2) -> 0.3 | D14: 3.28 | E14: 500 | F14: =H14-G14 -> 1490.91 | G14: =ROUND(H14*$J14/(1+$J14),2) -> 149.09 | H14: =D14*E14 -> 1640 | I14: =E14/$I$2/$I$1 -> 5.5555556 | J14: 0.1
A15: 10 | B15: =D15-C15 -> 2.87 | C15: =ROUND(D15*$B$2/(1+$B$2),2) -> 0.29 | D15: 3.16 | E15: 500 | F15: =H15-G15 -> 1436.36 | G15: =ROUND(H15*$J15/(1+$J15),2) -> 143.64 | H15: =D15*E15 -> 1580 | I15: =E15/$I$2/$I$1 -> 5.5555556 | J15: 0.1
A16: 11 | B16: =D16-C16 -> 1.32 | C16: =ROUND(D16*$B$2/(1+$B$2),2) -> 0.13 | D16: 1.45 | E16: 200 | F16: =H16-G16 -> 263.64 | G16: =ROUND(H16*$J16/(1+$J16),2) -> 26.36 | H16: =D16*E16 -> 290 | I16: =E16/$I$2/$I$1 -> 2.2222222 | J16: 0.1
A17: 12 | B17: =D17-C17 -> 5.45 | C17: =ROUND(D17*$B$2/(1+$B$2),2) -> 0.55 | D17: 6 | E17: 100 | F17: =H17-G17 -> 545.45 | G17: =ROUND(H17*$J17/(1+$J17),2) -> 54.55 | H17: =D17*E17 -> 600 | I17: =E17/$I$2/$I$1 -> 1.1111111 | J17: 0.1
... A36: 31 | B36: =D36-C36 -> 7.72 | C36: =ROUND(D36*$B$2/(1+$B$2),2) -> 0.77 | D36: 8.49 | E36: 100 | F36: =H36-G36 -> 771.82 | G36: =ROUND(H36*$J36/(1+$J36),2) -> 77.18 | H36: =D36*E36 -> 849 | I36: =E36/$I$2/$I$1 -> 1.1111111 | J36: 0.1
C37: =D37*$B$2/(1+$B$2) -> 0 | E37: =SUM(E6:E36) -> 100030 | F37: =SUM(F6:F36) -> 87752.8 | G37: =SUM(G6:G36) -> 8775.3 | H37: =SUM(H6:H36) -> 96528.1 | I37: =SUM(I6:I36) -> 1111.4444 | J37: 0.1 | K37: =H37*$J$37/(1+$J$37) -> 8775.2818
H38: =[1]Лист1!J31 -> 173770
H39: =H37-F37 -> 8775.3

Sheet ИТОГ
C1: Расчет НМЦК осуществляется в соответствии с пунктом 9 Порядка по формуле:
C3: n - количество поставляемых лекарственных препаратов;
C4: Цi - цена единицы i-го лекарственного препарата с учетом НДС и оптовой надбавки*
C5: Vi - объем поставки i-го лекарственного препарата.
C6: * | D6: В соотвествии с п. 10 приказа № 1064н оптовая надбавка не применяется
B7: № | D7: Международное непатентованное наименование или химическое, группировочное наименование лекарственного препарата | E7: Цена единицы лекарственного препарата, руб. | F7: НДС 10% | G7: Цена единицы лекарственного препарата с учетом НДС и оптовой надбавки*, руб. | H7: Единица измерения | I7: Объем поставки лекарственного препарата (ед. изм.) | J7: НМЦК, руб. | K7: Код узла СМНН | L7: ОКПД | M7: Омс/пд
B8: 1 | C8: 1 | D8: =VLOOKUP($B8,'Свод '!$B$4:$G$160,3,0) -> Папаверина гидрохлорид 2 % 2 мл №10 | E8: =VLOOKUP($B8,'Свод '!$B$4:$G$160,6,0) -> 6.68 | F8: =ROUND(E8*10%,2) -> 0.67 | G8: =ROUND(E8+F8,2) -> 7.35 | H8: =VLOOKUP(B8,'Анализ рынка'!$1:$1048576,12,0) -> мл | I8: =VLOOKUP(B8,'Анализ рынка'!$1:$1048576,35,0) -> 200 | J8: =G8*I8 -> 1470 | K8: 7.35 | L8: =VLOOKUP($B8,'Спецификация 25'!$A:$J,4,0) -> 21.20.10.113 | M8: 8 | N8: Лекарственная форма: раствор для инъекций. Дозировка: 20 мг/мл. Первичная упаковка: Ампула Описание упаковки: 10 амп. по 2 мл
B9: 2 | C9: 2 | D9: =VLOOKUP($B9,'Свод '!$B$4:$G$160,3,0) -> Анальгин 50 % 2 мл №10 | E9: =VLOOKUP($B9,'Свод '!$B$4:$G$160,6,0) -> 5.14 | F9: =ROUND(E9*10%,2) -> 0.51 | G9: =ROUND(E9+F9,2) -> 5.65 | H9: =VLOOKUP(B9,'Анализ рынка'!$1:$1048576,12,0) -> мл | I9: =VLOOKUP(B9,'Анализ рынка'!$1:$1048576,35,0) -> 100 | J9: =G9*I9 -> 565 | K9: 5.65 | L9: =VLOOKUP($B9,'Спецификация 25'!$A:$J,4,0) -> 21.20.10.232 | M9: 8 | N9: Лекарственная форма: раствор для внутривенного и внутримышечного введения. Дозировка: 500 мг/мл. (Метамизол натрия) Первичная упаковка: Ампула. Описание упаковки: 10 амп. по 2 мл.
B10: 3 | C10: 3 | D10: =VLOOKUP($B10,'Свод '!$B$4:$G$160,3,0) -> Дибазол 1% 1 мл №10 | E10: =VLOOKUP($B10,'Свод '!$B$4:$G$160,6,0) -> 7.63 | F10: =ROUND(E10*10%,2) -> 0.76 | G10: =ROUND(E10+F10,2) -> 8.39 | H10: =VLOOKUP(B10,'Анализ рынка'!$1:$1048576,12,0) -> мл | I10: =VLOOKUP(B10,'Анализ рынка'!$1:$1048576,35,0) -> 70 | J10: =G10*I10 -> 587.3 | K10: 8.39 | L10: =VLOOKUP($B10,'Спецификация 25'!$A:$J,4,0) -> 21.20.10.144 | M10: 8 | N10: Лекарственная форма: раствор для внутривенного и внутримышечного введения. Дозировка: 10 мг/мл (Бендазол); Первичная упаковка: Ампула. Описание упаковки: 10 амп. по 1 мл
B11: 4 | C11: 4 | D11: =VLOOKUP($B11,'Свод '!$B$4:$G$160,3,0) -> Димедрол 1% 1 мл №10 | E11: =VLOOKUP($B11,'Свод '!$B$4:$G$160,6,0) -> 6.36 | F11: =ROUND(E11*10%,2) -> 0.64 | G11: =ROUND(E11+F11,2) -> 7 | H11: =VLOOKUP(B11,'Анализ рынка'!$1:$1048576,12,0) -> мл | I11: =VLOOKUP(B11,'Анализ рынка'!$1:$1048576,35,0) -> 50 | J11: =G11*I11 -> 350 | K11: 7 | L11: =VLOOKUP($B11,'Спецификация 25'!$A:$J,4,0) -> 21.20.10.256 | M11: 8 | N11: Лекарственная форма: раствор для внутривенного и внутримышечного введения. Дозировка: 10 мг/мл (Дифенгидрамин); Первичная упаковка: Ампула. Описание упаковки: 10 амп. по 1 мл
B12: 6 | C12: 5 | D12: =VLOOKUP($B12,'Свод '!$B$4:$G$160,3,0) -> Адреналина гидрохлорид 0,1% 1 мл №5 | E12: =VLOOKUP($B12,'Свод '!$B$4:$G$160,6,0) -> 23.54 | F12: =ROUND(E12*10%,2) -> 2.35 | G12: =ROUND(E12+F12,2) -> 25.89 | H12: =VLOOKUP(B12,'Анализ рынка'!$1:$1048576,12,0) -> мл | I12: =VLOOKUP(B12,'Анализ рынка'!$1:$1048576,35,0) -> 1150 | J12: =G12*I12 -> 29773.5 | K12: 9.58 | L12: =VLOOKUP($B12,'Спецификация 25'!$A:$J,4,0) -> 21.20.10.141 | M12: 8 | N12: Лекарственная форма: Раствор для инъекций. Дозировка: 1 мг/мл. (Эпинефрин) Первичная упаковка: Ампула. Описание упаковки: 5 амп. по 1 мл
B13: 7 | C13: 6 | D13: =VLOOKUP($B13,'Свод '!$B$4:$G$160,3,0) -> Фуросемид 1% 2 мл 10 | E13: =VLOOKUP($B13,'Свод '!$B$4:$G$160,6,0) -> 3.95 | F13: =ROUND(E13*10%,2) -> 0.4 | G13: =ROUND(E13+F13,2) -> 4.35 | H13: =VLOOKUP(B13,'Анализ рынка'!$1:$1048576,12,0) -> мл | I13: =VLOOKUP(B13,'Анализ рынка'!$1:$1048576,35,0) -> 120 | J13: =G13*I13 -> 522 | K13: 0.79 | L13: =VLOOKUP($B13,'Спецификация 25'!$A:$J,4,0) -> 21.20.10.143 | M13: 8 | N13: Лекарственная форма: Раствор для внутривенного и внутримышечного введения. Дозировка: 10 мг/мл. Первичная упаковка: Ампула. Описание упаковки: 10 амп. по 2 мл
B14: 8 | C14: 7 | D14: =VLOOKUP($B14,'Свод '!$B$4:$G$160,3,0) -> Эуфиллин 2,4% 5 мл №10 | E14: =VLOOKUP($B14,'Свод '!$B$4:$G$160,6,0) -> 1.81 | F14: =ROUND(E14*10%,2) -> 0.18 | G14: =ROUND(E14+F14,2) -> 1.99 | H14: =VLOOKUP(B14,'Анализ рынка'!$1:$1048576,12,0) -> мл | I14: =VLOOKUP(B14,'Анализ рынка'!$1:$1048576,35,0) -> 300 | J14: =G14*I14 -> 597 | K14: 0.44 | L14: =VLOOKUP($B14,'Спецификация 25'!$A:$J,4,0) -> 21.20.10.254 | M14: 8 | N14: Лекарственная форма: Раствор для внутривенного введения. Дозировка: 24 мг/мл.(Аминофиллин) Первичная упаковка: Ампула. Описание упаковки: 10 амп. по 5 мл
B15: 9 | C15: 8 | D15: =VLOOKUP($B15,'Свод '!$B$4:$G$160,3,0) -> Пустырника настойка 25 мл | E15: =VLOOKUP($B15,'Свод '!$B$4:$G$160,6,0) -> 1.8 | F15: =ROUND(E15*10%,2) -> 0.18 | G15: =ROUND(E15+F15,2) -> 1.98 | H15: =VLOOKUP(B15,'Анализ рынка'!$1:$1048576,12,0) -> мл | I15: =VLOOKUP(B15,'Анализ рынка'!$1:$1048576,35,0) -> 500 | J15: =G15*I15 -> 990 | K15: 1.98 | L15: =VLOOKUP($B15,'Спецификация 25'!$A:$J,4,0) -> 21.20.10.235 | M15: 8 | N15: Лекарственная форма: Настойка. Первичная упаковка: Флакон. Объем: 25 мл.
B16: 10 | C16: 9 | D16: =VLOOKUP($B16,'Свод '!$B$4:$G$160,3,0) -> Валерианы настойка 25 мл | E16: =VLOOKUP($B16,'Свод '!$B$4:$G$160,6,0) -> 2.54 | F16: =ROUND(E16*10%,2) -> 0.25 | G16: =ROUND(E16+F16,2) -> 2.79 | H16: =VLOOKUP(B16,'Анализ рынка'!$1:$1048576,12,0) -> мл | I16: =VLOOKUP(B16,'Анализ рынка'!$1:$1048576,35,0) -> 500 | J16: =G16*I16 -> 1395 | K16: 2.79 | L16: =VLOOKUP($B16,'Спецификация 25'!$A:$J,4,0) -> 21.20.10.235 | M16: 8 | N16: Лекарственная форма: Настойка. Первичная упаковка: Флакон. Объем: 25 мл.
B17: 12 | C17: 10 | D17: =VLOOKUP($B17,'Свод '!$B$4:$G$160,3,0) -> Андипал 20 мг+250 мг+20 мг+ 20 мг №10 | E17: =VLOOKUP($B17,'Свод '!$B$4:$G$160,6,0) -> 4.18 | F17: =ROUND(E17*10%,2) -> 0.42 | G17: =ROUND(E17+F17,2) -> 4.6 | H17: =VLOOKUP(B17,'Анализ рынка'!$1:$1048576,12,0) -> шт | I17: =VLOOKUP(B17,'Анализ рынка'!$1:$1048576,35,0) -> 100 | J17: =G17*I17 -> 460 | K17: 4.6 | L17: =VLOOKUP($B17,'Спецификация 25'!$A:$J,4,0) -> 21.20.10.232 | M17: 8 | N17: Лекарственная форма: таблетки. Дозировка: 20 мг+250 мг+20 мг + 20 мг.(Бендазол + Метамизол натрия + Папаверин + Фенобарбитал) Описание упаковки: 10 шт
B18: 13 | C18: 11 | D18: =VLOOKUP($B18,'Свод '!$B$4:$G$160,3,0) -> Валидол 60 мг №10 | E18: =VLOOKUP($B18,'Свод '!$B$4:$G$160,6,0) -> 2.18 | F18: =ROUND(E18*10%,2) -> 0.22 | G18: =ROUND(E18+F18,2) -> 2.4 | H18: =VLOOKUP(B18,'Анализ рынка'!$1:$1048576,12,0) -> шт | I18: =VLOOKUP(B18,'Анализ рынка'!$1:$1048576,35,0) -> 100 | J18: =G18*I18 -> 240 | K18: 2.4 | L18: =VLOOKUP($B18,'Спецификация 25'!$A:$J,4,0) -> 21.20.10.141 | M18: 8 | N18: Лекарственная форма: таблетки подъязычные. Дозировка: 60 мг (Левоментола раствор в ментил изовалерате) Описание упаковки: 10 шт.
B19: 14 | C19: 12 | D19: =VLOOKUP($B19,'Свод '!$B$4:$G$160,3,0) -> Капотен 25 мг №40 | E19: =VLOOKUP($B19,'Свод '!$B$4:$G$160,6,0) -> 6.62 | F19: =ROUND(E19*10%,2) -> 0.66 | G19: =ROUND(E19+F19,2) -> 7.28 | H19: =VLOOKUP(B19,'Анализ рынка'!$1:$1048576,12,0) -> шт | I19: =VLOOKUP(B19,'Анализ рынка'!$1:$1048576,35,0) -> 120 | J19: =G19*I19 -> 873.6 | K19: 6.51 | L19: =VLOOKUP($B19,'Спецификация 25'!$A:$J,4,0) -> 21.20.10.148 | M19: 8 | N19: Лекарственная форма: Таблетки. Дозировка: 25 мг (Каптоприл). Описание упаковки: 40 шт
... B45: 43 | C45: 38 | D45: =VLOOKUP($B45,'Свод '!$B$4:$G$160,3,0) -> Супрастин 25 мг № 20 | E45: =VLOOKUP($B45,'Свод '!$B$4:$G$160,6,0) -> 6.4 | F45: =ROUND(E45*10%,2) -> 0.64 | G45: =ROUND(E45+F45,2) -> 7.04 | H45: =VLOOKUP(B45,'Анализ рынка'!$1:$1048576,12,0) -> шт | I45: =VLOOKUP(B45,'Анализ рынка'!$1:$1048576,35,0) -> 120 | J45: =G45*I45 -> 844.8 | K45: 6.29 | L45: =VLOOKUP($B45,'Спецификация 25'!$A:$J,4,0) -> 21.20.10.256 | M45: 8 | N45: Лекарственная форма: Таблетки Дозировка: 25 мг (ХЛОРОПИРАМИН) Описание упаковки: 20 шт.
B46: ИТОГО: | J46: =SUM(J8:J45) -> 118267.8

Sheet Свод 
D1: Сводная информация о значениях цен за единицу планируемого к закупке лекарственного препарата, определенных в соответствии с пунктом 2 Порядка:
A2: - | B2: 1 | C2: 2 | D2: 3 | E2: 4 | F2: 5 | G2: 8 | H2: 9
B3: № расчета | C3: № п/п | D3: Торговое наименование | E3: Метод определения цены единицы лекарственного препарата | F3: Цена единицы планируемого к закупке ЛП, определенная в соответствии с пунктом 2 Порядка (руб.) | G3: Минимальное значение цены из минимальных цен, рассчитанных с одновременным применением методов, предусмотренных пунктом 2 Порядка с учетом оптовой надбавки (руб.) | H3: 2
B4: ='Анализ рынка'!A8 -> 1 | C4: 1 | D4: =VLOOKUP(B4,'Анализ рынка'!$A$8:$AL$50,6,0) -> Папаверина гидрохлорид 2 % 2 мл №10 | E4: Метод сопоставимых рыночных цен (анализа рынка) | F4: =VLOOKUP(B4,'Анализ рынка'!$A:$AL,31,0) -> 6.68 | G4: =IFERROR(IFERROR(IFERROR(SMALL(F4:F7,$H$3),SMALL(F4:F7,2)),SMALL(F4:F7,2)),SMALL(F4:F7,1)) -> 6.68
E5: Тарифный метод | F5: =VLOOKUP(B4,'Тарифный метод'!$A$4:$L$46,11,0) -> Не ЖНВЛП
E6: Расчет средневзвешенной цены | F6: =VLOOKUP(B4,'Средневзвешенная цена'!$D$6:$P$36,9,0) -> нет
E7: Референтная цена | F7: отсутствует
B8: 2 | C8: 2 | D8: =VLOOKUP(B8,'Анализ рынка'!$A$8:$AL$50,6,0) -> Анальгин 50 % 2 мл №10 | E8: Метод сопоставимых рыночных цен (анализа рынка) | F8: =VLOOKUP(B8,'Анализ рынка'!$A:$AL,31,0) -> 5.14 | G8: =IFERROR(IFERROR(IFERROR(SMALL(F8:F11,$H$3),SMALL(F8:F11,2)),SMALL(F8:F11,2)),SMALL(F8:F11,1)) -> 5.14
E9: Тарифный метод | F9: =VLOOKUP(B8,'Тарифный метод'!$A$4:$L$46,11,0) -> Не ЖНВЛП
E10: Расчет средневзвешенной цены | F10: =VLOOKUP(B8,'Средневзвешенная цена'!$D$6:$P$36,9,0) -> нет
E11: Референтная цена | F11: отсутствует
B12: 3 | C12: 3 | D12: =VLOOKUP(B12,'Анализ рынка'!$A$8:$AL$50,6,0) -> Дибазол 1% 1 мл №10 | E12: Метод сопоставимых рыночных цен (анализа рынка) | F12: =VLOOKUP(B12,'Анализ рынка'!$A:$AL,31,0) -> 7.63 | G12: =IFERROR(IFERROR(IFERROR(SMALL(F12:F15,$H$3),SMALL(F12:F15,2)),SMALL(F12:F15,2)),SMALL(F12:F15,1)) -> 7.63
E13: Тарифный метод | F13: =VLOOKUP(B12,'Тарифный метод'!$A$4:$L$46,11,0) -> Не ЖНВЛП
E14: Расчет средневзвешенной цены | F14: =VLOOKUP(B12,'Средневзвешенная цена'!$D$6:$P$36,9,0) -> нет
E15: Референтная цена | F15: отсутствует
B16: 4 | C16: 4 | D16: =VLOOKUP(B16,'Анализ рынка'!$A$8:$AL$50,6,0) -> Димедрол 1% 1 мл №10 | E16: Метод сопоставимых рыночных цен (анализа рынка) | F16: =VLOOKUP(B16,'Анализ рынка'!$A:$AL,31,0) -> 6.36 | G16: =IFERROR(IFERROR(IFERROR(SMALL(F16:F19,$H$3),SMALL(F16:F19,2)),SMALL(F16:F19,2)),SMALL(F16:F19,1)) -> 6.36
E17: Тарифный метод | F17: =VLOOKUP(B16,'Тарифный метод'!$A$4:$L$46,11,0) -> Не ЖНВЛП
E18: Расчет средневзвешенной цены | F18: =VLOOKUP(B16,'Средневзвешенная цена'!$D$6:$P$36,9,0) -> нет
E19: Референтная цена | F19: отсутствует
B20: 6 | C20: 5 | D20: =VLOOKUP(B20,'Анализ рынка'!$A$8:$AL$50,6,0) -> Адреналина гидрохлорид 0,1% 1 мл №5 | E20: Метод сопоставимых рыночных цен (анализа рынка) | F20: =VLOOKUP(B20,'Анализ рынка'!$A:$AL,31,0) -> 23.54 | G20: =IFERROR(IFERROR(IFERROR(SMALL(F20:F23,$H$3),SMALL(F20:F23,2)),SMALL(F20:F23,2)),SMALL(F20:F23,1)) -> 23.54
E21: Тарифный метод | F21: =VLOOKUP(B20,'Тарифный метод'!$A$4:$L$46,11,0) -> 8.706
E22: Расчет средневзвешенной цены | F22: =VLOOKUP(B20,'Средневзвешенная цена'!$D$6:$P$36,9,0) -> нет
E23: Референтная цена | F23: отсутствует
B24: 7 | C24: 6 | D24: =VLOOKUP(B24,'Анализ рынка'!$A$8:$AL$50,6,0) -> Фуросемид 1% 2 мл 10 | E24: Метод сопоставимых рыночных цен (анализа рынка) | F24: =VLOOKUP(B24,'Анализ рынка'!$A:$AL,31,0) -> 3.95 | G24: =IFERROR(IFERROR(IFERROR(SMALL(F24:F27,$H$3),SMALL(F24:F27,2)),SMALL(F24:F27,2)),SMALL(F24:F27,1)) -> 3.95
E25: Тарифный метод | F25: =VLOOKUP(B24,'Тарифный метод'!$A$4:$L$46,11,0) -> 0.719
E26: Расчет средневзвешенной цены | F26: =VLOOKUP(B24,'Средневзвешенная цена'!$D$6:$P$36,9,0) -> нет
E27: Референтная цена | F27: отсутствует
B28: 8 | C28: 7 | D28: =VLOOKUP(B28,'Анализ рынка'!$A$8:$AL$50,6,0) -> Эуфиллин 2,4% 5 мл №10 | E28: Метод сопоставимых рыночных цен (анализа рынка) | F28: =VLOOKUP(B28,'Анализ рынка'!$A:$AL,31,0) -> 1.81 | G28: =IFERROR(IFERROR(IFERROR(SMALL(F28:F31,$H$3),SMALL(F28:F31,2)),SMALL(F28:F31,2)),SMALL(F28:F31,1)) -> 1.81
E29: Тарифный метод | F29: =VLOOKUP(B28,'Тарифный метод'!$A$4:$L$46,11,0) -> 0.4042
E30: Расчет средневзвешенной цены | F30: =VLOOKUP(B28,'Средневзвешенная цена'!$D$6:$P$36,9,0) -> нет
E31: Референтная цена | F31: отсутствует
B32: 9 | C32: 8 | D32: =VLOOKUP(B32,'Анализ рынка'!$A$8:$AL$50,6,0) -> Пустырника настойка 25 мл | E32: Метод сопоставимых рыночных цен (анализа рынка) | F32: =VLOOKUP(B32,'Анализ рынка'!$A:$AL,31,0) -> 1.8 | G32: =IFERROR(IFERROR(IFERROR(SMALL(F32:F35,$H$3),SMALL(F32:F35,2)),SMALL(F32:F35,2)),SMALL(F32:F35,1)) -> 1.8
E33: Тарифный метод | F33: =VLOOKUP(B32,'Тарифный метод'!$A$4:$L$46,11,0) -> Не ЖНВЛП
E34: Расчет средневзвешенной цены | F34: =VLOOKUP(B32,'Средневзвешенная цена'!$D$6:$P$36,9,0) -> нет
E35: Референтная цена | F35: отсутствует
B36: 10 | C36: 9 | D36: =VLOOKUP(B36,'Анализ рынка'!$A$8:$AL$50,6,0) -> Валерианы настойка 25 мл | E36: Метод сопоставимых рыночных цен (анализа рынка) | F36: =VLOOKUP(B36,'Анализ рынка'!$A:$AL,31,0) -> 2.54 | G36: =IFERROR(IFERROR(IFERROR(SMALL(F36:F39,$H$3),SMALL(F36:F39,2)),SMALL(F36:F39,2)),SMALL(F36:F39,1)) -> 2.54
E37: Тарифный метод | F37: =VLOOKUP(B36,'Тарифный метод'!$A$4:$L$46,11,0) -> Не ЖНВЛП
E38: Расчет средневзвешенной цены | F38: =VLOOKUP(B36,'Средневзвешенная цена'!$D$6:$P$36,9,0) -> нет
E39: Референтная цена | F39: отсутствует
B40: 12 | C40: 10 | D40: =VLOOKUP(B40,'Анализ рынка'!$A$8:$AL$50,6,0) -> Андипал 20 мг+250 мг+20 мг+ 20 мг №10 | E40: Метод сопоставимых рыночных цен (анализа рынка) | F40: =VLOOKUP(B40,'Анализ рынка'!$A:$AL,31,0) -> 4.18 | G40: =IFERROR(IFERROR(IFERROR(SMALL(F40:F43,$H$3),SMALL(F40:F43,2)),SMALL(F40:F43,2)),SMALL(F40:F43,1)) -> 4.18
...

Sheet Лист1
A1: 2 | B1: 3 | C1: 4 | D1: 5
A3: Наименование товара | B3: Код узла СМНН | C3: ЖНВЛП | D3: Наркотческое средство
A4: Баралгин М р-р для в/в, в/м введ 500 мг/мл (5 амп. по 5 мл) | B4: 21.20.10.232-000011-1-00239-0000000000000 | C4: Нет | D4: Нет
A5: Глюкоза р-р для в/в. введ. 400 мг/мл (10 амп. по 10 мл) | B5: 21.20.10.134-000008-1-00017-0000000000000 | C5: Да | D5: Нет
A6: Преднизолон для в/в, в/м введ 30 мг/мл (10 амп. по 1 мл) | B6: 21.20.10.180-000002-1-00045-0000000000000 | C6: Да | D6: Нет
A7: Папаверина гидрохлорид р-р для инъекций 20 мг/мл (10 амп. по 2 мл) | B7: 21.20.10.113-000006-1-00055-0000000000000 | C7: Нет | D7: Нет
A8: Кордиамин р-р для инъекций 250 мг/мл (10 амп. по 2 мл) | B8: 21.20.10.259-000001-1-00022-0000000000000 | C8: Нет | D8: Нет
A9: Адреналина гидрохлорид р-р для инъекций 1 мг/мл (5 амп. по 1 мл) | B9: 21.20.10.141-000037-1-00041-0000000000000 | C9: Да | D9: Нет
A10: Фуросемид р-р для в/в, в/м введ 10 мг/мл (10 амп. по 2 мл) | B10: 21.20.10.143-000008-1-00036-0000000000000 | C10: Да | D10: Нет
A11: Анальгин р-р для в/в, в/м введ 500 мг/мл (10 амп. по 2 мл) | B11: 21.20.10.232-000011-1-00239-0000000000000 | C11: Нет | D11: Нет
A12: Эуфиллин р-р для в/в. введ. 24 мг/мл (10 амп. по 5 мл) | B12: 21.20.10.254-000008-1-00068-0000000000000 | C12: Да | D12: Нет
A13: Метилурацил мазь 10%, 25 г | B13: 21.20.10.169-000004-1-00059-0000000000000 | C13: Нет | D13: Нет
A14: Пустырника настойка, 25 мл | B14: 21.20.10.235-000106-1-00191-0000000000000 | C14: Нет | D14: Нет
... A31: Йод | B31: 21.20.10.158-000006-1-00072-0000000000000 | C31: Нет | D31: Нет
A32: Спирт этиловый 70% - 100 мл. | C32: Да | D32: Нет
A33: Спирт этиловый 95% - 100 мл. | C33: Да | D33: Нет
A34: Супрастин 25 мг 20 шт. таблетки | B34: 21.20.10.256-000001-1-00019-0000000000000 | C34: Да | D34: Нет
A38: Папаверина гидрохлорид 2 % 2,0 №10 | B38: 1
A39: Анальгин 50 % 2,0 №10 | B39: 2
A40: Дибазол 1% 1,0 №10 | B40: 3
A41: Димедрол 1% 1,0 №10 | B41: 4
A42: Линкомицин 30% 1,0 №10 | B42: 5
A43: Адреналина гидрохлорид 0,1% 1,0 №5 | B43: 6
A44: Фуросемид 1% 2,0 10 | B44: 7
A45: Эуфиллин 2,4% 5,0 №10 | B45: 8
A46: Пустырника настойка 25 мл | B46: 9
A47: Валерианы настойка 25 мл | B47: 10
A48: Ацетилсалициловая кислота 500 мг №10 | B48: 11
A49: Андипал 20 мг+250 мг+20 мг №10 | B49: 12
... A68: Клей БФ-6 10 г | B68: 31

Sheet Спецификация
A1: 1 | B1: 2 | C1: 3 | D1: 4 | E1: 5 | F1: 6 | G1: 7 | H1: 8 | I1: 9 | J1: 10 | K1: 11 | L1: 12 | M1: 13 | N1: 14 | O1: 15 | P1: 16 | Q1: 17 | R1: 18
A2: 1 | B2: Метамизол натрия | C2: =B2 -> Метамизол натрия | D2: 1 | E2: =Таблица3[[#Headers],[Лекарственная форма]] -> Лекарственная форма | F2: =VLOOKUP($B2,#REF!,2,0) -> #REF! | G2: =VLOOKUP($B2,#REF!,6,0) -> #REF! | H2: =VLOOKUP($B2,'Анализ рынка'!$G:$AL,35,0) -> #REF! | I2: =J2&$J$1&K2&$K$1&L2&$L$1 -> #REF! | J2: =VLOOKUP($B2,#REF!,35,0) -> #REF! | K2: =VLOOKUP($B2,#REF!,36,0) -> #REF! | L2: =VLOOKUP($B2,#REF!,37,0) -> #REF! | M2: =VLOOKUP($C2,ИТОГ!$D$8:$M$45,4,0) -> #N/A | N2: =M2*H2 -> #N/A | O2: =VLOOKUP($C2,ИТОГ!$D$8:$M$45,9,0) -> #N/A
B3: Метамизол натрия | D3: 2 | E3: =Таблица3[[#Headers],[Дозировка]] -> Дозировка | F3: =VLOOKUP($B3,#REF!,3,0) -> #REF!
B4: Метамизол натрия | D4: 3 | E4: =Таблица3[[#Headers],[Первичная упаковка]] -> Первичная упаковка | F4: =VLOOKUP($B4,#REF!,4,0) -> #REF!
B5: Метамизол натрия | D5: 4 | E5: =Таблица3[[#Headers],[Описание упаковки]] -> Описание упаковки | F5: =VLOOKUP($B5,#REF!,5,0) -> #REF!
A6: 2 | B6: Декстроза | C6: Декстроза | D6: 1 | E6: =Таблица3[[#Headers],[Лекарственная форма]] -> Лекарственная форма | F6: =VLOOKUP($B6,#REF!,2,0) -> #REF! | G6: =VLOOKUP($B6,#REF!,6,0) -> #REF! | H6: =VLOOKUP($B6,#REF!,38,0) -> #REF! | I6: =J6&$J$1&K6&$K$1&L6&$L$1 -> #REF! | J6: =VLOOKUP($B6,#REF!,35,0) -> #REF! | K6: =VLOOKUP($B6,#REF!,36,0) -> #REF! | L6: =VLOOKUP($B6,#REF!,37,0) -> #REF!
B7: Декстроза | D7: 2 | E7: =Таблица3[[#Headers],[Дозировка]] -> Дозировка | F7: =VLOOKUP($B7,#REF!,3,0) -> #REF!
B8: Декстроза | D8: 3 | E8: =Таблица3[[#Headers],[Первичная упаковка]] -> Первичная упаковка | F8: =VLOOKUP($B8,#REF!,4,0) -> #REF!
B9: Декстроза | D9: 4 | E9: =Таблица3[[#Headers],[Описание упаковки]] -> Описание упаковки | F9: =VLOOKUP($B9,#REF!,5,0) -> #REF!
A10: 3 | B10: Преднизолон | C10: Преднизолон | D10: 1 | E10: =Таблица3[[#Headers],[Лекарственная форма]] -> Лекарственная форма | F10: =VLOOKUP($B10,#REF!,2,0) -> #REF! | G10: =VLOOKUP($B10,#REF!,6,0) -> #REF! | H10: =VLOOKUP($B10,'Анализ рынка'!$G:$AL,35,0) -> #N/A | I10: =J10&$J$1&K10&$K$1&L10&$L$1 -> #REF! | J10: =VLOOKUP($B10,#REF!,35,0) -> #REF! | K10: =VLOOKUP($B10,#REF!,36,0) -> #REF! | L10: =VLOOKUP($B10,#REF!,37,0) -> #REF! | M10: =VLOOKUP($C10,ИТОГ!$D$8:$M$45,4,0) -> #N/A | N10: =M10*H10 -> #N/A | O10: =VLOOKUP($C10,ИТОГ!$D$8:$M$45,9,0) -> #N/A
B11: Преднизолон | D11: 2 | E11: =Таблица3[[#Headers],[Дозировка]] -> Дозировка | F11: =VLOOKUP($B11,#REF!,3,0) -> #REF!
B12: Преднизолон | D12: 3 | E12: =Таблица3[[#Headers],[Первичная упаковка]] -> Первичная упаковка | F12: =VLOOKUP($B12,#REF!,4,0) -> #REF!
B13: Преднизолон | D13: 4 | E13: =Таблица3[[#Headers],[Описание упаковки]] -> Описание упаковки | F13: =VLOOKUP($B13,#REF!,5,0) -> #REF!
A14: 4 | B14: Папаверин | C14: Папаверин | D14: 1 | E14: =Таблица3[[#Headers],[Лекарственная форма]] -> Лекарственная форма | F14: =VLOOKUP($B14,#REF!,2,0) -> #REF! | G14: =VLOOKUP($B14,#REF!,6,0) -> #REF! | H14: =VLOOKUP($B14,'Анализ рынка'!$G:$AL,35,0) -> #REF! | I14: =J14&$J$1&K14&$K$1&L14&$L$1 -> #REF! | J14: =VLOOKUP($B14,#REF!,35,0) -> #REF! | K14: =VLOOKUP($B14,#REF!,36,0) -> #REF! | L14: =VLOOKUP($B14,#REF!,37,0) -> #REF! | M14: =VLOOKUP($C14,ИТОГ!$D$8:$M$45,4,0) -> #N/A | N14: =M14*H14 -> #N/A | O14: =VLOOKUP($C14,ИТОГ!$D$8:$M$45,9,0) -> #N/A
B15: Папаверин | D15: 2 | E15: =Таблица3[[#Headers],[Дозировка]] -> Дозировка | F15: =VLOOKUP($B15,#REF!,3,0) -> #REF!
B16: Папаверин | D16: 3 | E16: =Таблица3[[#Headers],[Первичная упаковка]] -> Первичная упаковка | F16: =VLOOKUP($B16,#REF!,4,0) -> #REF!
B17: Папаверин | D17: 4 | E17: =Таблица3[[#Headers],[Описание упаковки]] -> Описание упаковки | F17: =VLOOKUP($B17,#REF!,5,0) -> #REF!
A18: 5 | B18: Никетамид | C18: Никетамид | D18: 1 | E18: =Таблица3[[#Headers],[Лекарственная форма]] -> Лекарственная форма | F18: =VLOOKUP($B18,#REF!,2,0) -> #REF! | G18: =VLOOKUP($B18,#REF!,6,0) -> #REF! | H18: =VLOOKUP($B18,#REF!,38,0) -> #REF! | I18: =J18&$J$1&K18&$K$1&L18&$L$1 -> #REF! | J18: =VLOOKUP($B18,#REF!,35,0) -> #REF! | K18: =VLOOKUP($B18,#REF!,36,0) -> #REF! | L18: =VLOOKUP($B18,#REF!,37,0) -> #REF!
B19: Никетамид | D19: 2 | E19: =Таблица3[[#Headers],[Дозировка]] -> Дозировка | F19: =VLOOKUP($B19,#REF!,3,0) -> #REF!
B20: Никетамид | D20: 3 | E20: =Таблица3[[#Headers],[Первичная упаковка]] -> Первичная упаковка | F20: =VLOOKUP($B20,#REF!,4,0) -> #REF!
B21: Никетамид | D21: 4 | E21: =Таблица3[[#Headers],[Описание упаковки]] -> Описание упаковки | F21: =VLOOKUP($B21,#REF!,5,0) -> #REF!
A22: 6 | B22: Эпинефрин | C22: Эпинефрин | D22: 1 | E22: =Таблица3[[#Headers],[Лекарственная форма]] -> Лекарственная форма | F22: =VLOOKUP($B22,#REF!,2,0) -> #REF! | G22: =VLOOKUP($B22,#REF!,6,0) -> #REF! | H22: =VLOOKUP($B22,'Анализ рынка'!$G:$AL,35,0) -> #REF! | I22: =J22&$J$1&K22&$K$1&L22&$L$1 -> #REF! | J22: =VLOOKUP($B22,#REF!,35,0) -> #REF! | K22: =VLOOKUP($B22,#REF!,36,0) -> #REF! | L22: =VLOOKUP($B22,#REF!,37,0) -> #REF! | M22: =VLOOKUP($C22,ИТОГ!$D$8:$M$45,4,0) -> #N/A | N22: =M22*H22 -> #N/A | O22: =VLOOKUP($C22,ИТОГ!$D$8:$M$45,9,0) -> #N/A
B23: Эпинефрин | D23: 2 | E23: =Таблица3[[#Headers],[Дозировка]] -> Дозировка | F23: =VLOOKUP($B23,#REF!,3,0) -> #REF!
B24: Эпинефрин | D24: 3 | E24: =Таблица3[[#Headers],[Первичная упаковка]] -> Первичная упаковка | F24: =VLOOKUP($B24,#REF!,4,0) -> #REF!
B25: Эпинефрин | D25: 4 | E25: =Таблица3[[#Headers],[Описание упаковки]] -> Описание упаковки | F25: =VLOOKUP($B25,#REF!,5,0) -> #REF!
A26: 7 | B26: Фуросемид | C26: Фуросемид | D26: 1 | E26: =Таблица3[[#Headers],[Лекарственная форма]] -> Лекарственная форма | F26: =VLOOKUP($B26,#REF!,2,0) -> #REF! | G26: =VLOOKUP($B26,#REF!,6,0) -> #REF! | H26: =VLOOKUP($B26,'Анализ рынка'!$G:$AL,35,0) -> #REF! | I26: =J26&$J$1&K26&$K$1&L26&$L$1 -> #REF! | J26: =VLOOKUP($B26,#REF!,35,0) -> #REF! | K26: =VLOOKUP($B26,#REF!,36,0) -> #REF! | L26: =VLOOKUP($B26,#REF!,37,0) -> #REF! | M26: =VLOOKUP($C26,ИТОГ!$D$8:$M$45,4,0) -> #N/A | N26: =M26*H26 -> #N/A | O26: =VLOOKUP($C26,ИТОГ!$D$8:$M$45,9,0) -> #N/A
B27: Фуросемид | D27: 2 | E27: =Таблица3[[#Headers],[Дозировка]] -> Дозировка | F27: =VLOOKUP($B27,#REF!,3,0) -> #REF!
B28: Фуросемид | D28: 3 | E28: =Таблица3[[#Headers],[Первичная упаковка]] -> Первичная упаковка | F28: =VLOOKUP($B28,#REF!,4,0) -> #REF!
B29: Фуросемид | D29: 4 | E29: =Таблица3[[#Headers],[Описание упаковки]] -> Описание упаковки | F29: =VLOOKUP($B29,#REF!,5,0) -> #REF!
A30: 8 | B30: Метамизол натрия 2 | C30: Метамизол натрия 2 | D30: 1 | E30: =Таблица3[[#Headers],[Лекарственная форма]] -> Лекарственная форма | F30: =VLOOKUP($B30,#REF!,2,0) -> #REF! | G30: =VLOOKUP($B30,#REF!,6,0) -> #REF! | H30: =VLOOKUP($B30,#REF!,38,0) -> #REF! | I30: =J30&$J$1&K30&$K$1&L30&$L$1 -> #REF! | J30: =VLOOKUP($B30,#REF!,35,0) -> #REF! | K30: =VLOOKUP($B30,#REF!,36,0) -> #REF! | L30: =VLOOKUP($B30,#REF!,37,0) -> #REF!
B31: Метамизол натрия 2 | D31: 2 | E31: =Таблица3[[#Headers],[Дозировка]] -> Дозировка | F31: =VLOOKUP($B31,#REF!,3,0) -> #REF!
B32: Метамизол натрия 2 | D32: 3 | E32: =Таблица3[[#Headers],[Первичная упаковка]] -> Первичная упаковка | F32: =VLOOKUP($B32,#REF!,4,0) -> #REF!
B33: Метамизол натрия 2 | D33: 4 | E33: =Таблица3[[#Headers],[Описание упаковки]] -> Описание упаковки | F33: =VLOOKUP($B33,#REF!,5,0) -> #REF!
A34: 9 | B34: Аминофиллин | C34: Аминофиллин | D34: 1 | E34: =Таблица3[[#Headers],[Лекарственная форма]] -> Лекарственная форма | F34: =VLOOKUP($B34,#REF!,2,0) -> #REF! | G34: =VLOOKUP($B34,#REF!,6,0) -> #REF! | H34: =VLOOKUP($B34,'Анализ рынка'!$G:$AL,35,0) -> #REF! | I34: =J34&$J$1&K34&$K$1&L34&$L$1 -> #REF! | J34: =VLOOKUP($B34,#REF!,35,0) -> #REF! | K34: =VLOOKUP($B34,#REF!,36,0) -> #REF! | L34: =VLOOKUP($B34,#REF!,37,0) -> #REF! | M34: =VLOOKUP($C34,ИТОГ!$D$8:$M$45,4,0) -> #N/A | N34: =M34*H34 -> #N/A | O34: =VLOOKUP($C34,ИТОГ!$D$8:$M$45,9,0) -> #N/A
B35: Аминофиллин | D35: 2 | E35: =Таблица3[[#Headers],[Дозировка]] -> Дозировка | F35: =VLOOKUP($B35,#REF!,3,0) -> #REF!
B36: Аминофиллин | D36: 3 | E36: =Таблица3[[#Headers],[Первичная упаковка]] -> Первичная упаковка | F36: =VLOOKUP($B36,#REF!,4,0) -> #REF!
B37: Аминофиллин | D37: 4 | E37: =Таблица3[[#Headers],[Описание упаковки]] -> Описание упаковки | F37: =VLOOKUP($B37,#REF!,5,0) -> #REF!
A38: 10 | B38: Диоксометилтетрагидропиримидин | C38: Диоксометилтетрагидропиримидин | D38: 1 | E38: =Таблица3[[#Headers],[Лекарственная форма]] -> Лекарственная форма | F38: =VLOOKUP($B38,#REF!,2,0) -> #REF! | G38: =VLOOKUP($B38,#REF!,6,0) -> #REF! | H38: =VLOOKUP($B38,#REF!,38,0) -> #REF! | I38: =J38&$J$1&K38&$K$1&L38&$L$1 -> #REF! | J38: =VLOOKUP($B38,#REF!,35,0) -> #REF! | K38: =VLOOKUP($B38,#REF!,36,0) -> #REF! | L38: =VLOOKUP($B38,#REF!,37,0) -> #REF!
B39: Диоксометилтетрагидропиримидин | D39: 2 | E39: =Таблица3[[#Headers],[Дозировка]] -> Дозировка | F39: =VLOOKUP($B39,#REF!,3,0) -> #REF!
B40: Диоксометилтетрагидропиримидин | D40: 3 | E40: =Таблица3[[#Headers],[Первичная упаковка]] -> Первичная упаковка | F40: =VLOOKUP($B40,#REF!,4,0) -> #REF!
...

Sheet Анализ рынка
F1: Обоснование начальной (максимальной) цены контракта на закупку "Поставка лекарственных средств для медицинского применения "
F3: Начальная (максимальная) цена контракта (далее - НМЦК) определена в соответствии Приказом Министерства здравоохранения РФ от 19 декабря 2019 г. N 1064н “Об утверждении Порядка определения начальной (максимальной) цены контракта, цены контракта, заключаемого с единственным поставщиком (подрядчиком, исполнителем), начальной цены единицы товара, работы, услуги при осуществлении закупок лекарственных препаратов (ЛП) для медицинского применения” (далее – Порядок).
F4: 1. Метод определения цены единицы планируемого к закупке лекарственного препарата: метод сопоставимых рыночных цен (анализа рынка).
B5: 2 | C5: 3 | D5: 4 | E5: 5 | G5: 6 | H5: 7 | I5: 8 | J5: 9 | K5: 10 | L5: 11 | M5: 12 | N5: 13 | O5: 14 | P5: 15 | Q5: 16 | R5: 17 | S5: 18 | T5: 19 | U5: 20 | V5: 21 | W5: 22 | X5: 23 | Y5: 24 | Z5: 25 | AA5: 26 | AB5: 27 | AC5: 28 | AD5: 29 | AE5: 36 | AG5: 38 | AH5: 39 | AI5: 40 | AJ5: 41 | AL5: 42 | AM5: 47 | AN5: 48
G6: Источник данных | M6: Вх.№185/кп от 03.06.2026 г | S6: Вх.№186/кп от 03.06.2026 г | Y6: Вх.№187/кп от 03.06.2026 г
A7: № п/п | B7: Наименование товара | C7: Код узла СМНН | D7: ЖНВЛП | E7: Наркотческое средство | F7: Торговое наименование | G7: МНН | H7: Лекарственная форма | I7: Дозировка | J7: Первичная упаковка | K7: Описание упаковки | L7: Ед. изм. | M7: 1 Цена за уп с НДС | N7: 1 НДС | O7: 1 Цена за уп без НДС | P7: 1 Кол-во шт в уп | Q7: 1 Объем катриджа | R7: 1 Цена за единицу без НДС | S7: 2 Цена за уп с НДС | T7: 2 НДС | U7: 2 Цена за уп без НДС и Оптовой над. | V7: 2 Кол-во шт в уп | W7: 2 Объем катриджа | X7: 2 Цена за единицу без НДС | Y7: 3 Цена за уп с НДС | Z7: 3 НДС | AA7: 3 Цена за уп без НДС и Оптовой над. | AB7: 3 Кол-во шт в уп | AC7: 3 Объем катриджа | AD7: 3 Цена за единицу без НДС | AE7: Цена за единицу, руб. | AF7: Кол-во Упак | AG7: Объем | AH7: Кол-во шт в уп | AI7: Кол-во ЛП (мл/шт) | AJ7: Коэф. вариации* | AK7: НМЦК без НДС | AL7: НМЦК
A8: 1 | B8: 1 | D8: нет | F8: =VLOOKUP(Таблица3[[#This Row],[№ п/п]],'Спецификация 25'!$1:$1048576,2,0) -> Папаверина гидрохлорид 2 % 2 мл №10 | G8: =VLOOKUP(Таблица3[[#This Row],[№ п/п]],'Спецификация 25'!$1:$1048576,3,0) -> Папаверин | H8: =VLOOKUP(Таблица3[[#This Row],[№ п/п]],'Спецификация 25'!$1:$1048576,7,0) -> Раствор для инъекций | I8: {=IFERROR(INDEX('Спецификация 25'!$G$2:$G$113,MATCH(Таблица3[[#This Row],[№ п/п]]&Таблица3[[#Headers],[Дозировка]],'Спецификация 25'!$A$2:$A$113&'Спецификация 25'!$F$2:$F$113,0)),"нет")} -> 20 мг/мл | J8: {=IFERROR(INDEX('Спецификация 25'!$G$2:$G$113,MATCH(Таблица3[[#This Row],[№ п/п]]&Таблица3[[#Headers],[Первичная упаковка]],'Спецификация 25'!$A$2:$A$113&'Спецификация 25'!$F$2:$F$113,0)),"нет")} -> Ампула | K8: {=IFERROR(INDEX('Спецификация 25'!$G$2:$G$113,MATCH(Таблица3[[#This Row],[№ п/п]]&Таблица3[[#Headers],[Описание упаковки]],'Спецификация 25'!$A$2:$A$113&'Спецификация 25'!$F$2:$F$113,0)),"")} -> 10 амп. по 2 мл | L8: =VLOOKUP(Таблица3[[#This Row],[№ п/п]],'Спецификация 25'!$1:$1048576,8,0) -> мл | M8: 147 | N8: 0.1 | O8: =Таблица3[[#This Row],[1 Цена за уп с НДС]]-Таблица3[[#This Row],[1 Цена за уп с НДС]]*(1-1/(1+N8)) -> 133.63636 | P8: =LEFT(Таблица3[[#This Row],[Описание упаковки]],2) -> 10 | Q8: =IF(LEFT(Таблица3[[#This Row],[Лекарственная форма]],7)="Раствор",LEFT(RIGHT(Таблица3[[#This Row],[Описание упаковки]],4),1),IF(LEFT(Таблица3[[#This Row],[Лекарственная форма]],5)="Капли",LEFT(RIGHT(Таблица3[[#This Row],[Описание упаковки]],4)),1)) -> 2 | R8: =ROUNDDOWN(Таблица3[[#This Row],[1 Цена за уп без НДС]]/Таблица3[[#This Row],[1 Кол-во шт в уп]]/Таблица3[[#This Row],[1 Объем катриджа]],2) -> 6.68 | S8: 148 | T8: 0.1 | U8: =Таблица3[[#This Row],[2 Цена за уп с НДС]]-(Таблица3[[#This Row],[2 Цена за уп с НДС]]*(1-1/(1+T8))) -> 134.54545 | V8: =Таблица3[[#This Row],[1 Кол-во шт в уп]] -> 10 | W8: =Таблица3[[#This Row],[1 Объем катриджа]] -> 2 | X8: =ROUNDDOWN(Таблица3[[#This Row],[2 Цена за уп без НДС и Оптовой над.]]/Таблица3[[#This Row],[2 Кол-во шт в уп]]/Таблица3[[#This Row],[2 Объем катриджа]],2) -> 6.72 | Y8: 148.44 | Z8: 0.1 | AA8: =Таблица3[[#This Row],[3 Цена за уп с НДС]]-(Таблица3[[#This Row],[3 Цена за уп с НДС]]*(1-1/(1+Z8))) -> 134.94545 | AB8: =Таблица3[[#This Row],[1 Кол-во шт в уп]] -> 10 | AC8: =Таблица3[[#This Row],[1 Объем катриджа]] -> 2 | AD8: =ROUNDDOWN(Таблица3[[#This Row],[3 Цена за уп без НДС и Оптовой над.]]/Таблица3[[#This Row],[3 Кол-во шт в уп]]/Таблица3[[#This Row],[3 Объем катриджа]],2) -> 6.74 | AE8: =ROUND(MIN(Таблица3[[#This Row],[1 Цена за единицу без НДС]],Таблица3[[#This Row],[2 Цена за единицу без НДС]],Таблица3[[#This Row],[3 Цена за единицу без НДС]]),2) -> 6.68 | AF8: =VLOOKUP(Таблица3[[#This Row],[№ п/п]],'Спецификация 25'!$1:$1048576,10,0) -> 10 | AG8: =Таблица3[[#This Row],[1 Кол-во шт в уп]] -> 10 | AH8: =Таблица3[[#This Row],[1 Объем катриджа]] -> 2 | AI8: =Таблица3[[#This Row],[Кол-во Упак]]*Таблица3[[#This Row],[Объем]]*Таблица3[[#This Row],[Кол-во шт в уп]] -> 200 | AJ8: =STDEV(Таблица3[[#This Row],[1 Цена за единицу без НДС]],Таблица3[[#This Row],[2 Цена за единицу без НДС]],Таблица3[[#This Row],[3 Цена за единицу без НДС]])/Таблица3[[#This Row],[Цена за единицу, руб. ]] -> 0.0045734288 | AK8: =Таблица3[[#This Row],[Цена за единицу, руб. ]]*Таблица3[[#This Row],[Кол-во ЛП (мл/шт)]] -> 1336 | AL8: =ROUND((Таблица3[[#This Row],[Цена за единицу, руб. ]]+Таблица3[[#This Row],[Цена за единицу, руб. ]]*10%),2)*Таблица3[[#This Row],[Кол-во ЛП (мл/шт)]] -> 1470
A9: 2 | B9: 2 | D9: нет | F9: =VLOOKUP(Таблица3[[#This Row],[№ п/п]],'Спецификация 25'!$1:$1048576,2,0) -> Анальгин 50 % 2 мл №10 | G9: =VLOOKUP(Таблица3[[#This Row],[№ п/п]],'Спецификация 25'!$1:$1048576,3,0) -> Метамизол натрия | H9: =VLOOKUP(Таблица3[[#This Row],[№ п/п]],'Спецификация 25'!$1:$1048576,7,0) -> Раствор для внутривенного и внутримышечного введения | I9: {=IFERROR(INDEX('Спецификация 25'!$G$2:$G$113,MATCH(Таблица3[[#This Row],[№ п/п]]&Таблица3[[#Headers],[Дозировка]],'Спецификация 25'!$A$2:$A$113&'Спецификация 25'!$F$2:$F$113,0)),"нет")} -> 500 мг/мл | J9: {=IFERROR(INDEX('Спецификация 25'!$G$2:$G$113,MATCH(Таблица3[[#This Row],[№ п/п]]&Таблица3[[#Headers],[Первичная упаковка]],'Спецификация 25'!$A$2:$A$113&'Спецификация 25'!$F$2:$F$113,0)),"нет")} -> Ампула | K9: {=IFERROR(INDEX('Спецификация 25'!$G$2:$G$113,MATCH(Таблица3[[#This Row],[№ п/п]]&Таблица3[[#Headers],[Описание упаковки]],'Спецификация 25'!$A$2:$A$113&'Спецификация 25'!$F$2:$F$113,0)),"")} -> 10 амп. по 2 мл | L9: =VLOOKUP(Таблица3[[#This Row],[№ п/п]],'Спецификация 25'!$1:$1048576,8,0) -> мл | M9: 113.25 | N9: 0.1 | O9: =Таблица3[[#This Row],[1 Цена за уп с НДС]]-Таблица3[[#This Row],[1 Цена за уп с НДС]]*(1-1/(1+N9)) -> 102.95455 | P9: =LEFT(Таблица3[[#This Row],[Описание упаковки]],2) -> 10 | Q9: =IF(LEFT(Таблица3[[#This Row],[Лекарственная форма]],7)="Раствор",LEFT(RIGHT(Таблица3[[#This Row],[Описание упаковки]],4),1),IF(LEFT(Таблица3[[#This Row],[Лекарственная форма]],5)="Капли",LEFT(RIGHT(Таблица3[[#This Row],[Описание упаковки]],4)),1)) -> 2 | R9: =ROUNDDOWN(Таблица3[[#This Row],[1 Цена за уп без НДС]]/Таблица3[[#This Row],[1 Кол-во шт в уп]]/Таблица3[[#This Row],[1 Объем катриджа]],2) -> 5.14 | S9: 114.25 | T9: 0.1 | U9: =Таблица3[[#This Row],[2 Цена за уп с НДС]]-(Таблица3[[#This Row],[2 Цена за уп с НДС]]*(1-1/(1+T9))) -> 103.86364 | V9: =Таблица3[[#This Row],[1 Кол-во шт в уп]] -> 10 | W9: =Таблица3[[#This Row],[1 Объем катриджа]] -> 2 | X9: =ROUNDDOWN(Таблица3[[#This Row],[2 Цена за уп без НДС и Оптовой над.]]/Таблица3[[#This Row],[2 Кол-во шт в уп]]/Таблица3[[#This Row],[2 Объем катриджа]],2) -> 5.19 | Y9: 114.59 | Z9: 0.1 | AA9: =Таблица3[[#This Row],[3 Цена за уп с НДС]]-(Таблица3[[#This Row],[3 Цена за уп с НДС]]*(1-1/(1+Z9))) -> 104.17273 | AB9: =Таблица3[[#This Row],[1 Кол-во шт в уп]] -> 10 | AC9: =Таблица3[[#This Row],[1 Объем катриджа]] -> 2 | AD9: =ROUNDDOWN(Таблица3[[#This Row],[3 Цена за уп без НДС и Оптовой над.]]/Таблица3[[#This Row],[3 Кол-во шт в уп]]/Таблица3[[#This Row],[3 Объем катриджа]],2) -> 5.2 | AE9: =ROUND(MIN(Таблица3[[#This Row],[1 Цена за единицу без НДС]],Таблица3[[#This Row],[2 Цена за единицу без НДС]],Таблица3[[#This Row],[3 Цена за единицу без НДС]]),2) -> 5.14 | AF9: =VLOOKUP(Таблица3[[#This Row],[№ п/п]],'Спецификация 25'!$1:$1048576,10,0) -> 5 | AG9: =Таблица3[[#This Row],[1 Кол-во шт в уп]] -> 10 | AH9: =Таблица3[[#This Row],[1 Объем катриджа]] -> 2 | AI9: =Таблица3[[#This Row],[Кол-во Упак]]*Таблица3[[#This Row],[Объем]]*Таблица3[[#This Row],[Кол-во шт в уп]] -> 100 | AJ9: =STDEV(Таблица3[[#This Row],[1 Цена за единицу без НДС]],Таблица3[[#This Row],[2 Цена за единицу без НДС]],Таблица3[[#This Row],[3 Цена за единицу без НДС]])/Таблица3[[#This Row],[Цена за единицу, руб. ]] -> 0.0062539888 | AK9: =Таблица3[[#This Row],[Цена за единицу, руб. ]]*Таблица3[[#This Row],[Кол-во ЛП (мл/шт)]] -> 514 | AL9: =ROUND((Таблица3[[#This Row],[Цена за единицу, руб. ]]+Таблица3[[#This Row],[Цена за единицу, руб. ]]*10%),2)*Таблица3[[#This Row],[Кол-во ЛП (мл/шт)]] -> 565
A10: 3 | B10: 3 | D10: нет | F10: =VLOOKUP(Таблица3[[#This Row],[№ п/п]],'Спецификация 25'!$1:$1048576,2,0) -> Дибазол 1% 1 мл №10 | G10: =VLOOKUP(Таблица3[[#This Row],[№ п/п]],'Спецификация 25'!$1:$1048576,3,0) -> Бендазол | H10: =VLOOKUP(Таблица3[[#This Row],[№ п/п]],'Спецификация 25'!$1:$1048576,7,0) -> Раствор для внутривенного и внутримышечного введения | I10: {=IFERROR(INDEX('Спецификация 25'!$G$2:$G$113,MATCH(Таблица3[[#This Row],[№ п/п]]&Таблица3[[#Headers],[Дозировка]],'Спецификация 25'!$A$2:$A$113&'Спецификация 25'!$F$2:$F$113,0)),"нет")} -> 10 мг/мл | J10: {=IFERROR(INDEX('Спецификация 25'!$G$2:$G$113,MATCH(Таблица3[[#This Row],[№ п/п]]&Таблица3[[#Headers],[Первичная упаковка]],'Спецификация 25'!$A$2:$A$113&'Спецификация 25'!$F$2:$F$113,0)),"нет")} -> Ампула | K10: {=IFERROR(INDEX('Спецификация 25'!$G$2:$G$113,MATCH(Таблица3[[#This Row],[№ п/п]]&Таблица3[[#Headers],[Описание упаковки]],'Спецификация 25'!$A$2:$A$113&'Спецификация 25'!$F$2:$F$113,0)),"")} -> 10 амп. по 1 мл | L10: =VLOOKUP(Таблица3[[#This Row],[№ п/п]],'Спецификация 25'!$1:$1048576,8,0) -> мл | M10: 84 | N10: 0.1 | O10: =Таблица3[[#This Row],[1 Цена за уп с НДС]]-Таблица3[[#This Row],[1 Цена за уп с НДС]]*(1-1/(1+N10)) -> 76.363636 | P10: =LEFT(Таблица3[[#This Row],[Описание упаковки]],2) -> 10 | Q10: =IF(LEFT(Таблица3[[#This Row],[Лекарственная форма]],7)="Раствор",LEFT(RIGHT(Таблица3[[#This Row],[Описание упаковки]],4),1),IF(LEFT(Таблица3[[#This Row],[Лекарственная форма]],5)="Капли",LEFT(RIGHT(Таблица3[[#This Row],[Описание упаковки]],4)),1)) -> 1 | R10: =ROUNDDOWN(Таблица3[[#This Row],[1 Цена за уп без НДС]]/Таблица3[[#This Row],[1 Кол-во шт в уп]]/Таблица3[[#This Row],[1 Объем катриджа]],2) -> 7.63 | S10: 85 | T10: 0.1 | U10: =Таблица3[[#This Row],[2 Цена за уп с НДС]]-(Таблица3[[#This Row],[2 Цена за уп с НДС]]*(1-1/(1+T10))) -> 77.272727 | V10: =Таблица3[[#This Row],[1 Кол-во шт в уп]] -> 10 | W10: =Таблица3[[#This Row],[1 Объем катриджа]] -> 1 | X10: =ROUNDDOWN(Таблица3[[#This Row],[2 Цена за уп без НДС и Оптовой над.]]/Таблица3[[#This Row],[2 Кол-во шт в уп]]/Таблица3[[#This Row],[2 Объем катриджа]],2) -> 7.72 | Y10: 85.26 | Z10: 0.1 | AA10: =Таблица3[[#This Row],[3 Цена за уп с НДС]]-(Таблица3[[#This Row],[3 Цена за уп с НДС]]*(1-1/(1+Z10))) -> 77.509091 | AB10: =Таблица3[[#This Row],[1 Кол-во шт в уп]] -> 10 | AC10: =Таблица3[[#This Row],[1 Объем катриджа]] -> 1 | AD10: =ROUNDDOWN(Таблица3[[#This Row],[3 Цена за уп без НДС и Оптовой над.]]/Таблица3[[#This Row],[3 Кол-во шт в уп]]/Таблица3[[#This Row],[3 Объем катриджа]],2) -> 7.75 | AE10: =ROUND(MIN(Таблица3[[#This Row],[1 Цена за единицу без НДС]],Таблица3[[#This Row],[2 Цена за единицу без НДС]],Таблица3[[#This Row],[3 Цена за единицу без НДС]]),2) -> 7.63 | AF10: =VLOOKUP(Таблица3[[#This Row],[№ п/п]],'Спецификация 25'!$1:$1048576,10,0) -> 7 | AG10: =Таблица3[[#This Row],[1 Кол-во шт в уп]] -> 10 | AH10: =Таблица3[[#This Row],[1 Объем катриджа]] -> 1 | AI10: =Таблица3[[#This Row],[Кол-во Упак]]*Таблица3[[#This Row],[Объем]]*Таблица3[[#This Row],[Кол-во шт в уп]] -> 70 | AJ10: =STDEV(Таблица3[[#This Row],[1 Цена за единицу без НДС]],Таблица3[[#This Row],[2 Цена за единицу без НДС]],Таблица3[[#This Row],[3 Цена за единицу без НДС]])/Таблица3[[#This Row],[Цена за единицу, руб. ]] -> 0.0081847942 | AK10: =Таблица3[[#This Row],[Цена за единицу, руб. ]]*Таблица3[[#This Row],[Кол-во ЛП (мл/шт)]] -> 534.1 | AL10: =ROUND((Таблица3[[#This Row],[Цена за единицу, руб. ]]+Таблица3[[#This Row],[Цена за единицу, руб. ]]*10%),2)*Таблица3[[#This Row],[Кол-во ЛП (мл/шт)]] -> 587.3
A11: 4 | B11: 4 | D11: нет | F11: =VLOOKUP(Таблица3[[#This Row],[№ п/п]],'Спецификация 25'!$1:$1048576,2,0) -> Димедрол 1% 1 мл №10 | G11: =VLOOKUP(Таблица3[[#This Row],[№ п/п]],'Спецификация 25'!$1:$1048576,3,0) -> Дифенгидрамин | H11: =VLOOKUP(Таблица3[[#This Row],[№ п/п]],'Спецификация 25'!$1:$1048576,7,0) -> Раствор для внутривенного и внутримышечного введения | I11: {=IFERROR(INDEX('Спецификация 25'!$G$2:$G$113,MATCH(Таблица3[[#This Row],[№ п/п]]&Таблица3[[#Headers],[Дозировка]],'Спецификация 25'!$A$2:$A$113&'Спецификация 25'!$F$2:$F$113,0)),"нет")} -> 10 мг/мл | J11: {=IFERROR(INDEX('Спецификация 25'!$G$2:$G$113,MATCH(Таблица3[[#This Row],[№ п/п]]&Таблица3[[#Headers],[Первичная упаковка]],'Спецификация 25'!$A$2:$A$113&'Спецификация 25'!$F$2:$F$113,0)),"нет")} -> Ампула | K11: {=IFERROR(INDEX('Спецификация 25'!$G$2:$G$113,MATCH(Таблица3[[#This Row],[№ п/п]]&Таблица3[[#Headers],[Описание упаковки]],'Спецификация 25'!$A$2:$A$113&'Спецификация 25'!$F$2:$F$113,0)),"")} -> 10 амп. по 1 мл | L11: =VLOOKUP(Таблица3[[#This Row],[№ п/п]],'Спецификация 25'!$1:$1048576,8,0) -> мл | M11: 70 | N11: 0.1 | O11: =Таблица3[[#This Row],[1 Цена за уп с НДС]]-Таблица3[[#This Row],[1 Цена за уп с НДС]]*(1-1/(1+N11)) -> 63.636364 | P11: =LEFT(Таблица3[[#This Row],[Описание упаковки]],2) -> 10 | Q11: =IF(LEFT(Таблица3[[#This Row],[Лекарственная форма]],7)="Раствор",LEFT(RIGHT(Таблица3[[#This Row],[Описание упаковки]],4),1),IF(LEFT(Таблица3[[#This Row],[Лекарственная форма]],5)="Капли",LEFT(RIGHT(Таблица3[[#This Row],[Описание упаковки]],4)),1)) -> 1 | R11: =ROUNDDOWN(Таблица3[[#This Row],[1 Цена за уп без НДС]]/Таблица3[[#This Row],[1 Кол-во шт в уп]]/Таблица3[[#This Row],[1 Объем катриджа]],2) -> 6.36 | S11: 71 | T11: 0.1 | U11: =Таблица3[[#This Row],[2 Цена за уп с НДС]]-(Таблица3[[#This Row],[2 Цена за уп с НДС]]*(1-1/(1+T11))) -> 64.545455 | V11: =Таблица3[[#This Row],[1 Кол-во шт в уп]] -> 10 | W11: =Таблица3[[#This Row],[1 Объем катриджа]] -> 1 | X11: =ROUNDDOWN(Таблица3[[#This Row],[2 Цена за уп без НДС и Оптовой над.]]/Таблица3[[#This Row],[2 Кол-во шт в уп]]/Таблица3[[#This Row],[2 Объем катриджа]],2) -> 6.45 | Y11: 71.21 | Z11: 0.1 | AA11: =Таблица3[[#This Row],[3 Цена за уп с НДС]]-(Таблица3[[#This Row],[3 Цена за уп с НДС]]*(1-1/(1+Z11))) -> 64.736364 | AB11: =Таблица3[[#This Row],[1 Кол-во шт в уп]] -> 10 | AC11: =Таблица3[[#This Row],[1 Объем катриджа]] -> 1 | AD11: =ROUNDDOWN(Таблица3[[#This Row],[3 Цена за уп без НДС и Оптовой над.]]/Таблица3[[#This Row],[3 Кол-во шт в уп]]/Таблица3[[#This Row],[3 Объем катриджа]],2) -> 6.47 | AE11: =ROUND(MIN(Таблица3[[#This Row],[1 Цена за единицу без НДС]],Таблица3[[#This Row],[2 Цена за единицу без НДС]],Таблица3[[#This Row],[3 Цена за единицу без НДС]]),2) -> 6.36 | AF11: =VLOOKUP(Таблица3[[#This Row],[№ п/п]],'Спецификация 25'!$1:$1048576,10,0) -> 5 | AG11: =Таблица3[[#This Row],[1 Кол-во шт в уп]] -> 10 | AH11: =Таблица3[[#This Row],[1 Объем катриджа]] -> 1 | AI11: =Таблица3[[#This Row],[Кол-во Упак]]*Таблица3[[#This Row],[Объем]]*Таблица3[[#This Row],[Кол-во шт в уп]] -> 50 | AJ11: =STDEV(Таблица3[[#This Row],[1 Цена за единицу без НДС]],Таблица3[[#This Row],[2 Цена за единицу без НДС]],Таблица3[[#This Row],[3 Цена за единицу без НДС]])/Таблица3[[#This Row],[Цена за единицу, руб. ]] -> 0.0092129957 | AK11: =Таблица3[[#This Row],[Цена за единицу, руб. ]]*Таблица3[[#This Row],[Кол-во ЛП (мл/шт)]] -> 318 | AL11: =ROUND((Таблица3[[#This Row],[Цена за единицу, руб. ]]+Таблица3[[#This Row],[Цена за единицу, руб. ]]*10%),2)*Таблица3[[#This Row],[Кол-во ЛП (мл/шт)]] -> 350
A12: 5 | D12: нет | F12: =VLOOKUP(Таблица3[[#This Row],[№ п/п]],'Спецификация 25'!$1:$1048576,2,0) -> Линкомицин 30% 1,0 №10 | G12: =VLOOKUP(Таблица3[[#This Row],[№ п/п]],'Спецификация 25'!$1:$1048576,3,0) -> Линкомицин | H12: =VLOOKUP(Таблица3[[#This Row],[№ п/п]],'Спецификация 25'!$1:$1048576,7,0) -> Раствор для внутривенного и внутримышечного введения | I12: {=IFERROR(INDEX('Спецификация 25'!$G$2:$G$113,MATCH(Таблица3[[#This Row],[№ п/п]]&Таблица3[[#Headers],[Дозировка]],'Спецификация 25'!$A$2:$A$113&'Спецификация 25'!$F$2:$F$113,0)),"нет")} -> 300 мг/мл | J12: {=IFERROR(INDEX('Спецификация 25'!$G$2:$G$113,MATCH(Таблица3[[#This Row],[№ п/п]]&Таблица3[[#Headers],[Первичная упаковка]],'Спецификация 25'!$A$2:$A$113&'Спецификация 25'!$F$2:$F$113,0)),"нет")} -> Ампула | K12: {=IFERROR(INDEX('Спецификация 25'!$G$2:$G$113,MATCH(Таблица3[[#This Row],[№ п/п]]&Таблица3[[#Headers],[Описание упаковки]],'Спецификация 25'!$A$2:$A$113&'Спецификация 25'!$F$2:$F$113,0)),"")} -> 10 амп. по 1 мл | L12: =VLOOKUP(Таблица3[[#This Row],[№ п/п]],'Спецификация 25'!$1:$1048576,8,0) -> мл | N12: 0.1 | O12: =Таблица3[[#This Row],[1 Цена за уп с НДС]]-Таблица3[[#This Row],[1 Цена за уп с НДС]]*(1-1/(1+N12)) -> 0 | P12: =LEFT(Таблица3[[#This Row],[Описание упаковки]],2) -> 10 | Q12: =IF(LEFT(Таблица3[[#This Row],[Лекарственная форма]],7)="Раствор",LEFT(RIGHT(Таблица3[[#This Row],[Описание упаковки]],4),1),IF(LEFT(Таблица3[[#This Row],[Лекарственная форма]],5)="Капли",LEFT(RIGHT(Таблица3[[#This Row],[Описание упаковки]],4)),1)) -> 1 | R12: =ROUNDDOWN(Таблица3[[#This Row],[1 Цена за уп без НДС]]/Таблица3[[#This Row],[1 Кол-во шт в уп]]/Таблица3[[#This Row],[1 Объем катриджа]],2) -> 0 | T12: 0.1 | U12: =Таблица3[[#This Row],[2 Цена за уп с НДС]]-(Таблица3[[#This Row],[2 Цена за уп с НДС]]*(1-1/(1+T12))) -> 0 | V12: =Таблица3[[#This Row],[1 Кол-во шт в уп]] -> 10 | W12: =Таблица3[[#This Row],[1 Объем катриджа]] -> 1 | X12: =ROUNDDOWN(Таблица3[[#This Row],[2 Цена за уп без НДС и Оптовой над.]]/Таблица3[[#This Row],[2 Кол-во шт в уп]]/Таблица3[[#This Row],[2 Объем катриджа]],2) -> 0 | Z12: 0.1 | AA12: =Таблица3[[#This Row],[3 Цена за уп с НДС]]-(Таблица3[[#This Row],[3 Цена за уп с НДС]]*(1-1/(1+Z12))) -> 0 | AB12: =Таблица3[[#This Row],[1 Кол-во шт в уп]] -> 10 | AC12: =Таблица3[[#This Row],[1 Объем катриджа]] -> 1 | AD12: =ROUNDDOWN(Таблица3[[#This Row],[3 Цена за уп без НДС и Оптовой над.]]/Таблица3[[#This Row],[3 Кол-во шт в уп]]/Таблица3[[#This Row],[3 Объем катриджа]],2) -> 0 | AE12: =ROUND(MIN(Таблица3[[#This Row],[1 Цена за единицу без НДС]],Таблица3[[#This Row],[2 Цена за единицу без НДС]],Таблица3[[#This Row],[3 Цена за единицу без НДС]]),2) -> 0 | AF12: =VLOOKUP(Таблица3[[#This Row],[№ п/п]],'Спецификация 25'!$1:$1048576,10,0) -> 0 | AG12: =Таблица3[[#This Row],[1 Кол-во шт в уп]] -> 10 | AH12: =Таблица3[[#This Row],[1 Объем катриджа]] -> 1 | AI12: =Таблица3[[#This Row],[Кол-во Упак]]*Таблица3[[#This Row],[Объем]]*Таблица3[[#This Row],[Кол-во шт в уп]] -> 0 | AJ12: =STDEV(Таблица3[[#This Row],[1 Цена за единицу без НДС]],Таблица3[[#This Row],[2 Цена за единицу без НДС]],Таблица3[[#This Row],[3 Цена за единицу без НДС]])/Таблица3[[#This Row],[Цена за единицу, руб. ]] -> #DIV/0! | AK12: =Таблица3[[#This Row],[Цена за единицу, руб. ]]*Таблица3[[#This Row],[Кол-во ЛП (мл/шт)]] -> 0 | AL12: =ROUND((Таблица3[[#This Row],[Цена за единицу, руб. ]]+Таблица3[[#This Row],[Цена за единицу, руб. ]]*10%),2)*Таблица3[[#This Row],[Кол-во ЛП (мл/шт)]] -> 0
A13: 6 | B13: 5 | D13: да | F13: =VLOOKUP(Таблица3[[#This Row],[№ п/п]],'Спецификация 25'!$1:$1048576,2,0) -> Адреналина гидрохлорид 0,1% 1 мл №5 | G13: =VLOOKUP(Таблица3[[#This Row],[№ п/п]],'Спецификация 25'!$1:$1048576,3,0) -> Эпинефрин | H13: =VLOOKUP(Таблица3[[#This Row],[№ п/п]],'Спецификация 25'!$1:$1048576,7,0) -> Раствор для инъекций | I13: {=IFERROR(INDEX('Спецификация 25'!$G$2:$G$113,MATCH(Таблица3[[#This Row],[№ п/п]]&Таблица3[[#Headers],[Дозировка]],'Спецификация 25'!$A$2:$A$113&'Спецификация 25'!$F$2:$F$113,0)),"нет")} -> 1 мг/мл. | J13: {=IFERROR(INDEX('Спецификация 25'!$G$2:$G$113,MATCH(Таблица3[[#This Row],[№ п/п]]&Таблица3[[#Headers],[Первичная упаковка]],'Спецификация 25'!$A$2:$A$113&'Спецификация 25'!$F$2:$F$113,0)),"нет")} -> Ампула | K13: {=IFERROR(INDEX('Спецификация 25'!$G$2:$G$113,MATCH(Таблица3[[#This Row],[№ п/п]]&Таблица3[[#Headers],[Описание упаковки]],'Спецификация 25'!$A$2:$A$113&'Спецификация 25'!$F$2:$F$113,0)),"")} -> 5 амп. по 1 мл | L13: =VLOOKUP(Таблица3[[#This Row],[№ п/п]],'Спецификация 25'!$1:$1048576,8,0) -> мл | M13: 129.48 | N13: 0.1 | O13: =Таблица3[[#This Row],[1 Цена за уп с НДС]]-Таблица3[[#This Row],[1 Цена за уп с НДС]]*(1-1/(1+N13)) -> 117.70909 | P13: =LEFT(Таблица3[[#This Row],[Описание упаковки]],2) -> 5 | Q13: =IF(LEFT(Таблица3[[#This Row],[Лекарственная форма]],7)="Раствор",LEFT(RIGHT(Таблица3[[#This Row],[Описание упаковки]],4),1),IF(LEFT(Таблица3[[#This Row],[Лекарственная форма]],5)="Капли",LEFT(RIGHT(Таблица3[[#This Row],[Описание упаковки]],4)),1)) -> 1 | R13: =ROUNDDOWN(Таблица3[[#This Row],[1 Цена за уп без НДС]]/Таблица3[[#This Row],[1 Кол-во шт в уп]]/Таблица3[[#This Row],[1 Объем катриджа]],2) -> 23.54 | S13: 129.49 | T13: 0.1 | U13: =Таблица3[[#This Row],[2 Цена за уп с НДС]]-(Таблица3[[#This Row],[2 Цена за уп с НДС]]*(1-1/(1+T13))) -> 117.71818 | V13: =Таблица3[[#This Row],[1 Кол-во шт в уп]] -> 5 | W13: =Таблица3[[#This Row],[1 Объем катриджа]] -> 1 | X13: =ROUNDDOWN(Таблица3[[#This Row],[2 Цена за уп без НДС и Оптовой над.]]/Таблица3[[#This Row],[2 Кол-во шт в уп]]/Таблица3[[#This Row],[2 Объем катриджа]],2) -> 23.54 | Y13: 129.88 | Z13: 0.1 | AA13: =Таблица3[[#This Row],[3 Цена за уп с НДС]]-(Таблица3[[#This Row],[3 Цена за уп с НДС]]*(1-1/(1+Z13))) -> 118.07273 | AB13: =Таблица3[[#This Row],[1 Кол-во шт в уп]] -> 5 | AC13: =Таблица3[[#This Row],[1 Объем катриджа]] -> 1 | AD13: =ROUNDDOWN(Таблица3[[#This Row],[3 Цена за уп без НДС и Оптовой над.]]/Таблица3[[#This Row],[3 Кол-во шт в уп]]/Таблица3[[#This Row],[3 Объем катриджа]],2) -> 23.61 | AE13: =ROUND(MIN(Таблица3[[#This Row],[1 Цена за единицу без НДС]],Таблица3[[#This Row],[2 Цена за единицу без НДС]],Таблица3[[#This Row],[3 Цена за единицу без НДС]]),2) -> 23.54 | AF13: =VLOOKUP(Таблица3[[#This Row],[№ п/п]],'Спецификация 25'!$1:$1048576,10,0) -> 230 | AG13: =Таблица3[[#This Row],[1 Кол-во шт в уп]] -> 5 | AH13: =Таблица3[[#This Row],[1 Объем катриджа]] -> 1 | AI13: =Таблица3[[#This Row],[Кол-во Упак]]*Таблица3[[#This Row],[Объем]]*Таблица3[[#This Row],[Кол-во шт в уп]] -> 1150 | AJ13: =STDEV(Таблица3[[#This Row],[1 Цена за единицу без НДС]],Таблица3[[#This Row],[2 Цена за единицу без НДС]],Таблица3[[#This Row],[3 Цена за единицу без НДС]])/Таблица3[[#This Row],[Цена за единицу, руб. ]] -> 0.0017168445 | AK13: =Таблица3[[#This Row],[Цена за единицу, руб. ]]*Таблица3[[#This Row],[Кол-во ЛП (мл/шт)]] -> 27071 | AL13: =ROUND((Таблица3[[#This Row],[Цена за единицу, руб. ]]+Таблица3[[#This Row],[Цена за единицу, руб. ]]*10%),2)*Таблица3[[#This Row],[Кол-во ЛП (мл/шт)]] -> 29773.5
A14: 7 | B14: 6 | D14: да | F14: =VLOOKUP(Таблица3[[#This Row],[№ п/п]],'Спецификация 25'!$1:$1048576,2,0) -> Фуросемид 1% 2 мл 10 | G14: =VLOOKUP(Таблица3[[#This Row],[№ п/п]],'Спецификация 25'!$1:$1048576,3,0) -> Фуросемид | H14: =VLOOKUP(Таблица3[[#This Row],[№ п/п]],'Спецификация 25'!$1:$1048576,7,0) -> Раствор для внутривенного и внутримышечного введения | I14: {=IFERROR(INDEX('Спецификация 25'!$G$2:$G$113,MATCH(Таблица3[[#This Row],[№ п/п]]&Таблица3[[#Headers],[Дозировка]],'Спецификация 25'!$A$2:$A$113&'Спецификация 25'!$F$2:$F$113,0)),"нет")} -> 10 мг/мл. | J14: {=IFERROR(INDEX('Спецификация 25'!$G$2:$G$113,MATCH(Таблица3[[#This Row],[№ п/п]]&Таблица3[[#Headers],[Первичная упаковка]],'Спецификация 25'!$A$2:$A$113&'Спецификация 25'!$F$2:$F$113,0)),"нет")} -> Ампула | K14: {=IFERROR(INDEX('Спецификация 25'!$G$2:$G$113,MATCH(Таблица3[[#This Row],[№ п/п]]&Таблица3[[#Headers],[Описание упаковки]],'Спецификация 25'!$A$2:$A$113&'Спецификация 25'!$F$2:$F$113,0)),"")} -> 10 амп. по 2 мл | L14: =VLOOKUP(Таблица3[[#This Row],[№ п/п]],'Спецификация 25'!$1:$1048576,8,0) -> мл | M14: 87 | N14: 0.1 | O14: =Таблица3[[#This Row],[1 Цена за уп с НДС]]-Таблица3[[#This Row],[1 Цена за уп с НДС]]*(1-1/(1+N14)) -> 79.090909 | P14: =LEFT(Таблица3[[#This Row],[Описание упаковки]],2) -> 10 | Q14: =IF(LEFT(Таблица3[[#This Row],[Лекарственная форма]],7)="Раствор",LEFT(RIGHT(Таблица3[[#This Row],[Описание упаковки]],4),1),IF(LEFT(Таблица3[[#This Row],[Лекарственная форма]],5)="Капли",LEFT(RIGHT(Таблица3[[#This Row],[Описание упаковки]],4)),1)) -> 2 | R14: =ROUNDDOWN(Таблица3[[#This Row],[1 Цена за уп без НДС]]/Таблица3[[#This Row],[1 Кол-во шт в уп]]/Таблица3[[#This Row],[1 Объем катриджа]],2) -> 3.95 | S14: 87.01 | T14: 0.1 | U14: =Таблица3[[#This Row],[2 Цена за уп с НДС]]-(Таблица3[[#This Row],[2 Цена за уп с НДС]]*(1-1/(1+T14))) -> 79.1 | V14: =Таблица3[[#This Row],[1 Кол-во шт в уп]] -> 10 | W14: =Таблица3[[#This Row],[1 Объем катриджа]] -> 2 | X14: =ROUNDDOWN(Таблица3[[#This Row],[2 Цена за уп без НДС и Оптовой над.]]/Таблица3[[#This Row],[2 Кол-во шт в уп]]/Таблица3[[#This Row],[2 Объем катриджа]],2) -> 3.95 | Y14: 87.27 | Z14: 0.1 | AA14: =Таблица3[[#This Row],[3 Цена за уп с НДС]]-(Таблица3[[#This Row],[3 Цена за уп с НДС]]*(1-1/(1+Z14))) -> 79.336364 | AB14: =Таблица3[[#This Row],[1 Кол-во шт в уп]] -> 10 | AC14: =Таблица3[[#This Row],[1 Объем катриджа]] -> 2 | AD14: =ROUNDDOWN(Таблица3[[#This Row],[3 Цена за уп без НДС и Оптовой над.]]/Таблица3[[#This Row],[3 Кол-во шт в уп]]/Таблица3[[#This Row],[3 Объем катриджа]],2) -> 3.96 | AE14: =ROUND(MIN(Таблица3[[#This Row],[1 Цена за единицу без НДС]],Таблица3[[#This Row],[2 Цена за единицу без НДС]],Таблица3[[#This Row],[3 Цена за единицу без НДС]]),2) -> 3.95 | AF14: =VLOOKUP(Таблица3[[#This Row],[№ п/п]],'Спецификация 25'!$1:$1048576,10,0) -> 6 | AG14: =Таблица3[[#This Row],[1 Кол-во шт в уп]] -> 10 | AH14: =Таблица3[[#This Row],[1 Объем катриджа]] -> 2 | AI14: =Таблица3[[#This Row],[Кол-во Упак]]*Таблица3[[#This Row],[Объем]]*Таблица3[[#This Row],[Кол-во шт в уп]] -> 120 | AJ14: =STDEV(Таблица3[[#This Row],[1 Цена за единицу без НДС]],Таблица3[[#This Row],[2 Цена за единицу без НДС]],Таблица3[[#This Row],[3 Цена за единицу без НДС]])/Таблица3[[#This Row],[Цена за единицу, руб. ]] -> 0.0014616463 | AK14: =Таблица3[[#This Row],[Цена за единицу, руб. ]]*Таблица3[[#This Row],[Кол-во ЛП (мл/шт)]] -> 474 | AL14: =ROUND((Таблица3[[#This Row],[Цена за единицу, руб. ]]+Таблица3[[#This Row],[Цена за единицу, руб. ]]*10%),2)*Таблица3[[#This Row],[Кол-во ЛП (мл/шт)]] -> 522
A15: 8 | B15: 7 | D15: да | F15: =VLOOKUP(Таблица3[[#This Row],[№ п/п]],'Спецификация 25'!$1:$1048576,2,0) -> Эуфиллин 2,4% 5 мл №10 | G15: =VLOOKUP(Таблица3[[#This Row],[№ п/п]],'Спецификация 25'!$1:$1048576,3,0) -> Аминофиллин | H15: =VLOOKUP(Таблица3[[#This Row],[№ п/п]],'Спецификация 25'!$1:$1048576,7,0) -> Раствор для внутривенного введения | I15: {=IFERROR(INDEX('Спецификация 25'!$G$2:$G$113,MATCH(Таблица3[[#This Row],[№ п/п]]&Таблица3[[#Headers],[Дозировка]],'Спецификация 25'!$A$2:$A$113&'Спецификация 25'!$F$2:$F$113,0)),"нет")} -> 24 мг/мл. | J15: {=IFERROR(INDEX('Спецификация 25'!$G$2:$G$113,MATCH(Таблица3[[#This Row],[№ п/п]]&Таблица3[[#Headers],[Первичная упаковка]],'Спецификация 25'!$A$2:$A$113&'Спецификация 25'!$F$2:$F$113,0)),"нет")} -> Ампула | K15: {=IFERROR(INDEX('Спецификация 25'!$G$2:$G$113,MATCH(Таблица3[[#This Row],[№ п/п]]&Таблица3[[#Headers],[Описание упаковки]],'Спецификация 25'!$A$2:$A$113&'Спецификация 25'!$F$2:$F$113,0)),"")} -> 10 амп. по 5 мл | L15: =VLOOKUP(Таблица3[[#This Row],[№ п/п]],'Спецификация 25'!$1:$1048576,8,0) -> мл | M15: 99.96 | N15: 0.1 | O15: =Таблица3[[#This Row],[1 Цена за уп с НДС]]-Таблица3[[#This Row],[1 Цена за уп с НДС]]*(1-1/(1+N15)) -> 90.872727 | P15: =LEFT(Таблица3[[#This Row],[Описание упаковки]],2) -> 10 | Q15: =IF(LEFT(Таблица3[[#This Row],[Лекарственная форма]],7)="Раствор",LEFT(RIGHT(Таблица3[[#This Row],[Описание упаковки]],4),1),IF(LEFT(Таблица3[[#This Row],[Лекарственная форма]],5)="Капли",LEFT(RIGHT(Таблица3[[#This Row],[Описание упаковки]],4)),1)) -> 5 | R15: =ROUNDDOWN(Таблица3[[#This Row],[1 Цена за уп без НДС]]/Таблица3[[#This Row],[1 Кол-во шт в уп]]/Таблица3[[#This Row],[1 Объем катриджа]],2) -> 1.81 | S15: 99.97 | T15: 0.1 | U15: =Таблица3[[#This Row],[2 Цена за уп с НДС]]-(Таблица3[[#This Row],[2 Цена за уп с НДС]]*(1-1/(1+T15))) -> 90.881818 | V15: =Таблица3[[#This Row],[1 Кол-во шт в уп]] -> 10 | W15: =Таблица3[[#This Row],[1 Объем катриджа]] -> 5 | X15: =ROUNDDOWN(Таблица3[[#This Row],[2 Цена за уп без НДС и Оптовой над.]]/Таблица3[[#This Row],[2 Кол-во шт в уп]]/Таблица3[[#This Row],[2 Объем катриджа]],2) -> 1.81 | Y15: 100.27 | Z15: 0.1 | AA15: =Таблица3[[#This Row],[3 Цена за уп с НДС]]-(Таблица3[[#This Row],[3 Цена за уп с НДС]]*(1-1/(1+Z15))) -> 91.154545 | AB15: =Таблица3[[#This Row],[1 Кол-во шт в уп]] -> 10 | AC15: =Таблица3[[#This Row],[1 Объем катриджа]] -> 5 | AD15: =ROUNDDOWN(Таблица3[[#This Row],[3 Цена за уп без НДС и Оптовой над.]]/Таблица3[[#This Row],[3 Кол-во шт в уп]]/Таблица3[[#This Row],[3 Объем катриджа]],2) -> 1.82 | AE15: =ROUND(MIN(Таблица3[[#This Row],[1 Цена за единицу без НДС]],Таблица3[[#This Row],[2 Цена за единицу без НДС]],Таблица3[[#This Row],[3 Цена за единицу без НДС]]),2) -> 1.81 | AF15: =VLOOKUP(Таблица3[[#This Row],[№ п/п]],'Спецификация 25'!$1:$1048576,10,0) -> 6 | AG15: =Таблица3[[#This Row],[1 Кол-во шт в уп]] -> 10 | AH15: =Таблица3[[#This Row],[1 Объем катриджа]] -> 5 | AI15: =Таблица3[[#This Row],[Кол-во Упак]]*Таблица3[[#This Row],[Объем]]*Таблица3[[#This Row],[Кол-во шт в уп]] -> 300 | AJ15: =STDEV(Таблица3[[#This Row],[1 Цена за единицу без НДС]],Таблица3[[#This Row],[2 Цена за единицу без НДС]],Таблица3[[#This Row],[3 Цена за единицу без НДС]])/Таблица3[[#This Row],[Цена за единицу, руб. ]] -> 0.0031897805 | AK15: =Таблица3[[#This Row],[Цена за единицу, руб. ]]*Таблица3[[#This Row],[Кол-во ЛП (мл/шт)]] -> 543 | AL15: =ROUND((Таблица3[[#This Row],[Цена за единицу, руб. ]]+Таблица3[[#This Row],[Цена за единицу, руб. ]]*10%),2)*Таблица3[[#This Row],[Кол-во ЛП (мл/шт)]] -> 597
