Workbook

Sheet Лист1
D1: Приложение к контракту ___________
A2: Обоснования начальной (максимальной) цены контракта, цены контракта.
A3: Поставка туристического оборудования для ЛОК 2026 для Государственного бюджетного учреждения дополнительного образования Калининского района Санкт-Петербурга
A4: (указывается предмет контракта)
A7: Обоснование и расчет начальной максимальной цены ( метод сопоставимых рыночных цен )
A8: № п/п | B8: Наименование товара | C8: Кол-во | D8: Цена предложенная участником № 1, руб. ц₁ | E8: Цена предложенная участником № 2, руб. ц₂ | F8: Цена предложенная участником № 3, руб. ц₃ | G8: Средняя цена, руб. <Ц>=(ц₁+ц₂+ц₃+….)/n | H8: Минимальная цена | I8: Общая стоимость, руб. | J8: Среднее квадратичное отклонение, руб. | K8: Коэффициент вариации, % | L8: Един. изм. | M8: ОКПД | N8: КОСГУ
A9: 1 | B9: =[1]Лист1!B5 -> Газовый балон с резьбой 450 гр Tramp TRG-002 | C9: 50 | D9: 660 | E9: 665 | F9: 670 | G9: =AVERAGE(D9:F9) -> 665 | H9: 660 | I9: =PRODUCT(H9,C9) -> 33000 | J9: =STDEV(D9:F9) -> 5 | K9: =J9/G9 -> 0.007518797 | L9: шт | M9: 25.29.12.110 | N9: 340
A10: 2 | B10: =[1]Лист1!B6 -> Газовый балон с резьбой 230 гр Tramp TRG-003 | C10: 39 | D10: 420 | E10: 425 | F10: 450 | G10: =AVERAGE(D10:F10) -> 431.66667 | H10: 420 | I10: =H10*C10 -> 16380 | J10: =STDEV(D10:F10) -> 16.072751 | K10: =J10/G10 -> 0.037234173 | L10: м | M10: =$M$9 -> 25.29.12.110 | N10: 340
A11: 3 | B11: =[1]Лист1!B7 -> Карабин Chlorum с байонетной муфтой keylock (Венто) | C11: 107 | D11: 1190 | E11: 1200 | F11: 1250 | G11: =AVERAGE(D11:F11) -> 1213.3333 | H11: 1190 | I11: =H11*C11 -> 127330 | J11: =STDEV(D11:F11) -> 32.145503 | K11: =J11/G11 -> 0.026493546 | L11: шт | M11: 32. 30.15.210 | N11: 340
A12: 4 | B12: =[1]Лист1!B8 -> Веревка РЕМЕРА СТ60 статическая | C12: 400 | D12: 84 | E12: 85 | F12: 86 | G12: =AVERAGE(D12:F12) -> 85 | H12: 84 | I12: =H12*C12 -> 33600 | J12: =STDEV(D12:F12) -> 1 | K12: =J12/G12 -> 0.011764706 | L12: =$L$9 -> шт | M12: =$M$11 -> 32. 30.15.210 | N12: 340
A13: 5 | B13: =[1]Лист1!B9 -> Спусковое устройство восьмерка "Спорт-туризм" (с карабином Гусь автомат) ver 0321-2.blue | C13: =[1]Лист1!E9 -> 4 | D13: 2350 | E13: 2400 | F13: 2420 | G13: =AVERAGE(D13:F13) -> 2390 | H13: 2350 | I13: =H13*C13 -> 9400 | J13: =STDEV(D13:F13) -> 36.055513 | K13: =J13/G13 -> 0.015085989 | L13: шт | M13: =$M$11 -> 32. 30.15.210 | N13: 340
A14: 6 | B14: =[1]Лист1!B10 -> vnt 1083_bu Жумар под правую руку Зажим ручной. Цвет: Синий | C14: =[1]Лист1!E10 -> 4 | D14: 5490 | E14: 5500 | F14: 5600 | G14: =AVERAGE(D14:F14) -> 5530 | H14: 5490 | I14: =H14*C14 -> 21960 | J14: =STDEV(D14:F14) -> 60.827625 | K14: =J14/G14 -> 0.010999571 | L14: щт | M14: =$M$11 -> 32. 30.15.210 | N14: 340
A15: 7 | B15: =[1]Лист1!B11 -> PETZL Ножной зажим PANTIN Артикул: B02CRA правый | C15: =[1]Лист1!E11 -> 2 | D15: 11753 | E15: 12000 | F15: 12500 | G15: =AVERAGE(D15:F15) -> 12084.333 | H15: 11753 | I15: =H15*C15 -> 23506 | J15: =STDEV(D15:F15) -> 380.57369 | K15: =J15/G15 -> 0.031493147 | L15: шт | M15: =$M$14 -> 32. 30.15.210 | N15: 340
A16: 8 | B16: =[1]Лист1!B12 -> PETZL Ножной зажим PANTIN Артикул: B02CLA левый | C16: =[1]Лист1!E12 -> 2 | D16: 11753 | E16: 12000 | F16: 12500 | G16: 10050 | H16: 11753 | I16: =H16*C16 -> 23506 | J16: =STDEV(D16:F16) -> 380.57369 | K16: =J16/G16 -> 0.037868029 | L16: =$L$9 -> шт | M16: =$M$14 -> 32. 30.15.210 | N16: 340
I17: =SUM(I9:I16) -> 288682
B22: =SUM(B23:B24) -> #REF!
B23: =I11+I12+I15+I16+#REF!+#REF!+#REF!+#REF!+#REF! -> #REF!
B24: =I9+I10+I13+I14+#REF!+#REF! -> #REF! | C24: 340

Sheet Лист2
F18: =SUM(F7:F17) -> 0

Sheet Лист3
E9: 208577.01
E10: 35594.34
E11: 13558.746
E12: 3178.934
E13: 17919.79
E14: 8305.886
E15: 723.046
E16: 1187.87
E17: 1239.516
E18: 1325.586
E19: 594.026
E20: =SUM(E9:E19) -> 292204.75
