Workbook
Name __bookmark_1: #REF!
Name __bookmark_1: #REF!
Name __bookmark_1: #REF!
Name __bookmark_1: #REF!
Name __bookmark_1: #REF!
Name __bookmark_1: #REF!
Name __bookmark_1: #REF!
Name амикм: #REF!
Name БОМЖ: #REF!
Name БОМЖ: #REF!
Name БОМЖ: #REF!
Name дддд: #REF!
Name дддд: #REF!
Name дддд: #REF!
Name фыв: #REF!
Name фыв: #REF!
Name фыв: #REF!
Name фыв: #REF!
Name фыв: #REF!
Name фыв: #REF!
Name фыв: #REF!
Name ЦВ: #REF!
Name ЦВ: #REF!
Name ЦВ: #REF!
Name ЦВ: #REF!
Name ЦВ: #REF!
Name ЦВ: #REF!
Name ЦД: #REF!
Name ЦД: #REF!
Name ЦД: #REF!
Name ывапы: #REF!
Name ывапы: #REF!
Name ывапы: #REF!
Name ывапы: #REF!
Name ывапы: #REF!
Name ывапы: #REF!
Name ывапы: #REF!

Sheet Оглавление
A1: Выбор Категории
A2: 1. Учреждения социальной защиты (для взрослых)
A3: 2. Лечебно-профилактические и санаторно-курортные учреждения здравоохранения (для взрослых)
A4: 3. Лечебно-профилактические и санаторные учреждения здравоохранения (для детей)
A5: 4. Детские дома, школы-интернаты различного типа, учреждения отдыха и оздоровления детей и молодежи, детские спортивные оздоровительные лагеря
A6: 5.Образовательные учреждения (Школы и профессиональные училища)
A7: 6. Обеспечение социальным питанием граждан без определенного места жительства (бездомных)
A8: 7. Дошкольные образовательные учреждения
A9: 8. Все типы учреждений для организации питания больных целиакией (для взрослых)
A10: 9. Все типы учреждений для организации питания больных целиакией (для детей)
A11: 10. Список продовольственных товаров, содержащихся во всех перечнях

Sheet 1.Взрослые
A2: Дата актуализации ассортиментного перечня «01» июня 2023 г
A3: Ассортиментный перечень основных групп продовольственных товаров и сырья для обеспечения социального питания в учреждениях Санкт-Петербурга с учетом специфики и особенностей организации питания взрослого контингента
A4: Примечание! * - Продукция предназначенная для лечебного, специального питания ** - предназначенные для использования в питании после термической обработки. Информацию о действующей нормативной документации, а также изменениях вносимых в национальные стандарты можно получить в Управлении социального питания по телефонам 417-35-50, 417-35-52 и на сайте Управления по адресу: http://www.gov.spb.ru, вкладка «Нормативные документы».
A5: № | B5: Потребительское наименование товара | C5: Название товара ККН/КТРУ | D5: ОКПД2 | E5: Детализация ККН | F5: Единица измерения ККН | G5: Характеристики товара | H5: Код КТРУ
A6: 1 | B6: 2 | C6: 2 | D6: 3 | E6: 4 | F6: 5 | G6: 6 | H6: 7
A7: 1 | B7: =IFERROR(INDEX('10. Свод Перечней'!B:C,MATCH(C7,'10. Свод Перечней'!C:C,0),1),"") -> Фасоль овощная свежая | C7: {=IFERROR(INDEX('10. Свод Перечней'!$C$4:$C$529,SMALL(IF("В"='10. Свод Перечней'!$I$4:$Q$529,ROW('10. Свод Перечней'!$C$4:$C$529)-3,""),ROW()-6)),"")} -> Фасоль тип 1 | D7: =IFERROR(VLOOKUP(C7,'10. Свод Перечней'!C:H,2,0),"") -> 01.11.61.000 | E7: =IFERROR(VLOOKUP(C7,'10. Свод Перечней'!C:H,3,0),"") -> 001 | F7: =IFERROR(VLOOKUP(C7,'10. Свод Перечней'!C:H,4,0),"") -> КГ | G7: =IFERROR(VLOOKUP(C7,'10. Свод Перечней'!C:H,5,0),"") -> Тип: Овощная Вид: Свежая Сорт: Высший; Первый Фасовка: Весовая Соответствие нормативно-технической документации: Технический регламент Таможенного союза "О безопасности упаковки" от 16.08.2011 ТР ТС № 005/2011, Технический регламент Таможенного союза "О безопасности пищевой продукции" от 09.12.2011 № 021/2011, Технический регламент Таможенного союза "Пищевая продукция в части ее маркировки" от 09.12.2011 № 022/2011, ГОСТ 34299-2017 | H7: =IF(LEN(IFERROR(VLOOKUP(C7,'10. Свод Перечней'!C:H,6,0),""))>1,IFERROR(VLOOKUP(C7,'10. Свод Перечней'!C:H,6,0),""),"")
A8: =IF(LEN(C8)>0,MAX($A$6:A7)+1,"") -> 2 | B8: =IFERROR(INDEX('10. Свод Перечней'!B:C,MATCH(C8,'10. Свод Перечней'!C:C,0),1),"") -> Фасоль продовольственная | C8: {=IFERROR(INDEX('10. Свод Перечней'!$C$4:$C$529,SMALL(IF("В"='10. Свод Перечней'!$I$4:$Q$529,ROW('10. Свод Перечней'!$C$4:$C$529)-3,""),ROW()-6)),"")} -> Фасоль продовольственная тип 1 | D8: =IFERROR(VLOOKUP(C8,'10. Свод Перечней'!C:H,2,0),"") -> 01.11.71.110 | E8: =IFERROR(VLOOKUP(C8,'10. Свод Перечней'!C:H,3,0),"") -> 002 | F8: =IFERROR(VLOOKUP(C8,'10. Свод Перечней'!C:H,4,0),"") -> КГ | G8: =IFERROR(VLOOKUP(C8,'10. Свод Перечней'!C:H,5,0),"") -> Номер и наименование типа фасоли: I. Фасоль белая; II. Фасоль цветная однотонная; III. Фасоль цветная пестрая Фасовка: Весовая Соответствие нормативно-технической документации: Технический регламент Таможенного союза "О безопасности упаковки" от 16.08.2011 ТР ТС № 005/2011, Технический регламент Таможенного союза "О безопасности пищевой продукции" от 09.12.2011 № 021/2011, Технический регламент Таможенного союза "Пищевая продукция в части ее маркировки" от 09.12.2011 № 022/2011, ГОСТ 7758-2020 | H8: =IF(LEN(IFERROR(VLOOKUP(C8,'10. Свод Перечней'!C:H,6,0),""))>1,IFERROR(VLOOKUP(C8,'10. Свод Перечней'!C:H,6,0),""),"") -> 01.11.71.110-00000001, 01.11.71.110-00000002, 01.11.71.110-00000003
A9: =IF(LEN(C9)>0,MAX($A$6:A8)+1,"") -> 3 | B9: =IFERROR(INDEX('10. Свод Перечней'!B:C,MATCH(C9,'10. Свод Перечней'!C:C,0),1),"") -> Фасоль продовольственная | C9: {=IFERROR(INDEX('10. Свод Перечней'!$C$4:$C$529,SMALL(IF("В"='10. Свод Перечней'!$I$4:$Q$529,ROW('10. Свод Перечней'!$C$4:$C$529)-3,""),ROW()-6)),"")} -> Фасоль продовольственная тип 2 | D9: =IFERROR(VLOOKUP(C9,'10. Свод Перечней'!C:H,2,0),"") -> 01.11.71.110 | E9: =IFERROR(VLOOKUP(C9,'10. Свод Перечней'!C:H,3,0),"") -> 001 | F9: =IFERROR(VLOOKUP(C9,'10. Свод Перечней'!C:H,4,0),"") -> КГ | G9: =IFERROR(VLOOKUP(C9,'10. Свод Перечней'!C:H,5,0),"") -> Номер и наименование типа фасоли: I. Фасоль белая; II. Фасоль цветная однотонная; III. Фасоль цветная пестрая Вес: не более 1 КГ Упаковка производителя: Наличие Соответствие нормативно-технической документации: Технический регламент Таможенного союза "О безопасности упаковки" от 16.08.2011 ТР ТС № 005/2011, Технический регламент Таможенного союза "О безопасности пищевой продукции" от 09.12.2011 № 021/2011, Технический регламент Таможенного союза "Пищевая продукция в части ее маркировки" от 09.12.2011 № 022/2011, ГОСТ 7758-2020 | H9: =IF(LEN(IFERROR(VLOOKUP(C9,'10. Свод Перечней'!C:H,6,0),""))>1,IFERROR(VLOOKUP(C9,'10. Свод Перечней'!C:H,6,0),""),"") -> 01.11.71.110-00000001, 01.11.71.110-00000002, 01.11.71.110-00000003
A10: =IF(LEN(C10)>0,MAX($A$6:A9)+1,"") -> 4 | B10: =IFERROR(INDEX('10. Свод Перечней'!B:C,MATCH(C10,'10. Свод Перечней'!C:C,0),1),"") -> Чечевица | C10: {=IFERROR(INDEX('10. Свод Перечней'!$C$4:$C$529,SMALL(IF("В"='10. Свод Перечней'!$I$4:$Q$529,ROW('10. Свод Перечней'!$C$4:$C$529)-3,""),ROW()-6)),"")} -> Чечевица продовольственная тип 1 | D10: =IFERROR(VLOOKUP(C10,'10. Свод Перечней'!C:H,2,0),"") -> 01.11.74.110 | E10: =IFERROR(VLOOKUP(C10,'10. Свод Перечней'!C:H,3,0),"") -> 002 | F10: =IFERROR(VLOOKUP(C10,'10. Свод Перечней'!C:H,4,0),"") -> КГ | G10: =IFERROR(VLOOKUP(C10,'10. Свод Перечней'!C:H,5,0),"") -> Тип чечевицы: Красная; Коричневая; Неоднородная; Светло-зеленая; Темно-зеленая Фасовка: Весовая Соответствие нормативно-технической документации: Технический регламент Таможенного союза "О безопасности упаковки" от 16.08.2011 ТР ТС № 005/2011, Технический регламент Таможенного союза "О безопасности пищевой продукции" от 09.12.2011 № 021/2011, Технический регламент Таможенного союза "Пищевая продукция в части ее маркировки" от 09.12.2011 № 022/2011, ГОСТ 7066-2019 | H10: =IF(LEN(IFERROR(VLOOKUP(C10,'10. Свод Перечней'!C:H,6,0),""))>1,IFERROR(VLOOKUP(C10,'10. Свод Перечней'!C:H,6,0),""),"") -> 01.11.74.110-00000001, 01.11.74.110-00000002, 01.11.74.110-00000003, 01.11.74.110-00000004, 01.11.74.110-00000005
A11: =IF(LEN(C11)>0,MAX($A$6:A10)+1,"") -> 5 | B11: =IFERROR(INDEX('10. Свод Перечней'!B:C,MATCH(C11,'10. Свод Перечней'!C:C,0),1),"") -> Чечевица | C11: {=IFERROR(INDEX('10. Свод Перечней'!$C$4:$C$529,SMALL(IF("В"='10. Свод Перечней'!$I$4:$Q$529,ROW('10. Свод Перечней'!$C$4:$C$529)-3,""),ROW()-6)),"")} -> Чечевица продовольственная тип 2 | D11: =IFERROR(VLOOKUP(C11,'10. Свод Перечней'!C:H,2,0),"") -> 01.11.74.110 | E11: =IFERROR(VLOOKUP(C11,'10. Свод Перечней'!C:H,3,0),"") -> 001 | F11: =IFERROR(VLOOKUP(C11,'10. Свод Перечней'!C:H,4,0),"") -> КГ | G11: =IFERROR(VLOOKUP(C11,'10. Свод Перечней'!C:H,5,0),"") -> Тип чечевицы: Красная; Коричневая; Неоднородная; Светло-зеленая; Темно-зеленая Вес: не более 1 КГ Упаковка производителя: Наличие Соответствие нормативно-технической документации: Технический регламент Таможенного союза "О безопасности упаковки" от 16.08.2011 ТР ТС № 005/2011, Технический регламент Таможенного союза "О безопасности пищевой продукции" от 09.12.2011 № 021/2011, Технический регламент Таможенного союза "Пищевая продукция в части ее маркировки" от 09.12.2011 № 022/2011, ГОСТ 7066-2019 | H11: =IF(LEN(IFERROR(VLOOKUP(C11,'10. Свод Перечней'!C:H,6,0),""))>1,IFERROR(VLOOKUP(C11,'10. Свод Перечней'!C:H,6,0),""),"") -> 01.11.74.110-00000001, 01.11.74.110-00000002, 01.11.74.110-00000003, 01.11.74.110-00000004, 01.11.74.110-00000005
A12: =IF(LEN(C12)>0,MAX($A$6:A11)+1,"") -> 6 | B12: =IFERROR(INDEX('10. Свод Перечней'!B:C,MATCH(C12,'10. Свод Перечней'!C:C,0),1),"") -> Горох шлифованный | C12: {=IFERROR(INDEX('10. Свод Перечней'!$C$4:$C$529,SMALL(IF("В"='10. Свод Перечней'!$I$4:$Q$529,ROW('10. Свод Перечней'!$C$4:$C$529)-3,""),ROW()-6)),"")} -> Горох шлифованный тип 1 | D12: =IFERROR(VLOOKUP(C12,'10. Свод Перечней'!C:H,2,0),"") -> 01.11.75.110 | E12: =IFERROR(VLOOKUP(C12,'10. Свод Перечней'!C:H,3,0),"") -> 001 | F12: =IFERROR(VLOOKUP(C12,'10. Свод Перечней'!C:H,4,0),"") -> КГ | G12: =IFERROR(VLOOKUP(C12,'10. Свод Перечней'!C:H,5,0),"") -> Вид зерна: Целое Сорт: Не ниже первого Вес: не более 1 КГ Упаковка производителя: Наличие Соответствие нормативно-технической документации: Технический регламент Таможенного союза "О безопасности упаковки" от 16.08.2011 ТР ТС № 005/2011, Технический регламент Таможенного союза "О безопасности пищевой продукции" от 09.12.2011 № 021/2011, Технический регламент Таможенного союза "Пищевая продукция в части ее маркировки" от 09.12.2011 № 022/2011, ГОСТ 6201-20 | H12: =IF(LEN(IFERROR(VLOOKUP(C12,'10. Свод Перечней'!C:H,6,0),""))>1,IFERROR(VLOOKUP(C12,'10. Свод Перечней'!C:H,6,0),""),"") -> 01.11.75.110-00000002
A13: =IF(LEN(C13)>0,MAX($A$6:A12)+1,"") -> 7 | B13: =IFERROR(INDEX('10. Свод Перечней'!B:C,MATCH(C13,'10. Свод Перечней'!C:C,0),1),"") -> Горох шлифованный | C13: {=IFERROR(INDEX('10. Свод Перечней'!$C$4:$C$529,SMALL(IF("В"='10. Свод Перечней'!$I$4:$Q$529,ROW('10. Свод Перечней'!$C$4:$C$529)-3,""),ROW()-6)),"")} -> Горох шлифованный тип 2 | D13: =IFERROR(VLOOKUP(C13,'10. Свод Перечней'!C:H,2,0),"") -> 01.11.75.110 | E13: =IFERROR(VLOOKUP(C13,'10. Свод Перечней'!C:H,3,0),"") -> 002 | F13: =IFERROR(VLOOKUP(C13,'10. Свод Перечней'!C:H,4,0),"") -> КГ | G13: =IFERROR(VLOOKUP(C13,'10. Свод Перечней'!C:H,5,0),"") -> Вид зерна: Целое Сорт: Не ниже первого Фасовка: Весовая Соответствие нормативно-технической документации: Технический регламент Таможенного союза "О безопасности упаковки" от 16.08.2011 ТР ТС № 005/2011, Технический регламент Таможенного союза "О безопасности пищевой продукции" от 09.12.2011 № 021/2011, Технический регламент Таможенного союза "Пищевая продукция в части ее маркировки" от 09.12.2011 № 022/2011, ГОСТ 6201-20 | H13: =IF(LEN(IFERROR(VLOOKUP(C13,'10. Свод Перечней'!C:H,6,0),""))>1,IFERROR(VLOOKUP(C13,'10. Свод Перечней'!C:H,6,0),""),"") -> 01.11.75.110-00000002
A14: =IF(LEN(C14)>0,MAX($A$6:A13)+1,"") -> 8 | B14: =IFERROR(INDEX('10. Свод Перечней'!B:C,MATCH(C14,'10. Свод Перечней'!C:C,0),1),"") -> Орехи тип 5 | C14: {=IFERROR(INDEX('10. Свод Перечней'!$C$4:$C$529,SMALL(IF("В"='10. Свод Перечней'!$I$4:$Q$529,ROW('10. Свод Перечней'!$C$4:$C$529)-3,""),ROW()-6)),"")} -> Орехи тип 5 | D14: =IFERROR(VLOOKUP(C14,'10. Свод Перечней'!C:H,2,0),"") -> 01.11.83.000 | E14: =IFERROR(VLOOKUP(C14,'10. Свод Перечней'!C:H,3,0),"") -> 001 | F14: =IFERROR(VLOOKUP(C14,'10. Свод Перечней'!C:H,4,0),"") -> КГ | G14: =IFERROR(VLOOKUP(C14,'10. Свод Перечней'!C:H,5,0),"") -> Тип: Арахис Вид: Ядра очищенные Вид по способу обработки: Сырой; Жареный Вес: не более 0,1 КГ Упаковка производителя: Наличие Сорт: Высший; Первый Соответствие нормативно-технической документации: Технический регламент Таможенного союза "О безопасности упаковки" от 16.08.2011 ТР ТС № 005/2011, Технический регламент Таможенного союза "О безопасности пищевой продукции" от 09.12.2011 № 021/2011, Технический регламент Таможенного союза "Пищевая продукция в части ее маркировки" от 09.12.2011 № 022/2011, ГОСТ 31784-2012, ТУ производителя | H14: =IF(LEN(IFERROR(VLOOKUP(C14,'10. Свод Перечней'!C:H,6,0),""))>1,IFERROR(VLOOKUP(C14,'10. Свод Перечней'!C:H,6,0),""),"")
A15: =IF(LEN(C15)>0,MAX($A$6:A14)+1,"") -> 9 | B15: =IFERROR(INDEX('10. Свод Перечней'!B:C,MATCH(C15,'10. Свод Перечней'!C:C,0),1),"") -> Капуста брюссельская свежая | C15: {=IFERROR(INDEX('10. Свод Перечней'!$C$4:$C$529,SMALL(IF("В"='10. Свод Перечней'!$I$4:$Q$529,ROW('10. Свод Перечней'!$C$4:$C$529)-3,""),ROW()-6)),"")} -> Капуста брюссельская тип 1 | D15: =IFERROR(VLOOKUP(C15,'10. Свод Перечней'!C:H,2,0),"") -> 01.13.12.110 | E15: =IFERROR(VLOOKUP(C15,'10. Свод Перечней'!C:H,3,0),"") -> 001 | F15: =IFERROR(VLOOKUP(C15,'10. Свод Перечней'!C:H,4,0),"") -> КГ | G15: =IFERROR(VLOOKUP(C15,'10. Свод Перечней'!C:H,5,0),"") -> Вид: Свежая Фасовка: Весовая Соответствие нормативно-технической документации: Технический регламент Таможенного союза "О безопасности упаковки" от 16.08.2011 ТР ТС № 005/2011, Технический регламент Таможенного союза "О безопасности пищевой продукции" от 09.12.2011 № 021/2011, Технический регламент Таможенного союза "Пищевая продукция в части ее маркировки" от 09.12.2011 № 022/2011, ГОСТ 33851-2016 | H15: =IF(LEN(IFERROR(VLOOKUP(C15,'10. Свод Перечней'!C:H,6,0),""))>1,IFERROR(VLOOKUP(C15,'10. Свод Перечней'!C:H,6,0),""),"")
A16: =IF(LEN(C16)>0,MAX($A$6:A15)+1,"") -> 10 | B16: =IFERROR(INDEX('10. Свод Перечней'!B:C,MATCH(C16,'10. Свод Перечней'!C:C,0),1),"") -> Капуста белокочанная свежая | C16: {=IFERROR(INDEX('10. Свод Перечней'!$C$4:$C$529,SMALL(IF("В"='10. Свод Перечней'!$I$4:$Q$529,ROW('10. Свод Перечней'!$C$4:$C$529)-3,""),ROW()-6)),"")} -> Капуста белокочанная тип 1 | D16: =IFERROR(VLOOKUP(C16,'10. Свод Перечней'!C:H,2,0),"") -> 01.13.12.120 | E16: =IFERROR(VLOOKUP(C16,'10. Свод Перечней'!C:H,3,0),"") -> 001 | F16: =IFERROR(VLOOKUP(C16,'10. Свод Перечней'!C:H,4,0),"") -> КГ | G16: =IFERROR(VLOOKUP(C16,'10. Свод Перечней'!C:H,5,0),"") -> Капуста очищенная: Нет Вид капусты по сроку созревания: Среднеспелая; Позднеспелая; Среднепоздняя Товарный класс: Первый Вид: Свежая Фасовка: Весовая Соответствие нормативно-технической документации: Технический регламент Таможенного союза "О безопасности упаковки" от 16.08.2011 ТР ТС № 005/2011, Технический регламент Таможенного союза "О безопасности пищевой продукции" от 09.12.2011 № 021/2011, Технический регламент Таможенного союза "Пищевая продукция в части ее маркировки" от 09.12.2011 № 022/2011, ГОСТ Р 51809-2001 | H16: =IF(LEN(IFERROR(VLOOKUP(C16,'10. Свод Перечней'!C:H,6,0),""))>1,IFERROR(VLOOKUP(C16,'10. Свод Перечней'!C:H,6,0),""),"") -> 01.13.12.120-00000002
A17: =IF(LEN(C17)>0,MAX($A$6:A16)+1,"") -> 11 | B17: =IFERROR(INDEX('10. Свод Перечней'!B:C,MATCH(C17,'10. Свод Перечней'!C:C,0),1),"") -> Капуста белокочанная свежая | C17: {=IFERROR(INDEX('10. Свод Перечней'!$C$4:$C$529,SMALL(IF("В"='10. Свод Перечней'!$I$4:$Q$529,ROW('10. Свод Перечней'!$C$4:$C$529)-3,""),ROW()-6)),"")} -> Капуста белокочанная тип 2 | D17: =IFERROR(VLOOKUP(C17,'10. Свод Перечней'!C:H,2,0),"") -> 01.13.12.120 | E17: =IFERROR(VLOOKUP(C17,'10. Свод Перечней'!C:H,3,0),"") -> 002 | F17: =IFERROR(VLOOKUP(C17,'10. Свод Перечней'!C:H,4,0),"") -> КГ | G17: =IFERROR(VLOOKUP(C17,'10. Свод Перечней'!C:H,5,0),"") -> Капуста очищенная: Нет Вид капусты по сроку созревания: Раннеспелая Товарный класс: Первый Вид: Свежая Фасовка: Весовая Соответствие нормативно-технической документации: Технический регламент Таможенного союза "О безопасности упаковки" от 16.08.2011 ТР ТС № 005/2011, Технический регламент Таможенного союза "О безопасности пищевой продукции" от 09.12.2011 № 021/2011, Технический регламент Таможенного союза "Пищевая продукция в части ее маркировки" от 09.12.2011 № 022/2011, ГОСТ Р 51809-2001 | H17: =IF(LEN(IFERROR(VLOOKUP(C17,'10. Свод Перечней'!C:H,6,0),""))>1,IFERROR(VLOOKUP(C17,'10. Свод Перечней'!C:H,6,0),""),"") -> 01.13.12.120-00000002
A18: =IF(LEN(C18)>0,MAX($A$6:A17)+1,"") -> 12 | B18: =IFERROR(INDEX('10. Свод Перечней'!B:C,MATCH(C18,'10. Свод Перечней'!C:C,0),1),"") -> Капуста краснокочанная свежая | C18: {=IFERROR(INDEX('10. Свод Перечней'!$C$4:$C$529,SMALL(IF("В"='10. Свод Перечней'!$I$4:$Q$529,ROW('10. Свод Перечней'!$C$4:$C$529)-3,""),ROW()-6)),"")} -> Капуста краснокочанная тип 1 | D18: =IFERROR(VLOOKUP(C18,'10. Свод Перечней'!C:H,2,0),"") -> 01.13.12.130 | E18: =IFERROR(VLOOKUP(C18,'10. Свод Перечней'!C:H,3,0),"") -> 001 | F18: =IFERROR(VLOOKUP(C18,'10. Свод Перечней'!C:H,4,0),"") -> КГ | G18: =IFERROR(VLOOKUP(C18,'10. Свод Перечней'!C:H,5,0),"") -> Вид: Свежая Фасовка: Весовая Соответствие нормативно-технической документации: Технический регламент Таможенного союза "О безопасности упаковки" от 16.08.2011 ТР ТС № 005/2011, Технический регламент Таможенного союза "О безопасности пищевой продукции" от 09.12.2011 № 021/2011, Технический регламент Таможенного союза "Пищевая продукция в части ее маркировки" от 09.12.2011 № 022/2011, ГОСТ 7967-2015 | H18: =IF(LEN(IFERROR(VLOOKUP(C18,'10. Свод Перечней'!C:H,6,0),""))>1,IFERROR(VLOOKUP(C18,'10. Свод Перечней'!C:H,6,0),""),"")
A19: =IF(LEN(C19)>0,MAX($A$6:A18)+1,"") -> 13 | B19: =IFERROR(INDEX('10. Свод Перечней'!B:C,MATCH(C19,'10. Свод Перечней'!C:C,0),1),"") -> Капуста савойская свежая | C19: {=IFERROR(INDEX('10. Свод Перечней'!$C$4:$C$529,SMALL(IF("В"='10. Свод Перечней'!$I$4:$Q$529,ROW('10. Свод Перечней'!$C$4:$C$529)-3,""),ROW()-6)),"")} -> Капуста савойская тип 1 | D19: =IFERROR(VLOOKUP(C19,'10. Свод Перечней'!C:H,2,0),"") -> 01.13.12.140 | E19: =IFERROR(VLOOKUP(C19,'10. Свод Перечней'!C:H,3,0),"") -> 001 | F19: =IFERROR(VLOOKUP(C19,'10. Свод Перечней'!C:H,4,0),"") -> КГ | G19: =IFERROR(VLOOKUP(C19,'10. Свод Перечней'!C:H,5,0),"") -> Вид: Свежая Фасовка: Весовая Соответствие нормативно-технической документации: Технический регламент Таможенного союза "О безопасности упаковки" от 16.08.2011 ТР ТС № 005/2011, Технический регламент Таможенного союза "О безопасности пищевой продукции" от 09.12.2011 № 021/2011, Технический регламент Таможенного союза "Пищевая продукция в части ее маркировки" от 09.12.2011 № 022/2011, ГОСТ 33551-2015, РСТ РСФСР 744-88 | H19: =IF(LEN(IFERROR(VLOOKUP(C19,'10. Свод Перечней'!C:H,6,0),""))>1,IFERROR(VLOOKUP(C19,'10. Свод Перечней'!C:H,6,0),""),"")
... A500: =IF(LEN(C500)>0,MAX($A$6:A499)+1,"") -> 494 | B500: =IFERROR(INDEX('10. Свод Перечней'!B:C,MATCH(C500,'10. Свод Перечней'!C:C,0),1),"") -> Хлебцы рисовые безглютеновые | C500: {=IFERROR(INDEX('10. Свод Перечней'!$C$4:$C$529,SMALL(IF("В"='10. Свод Перечней'!$I$4:$Q$529,ROW('10. Свод Перечней'!$C$4:$C$529)-3,""),ROW()-6)),"")} -> Хлебцы рисовые безглютеновые тип 3 | D500: =IFERROR(VLOOKUP(C500,'10. Свод Перечней'!C:H,2,0),"") -> 10.72.11.130 | E500: =IFERROR(VLOOKUP(C500,'10. Свод Перечней'!C:H,3,0),"") -> 003 | F500: =IFERROR(VLOOKUP(C500,'10. Свод Перечней'!C:H,4,0),"") -> КГ | G500: =IFERROR(VLOOKUP(C500,'10. Свод Перечней'!C:H,5,0),"") -> Вид сырья: Крупа рисовая Глютен в составе: Отсутствие Особые условия (требования к составу пищевых продуктов): Без химических консервантов, искусственных красителей и ароматизаторов, искусственных пищевых добавок Вес: не более 100 Г Упаковка производителя: Наличие Соответствие нормативно-технической документации: Технический регламент Таможенного союза "О безопасности упаковки" от 16.08.2011 ТР ТС № 005/2011, Технический регламент Таможенного союза "О безопасности пищевой продукции" от 09.12.2011 № 021/2011, Технический регламент Таможенного союза "Пищевая продукция в части ее маркировки" от 09.12.2011 № 022/2011,ТУ производителя | H500: =IF(LEN(IFERROR(VLOOKUP(C500,'10. Свод Перечней'!C:H,6,0),""))>1,IFERROR(VLOOKUP(C500,'10. Свод Перечней'!C:H,6,0),""),"") -> 10.72.11.130-00000002
C501: {=IFERROR(INDEX('10. Свод Перечней'!$C$4:$C$506,SMALL(IF("В"='10. Свод Перечней'!I504:Q992,ROW('10. Свод Перечней'!C504:C992)-3,""),ROW()-6)),"")}
C502: {=IFERROR(INDEX('10. Свод Перечней'!$C$4:$C$506,SMALL(IF("В"='10. Свод Перечней'!I505:Q993,ROW('10. Свод Перечней'!C505:C993)-3,""),ROW()-6)),"")}
C503: {=IFERROR(INDEX('10. Свод Перечней'!$C$4:$C$506,SMALL(IF("В"='10. Свод Перечней'!I506:Q994,ROW('10. Свод Перечней'!C506:C994)-3,""),ROW()-6)),"")}
C504: {=IFERROR(INDEX('10. Свод Перечней'!$C$4:$C$506,SMALL(IF("В"='10. Свод Перечней'!I507:Q995,ROW('10. Свод Перечней'!C507:C995)-3,""),ROW()-6)),"")}
C505: {=IFERROR(INDEX('10. Свод Перечней'!$C$4:$C$506,SMALL(IF("В"='10. Свод Перечней'!I508:Q996,ROW('10. Свод Перечней'!C508:C996)-3,""),ROW()-6)),"")}
C506: {=IFERROR(INDEX('10. Свод Перечней'!$C$4:$C$506,SMALL(IF("В"='10. Свод Перечней'!I509:Q997,ROW('10. Свод Перечней'!C509:C997)-3,""),ROW()-6)),"")}
C507: {=IFERROR(INDEX('10. Свод Перечней'!$C$4:$C$506,SMALL(IF("В"='10. Свод Перечней'!I510:Q998,ROW('10. Свод Перечней'!C510:C998)-3,""),ROW()-6)),"")}
C508: {=IFERROR(INDEX('10. Свод Перечней'!$C$4:$C$506,SMALL(IF("В"='10. Свод Перечней'!I511:Q999,ROW('10. Свод Перечней'!C511:C999)-3,""),ROW()-6)),"")}
C509: {=IFERROR(INDEX('10. Свод Перечней'!$C$4:$C$506,SMALL(IF("В"='10. Свод Перечней'!I512:Q1000,ROW('10. Свод Перечней'!C512:C1000)-3,""),ROW()-6)),"")}
C510: {=IFERROR(INDEX('10. Свод Перечней'!$C$4:$C$506,SMALL(IF("В"='10. Свод Перечней'!I513:Q1001,ROW('10. Свод Перечней'!C513:C1001)-3,""),ROW()-6)),"")}
C511: {=IFERROR(INDEX('10. Свод Перечней'!$C$4:$C$506,SMALL(IF("В"='10. Свод Перечней'!I514:Q1002,ROW('10. Свод Перечней'!C514:C1002)-3,""),ROW()-6)),"")}
C512: {=IFERROR(INDEX('10. Свод Перечней'!$C$4:$C$506,SMALL(IF("В"='10. Свод Перечней'!I515:Q1003,ROW('10. Свод Перечней'!C515:C1003)-3,""),ROW()-6)),"")}
C513: {=IFERROR(INDEX('10. Свод Перечней'!$C$4:$C$506,SMALL(IF("В"='10. Свод Перечней'!I529:Q1004,ROW('10. Свод Перечней'!C529:C1004)-3,""),ROW()-6)),"")}
C514: {=IFERROR(INDEX('10. Свод Перечней'!$C$4:$C$506,SMALL(IF("В"='10. Свод Перечней'!I278:Q1005,ROW('10. Свод Перечней'!C278:C1005)-3,""),ROW()-6)),"")}
C515: {=IFERROR(INDEX('10. Свод Перечней'!$C$4:$C$506,SMALL(IF("В"='10. Свод Перечней'!I272:Q1006,ROW('10. Свод Перечней'!C272:C1006)-3,""),ROW()-6)),"")}
C516: {=IFERROR(INDEX('10. Свод Перечней'!$C$4:$C$506,SMALL(IF("В"='10. Свод Перечней'!I531:Q1007,ROW('10. Свод Перечней'!C531:C1007)-3,""),ROW()-6)),"")}
C517: {=IFERROR(INDEX('10. Свод Перечней'!$C$4:$C$506,SMALL(IF("В"='10. Свод Перечней'!I531:Q1008,ROW('10. Свод Перечней'!C531:C1008)-3,""),ROW()-6)),"")}
C518: {=IFERROR(INDEX('10. Свод Перечней'!$C$4:$C$506,SMALL(IF("В"='10. Свод Перечней'!I531:Q1009,ROW('10. Свод Перечней'!C531:C1009)-3,""),ROW()-6)),"")}
C519: {=IFERROR(INDEX('10. Свод Перечней'!$C$4:$C$506,SMALL(IF("В"='10. Свод Перечней'!I531:Q1010,ROW('10. Свод Перечней'!C531:C1010)-3,""),ROW()-6)),"")}
C520: {=IFERROR(INDEX('10. Свод Перечней'!$C$4:$C$506,SMALL(IF("В"='10. Свод Перечней'!I531:Q1011,ROW('10. Свод Перечней'!C531:C1011)-3,""),ROW()-6)),"")}
C521: {=IFERROR(INDEX('10. Свод Перечней'!$C$4:$C$506,SMALL(IF("В"='10. Свод Перечней'!I531:Q1012,ROW('10. Свод Перечней'!C531:C1012)-3,""),ROW()-6)),"")}
...

Sheet 2. Здрав Взрослые
A2: Дата актуализации ассортиментного перечня «01» июня 2023 г
A3: Ассортиментный перечень основных групп продовольственных товаров и сырья для обеспечения социального питания в лечебно-профилактических и санаторно-курортных учреждениях здравоохранения Санкт-Петербурга (для взрослых)
A4: Примечание! * - Продукция предназначенная для лечебного, специального питания ** - предназначенные для использования в питании после термической обработки. Информацию о действующей нормативной документации, а также изменениях вносимых в национальные стандарты можно получить в Управлении социального питания по телефонам 417-35-50, 417-35-52 и на сайте Управления по адресу: http://www.gov.spb.ru, вкладка «Нормативные документы».
A5: № | B5: Потребительское наименование товара | C5: Название товара ККН/КТРУ | D5: ОКПД2 | E5: Детализация ККН | F5: Единица измерения ККН | G5: Характеристики товара | H5: Код КТРУ
A6: 1 | B6: 2 | C6: 2 | D6: 3 | E6: 4 | F6: 5 | G6: 6 | H6: 7
A7: 1 | B7: =IFERROR(INDEX('10. Свод Перечней'!B:C,MATCH(C7,'10. Свод Перечней'!C:C,0),1),"") -> Фасоль овощная свежая | C7: {=IFERROR(INDEX('10. Свод Перечней'!$C$4:$C$529,SMALL(IF("ЗВ"='10. Свод Перечней'!$I$4:$Q$529,ROW('10. Свод Перечней'!$C$4:$C$529)-3,""),ROW()-6)),"")} -> Фасоль тип 1 | D7: =IFERROR(VLOOKUP(C7,'10. Свод Перечней'!C:H,2,0),"") -> 01.11.61.000 | E7: =IFERROR(VLOOKUP(C7,'10. Свод Перечней'!C:H,3,0),"") -> 001 | F7: =IFERROR(VLOOKUP(C7,'10. Свод Перечней'!C:H,4,0),"") -> КГ | G7: =IFERROR(VLOOKUP(C7,'10. Свод Перечней'!C:H,5,0),"") -> Тип: Овощная Вид: Свежая Сорт: Высший; Первый Фасовка: Весовая Соответствие нормативно-технической документации: Технический регламент Таможенного союза "О безопасности упаковки" от 16.08.2011 ТР ТС № 005/2011, Технический регламент Таможенного союза "О безопасности пищевой продукции" от 09.12.2011 № 021/2011, Технический регламент Таможенного союза "Пищевая продукция в части ее маркировки" от 09.12.2011 № 022/2011, ГОСТ 34299-2017 | H7: =IF(LEN(IFERROR(VLOOKUP(C7,'10. Свод Перечней'!C:H,6,0),""))>1,IFERROR(VLOOKUP(C7,'10. Свод Перечней'!C:H,6,0),""),"")
A8: =IF(LEN(C8)>0,MAX($A$6:A7)+1,"") -> 2 | B8: =IFERROR(INDEX('10. Свод Перечней'!B:C,MATCH(C8,'10. Свод Перечней'!C:C,0),1),"") -> Фасоль продовольственная | C8: {=IFERROR(INDEX('10. Свод Перечней'!$C$4:$C$529,SMALL(IF("ЗВ"='10. Свод Перечней'!$I$4:$Q$529,ROW('10. Свод Перечней'!$C$4:$C$529)-3,""),ROW()-6)),"")} -> Фасоль продовольственная тип 1 | D8: =IFERROR(VLOOKUP(C8,'10. Свод Перечней'!C:H,2,0),"") -> 01.11.71.110 | E8: =IFERROR(VLOOKUP(C8,'10. Свод Перечней'!C:H,3,0),"") -> 002 | F8: =IFERROR(VLOOKUP(C8,'10. Свод Перечней'!C:H,4,0),"") -> КГ | G8: =IFERROR(VLOOKUP(C8,'10. Свод Перечней'!C:H,5,0),"") -> Номер и наименование типа фасоли: I. Фасоль белая; II. Фасоль цветная однотонная; III. Фасоль цветная пестрая Фасовка: Весовая Соответствие нормативно-технической документации: Технический регламент Таможенного союза "О безопасности упаковки" от 16.08.2011 ТР ТС № 005/2011, Технический регламент Таможенного союза "О безопасности пищевой продукции" от 09.12.2011 № 021/2011, Технический регламент Таможенного союза "Пищевая продукция в части ее маркировки" от 09.12.2011 № 022/2011, ГОСТ 7758-2020 | H8: =IF(LEN(IFERROR(VLOOKUP(C8,'10. Свод Перечней'!C:H,6,0),""))>1,IFERROR(VLOOKUP(C8,'10. Свод Перечней'!C:H,6,0),""),"") -> 01.11.71.110-00000001, 01.11.71.110-00000002, 01.11.71.110-00000003
A9: =IF(LEN(C9)>0,MAX($A$6:A8)+1,"") -> 3 | B9: =IFERROR(INDEX('10. Свод Перечней'!B:C,MATCH(C9,'10. Свод Перечней'!C:C,0),1),"") -> Фасоль продовольственная | C9: {=IFERROR(INDEX('10. Свод Перечней'!$C$4:$C$529,SMALL(IF("ЗВ"='10. Свод Перечней'!$I$4:$Q$529,ROW('10. Свод Перечней'!$C$4:$C$529)-3,""),ROW()-6)),"")} -> Фасоль продовольственная тип 2 | D9: =IFERROR(VLOOKUP(C9,'10. Свод Перечней'!C:H,2,0),"") -> 01.11.71.110 | E9: =IFERROR(VLOOKUP(C9,'10. Свод Перечней'!C:H,3,0),"") -> 001 | F9: =IFERROR(VLOOKUP(C9,'10. Свод Перечней'!C:H,4,0),"") -> КГ | G9: =IFERROR(VLOOKUP(C9,'10. Свод Перечней'!C:H,5,0),"") -> Номер и наименование типа фасоли: I. Фасоль белая; II. Фасоль цветная однотонная; III. Фасоль цветная пестрая Вес: не более 1 КГ Упаковка производителя: Наличие Соответствие нормативно-технической документации: Технический регламент Таможенного союза "О безопасности упаковки" от 16.08.2011 ТР ТС № 005/2011, Технический регламент Таможенного союза "О безопасности пищевой продукции" от 09.12.2011 № 021/2011, Технический регламент Таможенного союза "Пищевая продукция в части ее маркировки" от 09.12.2011 № 022/2011, ГОСТ 7758-2020 | H9: =IF(LEN(IFERROR(VLOOKUP(C9,'10. Свод Перечней'!C:H,6,0),""))>1,IFERROR(VLOOKUP(C9,'10. Свод Перечней'!C:H,6,0),""),"") -> 01.11.71.110-00000001, 01.11.71.110-00000002, 01.11.71.110-00000003
A10: =IF(LEN(C10)>0,MAX($A$6:A9)+1,"") -> 4 | B10: =IFERROR(INDEX('10. Свод Перечней'!B:C,MATCH(C10,'10. Свод Перечней'!C:C,0),1),"") -> Чечевица | C10: {=IFERROR(INDEX('10. Свод Перечней'!$C$4:$C$529,SMALL(IF("ЗВ"='10. Свод Перечней'!$I$4:$Q$529,ROW('10. Свод Перечней'!$C$4:$C$529)-3,""),ROW()-6)),"")} -> Чечевица продовольственная тип 1 | D10: =IFERROR(VLOOKUP(C10,'10. Свод Перечней'!C:H,2,0),"") -> 01.11.74.110 | E10: =IFERROR(VLOOKUP(C10,'10. Свод Перечней'!C:H,3,0),"") -> 002 | F10: =IFERROR(VLOOKUP(C10,'10. Свод Перечней'!C:H,4,0),"") -> КГ | G10: =IFERROR(VLOOKUP(C10,'10. Свод Перечней'!C:H,5,0),"") -> Тип чечевицы: Красная; Коричневая; Неоднородная; Светло-зеленая; Темно-зеленая Фасовка: Весовая Соответствие нормативно-технической документации: Технический регламент Таможенного союза "О безопасности упаковки" от 16.08.2011 ТР ТС № 005/2011, Технический регламент Таможенного союза "О безопасности пищевой продукции" от 09.12.2011 № 021/2011, Технический регламент Таможенного союза "Пищевая продукция в части ее маркировки" от 09.12.2011 № 022/2011, ГОСТ 7066-2019 | H10: =IF(LEN(IFERROR(VLOOKUP(C10,'10. Свод Перечней'!C:H,6,0),""))>1,IFERROR(VLOOKUP(C10,'10. Свод Перечней'!C:H,6,0),""),"") -> 01.11.74.110-00000001, 01.11.74.110-00000002, 01.11.74.110-00000003, 01.11.74.110-00000004, 01.11.74.110-00000005
A11: =IF(LEN(C11)>0,MAX($A$6:A10)+1,"") -> 5 | B11: =IFERROR(INDEX('10. Свод Перечней'!B:C,MATCH(C11,'10. Свод Перечней'!C:C,0),1),"") -> Чечевица | C11: {=IFERROR(INDEX('10. Свод Перечней'!$C$4:$C$529,SMALL(IF("ЗВ"='10. Свод Перечней'!$I$4:$Q$529,ROW('10. Свод Перечней'!$C$4:$C$529)-3,""),ROW()-6)),"")} -> Чечевица продовольственная тип 2 | D11: =IFERROR(VLOOKUP(C11,'10. Свод Перечней'!C:H,2,0),"") -> 01.11.74.110 | E11: =IFERROR(VLOOKUP(C11,'10. Свод Перечней'!C:H,3,0),"") -> 001 | F11: =IFERROR(VLOOKUP(C11,'10. Свод Перечней'!C:H,4,0),"") -> КГ | G11: =IFERROR(VLOOKUP(C11,'10. Свод Перечней'!C:H,5,0),"") -> Тип чечевицы: Красная; Коричневая; Неоднородная; Светло-зеленая; Темно-зеленая Вес: не более 1 КГ Упаковка производителя: Наличие Соответствие нормативно-технической документации: Технический регламент Таможенного союза "О безопасности упаковки" от 16.08.2011 ТР ТС № 005/2011, Технический регламент Таможенного союза "О безопасности пищевой продукции" от 09.12.2011 № 021/2011, Технический регламент Таможенного союза "Пищевая продукция в части ее маркировки" от 09.12.2011 № 022/2011, ГОСТ 7066-2019 | H11: =IF(LEN(IFERROR(VLOOKUP(C11,'10. Свод Перечней'!C:H,6,0),""))>1,IFERROR(VLOOKUP(C11,'10. Свод Перечней'!C:H,6,0),""),"") -> 01.11.74.110-00000001, 01.11.74.110-00000002, 01.11.74.110-00000003, 01.11.74.110-00000004, 01.11.74.110-00000005
A12: =IF(LEN(C12)>0,MAX($A$6:A11)+1,"") -> 6 | B12: =IFERROR(INDEX('10. Свод Перечней'!B:C,MATCH(C12,'10. Свод Перечней'!C:C,0),1),"") -> Горох шлифованный | C12: {=IFERROR(INDEX('10. Свод Перечней'!$C$4:$C$529,SMALL(IF("ЗВ"='10. Свод Перечней'!$I$4:$Q$529,ROW('10. Свод Перечней'!$C$4:$C$529)-3,""),ROW()-6)),"")} -> Горох шлифованный тип 1 | D12: =IFERROR(VLOOKUP(C12,'10. Свод Перечней'!C:H,2,0),"") -> 01.11.75.110 | E12: =IFERROR(VLOOKUP(C12,'10. Свод Перечней'!C:H,3,0),"") -> 001 | F12: =IFERROR(VLOOKUP(C12,'10. Свод Перечней'!C:H,4,0),"") -> КГ | G12: =IFERROR(VLOOKUP(C12,'10. Свод Перечней'!C:H,5,0),"") -> Вид зерна: Целое Сорт: Не ниже первого Вес: не более 1 КГ Упаковка производителя: Наличие Соответствие нормативно-технической документации: Технический регламент Таможенного союза "О безопасности упаковки" от 16.08.2011 ТР ТС № 005/2011, Технический регламент Таможенного союза "О безопасности пищевой продукции" от 09.12.2011 № 021/2011, Технический регламент Таможенного союза "Пищевая продукция в части ее маркировки" от 09.12.2011 № 022/2011, ГОСТ 6201-20 | H12: =IF(LEN(IFERROR(VLOOKUP(C12,'10. Свод Перечней'!C:H,6,0),""))>1,IFERROR(VLOOKUP(C12,'10. Свод Перечней'!C:H,6,0),""),"") -> 01.11.75.110-00000002
A13: =IF(LEN(C13)>0,MAX($A$6:A12)+1,"") -> 7 | B13: =IFERROR(INDEX('10. Свод Перечней'!B:C,MATCH(C13,'10. Свод Перечней'!C:C,0),1),"") -> Горох шлифованный | C13: {=IFERROR(INDEX('10. Свод Перечней'!$C$4:$C$529,SMALL(IF("ЗВ"='10. Свод Перечней'!$I$4:$Q$529,ROW('10. Свод Перечней'!$C$4:$C$529)-3,""),ROW()-6)),"")} -> Горох шлифованный тип 2 | D13: =IFERROR(VLOOKUP(C13,'10. Свод Перечней'!C:H,2,0),"") -> 01.11.75.110 | E13: =IFERROR(VLOOKUP(C13,'10. Свод Перечней'!C:H,3,0),"") -> 002 | F13: =IFERROR(VLOOKUP(C13,'10. Свод Перечней'!C:H,4,0),"") -> КГ | G13: =IFERROR(VLOOKUP(C13,'10. Свод Перечней'!C:H,5,0),"") -> Вид зерна: Целое Сорт: Не ниже первого Фасовка: Весовая Соответствие нормативно-технической документации: Технический регламент Таможенного союза "О безопасности упаковки" от 16.08.2011 ТР ТС № 005/2011, Технический регламент Таможенного союза "О безопасности пищевой продукции" от 09.12.2011 № 021/2011, Технический регламент Таможенного союза "Пищевая продукция в части ее маркировки" от 09.12.2011 № 022/2011, ГОСТ 6201-20 | H13: =IF(LEN(IFERROR(VLOOKUP(C13,'10. Свод Перечней'!C:H,6,0),""))>1,IFERROR(VLOOKUP(C13,'10. Свод Перечней'!C:H,6,0),""),"") -> 01.11.75.110-00000002
A14: =IF(LEN(C14)>0,MAX($A$6:A13)+1,"") -> 8 | B14: =IFERROR(INDEX('10. Свод Перечней'!B:C,MATCH(C14,'10. Свод Перечней'!C:C,0),1),"") -> Капуста брюссельская свежая | C14: {=IFERROR(INDEX('10. Свод Перечней'!$C$4:$C$529,SMALL(IF("ЗВ"='10. Свод Перечней'!$I$4:$Q$529,ROW('10. Свод Перечней'!$C$4:$C$529)-3,""),ROW()-6)),"")} -> Капуста брюссельская тип 1 | D14: =IFERROR(VLOOKUP(C14,'10. Свод Перечней'!C:H,2,0),"") -> 01.13.12.110 | E14: =IFERROR(VLOOKUP(C14,'10. Свод Перечней'!C:H,3,0),"") -> 001 | F14: =IFERROR(VLOOKUP(C14,'10. Свод Перечней'!C:H,4,0),"") -> КГ | G14: =IFERROR(VLOOKUP(C14,'10. Свод Перечней'!C:H,5,0),"") -> Вид: Свежая Фасовка: Весовая Соответствие нормативно-технической документации: Технический регламент Таможенного союза "О безопасности упаковки" от 16.08.2011 ТР ТС № 005/2011, Технический регламент Таможенного союза "О безопасности пищевой продукции" от 09.12.2011 № 021/2011, Технический регламент Таможенного союза "Пищевая продукция в части ее маркировки" от 09.12.2011 № 022/2011, ГОСТ 33851-2016 | H14: =IF(LEN(IFERROR(VLOOKUP(C14,'10. Свод Перечней'!C:H,6,0),""))>1,IFERROR(VLOOKUP(C14,'10. Свод Перечней'!C:H,6,0),""),"")
A15: =IF(LEN(C15)>0,MAX($A$6:A14)+1,"") -> 9 | B15: =IFERROR(INDEX('10. Свод Перечней'!B:C,MATCH(C15,'10. Свод Перечней'!C:C,0),1),"") -> Капуста белокочанная свежая | C15: {=IFERROR(INDEX('10. Свод Перечней'!$C$4:$C$529,SMALL(IF("ЗВ"='10. Свод Перечней'!$I$4:$Q$529,ROW('10. Свод Перечней'!$C$4:$C$529)-3,""),ROW()-6)),"")} -> Капуста белокочанная тип 1 | D15: =IFERROR(VLOOKUP(C15,'10. Свод Перечней'!C:H,2,0),"") -> 01.13.12.120 | E15: =IFERROR(VLOOKUP(C15,'10. Свод Перечней'!C:H,3,0),"") -> 001 | F15: =IFERROR(VLOOKUP(C15,'10. Свод Перечней'!C:H,4,0),"") -> КГ | G15: =IFERROR(VLOOKUP(C15,'10. Свод Перечней'!C:H,5,0),"") -> Капуста очищенная: Нет Вид капусты по сроку созревания: Среднеспелая; Позднеспелая; Среднепоздняя Товарный класс: Первый Вид: Свежая Фасовка: Весовая Соответствие нормативно-технической документации: Технический регламент Таможенного союза "О безопасности упаковки" от 16.08.2011 ТР ТС № 005/2011, Технический регламент Таможенного союза "О безопасности пищевой продукции" от 09.12.2011 № 021/2011, Технический регламент Таможенного союза "Пищевая продукция в части ее маркировки" от 09.12.2011 № 022/2011, ГОСТ Р 51809-2001 | H15: =IF(LEN(IFERROR(VLOOKUP(C15,'10. Свод Перечней'!C:H,6,0),""))>1,IFERROR(VLOOKUP(C15,'10. Свод Перечней'!C:H,6,0),""),"") -> 01.13.12.120-00000002
A16: =IF(LEN(C16)>0,MAX($A$6:A15)+1,"") -> 10 | B16: =IFERROR(INDEX('10. Свод Перечней'!B:C,MATCH(C16,'10. Свод Перечней'!C:C,0),1),"") -> Капуста белокочанная свежая | C16: {=IFERROR(INDEX('10. Свод Перечней'!$C$4:$C$529,SMALL(IF("ЗВ"='10. Свод Перечней'!$I$4:$Q$529,ROW('10. Свод Перечней'!$C$4:$C$529)-3,""),ROW()-6)),"")} -> Капуста белокочанная тип 2 | D16: =IFERROR(VLOOKUP(C16,'10. Свод Перечней'!C:H,2,0),"") -> 01.13.12.120 | E16: =IFERROR(VLOOKUP(C16,'10. Свод Перечней'!C:H,3,0),"") -> 002 | F16: =IFERROR(VLOOKUP(C16,'10. Свод Перечней'!C:H,4,0),"") -> КГ | G16: =IFERROR(VLOOKUP(C16,'10. Свод Перечней'!C:H,5,0),"") -> Капуста очищенная: Нет Вид капусты по сроку созревания: Раннеспелая Товарный класс: Первый Вид: Свежая Фасовка: Весовая Соответствие нормативно-технической документации: Технический регламент Таможенного союза "О безопасности упаковки" от 16.08.2011 ТР ТС № 005/2011, Технический регламент Таможенного союза "О безопасности пищевой продукции" от 09.12.2011 № 021/2011, Технический регламент Таможенного союза "Пищевая продукция в части ее маркировки" от 09.12.2011 № 022/2011, ГОСТ Р 51809-2001 | H16: =IF(LEN(IFERROR(VLOOKUP(C16,'10. Свод Перечней'!C:H,6,0),""))>1,IFERROR(VLOOKUP(C16,'10. Свод Перечней'!C:H,6,0),""),"") -> 01.13.12.120-00000002
A17: =IF(LEN(C17)>0,MAX($A$6:A16)+1,"") -> 11 | B17: =IFERROR(INDEX('10. Свод Перечней'!B:C,MATCH(C17,'10. Свод Перечней'!C:C,0),1),"") -> Капуста краснокочанная свежая | C17: {=IFERROR(INDEX('10. Свод Перечней'!$C$4:$C$529,SMALL(IF("ЗВ"='10. Свод Перечней'!$I$4:$Q$529,ROW('10. Свод Перечней'!$C$4:$C$529)-3,""),ROW()-6)),"")} -> Капуста краснокочанная тип 1 | D17: =IFERROR(VLOOKUP(C17,'10. Свод Перечней'!C:H,2,0),"") -> 01.13.12.130 | E17: =IFERROR(VLOOKUP(C17,'10. Свод Перечней'!C:H,3,0),"") -> 001 | F17: =IFERROR(VLOOKUP(C17,'10. Свод Перечней'!C:H,4,0),"") -> КГ | G17: =IFERROR(VLOOKUP(C17,'10. Свод Перечней'!C:H,5,0),"") -> Вид: Свежая Фасовка: Весовая Соответствие нормативно-технической документации: Технический регламент Таможенного союза "О безопасности упаковки" от 16.08.2011 ТР ТС № 005/2011, Технический регламент Таможенного союза "О безопасности пищевой продукции" от 09.12.2011 № 021/2011, Технический регламент Таможенного союза "Пищевая продукция в части ее маркировки" от 09.12.2011 № 022/2011, ГОСТ 7967-2015 | H17: =IF(LEN(IFERROR(VLOOKUP(C17,'10. Свод Перечней'!C:H,6,0),""))>1,IFERROR(VLOOKUP(C17,'10. Свод Перечней'!C:H,6,0),""),"")
A18: =IF(LEN(C18)>0,MAX($A$6:A17)+1,"") -> 12 | B18: =IFERROR(INDEX('10. Свод Перечней'!B:C,MATCH(C18,'10. Свод Перечней'!C:C,0),1),"") -> Капуста савойская свежая | C18: {=IFERROR(INDEX('10. Свод Перечней'!$C$4:$C$529,SMALL(IF("ЗВ"='10. Свод Перечней'!$I$4:$Q$529,ROW('10. Свод Перечней'!$C$4:$C$529)-3,""),ROW()-6)),"")} -> Капуста савойская тип 1 | D18: =IFERROR(VLOOKUP(C18,'10. Свод Перечней'!C:H,2,0),"") -> 01.13.12.140 | E18: =IFERROR(VLOOKUP(C18,'10. Свод Перечней'!C:H,3,0),"") -> 001 | F18: =IFERROR(VLOOKUP(C18,'10. Свод Перечней'!C:H,4,0),"") -> КГ | G18: =IFERROR(VLOOKUP(C18,'10. Свод Перечней'!C:H,5,0),"") -> Вид: Свежая Фасовка: Весовая Соответствие нормативно-технической документации: Технический регламент Таможенного союза "О безопасности упаковки" от 16.08.2011 ТР ТС № 005/2011, Технический регламент Таможенного союза "О безопасности пищевой продукции" от 09.12.2011 № 021/2011, Технический регламент Таможенного союза "Пищевая продукция в части ее маркировки" от 09.12.2011 № 022/2011, ГОСТ 33551-2015, РСТ РСФСР 744-88 | H18: =IF(LEN(IFERROR(VLOOKUP(C18,'10. Свод Перечней'!C:H,6,0),""))>1,IFERROR(VLOOKUP(C18,'10. Свод Перечней'!C:H,6,0),""),"")
A19: =IF(LEN(C19)>0,MAX($A$6:A18)+1,"") -> 13 | B19: =IFERROR(INDEX('10. Свод Перечней'!B:C,MATCH(C19,'10. Свод Перечней'!C:C,0),1),"") -> Капуста китайская свежая | C19: {=IFERROR(INDEX('10. Свод Перечней'!$C$4:$C$529,SMALL(IF("ЗВ"='10. Свод Перечней'!$I$4:$Q$529,ROW('10. Свод Перечней'!$C$4:$C$529)-3,""),ROW()-6)),"")} -> Капуста китайская тип 1 | D19: =IFERROR(VLOOKUP(C19,'10. Свод Перечней'!C:H,2,0),"") -> 01.13.12.150 | E19: =IFERROR(VLOOKUP(C19,'10. Свод Перечней'!C:H,3,0),"") -> 001 | F19: =IFERROR(VLOOKUP(C19,'10. Свод Перечней'!C:H,4,0),"") -> КГ | G19: =IFERROR(VLOOKUP(C19,'10. Свод Перечней'!C:H,5,0),"") -> Вид: Свежая Фасовка: Весовая Соответствие нормативно-технической документации: Технический регламент Таможенного союза "О безопасности упаковки" от 16.08.2011 ТР ТС № 005/2011, Технический регламент Таможенного союза "О безопасности пищевой продукции" от 09.12.2011 № 021/2011, Технический регламент Таможенного союза "Пищевая продукция в части ее маркировки" от 09.12.2011 № 022/2011, ГОСТ 34323-2017 | H19: =IF(LEN(IFERROR(VLOOKUP(C19,'10. Свод Перечней'!C:H,6,0),""))>1,IFERROR(VLOOKUP(C19,'10. Свод Перечней'!C:H,6,0),""),"")
... A1158: =IF(LEN(C1158)>0,MAX($A$6:A1157)+1,"") | B1158: =IFERROR(INDEX('10. Свод Перечней'!B:C,MATCH(C1158,'10. Свод Перечней'!C:C,0),1),"") | C1158: {=IFERROR(INDEX('10. Свод Перечней'!$C$4:$C$529,SMALL(IF("ЗВ"='10. Свод Перечней'!$I$4:$Q$529,ROW('10. Свод Перечней'!$C$4:$C$529)-3,""),ROW()-6)),"")} | D1158: =IFERROR(VLOOKUP(C1158,'10. Свод Перечней'!C:H,2,0),"") | E1158: =IFERROR(VLOOKUP(C1158,'10. Свод Перечней'!C:H,3,0),"") | F1158: =IFERROR(VLOOKUP(C1158,'10. Свод Перечней'!C:H,4,0),"") | G1158: =IFERROR(VLOOKUP(C1158,'10. Свод Перечней'!C:H,5,0),"") | H1158: =IF(LEN(IFERROR(VLOOKUP(C1158,'10. Свод Перечней'!C:H,6,0),""))>1,IFERROR(VLOOKUP(C1158,'10. Свод Перечней'!C:H,6,0),""),"")

Sheet 3.Здрав Дети
A2: Дата актуализации ассортиментного перечня «01» июня 2023 г
A3: Ассортиментный перечень основных групп продовольственных товаров и сырья для обеспечения социального питания в лечебно-профилактических и санаторно-курортных учреждениях здравоохранения Санкт-Петербурга (для детей)
A4: Примечание! * - Продукция предназначенная для лечебного, специального питания ** - предназначенные для использования в питании после термической обработки. Информацию о действующей нормативной документации, а также изменениях вносимых в национальные стандарты можно получить в Управлении социального питания по телефонам 417-35-50, 417-35-52 и на сайте Управления по адресу: http://www.gov.spb.ru, вкладка «Нормативные документы».
A5: № | B5: Потребительское наименование товара | C5: Название товара ККН/КТРУ | D5: ОКПД2 | E5: Детализация ККН | F5: Единица измерения ККН | G5: Характеристики товара | H5: Код КТРУ
A6: 1 | B6: 2 | C6: 2 | D6: 3 | E6: 4 | F6: 5 | G6: 6 | H6: 7
A7: 1 | B7: =IFERROR(INDEX('10. Свод Перечней'!B:C,MATCH(C7,'10. Свод Перечней'!C:C,0),1),"") -> Фасоль овощная свежая | C7: {=IFERROR(INDEX('10. Свод Перечней'!$C$4:$C$529,SMALL(IF("ЗД"='10. Свод Перечней'!$I$4:$Q$529,ROW('10. Свод Перечней'!$C$4:$C$529)-3,""),ROW()-6)),"")} -> Фасоль тип 1 | D7: =IFERROR(VLOOKUP(C7,'10. Свод Перечней'!C:H,2,0),"") -> 01.11.61.000 | E7: =IFERROR(VLOOKUP(C7,'10. Свод Перечней'!C:H,3,0),"") -> 001 | F7: =IFERROR(VLOOKUP(C7,'10. Свод Перечней'!C:H,4,0),"") -> КГ | G7: =IFERROR(VLOOKUP(C7,'10. Свод Перечней'!C:H,5,0),"") -> Тип: Овощная Вид: Свежая Сорт: Высший; Первый Фасовка: Весовая Соответствие нормативно-технической документации: Технический регламент Таможенного союза "О безопасности упаковки" от 16.08.2011 ТР ТС № 005/2011, Технический регламент Таможенного союза "О безопасности пищевой продукции" от 09.12.2011 № 021/2011, Технический регламент Таможенного союза "Пищевая продукция в части ее маркировки" от 09.12.2011 № 022/2011, ГОСТ 34299-2017 | H7: =IF(LEN(IFERROR(VLOOKUP(C7,'10. Свод Перечней'!C:H,6,0),""))>1,IFERROR(VLOOKUP(C7,'10. Свод Перечней'!C:H,6,0),""),"")
A8: =IF(LEN(C8)>0,MAX($A$6:A7)+1,"") -> 2 | B8: =IFERROR(INDEX('10. Свод Перечней'!B:C,MATCH(C8,'10. Свод Перечней'!C:C,0),1),"") -> Фасоль продовольственная | C8: {=IFERROR(INDEX('10. Свод Перечней'!$C$4:$C$529,SMALL(IF("ЗД"='10. Свод Перечней'!$I$4:$Q$529,ROW('10. Свод Перечней'!$C$4:$C$529)-3,""),ROW()-6)),"")} -> Фасоль продовольственная тип 1 | D8: =IFERROR(VLOOKUP(C8,'10. Свод Перечней'!C:H,2,0),"") -> 01.11.71.110 | E8: =IFERROR(VLOOKUP(C8,'10. Свод Перечней'!C:H,3,0),"") -> 002 | F8: =IFERROR(VLOOKUP(C8,'10. Свод Перечней'!C:H,4,0),"") -> КГ | G8: =IFERROR(VLOOKUP(C8,'10. Свод Перечней'!C:H,5,0),"") -> Номер и наименование типа фасоли: I. Фасоль белая; II. Фасоль цветная однотонная; III. Фасоль цветная пестрая Фасовка: Весовая Соответствие нормативно-технической документации: Технический регламент Таможенного союза "О безопасности упаковки" от 16.08.2011 ТР ТС № 005/2011, Технический регламент Таможенного союза "О безопасности пищевой продукции" от 09.12.2011 № 021/2011, Технический регламент Таможенного союза "Пищевая продукция в части ее маркировки" от 09.12.2011 № 022/2011, ГОСТ 7758-2020 | H8: =IF(LEN(IFERROR(VLOOKUP(C8,'10. Свод Перечней'!C:H,6,0),""))>1,IFERROR(VLOOKUP(C8,'10. Свод Перечней'!C:H,6,0),""),"") -> 01.11.71.110-00000001, 01.11.71.110-00000002, 01.11.71.110-00000003
A9: =IF(LEN(C9)>0,MAX($A$6:A8)+1,"") -> 3 | B9: =IFERROR(INDEX('10. Свод Перечней'!B:C,MATCH(C9,'10. Свод Перечней'!C:C,0),1),"") -> Фасоль продовольственная | C9: {=IFERROR(INDEX('10. Свод Перечней'!$C$4:$C$529,SMALL(IF("ЗД"='10. Свод Перечней'!$I$4:$Q$529,ROW('10. Свод Перечней'!$C$4:$C$529)-3,""),ROW()-6)),"")} -> Фасоль продовольственная тип 2 | D9: =IFERROR(VLOOKUP(C9,'10. Свод Перечней'!C:H,2,0),"") -> 01.11.71.110 | E9: =IFERROR(VLOOKUP(C9,'10. Свод Перечней'!C:H,3,0),"") -> 001 | F9: =IFERROR(VLOOKUP(C9,'10. Свод Перечней'!C:H,4,0),"") -> КГ | G9: =IFERROR(VLOOKUP(C9,'10. Свод Перечней'!C:H,5,0),"") -> Номер и наименование типа фасоли: I. Фасоль белая; II. Фасоль цветная однотонная; III. Фасоль цветная пестрая Вес: не более 1 КГ Упаковка производителя: Наличие Соответствие нормативно-технической документации: Технический регламент Таможенного союза "О безопасности упаковки" от 16.08.2011 ТР ТС № 005/2011, Технический регламент Таможенного союза "О безопасности пищевой продукции" от 09.12.2011 № 021/2011, Технический регламент Таможенного союза "Пищевая продукция в части ее маркировки" от 09.12.2011 № 022/2011, ГОСТ 7758-2020 | H9: =IF(LEN(IFERROR(VLOOKUP(C9,'10. Свод Перечней'!C:H,6,0),""))>1,IFERROR(VLOOKUP(C9,'10. Свод Перечней'!C:H,6,0),""),"") -> 01.11.71.110-00000001, 01.11.71.110-00000002, 01.11.71.110-00000003
A10: =IF(LEN(C10)>0,MAX($A$6:A9)+1,"") -> 4 | B10: =IFERROR(INDEX('10. Свод Перечней'!B:C,MATCH(C10,'10. Свод Перечней'!C:C,0),1),"") -> Чечевица | C10: {=IFERROR(INDEX('10. Свод Перечней'!$C$4:$C$529,SMALL(IF("ЗД"='10. Свод Перечней'!$I$4:$Q$529,ROW('10. Свод Перечней'!$C$4:$C$529)-3,""),ROW()-6)),"")} -> Чечевица продовольственная тип 1 | D10: =IFERROR(VLOOKUP(C10,'10. Свод Перечней'!C:H,2,0),"") -> 01.11.74.110 | E10: =IFERROR(VLOOKUP(C10,'10. Свод Перечней'!C:H,3,0),"") -> 002 | F10: =IFERROR(VLOOKUP(C10,'10. Свод Перечней'!C:H,4,0),"") -> КГ | G10: =IFERROR(VLOOKUP(C10,'10. Свод Перечней'!C:H,5,0),"") -> Тип чечевицы: Красная; Коричневая; Неоднородная; Светло-зеленая; Темно-зеленая Фасовка: Весовая Соответствие нормативно-технической документации: Технический регламент Таможенного союза "О безопасности упаковки" от 16.08.2011 ТР ТС № 005/2011, Технический регламент Таможенного союза "О безопасности пищевой продукции" от 09.12.2011 № 021/2011, Технический регламент Таможенного союза "Пищевая продукция в части ее маркировки" от 09.12.2011 № 022/2011, ГОСТ 7066-2019 | H10: =IF(LEN(IFERROR(VLOOKUP(C10,'10. Свод Перечней'!C:H,6,0),""))>1,IFERROR(VLOOKUP(C10,'10. Свод Перечней'!C:H,6,0),""),"") -> 01.11.74.110-00000001, 01.11.74.110-00000002, 01.11.74.110-00000003, 01.11.74.110-00000004, 01.11.74.110-00000005
A11: =IF(LEN(C11)>0,MAX($A$6:A10)+1,"") -> 5 | B11: =IFERROR(INDEX('10. Свод Перечней'!B:C,MATCH(C11,'10. Свод Перечней'!C:C,0),1),"") -> Чечевица | C11: {=IFERROR(INDEX('10. Свод Перечней'!$C$4:$C$529,SMALL(IF("ЗД"='10. Свод Перечней'!$I$4:$Q$529,ROW('10. Свод Перечней'!$C$4:$C$529)-3,""),ROW()-6)),"")} -> Чечевица продовольственная тип 2 | D11: =IFERROR(VLOOKUP(C11,'10. Свод Перечней'!C:H,2,0),"") -> 01.11.74.110 | E11: =IFERROR(VLOOKUP(C11,'10. Свод Перечней'!C:H,3,0),"") -> 001 | F11: =IFERROR(VLOOKUP(C11,'10. Свод Перечней'!C:H,4,0),"") -> КГ | G11: =IFERROR(VLOOKUP(C11,'10. Свод Перечней'!C:H,5,0),"") -> Тип чечевицы: Красная; Коричневая; Неоднородная; Светло-зеленая; Темно-зеленая Вес: не более 1 КГ Упаковка производителя: Наличие Соответствие нормативно-технической документации: Технический регламент Таможенного союза "О безопасности упаковки" от 16.08.2011 ТР ТС № 005/2011, Технический регламент Таможенного союза "О безопасности пищевой продукции" от 09.12.2011 № 021/2011, Технический регламент Таможенного союза "Пищевая продукция в части ее маркировки" от 09.12.2011 № 022/2011, ГОСТ 7066-2019 | H11: =IF(LEN(IFERROR(VLOOKUP(C11,'10. Свод Перечней'!C:H,6,0),""))>1,IFERROR(VLOOKUP(C11,'10. Свод Перечней'!C:H,6,0),""),"") -> 01.11.74.110-00000001, 01.11.74.110-00000002, 01.11.74.110-00000003, 01.11.74.110-00000004, 01.11.74.110-00000005
A12: =IF(LEN(C12)>0,MAX($A$6:A11)+1,"") -> 6 | B12: =IFERROR(INDEX('10. Свод Перечней'!B:C,MATCH(C12,'10. Свод Перечней'!C:C,0),1),"") -> Горох шлифованный | C12: {=IFERROR(INDEX('10. Свод Перечней'!$C$4:$C$529,SMALL(IF("ЗД"='10. Свод Перечней'!$I$4:$Q$529,ROW('10. Свод Перечней'!$C$4:$C$529)-3,""),ROW()-6)),"")} -> Горох шлифованный тип 1 | D12: =IFERROR(VLOOKUP(C12,'10. Свод Перечней'!C:H,2,0),"") -> 01.11.75.110 | E12: =IFERROR(VLOOKUP(C12,'10. Свод Перечней'!C:H,3,0),"") -> 001 | F12: =IFERROR(VLOOKUP(C12,'10. Свод Перечней'!C:H,4,0),"") -> КГ | G12: =IFERROR(VLOOKUP(C12,'10. Свод Перечней'!C:H,5,0),"") -> Вид зерна: Целое Сорт: Не ниже первого Вес: не более 1 КГ Упаковка производителя: Наличие Соответствие нормативно-технической документации: Технический регламент Таможенного союза "О безопасности упаковки" от 16.08.2011 ТР ТС № 005/2011, Технический регламент Таможенного союза "О безопасности пищевой продукции" от 09.12.2011 № 021/2011, Технический регламент Таможенного союза "Пищевая продукция в части ее маркировки" от 09.12.2011 № 022/2011, ГОСТ 6201-20 | H12: =IF(LEN(IFERROR(VLOOKUP(C12,'10. Свод Перечней'!C:H,6,0),""))>1,IFERROR(VLOOKUP(C12,'10. Свод Перечней'!C:H,6,0),""),"") -> 01.11.75.110-00000002
A13: =IF(LEN(C13)>0,MAX($A$6:A12)+1,"") -> 7 | B13: =IFERROR(INDEX('10. Свод Перечней'!B:C,MATCH(C13,'10. Свод Перечней'!C:C,0),1),"") -> Горох шлифованный | C13: {=IFERROR(INDEX('10. Свод Перечней'!$C$4:$C$529,SMALL(IF("ЗД"='10. Свод Перечней'!$I$4:$Q$529,ROW('10. Свод Перечней'!$C$4:$C$529)-3,""),ROW()-6)),"")} -> Горох шлифованный тип 2 | D13: =IFERROR(VLOOKUP(C13,'10. Свод Перечней'!C:H,2,0),"") -> 01.11.75.110 | E13: =IFERROR(VLOOKUP(C13,'10. Свод Перечней'!C:H,3,0),"") -> 002 | F13: =IFERROR(VLOOKUP(C13,'10. Свод Перечней'!C:H,4,0),"") -> КГ | G13: =IFERROR(VLOOKUP(C13,'10. Свод Перечней'!C:H,5,0),"") -> Вид зерна: Целое Сорт: Не ниже первого Фасовка: Весовая Соответствие нормативно-технической документации: Технический регламент Таможенного союза "О безопасности упаковки" от 16.08.2011 ТР ТС № 005/2011, Технический регламент Таможенного союза "О безопасности пищевой продукции" от 09.12.2011 № 021/2011, Технический регламент Таможенного союза "Пищевая продукция в части ее маркировки" от 09.12.2011 № 022/2011, ГОСТ 6201-20 | H13: =IF(LEN(IFERROR(VLOOKUP(C13,'10. Свод Перечней'!C:H,6,0),""))>1,IFERROR(VLOOKUP(C13,'10. Свод Перечней'!C:H,6,0),""),"") -> 01.11.75.110-00000002
A14: =IF(LEN(C14)>0,MAX($A$6:A13)+1,"") -> 8 | B14: =IFERROR(INDEX('10. Свод Перечней'!B:C,MATCH(C14,'10. Свод Перечней'!C:C,0),1),"") -> Капуста брюссельская свежая | C14: {=IFERROR(INDEX('10. Свод Перечней'!$C$4:$C$529,SMALL(IF("ЗД"='10. Свод Перечней'!$I$4:$Q$529,ROW('10. Свод Перечней'!$C$4:$C$529)-3,""),ROW()-6)),"")} -> Капуста брюссельская тип 1 | D14: =IFERROR(VLOOKUP(C14,'10. Свод Перечней'!C:H,2,0),"") -> 01.13.12.110 | E14: =IFERROR(VLOOKUP(C14,'10. Свод Перечней'!C:H,3,0),"") -> 001 | F14: =IFERROR(VLOOKUP(C14,'10. Свод Перечней'!C:H,4,0),"") -> КГ | G14: =IFERROR(VLOOKUP(C14,'10. Свод Перечней'!C:H,5,0),"") -> Вид: Свежая Фасовка: Весовая Соответствие нормативно-технической документации: Технический регламент Таможенного союза "О безопасности упаковки" от 16.08.2011 ТР ТС № 005/2011, Технический регламент Таможенного союза "О безопасности пищевой продукции" от 09.12.2011 № 021/2011, Технический регламент Таможенного союза "Пищевая продукция в части ее маркировки" от 09.12.2011 № 022/2011, ГОСТ 33851-2016 | H14: =IF(LEN(IFERROR(VLOOKUP(C14,'10. Свод Перечней'!C:H,6,0),""))>1,IFERROR(VLOOKUP(C14,'10. Свод Перечней'!C:H,6,0),""),"")
A15: =IF(LEN(C15)>0,MAX($A$6:A14)+1,"") -> 9 | B15: =IFERROR(INDEX('10. Свод Перечней'!B:C,MATCH(C15,'10. Свод Перечней'!C:C,0),1),"") -> Капуста белокочанная свежая | C15: {=IFERROR(INDEX('10. Свод Перечней'!$C$4:$C$529,SMALL(IF("ЗД"='10. Свод Перечней'!$I$4:$Q$529,ROW('10. Свод Перечней'!$C$4:$C$529)-3,""),ROW()-6)),"")} -> Капуста белокочанная тип 1 | D15: =IFERROR(VLOOKUP(C15,'10. Свод Перечней'!C:H,2,0),"") -> 01.13.12.120 | E15: =IFERROR(VLOOKUP(C15,'10. Свод Перечней'!C:H,3,0),"") -> 001 | F15: =IFERROR(VLOOKUP(C15,'10. Свод Перечней'!C:H,4,0),"") -> КГ | G15: =IFERROR(VLOOKUP(C15,'10. Свод Перечней'!C:H,5,0),"") -> Капуста очищенная: Нет Вид капусты по сроку созревания: Среднеспелая; Позднеспелая; Среднепоздняя Товарный класс: Первый Вид: Свежая Фасовка: Весовая Соответствие нормативно-технической документации: Технический регламент Таможенного союза "О безопасности упаковки" от 16.08.2011 ТР ТС № 005/2011, Технический регламент Таможенного союза "О безопасности пищевой продукции" от 09.12.2011 № 021/2011, Технический регламент Таможенного союза "Пищевая продукция в части ее маркировки" от 09.12.2011 № 022/2011, ГОСТ Р 51809-2001 | H15: =IF(LEN(IFERROR(VLOOKUP(C15,'10. Свод Перечней'!C:H,6,0),""))>1,IFERROR(VLOOKUP(C15,'10. Свод Перечней'!C:H,6,0),""),"") -> 01.13.12.120-00000002
A16: =IF(LEN(C16)>0,MAX($A$6:A15)+1,"") -> 10 | B16: =IFERROR(INDEX('10. Свод Перечней'!B:C,MATCH(C16,'10. Свод Перечней'!C:C,0),1),"") -> Капуста белокочанная свежая | C16: {=IFERROR(INDEX('10. Свод Перечней'!$C$4:$C$529,SMALL(IF("ЗД"='10. Свод Перечней'!$I$4:$Q$529,ROW('10. Свод Перечней'!$C$4:$C$529)-3,""),ROW()-6)),"")} -> Капуста белокочанная тип 2 | D16: =IFERROR(VLOOKUP(C16,'10. Свод Перечней'!C:H,2,0),"") -> 01.13.12.120 | E16: =IFERROR(VLOOKUP(C16,'10. Свод Перечней'!C:H,3,0),"") -> 002 | F16: =IFERROR(VLOOKUP(C16,'10. Свод Перечней'!C:H,4,0),"") -> КГ | G16: =IFERROR(VLOOKUP(C16,'10. Свод Перечней'!C:H,5,0),"") -> Капуста очищенная: Нет Вид капусты по сроку созревания: Раннеспелая Товарный класс: Первый Вид: Свежая Фасовка: Весовая Соответствие нормативно-технической документации: Технический регламент Таможенного союза "О безопасности упаковки" от 16.08.2011 ТР ТС № 005/2011, Технический регламент Таможенного союза "О безопасности пищевой продукции" от 09.12.2011 № 021/2011, Технический регламент Таможенного союза "Пищевая продукция в части ее маркировки" от 09.12.2011 № 022/2011, ГОСТ Р 51809-2001 | H16: =IF(LEN(IFERROR(VLOOKUP(C16,'10. Свод Перечней'!C:H,6,0),""))>1,IFERROR(VLOOKUP(C16,'10. Свод Перечней'!C:H,6,0),""),"") -> 01.13.12.120-00000002
A17: =IF(LEN(C17)>0,MAX($A$6:A16)+1,"") -> 11 | B17: =IFERROR(INDEX('10. Свод Перечней'!B:C,MATCH(C17,'10. Свод Перечней'!C:C,0),1),"") -> Капуста краснокочанная свежая | C17: {=IFERROR(INDEX('10. Свод Перечней'!$C$4:$C$529,SMALL(IF("ЗД"='10. Свод Перечней'!$I$4:$Q$529,ROW('10. Свод Перечней'!$C$4:$C$529)-3,""),ROW()-6)),"")} -> Капуста краснокочанная тип 1 | D17: =IFERROR(VLOOKUP(C17,'10. Свод Перечней'!C:H,2,0),"") -> 01.13.12.130 | E17: =IFERROR(VLOOKUP(C17,'10. Свод Перечней'!C:H,3,0),"") -> 001 | F17: =IFERROR(VLOOKUP(C17,'10. Свод Перечней'!C:H,4,0),"") -> КГ | G17: =IFERROR(VLOOKUP(C17,'10. Свод Перечней'!C:H,5,0),"") -> Вид: Свежая Фасовка: Весовая Соответствие нормативно-технической документации: Технический регламент Таможенного союза "О безопасности упаковки" от 16.08.2011 ТР ТС № 005/2011, Технический регламент Таможенного союза "О безопасности пищевой продукции" от 09.12.2011 № 021/2011, Технический регламент Таможенного союза "Пищевая продукция в части ее маркировки" от 09.12.2011 № 022/2011, ГОСТ 7967-2015 | H17: =IF(LEN(IFERROR(VLOOKUP(C17,'10. Свод Перечней'!C:H,6,0),""))>1,IFERROR(VLOOKUP(C17,'10. Свод Перечней'!C:H,6,0),""),"")
A18: =IF(LEN(C18)>0,MAX($A$6:A17)+1,"") -> 12 | B18: =IFERROR(INDEX('10. Свод Перечней'!B:C,MATCH(C18,'10. Свод Перечней'!C:C,0),1),"") -> Капуста савойская свежая | C18: {=IFERROR(INDEX('10. Свод Перечней'!$C$4:$C$529,SMALL(IF("ЗД"='10. Свод Перечней'!$I$4:$Q$529,ROW('10. Свод Перечней'!$C$4:$C$529)-3,""),ROW()-6)),"")} -> Капуста савойская тип 1 | D18: =IFERROR(VLOOKUP(C18,'10. Свод Перечней'!C:H,2,0),"") -> 01.13.12.140 | E18: =IFERROR(VLOOKUP(C18,'10. Свод Перечней'!C:H,3,0),"") -> 001 | F18: =IFERROR(VLOOKUP(C18,'10. Свод Перечней'!C:H,4,0),"") -> КГ | G18: =IFERROR(VLOOKUP(C18,'10. Свод Перечней'!C:H,5,0),"") -> Вид: Свежая Фасовка: Весовая Соответствие нормативно-технической документации: Технический регламент Таможенного союза "О безопасности упаковки" от 16.08.2011 ТР ТС № 005/2011, Технический регламент Таможенного союза "О безопасности пищевой продукции" от 09.12.2011 № 021/2011, Технический регламент Таможенного союза "Пищевая продукция в части ее маркировки" от 09.12.2011 № 022/2011, ГОСТ 33551-2015, РСТ РСФСР 744-88 | H18: =IF(LEN(IFERROR(VLOOKUP(C18,'10. Свод Перечней'!C:H,6,0),""))>1,IFERROR(VLOOKUP(C18,'10. Свод Перечней'!C:H,6,0),""),"")
A19: =IF(LEN(C19)>0,MAX($A$6:A18)+1,"") -> 13 | B19: =IFERROR(INDEX('10. Свод Перечней'!B:C,MATCH(C19,'10. Свод Перечней'!C:C,0),1),"") -> Капуста китайская свежая | C19: {=IFERROR(INDEX('10. Свод Перечней'!$C$4:$C$529,SMALL(IF("ЗД"='10. Свод Перечней'!$I$4:$Q$529,ROW('10. Свод Перечней'!$C$4:$C$529)-3,""),ROW()-6)),"")} -> Капуста китайская тип 1 | D19: =IFERROR(VLOOKUP(C19,'10. Свод Перечней'!C:H,2,0),"") -> 01.13.12.150 | E19: =IFERROR(VLOOKUP(C19,'10. Свод Перечней'!C:H,3,0),"") -> 001 | F19: =IFERROR(VLOOKUP(C19,'10. Свод Перечней'!C:H,4,0),"") -> КГ | G19: =IFERROR(VLOOKUP(C19,'10. Свод Перечней'!C:H,5,0),"") -> Вид: Свежая Фасовка: Весовая Соответствие нормативно-технической документации: Технический регламент Таможенного союза "О безопасности упаковки" от 16.08.2011 ТР ТС № 005/2011, Технический регламент Таможенного союза "О безопасности пищевой продукции" от 09.12.2011 № 021/2011, Технический регламент Таможенного союза "Пищевая продукция в части ее маркировки" от 09.12.2011 № 022/2011, ГОСТ 34323-2017 | H19: =IF(LEN(IFERROR(VLOOKUP(C19,'10. Свод Перечней'!C:H,6,0),""))>1,IFERROR(VLOOKUP(C19,'10. Свод Перечней'!C:H,6,0),""),"")
... A1146: =IF(LEN(C1146)>0,MAX($A$6:A1145)+1,"") | B1146: =IFERROR(INDEX('10. Свод Перечней'!B:C,MATCH(C1146,'10. Свод Перечней'!C:C,0),1),"") | C1146: {=IFERROR(INDEX('10. Свод Перечней'!$C$4:$C$529,SMALL(IF("ЗД"='10. Свод Перечней'!$I$4:$Q$529,ROW('10. Свод Перечней'!$C$4:$C$529)-3,""),ROW()-6)),"")} | D1146: =IFERROR(VLOOKUP(C1146,'10. Свод Перечней'!C:H,2,0),"") | E1146: =IFERROR(VLOOKUP(C1146,'10. Свод Перечней'!C:H,3,0),"") | F1146: =IFERROR(VLOOKUP(C1146,'10. Свод Перечней'!C:H,4,0),"") | G1146: =IFERROR(VLOOKUP(C1146,'10. Свод Перечней'!C:H,5,0),"") | H1146: =IF(LEN(IFERROR(VLOOKUP(C1146,'10. Свод Перечней'!C:H,6,0),""))>1,IFERROR(VLOOKUP(C1146,'10. Свод Перечней'!C:H,6,0),""),"")

Sheet 4.Интернат ДетДома Лагеря
A2: Дата актуализации ассортиментного перечня «01» июня 2023 г
A3: Ассортиментный перечень основных групп продовольственных товаров и сырья для обеспечения социального питания в детских домах, школах-интернатах различного типа, учреждениях отдыха и оздоровления детей и молодежи и детских спортивных оздоровительных лагерях
A4: Примечание! * - Продукция предназначенная для лечебного, специального питания ** - предназначенные для использования в питании после термической обработки. Информацию о действующей нормативной документации, а также изменениях вносимых в национальные стандарты можно получить в Управлении социального питания по телефонам 417-35-50, 417-35-52 и на сайте Управления по адресу: http://www.gov.spb.ru, вкладка «Нормативные документы».
