Workbook
Name __bookmark_1: #REF!
Name __bookmark_1: #REF!
Name __bookmark_1: #REF!
Name __bookmark_1: #REF!
Name __bookmark_1: #REF!
Name __bookmark_1: #REF!
Name __bookmark_1: #REF!
Name амикм: #REF!
Name БОМЖ: #REF!
Name БОМЖ: #REF!
Name БОМЖ: #REF!
Name дддд: #REF!
Name дддд: #REF!
Name дддд: #REF!
Name фыв: #REF!
Name фыв: #REF!
Name фыв: #REF!
Name фыв: #REF!
Name фыв: #REF!
Name фыв: #REF!
Name фыв: #REF!
Name ЦВ: #REF!
Name ЦВ: #REF!
Name ЦВ: #REF!
Name ЦВ: #REF!
Name ЦВ: #REF!
Name ЦВ: #REF!
Name ЦД: #REF!
Name ЦД: #REF!
Name ЦД: #REF!
Name ывапы: #REF!
Name ывапы: #REF!
Name ывапы: #REF!
Name ывапы: #REF!
Name ывапы: #REF!
Name ывапы: #REF!
Name ывапы: #REF!

Sheet Оглавление
A1: Выбор Категории
A2: 1. Учреждения социальной защиты (для взрослых)
A3: 2. Лечебно-профилактические и санаторно-курортные учреждения здравоохранения (для взрослых)
A4: 3. Лечебно-профилактические и санаторные учреждения здравоохранения (для детей)
A5: 4. Детские дома, школы-интернаты различного типа, учреждения отдыха и оздоровления детей и молодежи, детские спортивные оздоровительные лагеря
A6: 5.Образовательные учреждения (Школы и профессиональные училища)
A7: 6. Обеспечение социальным питанием граждан без определенного места жительства (бездомных)
A8: 7. Дошкольные образовательные учреждения
A9: 8. Все типы учреждений для организации питания больных целиакией (для взрослых)
A10: 9. Все типы учреждений для организации питания больных целиакией (для детей)
A11: 10. Список продовольственных товаров, содержащихся во всех перечнях

Sheet 1.Взрослые
A2: Дата актуализации ассортиментного перечня «01» июня 2023 г
A3: Ассортиментный перечень основных групп продовольственных товаров и сырья для обеспечения социального питания в учреждениях Санкт-Петербурга с учетом специфики и особенностей организации питания взрослого контингента
A4: Примечание! * - Продукция предназначенная для лечебного, специального питания ** - предназначенные для использования в питании после термической обработки. Информацию о действующей нормативной документации, а также изменениях вносимых в национальные стандарты можно получить в Управлении социального питания по телефонам 417-35-50, 417-35-52 и на сайте Управления по адресу: http://www.gov.spb.ru, вкладка «Нормативные документы».
A5: № | B5: Потребительское наименование товара | C5: Название товара ККН/КТРУ | D5: ОКПД2 | E5: Детализация ККН | F5: Единица измерения ККН | G5: Характеристики товара | H5: Код КТРУ
A6: 1 | B6: 2 | C6: 2 | D6: 3 | E6: 4 | F6: 5 | G6: 6 | H6: 7
A7: 1 | B7: =IFERROR(INDEX('10. Свод Перечней'!B:C,MATCH(C7,'10. Свод Перечней'!C:C,0),1),"") -> Фасоль овощная свежая | C7: {=IFERROR(INDEX('10. Свод Перечней'!$C$4:$C$529,SMALL(IF("В"='10. Свод Перечней'!$I$4:$Q$529,ROW('10. Свод Перечней'!$C$4:$C$529)-3,""),ROW()-6)),"")} -> Фасоль тип 1 | D7: =IFERROR(VLOOKUP(C7,'10. Свод Перечней'!C:H,2,0),"") -> 01.11.61.000 | E7: =IFERROR(VLOOKUP(C7,'10. Свод Перечней'!C:H,3,0),"") -> 001 | F7: =IFERROR(VLOOKUP(C7,'10. Свод Перечней'!C:H,4,0),"") -> КГ | G7: =IFERROR(VLOOKUP(C7,'10. Свод Перечней'!C:H,5,0),"") -> Тип: Овощная Вид: Свежая Сорт: Высший; Первый Фасовка: Весовая Соответствие нормативно-технической документации: Технический регламент Таможенного союза "О безопасности упаковки" от 16.08.2011 ТР ТС № 005/2011, Технический регламент Таможенного союза "О безопасности пищевой продукции" от 09.12.2011 № 021/2011, Технический регламент Таможенного союза "Пищевая продукция в части ее маркировки" от 09.12.2011 № 022/2011, ГОСТ 34299-2017 | H7: =IF(LEN(IFERROR(VLOOKUP(C7,'10. Свод Перечней'!C:H,6,0),""))>1,IFERROR(VLOOKUP(C7,'10. Свод Перечней'!C:H,6,0),""),"")
A8: =IF(LEN(C8)>0,MAX($A$6:A7)+1,"") -> 2 | B8: =IFERROR(INDEX('10. Свод Перечней'!B:C,MATCH(C8,'10. Свод Перечней'!C:C,0),1),"") -> Фасоль продовольственная | C8: {=IFERROR(INDEX('10. Свод Перечней'!$C$4:$C$529,SMALL(IF("В"='10. Свод Перечней'!$I$4:$Q$529,ROW('10. Свод Перечней'!$C$4:$C$529)-3,""),ROW()-6)),"")} -> Фасоль продовольственная тип 1 | D8: =IFERROR(VLOOKUP(C8,'10. Свод Перечней'!C:H,2,0),"") -> 01.11.71.110 | E8: =IFERROR(VLOOKUP(C8,'10. Свод Перечней'!C:H,3,0),"") -> 002 | F8: =IFERROR(VLOOKUP(C8,'10. Свод Перечней'!C:H,4,0),"") -> КГ | G8: =IFERROR(VLOOKUP(C8,'10. Свод Перечней'!C:H,5,0),"") -> Номер и наименование типа фасоли: I. Фасоль белая; II. Фасоль цветная однотонная; III. Фасоль цветная пестрая Фасовка: Весовая Соответствие нормативно-технической документации: Технический регламент Таможенного союза "О безопасности упаковки" от 16.08.2011 ТР ТС № 005/2011, Технический регламент Таможенного союза "О безопасности пищевой продукции" от 09.12.2011 № 021/2011, Технический регламент Таможенного союза "Пищевая продукция в части ее маркировки" от 09.12.2011 № 022/2011, ГОСТ 7758-2020 | H8: =IF(LEN(IFERROR(VLOOKUP(C8,'10. Свод Перечней'!C:H,6,0),""))>1,IFERROR(VLOOKUP(C8,'10. Свод Перечней'!C:H,6,0),""),"") -> 01.11.71.110-00000001, 01.11.71.110-00000002, 01.11.71.110-00000003
A9: =IF(LEN(C9)>0,MAX($A$6:A8)+1,"") -> 3 | B9: =IFERROR(INDEX('10. Свод Перечней'!B:C,MATCH(C9,'10. Свод Перечней'!C:C,0),1),"") -> Фасоль продовольственная | C9: {=IFERROR(INDEX('10. Свод Перечней'!$C$4:$C$529,SMALL(IF("В"='10. Свод Перечней'!$I$4:$Q$529,ROW('10. Свод Перечней'!$C$4:$C$529)-3,""),ROW()-6)),"")} -> Фасоль продовольственная тип 2 | D9: =IFERROR(VLOOKUP(C9,'10. Свод Перечней'!C:H,2,0),"") -> 01.11.71.110 | E9: =IFERROR(VLOOKUP(C9,'10. Свод Перечней'!C:H,3,0),"") -> 001 | F9: =IFERROR(VLOOKUP(C9,'10. Свод Перечней'!C:H,4,0),"") -> КГ | G9: =IFERROR(VLOOKUP(C9,'10. Свод Перечней'!C:H,5,0),"") -> Номер и наименование типа фасоли: I. Фасоль белая; II. Фасоль цветная однотонная; III. Фасоль цветная пестрая Вес: не более 1 КГ Упаковка производителя: Наличие Соответствие нормативно-технической документации: Технический регламент Таможенного союза "О безопасности упаковки" от 16.08.2011 ТР ТС № 005/2011, Технический регламент Таможенного союза "О безопасности пищевой продукции" от 09.12.2011 № 021/2011, Технический регламент Таможенного союза "Пищевая продукция в части ее маркировки" от 09.12.2011 № 022/2011, ГОСТ 7758-2020 | H9: =IF(LEN(IFERROR(VLOOKUP(C9,'10. Свод Перечней'!C:H,6,0),""))>1,IFERROR(VLOOKUP(C9,'10. Свод Перечней'!C:H,6,0),""),"") -> 01.11.71.110-00000001, 01.11.71.110-00000002, 01.11.71.110-00000003
A10: =IF(LEN(C10)>0,MAX($A$6:A9)+1,"") -> 4 | B10: =IFERROR(INDEX('10. Свод Перечней'!B:C,MATCH(C10,'10. Свод Перечней'!C:C,0),1),"") -> Чечевица | C10: {=IFERROR(INDEX('10. Свод Перечней'!$C$4:$C$529,SMALL(IF("В"='10. Свод Перечней'!$I$4:$Q$529,ROW('10. Свод Перечней'!$C$4:$C$529)-3,""),ROW()-6)),"")} -> Чечевица продовольственная тип 1 | D10: =IFERROR(VLOOKUP(C10,'10. Свод Перечней'!C:H,2,0),"") -> 01.11.74.110 | E10: =IFERROR(VLOOKUP(C10,'10. Свод Перечней'!C:H,3,0),"") -> 002 | F10: =IFERROR(VLOOKUP(C10,'10. Свод Перечней'!C:H,4,0),"") -> КГ | G10: =IFERROR(VLOOKUP(C10,'10. Свод Перечней'!C:H,5,0),"") -> Тип чечевицы: Красная; Коричневая; Неоднородная; Светло-зеленая; Темно-зеленая Фасовка: Весовая Соответствие нормативно-технической документации: Технический регламент Таможенного союза "О безопасности упаковки" от 16.08.2011 ТР ТС № 005/2011, Технический регламент Таможенного союза "О безопасности пищевой продукции" от 09.12.2011 № 021/2011, Технический регламент Таможенного союза "Пищевая продукция в части ее маркировки" от 09.12.2011 № 022/2011, ГОСТ 7066-2019 | H10: =IF(LEN(IFERROR(VLOOKUP(C10,'10. Свод Перечней'!C:H,6,0),""))>1,IFERROR(VLOOKUP(C10,'10. Свод Перечней'!C:H,6,0),""),"") -> 01.11.74.110-00000001, 01.11.74.110-00000002, 01.11.74.110-00000003, 01.11.74.110-00000004, 01.11.74.110-00000005
A11: =IF(LEN(C11)>0,MAX($A$6:A10)+1,"") -> 5 | B11: =IFERROR(INDEX('10. Свод Перечней'!B:C,MATCH(C11,'10. Свод Перечней'!C:C,0),1),"") -> Чечевица | C11: {=IFERROR(INDEX('10. Свод Перечней'!$C$4:$C$529,SMALL(IF("В"='10. Свод Перечней'!$I$4:$Q$529,ROW('10. Свод Перечней'!$C$4:$C$529)-3,""),ROW()-6)),"")} -> Чечевица продовольственная тип 2 | D11: =IFERROR(VLOOKUP(C11,'10. Свод Перечней'!C:H,2,0),"") -> 01.11.74.110 | E11: =IFERROR(VLOOKUP(C11,'10. Свод Перечней'!C:H,3,0),"") -> 001 | F11: =IFERROR(VLOOKUP(C11,'10. Свод Перечней'!C:H,4,0),"") -> КГ | G11: =IFERROR(VLOOKUP(C11,'10. Свод Перечней'!C:H,5,0),"") -> Тип чечевицы: Красная; Коричневая; Неоднородная; Светло-зеленая; Темно-зеленая Вес: не более 1 КГ Упаковка производителя: Наличие Соответствие нормативно-технической документации: Технический регламент Таможенного союза "О безопасности упаковки" от 16.08.2011 ТР ТС № 005/2011, Технический регламент Таможенного союза "О безопасности пищевой продукции" от 09.12.2011 № 021/2011, Технический регламент Таможенного союза "Пищевая продукция в части ее маркировки" от 09.12.2011 № 022/2011, ГОСТ 7066-2019 | H11: =IF(LEN(IFERROR(VLOOKUP(C11,'10. Свод Перечней'!C:H,6,0),""))>1,IFERROR(VLOOKUP(C11,'10. Свод Перечней'!C:H,6,0),""),"") -> 01.11.74.110-00000001, 01.11.74.110-00000002, 01.11.74.110-00000003, 01.11.74.110-00000004, 01.11.74.110-00000005
A12: =IF(LEN(C12)>0,MAX($A$6:A11)+1,"") -> 6 | B12: =IFERROR(INDEX('10. Свод Перечней'!B:C,MATCH(C12,'10. Свод Перечней'!C:C,0),1),"") -> Горох шлифованный | C12: {=IFERROR(INDEX('10. Свод Перечней'!$C$4:$C$529,SMALL(IF("В"='10. Свод Перечней'!$I$4:$Q$529,ROW('10. Свод Перечней'!$C$4:$C$529)-3,""),ROW()-6)),"")} -> Горох шлифованный тип 1 | D12: =IFERROR(VLOOKUP(C12,'10. Свод Перечней'!C:H,2,0),"") -> 01.11.75.110 | E12: =IFERROR(VLOOKUP(C12,'10. Свод Перечней'!C:H,3,0),"") -> 001 | F12: =IFERROR(VLOOKUP(C12,'10. Свод Перечней'!C:H,4,0),"") -> КГ | G12: =IFERROR(VLOOKUP(C12,'10. Свод Перечней'!C:H,5,0),"") -> Вид зерна: Целое Сорт: Не ниже первого Вес: не более 1 КГ Упаковка производителя: Наличие Соответствие нормативно-технической документации: Технический регламент Таможенного союза "О безопасности упаковки" от 16.08.2011 ТР ТС № 005/2011, Технический регламент Таможенного союза "О безопасности пищевой продукции" от 09.12.2011 № 021/2011, Технический регламент Таможенного союза "Пищевая продукция в части ее маркировки" от 09.12.2011 № 022/2011, ГОСТ 6201-20 | H12: =IF(LEN(IFERROR(VLOOKUP(C12,'10. Свод Перечней'!C:H,6,0),""))>1,IFERROR(VLOOKUP(C12,'10. Свод Перечней'!C:H,6,0),""),"") -> 01.11.75.110-00000002
A13: =IF(LEN(C13)>0,MAX($A$6:A12)+1,"") -> 7 | B13: =IFERROR(INDEX('10. Свод Перечней'!B:C,MATCH(C13,'10. Свод Перечней'!C:C,0),1),"") -> Горох шлифованный | C13: {=IFERROR(INDEX('10. Свод Перечней'!$C$4:$C$529,SMALL(IF("В"='10. Свод Перечней'!$I$4:$Q$529,ROW('10. Свод Перечней'!$C$4:$C$529)-3,""),ROW()-6)),"")} -> Горох шлифованный тип 2 | D13: =IFERROR(VLOOKUP(C13,'10. Свод Перечней'!C:H,2,0),"") -> 01.11.75.110 | E13: =IFERROR(VLOOKUP(C13,'10. Свод Перечней'!C:H,3,0),"") -> 002 | F13: =IFERROR(VLOOKUP(C13,'10. Свод Перечней'!C:H,4,0),"") -> КГ | G13: =IFERROR(VLOOKUP(C13,'10. Свод Перечней'!C:H,5,0),"") -> Вид зерна: Целое Сорт: Не ниже первого Фасовка: Весовая Соответствие нормативно-технической документации: Технический регламент Таможенного союза "О безопасности упаковки" от 16.08.2011 ТР ТС № 005/2011, Технический регламент Таможенного союза "О безопасности пищевой продукции" от 09.12.2011 № 021/2011, Технический регламент Таможенного союза "Пищевая продукция в части ее маркировки" от 09.12.2011 № 022/2011, ГОСТ 6201-20 | H13: =IF(LEN(IFERROR(VLOOKUP(C13,'10. Свод Перечней'!C:H,6,0),""))>1,IFERROR(VLOOKUP(C13,'10. Свод Перечней'!C:H,6,0),""),"") -> 01.11.75.110-00000002
A14: =IF(LEN(C14)>0,MAX($A$6:A13)+1,"") -> 8 | B14: =IFERROR(INDEX('10. Свод Перечней'!B:C,MATCH(C14,'10. Свод Перечней'!C:C,0),1),"") -> Орехи тип 5 | C14: {=IFERROR(INDEX('10. Свод Перечней'!$C$4:$C$529,SMALL(IF("В"='10. Свод Перечней'!$I$4:$Q$529,ROW('10. Свод Перечней'!$C$4:$C$529)-3,""),ROW()-6)),"")} -> Орехи тип 5 | D14: =IFERROR(VLOOKUP(C14,'10. Свод Перечней'!C:H,2,0),"") -> 01.11.83.000 | E14: =IFERROR(VLOOKUP(C14,'10. Свод Перечней'!C:H,3,0),"") -> 001 | F14: =IFERROR(VLOOKUP(C14,'10. Свод Перечней'!C:H,4,0),"") -> КГ | G14: =IFERROR(VLOOKUP(C14,'10. Свод Перечней'!C:H,5,0),"") -> Тип: Арахис Вид: Ядра очищенные Вид по способу обработки: Сырой; Жареный Вес: не более 0,1 КГ Упаковка производителя: Наличие Сорт: Высший; Первый Соответствие нормативно-технической документации: Технический регламент Таможенного союза "О безопасности упаковки" от 16.08.2011 ТР ТС № 005/2011, Технический регламент Таможенного союза "О безопасности пищевой продукции" от 09.12.2011 № 021/2011, Технический регламент Таможенного союза "Пищевая продукция в части ее маркировки" от 09.12.2011 № 022/2011, ГОСТ 31784-2012, ТУ производителя | H14: =IF(LEN(IFERROR(VLOOKUP(C14,'10. Свод Перечней'!C:H,6,0),""))>1,IFERROR(VLOOKUP(C14,'10. Свод Перечней'!C:H,6,0),""),"")
A15: =IF(LEN(C15)>0,MAX($A$6:A14)+1,"") -> 9 | B15: =IFERROR(INDEX('10. Свод Перечней'!B:C,MATCH(C15,'10. Свод Перечней'!C:C,0),1),"") -> Капуста брюссельская свежая | C15: {=IFERROR(INDEX('10. Свод Перечней'!$C$4:$C$529,SMALL(IF("В"='10. Свод Перечней'!$I$4:$Q$529,ROW('10. Свод Перечней'!$C$4:$C$529)-3,""),ROW()-6)),"")} -> Капуста брюссельская тип 1 | D15: =IFERROR(VLOOKUP(C15,'10. Свод Перечней'!C:H,2,0),"") -> 01.13.12.110 | E15: =IFERROR(VLOOKUP(C15,'10. Свод Перечней'!C:H,3,0),"") -> 001 | F15: =IFERROR(VLOOKUP(C15,'10. Свод Перечней'!C:H,4,0),"") -> КГ | G15: =IFERROR(VLOOKUP(C15,'10. Свод Перечней'!C:H,5,0),"") -> Вид: Свежая Фасовка: Весовая Соответствие нормативно-технической документации: Технический регламент Таможенного союза "О безопасности упаковки" от 16.08.2011 ТР ТС № 005/2011, Технический регламент Таможенного союза "О безопасности пищевой продукции" от 09.12.2011 № 021/2011, Технический регламент Таможенного союза "Пищевая продукция в части ее маркировки" от 09.12.2011 № 022/2011, ГОСТ 33851-2016 | H15: =IF(LEN(IFERROR(VLOOKUP(C15,'10. Свод Перечней'!C:H,6,0),""))>1,IFERROR(VLOOKUP(C15,'10. Свод Перечней'!C:H,6,0),""),"")
A16: =IF(LEN(C16)>0,MAX($A$6:A15)+1,"") -> 10 | B16: =IFERROR(INDEX('10. Свод Перечней'!B:C,MATCH(C16,'10. Свод Перечней'!C:C,0),1),"") -> Капуста белокочанная свежая | C16: {=IFERROR(INDEX('10. Свод Перечней'!$C$4:$C$529,SMALL(IF("В"='10. Свод Перечней'!$I$4:$Q$529,ROW('10. Свод Перечней'!$C$4:$C$529)-3,""),ROW()-6)),"")} -> Капуста белокочанная тип 1 | D16: =IFERROR(VLOOKUP(C16,'10. Свод Перечней'!C:H,2,0),"") -> 01.13.12.120 | E16: =IFERROR(VLOOKUP(C16,'10. Свод Перечней'!C:H,3,0),"") -> 001 | F16: =IFERROR(VLOOKUP(C16,'10. Свод Перечней'!C:H,4,0),"") -> КГ | G16: =IFERROR(VLOOKUP(C16,'10. Свод Перечней'!C:H,5,0),"") -> Капуста очищенная: Нет Вид капусты по сроку созревания: Среднеспелая; Позднеспелая; Среднепоздняя Товарный класс: Первый Вид: Свежая Фасовка: Весовая Соответствие нормативно-технической документации: Технический регламент Таможенного союза "О безопасности упаковки" от 16.08.2011 ТР ТС № 005/2011, Технический регламент Таможенного союза "О безопасности пищевой продукции" от 09.12.2011 № 021/2011, Технический регламент Таможенного союза "Пищевая продукция в части ее маркировки" от 09.12.2011 № 022/2011, ГОСТ Р 51809-2001 | H16: =IF(LEN(IFERROR(VLOOKUP(C16,'10. Свод Перечней'!C:H,6,0),""))>1,IFERROR(VLOOKUP(C16,'10. Свод Перечней'!C:H,6,0),""),"") -> 01.13.12.120-00000002
A17: =IF(LEN(C17)>0,MAX($A$6:A16)+1,"") -> 11 | B17: =IFERROR(INDEX('10. Свод Перечней'!B:C,MATCH(C17,'10. Свод Перечней'!C:C,0),1),"") -> Капуста белокочанная свежая | C17: {=IFERROR(INDEX('10. Свод Перечней'!$C$4:$C$529,SMALL(IF("В"='10. Свод Перечней'!$I$4:$Q$529,ROW('10. Свод Перечней'!$C$4:$C$529)-3,""),ROW()-6)),"")} -> Капуста белокочанная тип 2 | D17: =IFERROR(VLOOKUP(C17,'10. Свод Перечней'!C:H,2,0),"") -> 01.13.12.120 | E17: =IFERROR(VLOOKUP(C17,'10. Свод Перечней'!C:H,3,0),"") -> 002 | F17: =IFERROR(VLOOKUP(C17,'10. Свод Перечней'!C:H,4,0),"") -> КГ | G17: =IFERROR(VLOOKUP(C17,'10. Свод Перечней'!C:H,5,0),"") -> Капуста очищенная: Нет Вид капусты по сроку созревания: Раннеспелая Товарный класс: Первый Вид: Свежая Фасовка: Весовая Соответствие нормативно-технической документации: Технический регламент Таможенного союза "О безопасности упаковки" от 16.08.2011 ТР ТС № 005/2011, Технический регламент Таможенного союза "О безопасности пищевой продукции" от 09.12.2011 № 021/2011, Технический регламент Таможенного союза "Пищевая продукция в части ее маркировки" от 09.12.2011 № 022/2011, ГОСТ Р 51809-2001 | H17: =IF(LEN(IFERROR(VLOOKUP(C17,'10. Свод Перечней'!C:H,6,0),""))>1,IFERROR(VLOOKUP(C17,'10. Свод Перечней'!C:H,6,0),""),"") -> 01.13.12.120-00000002
A18: =IF(LEN(C18)>0,MAX($A$6:A17)+1,"") -> 12 | B18: =IFERROR(INDEX('10. Свод Перечней'!B:C,MATCH(C18,'10. Свод Перечней'!C:C,0),1),"") -> Капуста краснокочанная свежая | C18: {=IFERROR(INDEX('10. Свод Перечней'!$C$4:$C$529,SMALL(IF("В"='10. Свод Перечней'!$I$4:$Q$529,ROW('10. Свод Перечней'!$C$4:$C$529)-3,""),ROW()-6)),"")} -> Капуста краснокочанная тип 1 | D18: =IFERROR(VLOOKUP(C18,'10. Свод Перечней'!C:H,2,0),"") -> 01.13.12.130 | E18: =IFERROR(VLOOKUP(C18,'10. Свод Перечней'!C:H,3,0),"") -> 001 | F18: =IFERROR(VLOOKUP(C18,'10. Свод Перечней'!C:H,4,0),"") -> КГ | G18: =IFERROR(VLOOKUP(C18,'10. Свод Перечней'!C:H,5,0),"") -> Вид: Свежая Фасовка: Весовая Соответствие нормативно-технической документации: Технический регламент Таможенного союза "О безопасности упаковки" от 16.08.2011 ТР ТС № 005/2011, Технический регламент Таможенного союза "О безопасности пищевой продукции" от 09.12.2011 № 021/2011, Технический регламент Таможенного союза "Пищевая продукция в части ее маркировки" от 09.12.2011 № 022/2011, ГОСТ 7967-2015 | H18: =IF(LEN(IFERROR(VLOOKUP(C18,'10. Свод Перечней'!C:H,6,0),""))>1,IFERROR(VLOOKUP(C18,'10. Свод Перечней'!C:H,6,0),""),"")
A19: =IF(LEN(C19)>0,MAX($A$6:A18)+1,"") -> 13 | B19: =IFERROR(INDEX('10. Свод Перечней'!B:C,MATCH(C19,'10. Свод Перечней'!C:C,0),1),"") -> Капуста савойская свежая | C19: {=IFERROR(INDEX('10. Свод Перечней'!$C$4:$C$529,SMALL(IF("В"='10. Свод Перечней'!$I$4:$Q$529,ROW('10. Свод Перечней'!$C$4:$C$529)-3,""),ROW()-6)),"")} -> Капуста савойская тип 1 | D19: =IFERROR(VLOOKUP(C19,'10. Свод Перечней'!C:H,2,0),"") -> 01.13.12.140 | E19: =IFERROR(VLOOKUP(C19,'10. Свод Перечней'!C:H,3,0),"") -> 001 | F19: =IFERROR(VLOOKUP(C19,'10. Свод Перечней'!C:H,4,0),"") -> КГ | G19: =IFERROR(VLOOKUP(C19,'10. Свод Перечней'!C:H,5,0),"") -> Вид: Свежая Фасовка: Весовая Соответствие нормативно-технической документации: Технический регламент Таможенного союза "О безопасности упаковки" от 16.08.2011 ТР ТС № 005/2011, Технический регламент Таможенного союза "О безопасности пищевой продукции" от 09.12.2011 № 021/2011, Технический регламент Таможенного союза "Пищевая продукция в части ее маркировки" от 09.12.2011 № 022/2011, ГОСТ 33551-2015, РСТ РСФСР 744-88 | H19: =IF(LEN(IFERROR(VLOOKUP(C19,'10. Свод Перечней'!C:H,6,0),""))>1,IFERROR(VLOOKUP(C19,'10. Свод Перечней'!C:H,6,0),""),"")
... A500: =IF(LEN(C500)>0,MAX($A$6:A499)+1,"") -> 494 | B500: =IFERROR(INDEX('10. Свод Перечней'!B:C,MATCH(C500,'10. Свод Перечней'!C:C,0),1),"") -> Хлебцы рисовые безглютеновые | C500: {=IFERROR(INDEX('10. Свод Перечней'!$C$4:$C$529,SMALL(IF("В"='10. Свод Перечней'!$I$4:$Q$529,ROW('10. Свод Перечней'!$C$4:$C$529)-3,""),ROW()-6)),"")} -> Хлебцы рисовые безглютеновые тип 3 | D500: =IFERROR(VLOOKUP(C500,'10. Свод Перечней'!C:H,2,0),"") -> 10.72.11.130 | E500: =IFERROR(VLOOKUP(C500,'10. Свод Перечней'!C:H,3,0),"") -> 003 | F500: =IFERROR(VLOOKUP(C500,'10. Свод Перечней'!C:H,4,0),"") -> КГ | G500: =IFERROR(VLOOKUP(C500,'10. Свод Перечней'!C:H,5,0),"") -> Вид сырья: Крупа рисовая Глютен в составе: Отсутствие Особые условия (требования к составу пищевых продуктов): Без химических консервантов, искусственных красителей и ароматизаторов, искусственных пищевых добавок Вес: не более 100 Г Упаковка производителя: Наличие Соответствие нормативно-технической документации: Технический регламент Таможенного союза "О безопасности упаковки" от 16.08.2011 ТР ТС № 005/2011, Технический регламент Таможенного союза "О безопасности пищевой продукции" от 09.12.2011 № 021/2011, Технический регламент Таможенного союза "Пищевая продукция в части ее маркировки" от 09.12.2011 № 022/2011,ТУ производителя | H500: =IF(LEN(IFERROR(VLOOKUP(C500,'10. Свод Перечней'!C:H,6,0),""))>1,IFERROR(VLOOKUP(C500,'10. Свод Перечней'!C:H,6,0),""),"") -> 10.72.11.130-00000002
C501: {=IFERROR(INDEX('10. Свод Перечней'!$C$4:$C$506,SMALL(IF("В"='10. Свод Перечней'!I504:Q992,ROW('10. Свод Перечней'!C504:C992)-3,""),ROW()-6)),"")}
C502: {=IFERROR(INDEX('10. Свод Перечней'!$C$4:$C$506,SMALL(IF("В"='10. Свод Перечней'!I505:Q993,ROW('10. Свод Перечней'!C505:C993)-3,""),ROW()-6)),"")}
C503: {=IFERROR(INDEX('10. Свод Перечней'!$C$4:$C$506,SMALL(IF("В"='10. Свод Перечней'!I506:Q994,ROW('10. Свод Перечней'!C506:C994)-3,""),ROW()-6)),"")}
C504: {=IFERROR(INDEX('10. Свод Перечней'!$C$4:$C$506,SMALL(IF("В"='10. Свод Перечней'!I507:Q995,ROW('10. Свод Перечней'!C507:C995)-3,""),ROW()-6)),"")}
C505: {=IFERROR(INDEX('10. Свод Перечней'!$C$4:$C$506,SMALL(IF("В"='10. Свод Перечней'!I508:Q996,ROW('10. Свод Перечней'!C508:C996)-3,""),ROW()-6)),"")}
C506: {=IFERROR(INDEX('10. Свод Перечней'!$C$4:$C$506,SMALL(IF("В"='10. Свод Перечней'!I509:Q997,ROW('10. Свод Перечней'!C509:C997)-3,""),ROW()-6)),"")}
C507: {=IFERROR(INDEX('10. Свод Перечней'!$C$4:$C$506,SMALL(IF("В"='10. Свод Перечней'!I510:Q998,ROW('10. Свод Перечней'!C510:C998)-3,""),ROW()-6)),"")}
C508: {=IFERROR(INDEX('10. Свод Перечней'!$C$4:$C$506,SMALL(IF("В"='10. Свод Перечней'!I511:Q999,ROW('10. Свод Перечней'!C511:C999)-3,""),ROW()-6)),"")}
C509: {=IFERROR(INDEX('10. Свод Перечней'!$C$4:$C$506,SMALL(IF("В"='10. Свод Перечней'!I512:Q1000,ROW('10. Свод Перечней'!C512:C1000)-3,""),ROW()-6)),"")}
C510: {=IFERROR(INDEX('10. Свод Перечней'!$C$4:$C$506,SMALL(IF("В"='10. Свод Перечней'!I513:Q1001,ROW('10. Свод Перечней'!C513:C1001)-3,""),ROW()-6)),"")}
C511: {=IFERROR(INDEX('10. Свод Перечней'!$C$4:$C$506,SMALL(IF("В"='10. Свод Перечней'!I514:Q1002,ROW('10. Свод Перечней'!C514:C1002)-3,""),ROW()-6)),"")}
C512: {=IFERROR(INDEX('10. Свод Перечней'!$C$4:$C$506,SMALL(IF("В"='10. Свод Перечней'!I515:Q1003,ROW('10. Свод Перечней'!C515:C1003)-3,""),ROW()-6)),"")}
C513: {=IFERROR(INDEX('10. Свод Перечней'!$C$4:$C$506,SMALL(IF("В"='10. Свод Перечней'!I529:Q1004,ROW('10. Свод Перечней'!C529:C1004)-3,""),ROW()-6)),"")}
C514: {=IFERROR(INDEX('10. Свод Перечней'!$C$4:$C$506,SMALL(IF("В"='10. Свод Перечней'!I278:Q1005,ROW('10. Свод Перечней'!C278:C1005)-3,""),ROW()-6)),"")}
C515: {=IFERROR(INDEX('10. Свод Перечней'!$C$4:$C$506,SMALL(IF("В"='10. Свод Перечней'!I272:Q1006,ROW('10. Свод Перечней'!C272:C1006)-3,""),ROW()-6)),"")}
C516: {=IFERROR(INDEX('10. Свод Перечней'!$C$4:$C$506,SMALL(IF("В"='10. Свод Перечней'!I531:Q1007,ROW('10. Свод Перечней'!C531:C1007)-3,""),ROW()-6)),"")}
C517: {=IFERROR(INDEX('10. Свод Перечней'!$C$4:$C$506,SMALL(IF("В"='10. Свод Перечней'!I531:Q1008,ROW('10. Свод Перечней'!C531:C1008)-3,""),ROW()-6)),"")}
C518: {=IFERROR(INDEX('10. Свод Перечней'!$C$4:$C$506,SMALL(IF("В"='10. Свод Перечней'!I531:Q1009,ROW('10. Свод Перечней'!C531:C1009)-3,""),ROW()-6)),"")}
C519: {=IFERROR(INDEX('10. Свод Перечней'!$C$4:$C$506,SMALL(IF("В"='10. Свод Перечней'!I531:Q1010,ROW('10. Свод Перечней'!C531:C1010)-3,""),ROW()-6)),"")}
C520: {=IFERROR(INDEX('10. Свод Перечней'!$C$4:$C$506,SMALL(IF("В"='10. Свод Перечней'!I531:Q1011,ROW('10. Свод Перечней'!C531:C1011)-3,""),ROW()-6)),"")}
C521: {=IFERROR(INDEX('10. Свод Перечней'!$C$4:$C$506,SMALL(IF("В"='10. Свод Перечней'!I531:Q1012,ROW('10. Свод Перечней'!C531:C1012)-3,""),ROW()-6)),"")}
C522: {=IFERROR(INDEX('10. Свод Перечней'!$C$4:$C$506,SMALL(IF("В"='10. Свод Перечней'!I531:Q1013,ROW('10. Свод Перечней'!C531:C1013)-3,""),ROW()-6)),"")}
C523: {=IFERROR(INDEX('10. Свод Перечней'!$C$4:$C$506,SMALL(IF("В"='10. Свод Перечней'!I531:Q1014,ROW('10. Свод Перечней'!C531:C1014)-3,""),ROW()-6)),"")}
C524: {=IFERROR(INDEX('10. Свод Перечней'!$C$4:$C$506,SMALL(IF("В"='10. Свод Перечней'!I531:Q1015,ROW('10. Свод Перечней'!C531:C1015)-3,""),ROW()-6)),"")}
C525: {=IFERROR(INDEX('10. Свод Перечней'!$C$4:$C$506,SMALL(IF("В"='10. Свод Перечней'!I531:Q1016,ROW('10. Свод Перечней'!C531:C1016)-3,""),ROW()-6)),"")}
C526: {=IFERROR(INDEX('10. Свод Перечней'!$C$4:$C$506,SMALL(IF("В"='10. Свод Перечней'!I531:Q1017,ROW('10. Свод Перечней'!C531:C1017)-3,""),ROW()-6)),"")}
C527: {=IFERROR(INDEX('10. Свод Перечней'!$C$4:$C$506,SMALL(IF("В"='10. Свод Перечней'!I531:Q1018,ROW('10. Свод Перечней'!C531:C1018)-3,""),ROW()-6)),"")}
C528: {=IFERROR(INDEX('10. Свод Перечней'!$C$4:$C$506,SMALL(IF("В"='10. Свод Перечней'!I531:Q1019,ROW('10. Свод Перечней'!C531:C1019)-3,""),ROW()-6)),"")}
C529: {=IFERROR(INDEX('10. Свод Перечней'!$C$4:$C$506,SMALL(IF("В"='10. Свод Перечней'!I531:Q1020,ROW('10. Свод Перечней'!C531:C1020)-3,""),ROW()-6)),"")}
C530: {=IFERROR(INDEX('10. Свод Перечней'!$C$4:$C$506,SMALL(IF("В"='10. Свод Перечней'!I531:Q1021,ROW('10. Свод Перечней'!C531:C1021)-3,""),ROW()-6)),"")}
C531: {=IFERROR(INDEX('10. Свод Перечней'!$C$4:$C$506,SMALL(IF("В"='10. Свод Перечней'!I531:Q1022,ROW('10. Свод Перечней'!C531:C1022)-3,""),ROW()-6)),"")}
C532: {=IFERROR(INDEX('10. Свод Перечней'!$C$4:$C$506,SMALL(IF("В"='10. Свод Перечней'!I531:Q1023,ROW('10. Свод Перечней'!C531:C1023)-3,""),ROW()-6)),"")}
C533: {=IFERROR(INDEX('10. Свод Перечней'!$C$4:$C$506,SMALL(IF("В"='10. Свод Перечней'!I531:Q1024,ROW('10. Свод Перечней'!C531:C1024)-3,""),ROW()-6)),"")}
C534: {=IFERROR(INDEX('10. Свод Перечней'!$C$4:$C$506,SMALL(IF("В"='10. Свод Перечней'!I531:Q1025,ROW('10. Свод Перечней'!C531:C1025)-3,""),ROW()-6)),"")}
C535: {=IFERROR(INDEX('10. Свод Перечней'!$C$4:$C$506,SMALL(IF("В"='10. Свод Перечней'!I531:Q1026,ROW('10. Свод Перечней'!C531:C1026)-3,""),ROW()-6)),"")}
C536: {=IFERROR(INDEX('10. Свод Перечней'!$C$4:$C$506,SMALL(IF("В"='10. Свод Перечней'!I531:Q1027,ROW('10. Свод Перечней'!C531:C1027)-3,""),ROW()-6)),"")}
C537: {=IFERROR(INDEX('10. Свод Перечней'!$C$4:$C$506,SMALL(IF("В"='10. Свод Перечней'!I532:Q1028,ROW('10. Свод Перечней'!C532:C1028)-3,""),ROW()-6)),"")}
C538: {=IFERROR(INDEX('10. Свод Перечней'!$C$4:$C$506,SMALL(IF("В"='10. Свод Перечней'!I533:Q1029,ROW('10. Свод Перечней'!C533:C1029)-3,""),ROW()-6)),"")}
C539: {=IFERROR(INDEX('10. Свод Перечней'!$C$4:$C$506,SMALL(IF("В"='10. Свод Перечней'!I534:Q1030,ROW('10. Свод Перечней'!C534:C1030)-3,""),ROW()-6)),"")}
C540: {=IFERROR(INDEX('10. Свод Перечней'!$C$4:$C$506,SMALL(IF("В"='10. Свод Перечней'!I535:Q1031,ROW('10. Свод Перечней'!C535:C1031)-3,""),ROW()-6)),"")}
C541: {=IFERROR(INDEX('10. Свод Перечней'!$C$4:$C$506,SMALL(IF("В"='10. Свод Перечней'!I536:Q1032,ROW('10. Свод Перечней'!C536:C1032)-3,""),ROW()-6)),"")}
C542: {=IFERROR(INDEX('10. Свод Перечней'!$C$4:$C$506,SMALL(IF("В"='10. Свод Перечней'!I537:Q1033,ROW('10. Свод Перечней'!C537:C1033)-3,""),ROW()-6)),"")}
C543: {=IFERROR(INDEX('10. Свод Перечней'!$C$4:$C$506,SMALL(IF("В"='10. Свод Перечней'!I538:Q1034,ROW('10. Свод Перечней'!C538:C1034)-3,""),ROW()-6)),"")}
C544: {=IFERROR(INDEX('10. Свод Перечней'!$C$4:$C$506,SMALL(IF("В"='10. Свод Перечней'!I539:Q1035,ROW('10. Свод Перечней'!C539:C1035)-3,""),ROW()-6)),"")}
C545: {=IFERROR(INDEX('10. Свод Перечней'!$C$4:$C$506,SMALL(IF("В"='10. Свод Перечней'!I540:Q1036,ROW('10. Свод Перечней'!C540:C1036)-3,""),ROW()-6)),"")}
C546: {=IFERROR(INDEX('10. Свод Перечней'!$C$4:$C$506,SMALL(IF("В"='10. Свод Перечней'!I541:Q1037,ROW('10. Свод Перечней'!C541:C1037)-3,""),ROW()-6)),"")}
C547: {=IFERROR(INDEX('10. Свод Перечней'!$C$4:$C$506,SMALL(IF("В"='10. Свод Перечней'!I542:Q1038,ROW('10. Свод Перечней'!C542:C1038)-3,""),ROW()-6)),"")}
... C1179: {=IFERROR(INDEX('10. Свод Перечней'!$C$4:$C$506,SMALL(IF("В"='10. Свод Перечней'!I1174:Q1670,ROW('10. Свод Перечней'!C1174:C1670)-3,""),ROW()-6)),"")}

Sheet 2. Здрав Взрослые
A2: Дата актуализации ассортиментного перечня «01» июня 2023 г
A3: Ассортиментный перечень основных групп продовольственных товаров и сырья для обеспечения социального питания в лечебно-профилактических и санаторно-курортных учреждениях здравоохранения Санкт-Петербурга (для взрослых)
A4: Примечание! * - Продукция предназначенная для лечебного, специального питания ** - предназначенные для использования в питании после термической обработки. Информацию о действующей нормативной документации, а также изменениях вносимых в национальные стандарты можно получить в Управлении социального питания по телефонам 417-35-50, 417-35-52 и на сайте Управления по адресу: http://www.gov.spb.ru, вкладка «Нормативные документы».
A5: № | B5: Потребительское наименование товара | C5: Название товара ККН/КТРУ | D5: ОКПД2 | E5: Детализация ККН | F5: Единица измерения ККН | G5: Характеристики товара | H5: Код КТРУ
A6: 1 | B6: 2 | C6: 2 | D6: 3 | E6: 4 | F6: 5 | G6: 6 | H6: 7
A7: 1 | B7: =IFERROR(INDEX('10. Свод Перечней'!B:C,MATCH(C7,'10. Свод Перечней'!C:C,0),1),"") -> Фасоль овощная свежая | C7: {=IFERROR(INDEX('10. Свод Перечней'!$C$4:$C$529,SMALL(IF("ЗВ"='10. Свод Перечней'!$I$4:$Q$529,ROW('10. Свод Перечней'!$C$4:$C$529)-3,""),ROW()-6)),"")} -> Фасоль тип 1 | D7: =IFERROR(VLOOKUP(C7,'10. Свод Перечней'!C:H,2,0),"") -> 01.11.61.000 | E7: =IFERROR(VLOOKUP(C7,'10. Свод Перечней'!C:H,3,0),"") -> 001 | F7: =IFERROR(VLOOKUP(C7,'10. Свод Перечней'!C:H,4,0),"") -> КГ | G7: =IFERROR(VLOOKUP(C7,'10. Свод Перечней'!C:H,5,0),"") -> Тип: Овощная Вид: Свежая Сорт: Высший; Первый Фасовка: Весовая Соответствие нормативно-технической документации: Технический регламент Таможенного союза "О безопасности упаковки" от 16.08.2011 ТР ТС № 005/2011, Технический регламент Таможенного союза "О безопасности пищевой продукции" от 09.12.2011 № 021/2011, Технический регламент Таможенного союза "Пищевая продукция в части ее маркировки" от 09.12.2011 № 022/2011, ГОСТ 34299-2017 | H7: =IF(LEN(IFERROR(VLOOKUP(C7,'10. Свод Перечней'!C:H,6,0),""))>1,IFERROR(VLOOKUP(C7,'10. Свод Перечней'!C:H,6,0),""),"")
A8: =IF(LEN(C8)>0,MAX($A$6:A7)+1,"") -> 2 | B8: =IFERROR(INDEX('10. Свод Перечней'!B:C,MATCH(C8,'10. Свод Перечней'!C:C,0),1),"") -> Фасоль продовольственная | C8: {=IFERROR(INDEX('10. Свод Перечней'!$C$4:$C$529,SMALL(IF("ЗВ"='10. Свод Перечней'!$I$4:$Q$529,ROW('10. Свод Перечней'!$C$4:$C$529)-3,""),ROW()-6)),"")} -> Фасоль продовольственная тип 1 | D8: =IFERROR(VLOOKUP(C8,'10. Свод Перечней'!C:H,2,0),"") -> 01.11.71.110 | E8: =IFERROR(VLOOKUP(C8,'10. Свод Перечней'!C:H,3,0),"") -> 002 | F8: =IFERROR(VLOOKUP(C8,'10. Свод Перечней'!C:H,4,0),"") -> КГ | G8: =IFERROR(VLOOKUP(C8,'10. Свод Перечней'!C:H,5,0),"") -> Номер и наименование типа фасоли: I. Фасоль белая; II. Фасоль цветная однотонная; III. Фасоль цветная пестрая Фасовка: Весовая Соответствие нормативно-технической документации: Технический регламент Таможенного союза "О безопасности упаковки" от 16.08.2011 ТР ТС № 005/2011, Технический регламент Таможенного союза "О безопасности пищевой продукции" от 09.12.2011 № 021/2011, Технический регламент Таможенного союза "Пищевая продукция в части ее маркировки" от 09.12.2011 № 022/2011, ГОСТ 7758-2020 | H8: =IF(LEN(IFERROR(VLOOKUP(C8,'10. Свод Перечней'!C:H,6,0),""))>1,IFERROR(VLOOKUP(C8,'10. Свод Перечней'!C:H,6,0),""),"") -> 01.11.71.110-00000001, 01.11.71.110-00000002, 01.11.71.110-00000003
A9: =IF(LEN(C9)>0,MAX($A$6:A8)+1,"") -> 3 | B9: =IFERROR(INDEX('10. Свод Перечней'!B:C,MATCH(C9,'10. Свод Перечней'!C:C,0),1),"") -> Фасоль продовольственная | C9: {=IFERROR(INDEX('10. Свод Перечней'!$C$4:$C$529,SMALL(IF("ЗВ"='10. Свод Перечней'!$I$4:$Q$529,ROW('10. Свод Перечней'!$C$4:$C$529)-3,""),ROW()-6)),"")} -> Фасоль продовольственная тип 2 | D9: =IFERROR(VLOOKUP(C9,'10. Свод Перечней'!C:H,2,0),"") -> 01.11.71.110 | E9: =IFERROR(VLOOKUP(C9,'10. Свод Перечней'!C:H,3,0),"") -> 001 | F9: =IFERROR(VLOOKUP(C9,'10. Свод Перечней'!C:H,4,0),"") -> КГ | G9: =IFERROR(VLOOKUP(C9,'10. Свод Перечней'!C:H,5,0),"") -> Номер и наименование типа фасоли: I. Фасоль белая; II. Фасоль цветная однотонная; III. Фасоль цветная пестрая Вес: не более 1 КГ Упаковка производителя: Наличие Соответствие нормативно-технической документации: Технический регламент Таможенного союза "О безопасности упаковки" от 16.08.2011 ТР ТС № 005/2011, Технический регламент Таможенного союза "О безопасности пищевой продукции" от 09.12.2011 № 021/2011, Технический регламент Таможенного союза "Пищевая продукция в части ее маркировки" от 09.12.2011 № 022/2011, ГОСТ 7758-2020 | H9: =IF(LEN(IFERROR(VLOOKUP(C9,'10. Свод Перечней'!C:H,6,0),""))>1,IFERROR(VLOOKUP(C9,'10. Свод Перечней'!C:H,6,0),""),"") -> 01.11.71.110-00000001, 01.11.71.110-00000002, 01.11.71.110-00000003
A10: =IF(LEN(C10)>0,MAX($A$6:A9)+1,"") -> 4 | B10: =IFERROR(INDEX('10. Свод Перечней'!B:C,MATCH(C10,'10. Свод Перечней'!C:C,0),1),"") -> Чечевица | C10: {=IFERROR(INDEX('10. Свод Перечней'!$C$4:$C$529,SMALL(IF("ЗВ"='10. Свод Перечней'!$I$4:$Q$529,ROW('10. Свод Перечней'!$C$4:$C$529)-3,""),ROW()-6)),"")} -> Чечевица продовольственная тип 1 | D10: =IFERROR(VLOOKUP(C10,'10. Свод Перечней'!C:H,2,0),"") -> 01.11.74.110 | E10: =IFERROR(VLOOKUP(C10,'10. Свод Перечней'!C:H,3,0),"") -> 002 | F10: =IFERROR(VLOOKUP(C10,'10. Свод Перечней'!C:H,4,0),"") -> КГ | G10: =IFERROR(VLOOKUP(C10,'10. Свод Перечней'!C:H,5,0),"") -> Тип чечевицы: Красная; Коричневая; Неоднородная; Светло-зеленая; Темно-зеленая Фасовка: Весовая Соответствие нормативно-технической документации: Технический регламент Таможенного союза "О безопасности упаковки" от 16.08.2011 ТР ТС № 005/2011, Технический регламент Таможенного союза "О безопасности пищевой продукции" от 09.12.2011 № 021/2011, Технический регламент Таможенного союза "Пищевая продукция в части ее маркировки" от 09.12.2011 № 022/2011, ГОСТ 7066-2019 | H10: =IF(LEN(IFERROR(VLOOKUP(C10,'10. Свод Перечней'!C:H,6,0),""))>1,IFERROR(VLOOKUP(C10,'10. Свод Перечней'!C:H,6,0),""),"") -> 01.11.74.110-00000001, 01.11.74.110-00000002, 01.11.74.110-00000003, 01.11.74.110-00000004, 01.11.74.110-00000005
A11: =IF(LEN(C11)>0,MAX($A$6:A10)+1,"") -> 5 | B11: =IFERROR(INDEX('10. Свод Перечней'!B:C,MATCH(C11,'10. Свод Перечней'!C:C,0),1),"") -> Чечевица | C11: {=IFERROR(INDEX('10. Свод Перечней'!$C$4:$C$529,SMALL(IF("ЗВ"='10. Свод Перечней'!$I$4:$Q$529,ROW('10. Свод Перечней'!$C$4:$C$529)-3,""),ROW()-6)),"")} -> Чечевица продовольственная тип 2 | D11: =IFERROR(VLOOKUP(C11,'10. Свод Перечней'!C:H,2,0),"") -> 01.11.74.110 | E11: =IFERROR(VLOOKUP(C11,'10. Свод Перечней'!C:H,3,0),"") -> 001 | F11: =IFERROR(VLOOKUP(C11,'10. Свод Перечней'!C:H,4,0),"") -> КГ | G11: =IFERROR(VLOOKUP(C11,'10. Свод Перечней'!C:H,5,0),"") -> Тип чечевицы: Красная; Коричневая; Неоднородная; Светло-зеленая; Темно-зеленая Вес: не более 1 КГ Упаковка производителя: Наличие Соответствие нормативно-технической документации: Технический регламент Таможенного союза "О безопасности упаковки" от 16.08.2011 ТР ТС № 005/2011, Технический регламент Таможенного союза "О безопасности пищевой продукции" от 09.12.2011 № 021/2011, Технический регламент Таможенного союза "Пищевая продукция в части ее маркировки" от 09.12.2011 № 022/2011, ГОСТ 7066-2019 | H11: =IF(LEN(IFERROR(VLOOKUP(C11,'10. Свод Перечней'!C:H,6,0),""))>1,IFERROR(VLOOKUP(C11,'10. Свод Перечней'!C:H,6,0),""),"") -> 01.11.74.110-00000001, 01.11.74.110-00000002, 01.11.74.110-00000003, 01.11.74.110-00000004, 01.11.74.110-00000005
A12: =IF(LEN(C12)>0,MAX($A$6:A11)+1,"") -> 6 | B12: =IFERROR(INDEX('10. Свод Перечней'!B:C,MATCH(C12,'10. Свод Перечней'!C:C,0),1),"") -> Горох шлифованный | C12: {=IFERROR(INDEX('10. Свод Перечней'!$C$4:$C$529,SMALL(IF("ЗВ"='10. Свод Перечней'!$I$4:$Q$529,ROW('10. Свод Перечней'!$C$4:$C$529)-3,""),ROW()-6)),"")} -> Горох шлифованный тип 1 | D12: =IFERROR(VLOOKUP(C12,'10. Свод Перечней'!C:H,2,0),"") -> 01.11.75.110 | E12: =IFERROR(VLOOKUP(C12,'10. Свод Перечней'!C:H,3,0),"") -> 001 | F12: =IFERROR(VLOOKUP(C12,'10. Свод Перечней'!C:H,4,0),"") -> КГ | G12: =IFERROR(VLOOKUP(C12,'10. Свод Перечней'!C:H,5,0),"") -> Вид зерна: Целое Сорт: Не ниже первого Вес: не более 1 КГ Упаковка производителя: Наличие Соответствие нормативно-технической документации: Технический регламент Таможенного союза "О безопасности упаковки" от 16.08.2011 ТР ТС № 005/2011, Технический регламент Таможенного союза "О безопасности пищевой продукции" от 09.12.2011 № 021/2011, Технический регламент Таможенного союза "Пищевая продукция в части ее маркировки" от 09.12.2011 № 022/2011, ГОСТ 6201-20 | H12: =IF(LEN(IFERROR(VLOOKUP(C12,'10. Свод Перечней'!C:H,6,0),""))>1,IFERROR(VLOOKUP(C12,'10. Свод Перечней'!C:H,6,0),""),"") -> 01.11.75.110-00000002
A13: =IF(LEN(C13)>0,MAX($A$6:A12)+1,"") -> 7 | B13: =IFERROR(INDEX('10. Свод Перечней'!B:C,MATCH(C13,'10. Свод Перечней'!C:C,0),1),"") -> Горох шлифованный | C13: {=IFERROR(INDEX('10. Свод Перечней'!$C$4:$C$529,SMALL(IF("ЗВ"='10. Свод Перечней'!$I$4:$Q$529,ROW('10. Свод Перечней'!$C$4:$C$529)-3,""),ROW()-6)),"")} -> Горох шлифованный тип 2 | D13: =IFERROR(VLOOKUP(C13,'10. Свод Перечней'!C:H,2,0),"") -> 01.11.75.110 | E13: =IFERROR(VLOOKUP(C13,'10. Свод Перечней'!C:H,3,0),"") -> 002 | F13: =IFERROR(VLOOKUP(C13,'10. Свод Перечней'!C:H,4,0),"") -> КГ | G13: =IFERROR(VLOOKUP(C13,'10. Свод Перечней'!C:H,5,0),"") -> Вид зерна: Целое Сорт: Не ниже первого Фасовка: Весовая Соответствие нормативно-технической документации: Технический регламент Таможенного союза "О безопасности упаковки" от 16.08.2011 ТР ТС № 005/2011, Технический регламент Таможенного союза "О безопасности пищевой продукции" от 09.12.2011 № 021/2011, Технический регламент Таможенного союза "Пищевая продукция в части ее маркировки" от 09.12.2011 № 022/2011, ГОСТ 6201-20 | H13: =IF(LEN(IFERROR(VLOOKUP(C13,'10. Свод Перечней'!C:H,6,0),""))>1,IFERROR(VLOOKUP(C13,'10. Свод Перечней'!C:H,6,0),""),"") -> 01.11.75.110-00000002
A14: =IF(LEN(C14)>0,MAX($A$6:A13)+1,"") -> 8 | B14: =IFERROR(INDEX('10. Свод Перечней'!B:C,MATCH(C14,'10. Свод Перечней'!C:C,0),1),"") -> Капуста брюссельская свежая | C14: {=IFERROR(INDEX('10. Свод Перечней'!$C$4:$C$529,SMALL(IF("ЗВ"='10. Свод Перечней'!$I$4:$Q$529,ROW('10. Свод Перечней'!$C$4:$C$529)-3,""),ROW()-6)),"")} -> Капуста брюссельская тип 1 | D14: =IFERROR(VLOOKUP(C14,'10. Свод Перечней'!C:H,2,0),"") -> 01.13.12.110 | E14: =IFERROR(VLOOKUP(C14,'10. Свод Перечней'!C:H,3,0),"") -> 001 | F14: =IFERROR(VLOOKUP(C14,'10. Свод Перечней'!C:H,4,0),"") -> КГ | G14: =IFERROR(VLOOKUP(C14,'10. Свод Перечней'!C:H,5,0),"") -> Вид: Свежая Фасовка: Весовая Соответствие нормативно-технической документации: Технический регламент Таможенного союза "О безопасности упаковки" от 16.08.2011 ТР ТС № 005/2011, Технический регламент Таможенного союза "О безопасности пищевой продукции" от 09.12.2011 № 021/2011, Технический регламент Таможенного союза "Пищевая продукция в части ее маркировки" от 09.12.2011 № 022/2011, ГОСТ 33851-2016 | H14: =IF(LEN(IFERROR(VLOOKUP(C14,'10. Свод Перечней'!C:H,6,0),""))>1,IFERROR(VLOOKUP(C14,'10. Свод Перечней'!C:H,6,0),""),"")
A15: =IF(LEN(C15)>0,MAX($A$6:A14)+1,"") -> 9 | B15: =IFERROR(INDEX('10. Свод Перечней'!B:C,MATCH(C15,'10. Свод Перечней'!C:C,0),1),"") -> Капуста белокочанная свежая | C15: {=IFERROR(INDEX('10. Свод Перечней'!$C$4:$C$529,SMALL(IF("ЗВ"='10. Свод Перечней'!$I$4:$Q$529,ROW('10. Свод Перечней'!$C$4:$C$529)-3,""),ROW()-6)),"")} -> Капуста белокочанная тип 1 | D15: =IFERROR(VLOOKUP(C15,'10. Свод Перечней'!C:H,2,0),"") -> 01.13.12.120 | E15: =IFERROR(VLOOKUP(C15,'10. Свод Перечней'!C:H,3,0),"") -> 001 | F15: =IFERROR(VLOOKUP(C15,'10. Свод Перечней'!C:H,4,0),"") -> КГ | G15: =IFERROR(VLOOKUP(C15,'10. Свод Перечней'!C:H,5,0),"") -> Капуста очищенная: Нет Вид капусты по сроку созревания: Среднеспелая; Позднеспелая; Среднепоздняя Товарный класс: Первый Вид: Свежая Фасовка: Весовая Соответствие нормативно-технической документации: Технический регламент Таможенного союза "О безопасности упаковки" от 16.08.2011 ТР ТС № 005/2011, Технический регламент Таможенного союза "О безопасности пищевой продукции" от 09.12.2011 № 021/2011, Технический регламент Таможенного союза "Пищевая продукция в части ее маркировки" от 09.12.2011 № 022/2011, ГОСТ Р 51809-2001 | H15: =IF(LEN(IFERROR(VLOOKUP(C15,'10. Свод Перечней'!C:H,6,0),""))>1,IFERROR(VLOOKUP(C15,'10. Свод Перечней'!C:H,6,0),""),"") -> 01.13.12.120-00000002
A16: =IF(LEN(C16)>0,MAX($A$6:A15)+1,"") -> 10 | B16: =IFERROR(INDEX('10. Свод Перечней'!B:C,MATCH(C16,'10. Свод Перечней'!C:C,0),1),"") -> Капуста белокочанная свежая | C16: {=IFERROR(INDEX('10. Свод Перечней'!$C$4:$C$529,SMALL(IF("ЗВ"='10. Свод Перечней'!$I$4:$Q$529,ROW('10. Свод Перечней'!$C$4:$C$529)-3,""),ROW()-6)),"")} -> Капуста белокочанная тип 2 | D16: =IFERROR(VLOOKUP(C16,'10. Свод Перечней'!C:H,2,0),"") -> 01.13.12.120 | E16: =IFERROR(VLOOKUP(C16,'10. Свод Перечней'!C:H,3,0),"") -> 002 | F16: =IFERROR(VLOOKUP(C16,'10. Свод Перечней'!C:H,4,0),"") -> КГ | G16: =IFERROR(VLOOKUP(C16,'10. Свод Перечней'!C:H,5,0),"") -> Капуста очищенная: Нет Вид капусты по сроку созревания: Раннеспелая Товарный класс: Первый Вид: Свежая Фасовка: Весовая Соответствие нормативно-технической документации: Технический регламент Таможенного союза "О безопасности упаковки" от 16.08.2011 ТР ТС № 005/2011, Технический регламент Таможенного союза "О безопасности пищевой продукции" от 09.12.2011 № 021/2011, Технический регламент Таможенного союза "Пищевая продукция в части ее маркировки" от 09.12.2011 № 022/2011, ГОСТ Р 51809-2001 | H16: =IF(LEN(IFERROR(VLOOKUP(C16,'10. Свод Перечней'!C:H,6,0),""))>1,IFERROR(VLOOKUP(C16,'10. Свод Перечней'!C:H,6,0),""),"") -> 01.13.12.120-00000002
A17: =IF(LEN(C17)>0,MAX($A$6:A16)+1,"") -> 11 | B17: =IFERROR(INDEX('10. Свод Перечней'!B:C,MATCH(C17,'10. Свод Перечней'!C:C,0),1),"") -> Капуста краснокочанная свежая | C17: {=IFERROR(INDEX('10. Свод Перечней'!$C$4:$C$529,SMALL(IF("ЗВ"='10. Свод Перечней'!$I$4:$Q$529,ROW('10. Свод Перечней'!$C$4:$C$529)-3,""),ROW()-6)),"")} -> Капуста краснокочанная тип 1 | D17: =IFERROR(VLOOKUP(C17,'10. Свод Перечней'!C:H,2,0),"") -> 01.13.12.130 | E17: =IFERROR(VLOOKUP(C17,'10. Свод Перечней'!C:H,3,0),"") -> 001 | F17: =IFERROR(VLOOKUP(C17,'10. Свод Перечней'!C:H,4,0),"") -> КГ | G17: =IFERROR(VLOOKUP(C17,'10. Свод Перечней'!C:H,5,0),"") -> Вид: Свежая Фасовка: Весовая Соответствие нормативно-технической документации: Технический регламент Таможенного союза "О безопасности упаковки" от 16.08.2011 ТР ТС № 005/2011, Технический регламент Таможенного союза "О безопасности пищевой продукции" от 09.12.2011 № 021/2011, Технический регламент Таможенного союза "Пищевая продукция в части ее маркировки" от 09.12.2011 № 022/2011, ГОСТ 7967-2015 | H17: =IF(LEN(IFERROR(VLOOKUP(C17,'10. Свод Перечней'!C:H,6,0),""))>1,IFERROR(VLOOKUP(C17,'10. Свод Перечней'!C:H,6,0),""),"")
A18: =IF(LEN(C18)>0,MAX($A$6:A17)+1,"") -> 12 | B18: =IFERROR(INDEX('10. Свод Перечней'!B:C,MATCH(C18,'10. Свод Перечней'!C:C,0),1),"") -> Капуста савойская свежая | C18: {=IFERROR(INDEX('10. Свод Перечней'!$C$4:$C$529,SMALL(IF("ЗВ"='10. Свод Перечней'!$I$4:$Q$529,ROW('10. Свод Перечней'!$C$4:$C$529)-3,""),ROW()-6)),"")} -> Капуста савойская тип 1 | D18: =IFERROR(VLOOKUP(C18,'10. Свод Перечней'!C:H,2,0),"") -> 01.13.12.140 | E18: =IFERROR(VLOOKUP(C18,'10. Свод Перечней'!C:H,3,0),"") -> 001 | F18: =IFERROR(VLOOKUP(C18,'10. Свод Перечней'!C:H,4,0),"") -> КГ | G18: =IFERROR(VLOOKUP(C18,'10. Свод Перечней'!C:H,5,0),"") -> Вид: Свежая Фасовка: Весовая Соответствие нормативно-технической документации: Технический регламент Таможенного союза "О безопасности упаковки" от 16.08.2011 ТР ТС № 005/2011, Технический регламент Таможенного союза "О безопасности пищевой продукции" от 09.12.2011 № 021/2011, Технический регламент Таможенного союза "Пищевая продукция в части ее маркировки" от 09.12.2011 № 022/2011, ГОСТ 33551-2015, РСТ РСФСР 744-88 | H18: =IF(LEN(IFERROR(VLOOKUP(C18,'10. Свод Перечней'!C:H,6,0),""))>1,IFERROR(VLOOKUP(C18,'10. Свод Перечней'!C:H,6,0),""),"")
A19: =IF(LEN(C19)>0,MAX($A$6:A18)+1,"") -> 13 | B19: =IFERROR(INDEX('10. Свод Перечней'!B:C,MATCH(C19,'10. Свод Перечней'!C:C,0),1),"") -> Капуста китайская свежая | C19: {=IFERROR(INDEX('10. Свод Перечней'!$C$4:$C$529,SMALL(IF("ЗВ"='10. Свод Перечней'!$I$4:$Q$529,ROW('10. Свод Перечней'!$C$4:$C$529)-3,""),ROW()-6)),"")} -> Капуста китайская тип 1 | D19: =IFERROR(VLOOKUP(C19,'10. Свод Перечней'!C:H,2,0),"") -> 01.13.12.150 | E19: =IFERROR(VLOOKUP(C19,'10. Свод Перечней'!C:H,3,0),"") -> 001 | F19: =IFERROR(VLOOKUP(C19,'10. Свод Перечней'!C:H,4,0),"") -> КГ | G19: =IFERROR(VLOOKUP(C19,'10. Свод Перечней'!C:H,5,0),"") -> Вид: Свежая Фасовка: Весовая Соответствие нормативно-технической документации: Технический регламент Таможенного союза "О безопасности упаковки" от 16.08.2011 ТР ТС № 005/2011, Технический регламент Таможенного союза "О безопасности пищевой продукции" от 09.12.2011 № 021/2011, Технический регламент Таможенного союза "Пищевая продукция в части ее маркировки" от 09.12.2011 № 022/2011, ГОСТ 34323-2017 | H19: =IF(LEN(IFERROR(VLOOKUP(C19,'10. Свод Перечней'!C:H,6,0),""))>1,IFERROR(VLOOKUP(C19,'10. Свод Перечней'!C:H,6,0),""),"")
... A1158: =IF(LEN(C1158)>0,MAX($A$6:A1157)+1,"") | B1158: =IFERROR(INDEX('10. Свод Перечней'!B:C,MATCH(C1158,'10. Свод Перечней'!C:C,0),1),"") | C1158: {=IFERROR(INDEX('10. Свод Перечней'!$C$4:$C$529,SMALL(IF("ЗВ"='10. Свод Перечней'!$I$4:$Q$529,ROW('10. Свод Перечней'!$C$4:$C$529)-3,""),ROW()-6)),"")} | D1158: =IFERROR(VLOOKUP(C1158,'10. Свод Перечней'!C:H,2,0),"") | E1158: =IFERROR(VLOOKUP(C1158,'10. Свод Перечней'!C:H,3,0),"") | F1158: =IFERROR(VLOOKUP(C1158,'10. Свод Перечней'!C:H,4,0),"") | G1158: =IFERROR(VLOOKUP(C1158,'10. Свод Перечней'!C:H,5,0),"") | H1158: =IF(LEN(IFERROR(VLOOKUP(C1158,'10. Свод Перечней'!C:H,6,0),""))>1,IFERROR(VLOOKUP(C1158,'10. Свод Перечней'!C:H,6,0),""),"")

Sheet 3.Здрав Дети
A2: Дата актуализации ассортиментного перечня «01» июня 2023 г
A3: Ассортиментный перечень основных групп продовольственных товаров и сырья для обеспечения социального питания в лечебно-профилактических и санаторно-курортных учреждениях здравоохранения Санкт-Петербурга (для детей)
A4: Примечание! * - Продукция предназначенная для лечебного, специального питания ** - предназначенные для использования в питании после термической обработки. Информацию о действующей нормативной документации, а также изменениях вносимых в национальные стандарты можно получить в Управлении социального питания по телефонам 417-35-50, 417-35-52 и на сайте Управления по адресу: http://www.gov.spb.ru, вкладка «Нормативные документы».
A5: № | B5: Потребительское наименование товара | C5: Название товара ККН/КТРУ | D5: ОКПД2 | E5: Детализация ККН | F5: Единица измерения ККН | G5: Характеристики товара | H5: Код КТРУ
A6: 1 | B6: 2 | C6: 2 | D6: 3 | E6: 4 | F6: 5 | G6: 6 | H6: 7
A7: 1 | B7: =IFERROR(INDEX('10. Свод Перечней'!B:C,MATCH(C7,'10. Свод Перечней'!C:C,0),1),"") -> Фасоль овощная свежая | C7: {=IFERROR(INDEX('10. Свод Перечней'!$C$4:$C$529,SMALL(IF("ЗД"='10. Свод Перечней'!$I$4:$Q$529,ROW('10. Свод Перечней'!$C$4:$C$529)-3,""),ROW()-6)),"")} -> Фасоль тип 1 | D7: =IFERROR(VLOOKUP(C7,'10. Свод Перечней'!C:H,2,0),"") -> 01.11.61.000 | E7: =IFERROR(VLOOKUP(C7,'10. Свод Перечней'!C:H,3,0),"") -> 001 | F7: =IFERROR(VLOOKUP(C7,'10. Свод Перечней'!C:H,4,0),"") -> КГ | G7: =IFERROR(VLOOKUP(C7,'10. Свод Перечней'!C:H,5,0),"") -> Тип: Овощная Вид: Свежая Сорт: Высший; Первый Фасовка: Весовая Соответствие нормативно-технической документации: Технический регламент Таможенного союза "О безопасности упаковки" от 16.08.2011 ТР ТС № 005/2011, Технический регламент Таможенного союза "О безопасности пищевой продукции" от 09.12.2011 № 021/2011, Технический регламент Таможенного союза "Пищевая продукция в части ее маркировки" от 09.12.2011 № 022/2011, ГОСТ 34299-2017 | H7: =IF(LEN(IFERROR(VLOOKUP(C7,'10. Свод Перечней'!C:H,6,0),""))>1,IFERROR(VLOOKUP(C7,'10. Свод Перечней'!C:H,6,0),""),"")
A8: =IF(LEN(C8)>0,MAX($A$6:A7)+1,"") -> 2 | B8: =IFERROR(INDEX('10. Свод Перечней'!B:C,MATCH(C8,'10. Свод Перечней'!C:C,0),1),"") -> Фасоль продовольственная | C8: {=IFERROR(INDEX('10. Свод Перечней'!$C$4:$C$529,SMALL(IF("ЗД"='10. Свод Перечней'!$I$4:$Q$529,ROW('10. Свод Перечней'!$C$4:$C$529)-3,""),ROW()-6)),"")} -> Фасоль продовольственная тип 1 | D8: =IFERROR(VLOOKUP(C8,'10. Свод Перечней'!C:H,2,0),"") -> 01.11.71.110 | E8: =IFERROR(VLOOKUP(C8,'10. Свод Перечней'!C:H,3,0),"") -> 002 | F8: =IFERROR(VLOOKUP(C8,'10. Свод Перечней'!C:H,4,0),"") -> КГ | G8: =IFERROR(VLOOKUP(C8,'10. Свод Перечней'!C:H,5,0),"") -> Номер и наименование типа фасоли: I. Фасоль белая; II. Фасоль цветная однотонная; III. Фасоль цветная пестрая Фасовка: Весовая Соответствие нормативно-технической документации: Технический регламент Таможенного союза "О безопасности упаковки" от 16.08.2011 ТР ТС № 005/2011, Технический регламент Таможенного союза "О безопасности пищевой продукции" от 09.12.2011 № 021/2011, Технический регламент Таможенного союза "Пищевая продукция в части ее маркировки" от 09.12.2011 № 022/2011, ГОСТ 7758-2020 | H8: =IF(LEN(IFERROR(VLOOKUP(C8,'10. Свод Перечней'!C:H,6,0),""))>1,IFERROR(VLOOKUP(C8,'10. Свод Перечней'!C:H,6,0),""),"") -> 01.11.71.110-00000001, 01.11.71.110-00000002, 01.11.71.110-00000003
A9: =IF(LEN(C9)>0,MAX($A$6:A8)+1,"") -> 3 | B9: =IFERROR(INDEX('10. Свод Перечней'!B:C,MATCH(C9,'10. Свод Перечней'!C:C,0),1),"") -> Фасоль продовольственная | C9: {=IFERROR(INDEX('10. Свод Перечней'!$C$4:$C$529,SMALL(IF("ЗД"='10. Свод Перечней'!$I$4:$Q$529,ROW('10. Свод Перечней'!$C$4:$C$529)-3,""),ROW()-6)),"")} -> Фасоль продовольственная тип 2 | D9: =IFERROR(VLOOKUP(C9,'10. Свод Перечней'!C:H,2,0),"") -> 01.11.71.110 | E9: =IFERROR(VLOOKUP(C9,'10. Свод Перечней'!C:H,3,0),"") -> 001 | F9: =IFERROR(VLOOKUP(C9,'10. Свод Перечней'!C:H,4,0),"") -> КГ | G9: =IFERROR(VLOOKUP(C9,'10. Свод Перечней'!C:H,5,0),"") -> Номер и наименование типа фасоли: I. Фасоль белая; II. Фасоль цветная однотонная; III. Фасоль цветная пестрая Вес: не более 1 КГ Упаковка производителя: Наличие Соответствие нормативно-технической документации: Технический регламент Таможенного союза "О безопасности упаковки" от 16.08.2011 ТР ТС № 005/2011, Технический регламент Таможенного союза "О безопасности пищевой продукции" от 09.12.2011 № 021/2011, Технический регламент Таможенного союза "Пищевая продукция в части ее маркировки" от 09.12.2011 № 022/2011, ГОСТ 7758-2020 | H9: =IF(LEN(IFERROR(VLOOKUP(C9,'10. Свод Перечней'!C:H,6,0),""))>1,IFERROR(VLOOKUP(C9,'10. Свод Перечней'!C:H,6,0),""),"") -> 01.11.71.110-00000001, 01.11.71.110-00000002, 01.11.71.110-00000003
A10: =IF(LEN(C10)>0,MAX($A$6:A9)+1,"") -> 4 | B10: =IFERROR(INDEX('10. Свод Перечней'!B:C,MATCH(C10,'10. Свод Перечней'!C:C,0),1),"") -> Чечевица | C10: {=IFERROR(INDEX('10. Свод Перечней'!$C$4:$C$529,SMALL(IF("ЗД"='10. Свод Перечней'!$I$4:$Q$529,ROW('10. Свод Перечней'!$C$4:$C$529)-3,""),ROW()-6)),"")} -> Чечевица продовольственная тип 1 | D10: =IFERROR(VLOOKUP(C10,'10. Свод Перечней'!C:H,2,0),"") -> 01.11.74.110 | E10: =IFERROR(VLOOKUP(C10,'10. Свод Перечней'!C:H,3,0),"") -> 002 | F10: =IFERROR(VLOOKUP(C10,'10. Свод Перечней'!C:H,4,0),"") -> КГ | G10: =IFERROR(VLOOKUP(C10,'10. Свод Перечней'!C:H,5,0),"") -> Тип чечевицы: Красная; Коричневая; Неоднородная; Светло-зеленая; Темно-зеленая Фасовка: Весовая Соответствие нормативно-технической документации: Технический регламент Таможенного союза "О безопасности упаковки" от 16.08.2011 ТР ТС № 005/2011, Технический регламент Таможенного союза "О безопасности пищевой продукции" от 09.12.2011 № 021/2011, Технический регламент Таможенного союза "Пищевая продукция в части ее маркировки" от 09.12.2011 № 022/2011, ГОСТ 7066-2019 | H10: =IF(LEN(IFERROR(VLOOKUP(C10,'10. Свод Перечней'!C:H,6,0),""))>1,IFERROR(VLOOKUP(C10,'10. Свод Перечней'!C:H,6,0),""),"") -> 01.11.74.110-00000001, 01.11.74.110-00000002, 01.11.74.110-00000003, 01.11.74.110-00000004, 01.11.74.110-00000005
A11: =IF(LEN(C11)>0,MAX($A$6:A10)+1,"") -> 5 | B11: =IFERROR(INDEX('10. Свод Перечней'!B:C,MATCH(C11,'10. Свод Перечней'!C:C,0),1),"") -> Чечевица | C11: {=IFERROR(INDEX('10. Свод Перечней'!$C$4:$C$529,SMALL(IF("ЗД"='10. Свод Перечней'!$I$4:$Q$529,ROW('10. Свод Перечней'!$C$4:$C$529)-3,""),ROW()-6)),"")} -> Чечевица продовольственная тип 2 | D11: =IFERROR(VLOOKUP(C11,'10. Свод Перечней'!C:H,2,0),"") -> 01.11.74.110 | E11: =IFERROR(VLOOKUP(C11,'10. Свод Перечней'!C:H,3,0),"") -> 001 | F11: =IFERROR(VLOOKUP(C11,'10. Свод Перечней'!C:H,4,0),"") -> КГ | G11: =IFERROR(VLOOKUP(C11,'10. Свод Перечней'!C:H,5,0),"") -> Тип чечевицы: Красная; Коричневая; Неоднородная; Светло-зеленая; Темно-зеленая Вес: не более 1 КГ Упаковка производителя: Наличие Соответствие нормативно-технической документации: Технический регламент Таможенного союза "О безопасности упаковки" от 16.08.2011 ТР ТС № 005/2011, Технический регламент Таможенного союза "О безопасности пищевой продукции" от 09.12.2011 № 021/2011, Технический регламент Таможенного союза "Пищевая продукция в части ее маркировки" от 09.12.2011 № 022/2011, ГОСТ 7066-2019 | H11: =IF(LEN(IFERROR(VLOOKUP(C11,'10. Свод Перечней'!C:H,6,0),""))>1,IFERROR(VLOOKUP(C11,'10. Свод Перечней'!C:H,6,0),""),"") -> 01.11.74.110-00000001, 01.11.74.110-00000002, 01.11.74.110-00000003, 01.11.74.110-00000004, 01.11.74.110-00000005
A12: =IF(LEN(C12)>0,MAX($A$6:A11)+1,"") -> 6 | B12: =IFERROR(INDEX('10. Свод Перечней'!B:C,MATCH(C12,'10. Свод Перечней'!C:C,0),1),"") -> Горох шлифованный | C12: {=IFERROR(INDEX('10. Свод Перечней'!$C$4:$C$529,SMALL(IF("ЗД"='10. Свод Перечней'!$I$4:$Q$529,ROW('10. Свод Перечней'!$C$4:$C$529)-3,""),ROW()-6)),"")} -> Горох шлифованный тип 1 | D12: =IFERROR(VLOOKUP(C12,'10. Свод Перечней'!C:H,2,0),"") -> 01.11.75.110 | E12: =IFERROR(VLOOKUP(C12,'10. Свод Перечней'!C:H,3,0),"") -> 001 | F12: =IFERROR(VLOOKUP(C12,'10. Свод Перечней'!C:H,4,0),"") -> КГ | G12: =IFERROR(VLOOKUP(C12,'10. Свод Перечней'!C:H,5,0),"") -> Вид зерна: Целое Сорт: Не ниже первого Вес: не более 1 КГ Упаковка производителя: Наличие Соответствие нормативно-технической документации: Технический регламент Таможенного союза "О безопасности упаковки" от 16.08.2011 ТР ТС № 005/2011, Технический регламент Таможенного союза "О безопасности пищевой продукции" от 09.12.2011 № 021/2011, Технический регламент Таможенного союза "Пищевая продукция в части ее маркировки" от 09.12.2011 № 022/2011, ГОСТ 6201-20 | H12: =IF(LEN(IFERROR(VLOOKUP(C12,'10. Свод Перечней'!C:H,6,0),""))>1,IFERROR(VLOOKUP(C12,'10. Свод Перечней'!C:H,6,0),""),"") -> 01.11.75.110-00000002
A13: =IF(LEN(C13)>0,MAX($A$6:A12)+1,"") -> 7 | B13: =IFERROR(INDEX('10. Свод Перечней'!B:C,MATCH(C13,'10. Свод Перечней'!C:C,0),1),"") -> Горох шлифованный | C13: {=IFERROR(INDEX('10. Свод Перечней'!$C$4:$C$529,SMALL(IF("ЗД"='10. Свод Перечней'!$I$4:$Q$529,ROW('10. Свод Перечней'!$C$4:$C$529)-3,""),ROW()-6)),"")} -> Горох шлифованный тип 2 | D13: =IFERROR(VLOOKUP(C13,'10. Свод Перечней'!C:H,2,0),"") -> 01.11.75.110 | E13: =IFERROR(VLOOKUP(C13,'10. Свод Перечней'!C:H,3,0),"") -> 002 | F13: =IFERROR(VLOOKUP(C13,'10. Свод Перечней'!C:H,4,0),"") -> КГ | G13: =IFERROR(VLOOKUP(C13,'10. Свод Перечней'!C:H,5,0),"") -> Вид зерна: Целое Сорт: Не ниже первого Фасовка: Весовая Соответствие нормативно-технической документации: Технический регламент Таможенного союза "О безопасности упаковки" от 16.08.2011 ТР ТС № 005/2011, Технический регламент Таможенного союза "О безопасности пищевой продукции" от 09.12.2011 № 021/2011, Технический регламент Таможенного союза "Пищевая продукция в части ее маркировки" от 09.12.2011 № 022/2011, ГОСТ 6201-20 | H13: =IF(LEN(IFERROR(VLOOKUP(C13,'10. Свод Перечней'!C:H,6,0),""))>1,IFERROR(VLOOKUP(C13,'10. Свод Перечней'!C:H,6,0),""),"") -> 01.11.75.110-00000002
A14: =IF(LEN(C14)>0,MAX($A$6:A13)+1,"") -> 8 | B14: =IFERROR(INDEX('10. Свод Перечней'!B:C,MATCH(C14,'10. Свод Перечней'!C:C,0),1),"") -> Капуста брюссельская свежая | C14: {=IFERROR(INDEX('10. Свод Перечней'!$C$4:$C$529,SMALL(IF("ЗД"='10. Свод Перечней'!$I$4:$Q$529,ROW('10. Свод Перечней'!$C$4:$C$529)-3,""),ROW()-6)),"")} -> Капуста брюссельская тип 1 | D14: =IFERROR(VLOOKUP(C14,'10. Свод Перечней'!C:H,2,0),"") -> 01.13.12.110 | E14: =IFERROR(VLOOKUP(C14,'10. Свод Перечней'!C:H,3,0),"") -> 001 | F14: =IFERROR(VLOOKUP(C14,'10. Свод Перечней'!C:H,4,0),"") -> КГ | G14: =IFERROR(VLOOKUP(C14,'10. Свод Перечней'!C:H,5,0),"") -> Вид: Свежая Фасовка: Весовая Соответствие нормативно-технической документации: Технический регламент Таможенного союза "О безопасности упаковки" от 16.08.2011 ТР ТС № 005/2011, Технический регламент Таможенного союза "О безопасности пищевой продукции" от 09.12.2011 № 021/2011, Технический регламент Таможенного союза "Пищевая продукция в части ее маркировки" от 09.12.2011 № 022/2011, ГОСТ 33851-2016 | H14: =IF(LEN(IFERROR(VLOOKUP(C14,'10. Свод Перечней'!C:H,6,0),""))>1,IFERROR(VLOOKUP(C14,'10. Свод Перечней'!C:H,6,0),""),"")
A15: =IF(LEN(C15)>0,MAX($A$6:A14)+1,"") -> 9 | B15: =IFERROR(INDEX('10. Свод Перечней'!B:C,MATCH(C15,'10. Свод Перечней'!C:C,0),1),"") -> Капуста белокочанная свежая | C15: {=IFERROR(INDEX('10. Свод Перечней'!$C$4:$C$529,SMALL(IF("ЗД"='10. Свод Перечней'!$I$4:$Q$529,ROW('10. Свод Перечней'!$C$4:$C$529)-3,""),ROW()-6)),"")} -> Капуста белокочанная тип 1 | D15: =IFERROR(VLOOKUP(C15,'10. Свод Перечней'!C:H,2,0),"") -> 01.13.12.120 | E15: =IFERROR(VLOOKUP(C15,'10. Свод Перечней'!C:H,3,0),"") -> 001 | F15: =IFERROR(VLOOKUP(C15,'10. Свод Перечней'!C:H,4,0),"") -> КГ | G15: =IFERROR(VLOOKUP(C15,'10. Свод Перечней'!C:H,5,0),"") -> Капуста очищенная: Нет Вид капусты по сроку созревания: Среднеспелая; Позднеспелая; Среднепоздняя Товарный класс: Первый Вид: Свежая Фасовка: Весовая Соответствие нормативно-технической документации: Технический регламент Таможенного союза "О безопасности упаковки" от 16.08.2011 ТР ТС № 005/2011, Технический регламент Таможенного союза "О безопасности пищевой продукции" от 09.12.2011 № 021/2011, Технический регламент Таможенного союза "Пищевая продукция в части ее маркировки" от 09.12.2011 № 022/2011, ГОСТ Р 51809-2001 | H15: =IF(LEN(IFERROR(VLOOKUP(C15,'10. Свод Перечней'!C:H,6,0),""))>1,IFERROR(VLOOKUP(C15,'10. Свод Перечней'!C:H,6,0),""),"") -> 01.13.12.120-00000002
A16: =IF(LEN(C16)>0,MAX($A$6:A15)+1,"") -> 10 | B16: =IFERROR(INDEX('10. Свод Перечней'!B:C,MATCH(C16,'10. Свод Перечней'!C:C,0),1),"") -> Капуста белокочанная свежая | C16: {=IFERROR(INDEX('10. Свод Перечней'!$C$4:$C$529,SMALL(IF("ЗД"='10. Свод Перечней'!$I$4:$Q$529,ROW('10. Свод Перечней'!$C$4:$C$529)-3,""),ROW()-6)),"")} -> Капуста белокочанная тип 2 | D16: =IFERROR(VLOOKUP(C16,'10. Свод Перечней'!C:H,2,0),"") -> 01.13.12.120 | E16: =IFERROR(VLOOKUP(C16,'10. Свод Перечней'!C:H,3,0),"") -> 002 | F16: =IFERROR(VLOOKUP(C16,'10. Свод Перечней'!C:H,4,0),"") -> КГ | G16: =IFERROR(VLOOKUP(C16,'10. Свод Перечней'!C:H,5,0),"") -> Капуста очищенная: Нет Вид капусты по сроку созревания: Раннеспелая Товарный класс: Первый Вид: Свежая Фасовка: Весовая Соответствие нормативно-технической документации: Технический регламент Таможенного союза "О безопасности упаковки" от 16.08.2011 ТР ТС № 005/2011, Технический регламент Таможенного союза "О безопасности пищевой продукции" от 09.12.2011 № 021/2011, Технический регламент Таможенного союза "Пищевая продукция в части ее маркировки" от 09.12.2011 № 022/2011, ГОСТ Р 51809-2001 | H16: =IF(LEN(IFERROR(VLOOKUP(C16,'10. Свод Перечней'!C:H,6,0),""))>1,IFERROR(VLOOKUP(C16,'10. Свод Перечней'!C:H,6,0),""),"") -> 01.13.12.120-00000002
A17: =IF(LEN(C17)>0,MAX($A$6:A16)+1,"") -> 11 | B17: =IFERROR(INDEX('10. Свод Перечней'!B:C,MATCH(C17,'10. Свод Перечней'!C:C,0),1),"") -> Капуста краснокочанная свежая | C17: {=IFERROR(INDEX('10. Свод Перечней'!$C$4:$C$529,SMALL(IF("ЗД"='10. Свод Перечней'!$I$4:$Q$529,ROW('10. Свод Перечней'!$C$4:$C$529)-3,""),ROW()-6)),"")} -> Капуста краснокочанная тип 1 | D17: =IFERROR(VLOOKUP(C17,'10. Свод Перечней'!C:H,2,0),"") -> 01.13.12.130 | E17: =IFERROR(VLOOKUP(C17,'10. Свод Перечней'!C:H,3,0),"") -> 001 | F17: =IFERROR(VLOOKUP(C17,'10. Свод Перечней'!C:H,4,0),"") -> КГ | G17: =IFERROR(VLOOKUP(C17,'10. Свод Перечней'!C:H,5,0),"") -> Вид: Свежая Фасовка: Весовая Соответствие нормативно-технической документации: Технический регламент Таможенного союза "О безопасности упаковки" от 16.08.2011 ТР ТС № 005/2011, Технический регламент Таможенного союза "О безопасности пищевой продукции" от 09.12.2011 № 021/2011, Технический регламент Таможенного союза "Пищевая продукция в части ее маркировки" от 09.12.2011 № 022/2011, ГОСТ 7967-2015 | H17: =IF(LEN(IFERROR(VLOOKUP(C17,'10. Свод Перечней'!C:H,6,0),""))>1,IFERROR(VLOOKUP(C17,'10. Свод Перечней'!C:H,6,0),""),"")
A18: =IF(LEN(C18)>0,MAX($A$6:A17)+1,"") -> 12 | B18: =IFERROR(INDEX('10. Свод Перечней'!B:C,MATCH(C18,'10. Свод Перечней'!C:C,0),1),"") -> Капуста савойская свежая | C18: {=IFERROR(INDEX('10. Свод Перечней'!$C$4:$C$529,SMALL(IF("ЗД"='10. Свод Перечней'!$I$4:$Q$529,ROW('10. Свод Перечней'!$C$4:$C$529)-3,""),ROW()-6)),"")} -> Капуста савойская тип 1 | D18: =IFERROR(VLOOKUP(C18,'10. Свод Перечней'!C:H,2,0),"") -> 01.13.12.140 | E18: =IFERROR(VLOOKUP(C18,'10. Свод Перечней'!C:H,3,0),"") -> 001 | F18: =IFERROR(VLOOKUP(C18,'10. Свод Перечней'!C:H,4,0),"") -> КГ | G18: =IFERROR(VLOOKUP(C18,'10. Свод Перечней'!C:H,5,0),"") -> Вид: Свежая Фасовка: Весовая Соответствие нормативно-технической документации: Технический регламент Таможенного союза "О безопасности упаковки" от 16.08.2011 ТР ТС № 005/2011, Технический регламент Таможенного союза "О безопасности пищевой продукции" от 09.12.2011 № 021/2011, Технический регламент Таможенного союза "Пищевая продукция в части ее маркировки" от 09.12.2011 № 022/2011, ГОСТ 33551-2015, РСТ РСФСР 744-88 | H18: =IF(LEN(IFERROR(VLOOKUP(C18,'10. Свод Перечней'!C:H,6,0),""))>1,IFERROR(VLOOKUP(C18,'10. Свод Перечней'!C:H,6,0),""),"")
A19: =IF(LEN(C19)>0,MAX($A$6:A18)+1,"") -> 13 | B19: =IFERROR(INDEX('10. Свод Перечней'!B:C,MATCH(C19,'10. Свод Перечней'!C:C,0),1),"") -> Капуста китайская свежая | C19: {=IFERROR(INDEX('10. Свод Перечней'!$C$4:$C$529,SMALL(IF("ЗД"='10. Свод Перечней'!$I$4:$Q$529,ROW('10. Свод Перечней'!$C$4:$C$529)-3,""),ROW()-6)),"")} -> Капуста китайская тип 1 | D19: =IFERROR(VLOOKUP(C19,'10. Свод Перечней'!C:H,2,0),"") -> 01.13.12.150 | E19: =IFERROR(VLOOKUP(C19,'10. Свод Перечней'!C:H,3,0),"") -> 001 | F19: =IFERROR(VLOOKUP(C19,'10. Свод Перечней'!C:H,4,0),"") -> КГ | G19: =IFERROR(VLOOKUP(C19,'10. Свод Перечней'!C:H,5,0),"") -> Вид: Свежая Фасовка: Весовая Соответствие нормативно-технической документации: Технический регламент Таможенного союза "О безопасности упаковки" от 16.08.2011 ТР ТС № 005/2011, Технический регламент Таможенного союза "О безопасности пищевой продукции" от 09.12.2011 № 021/2011, Технический регламент Таможенного союза "Пищевая продукция в части ее маркировки" от 09.12.2011 № 022/2011, ГОСТ 34323-2017 | H19: =IF(LEN(IFERROR(VLOOKUP(C19,'10. Свод Перечней'!C:H,6,0),""))>1,IFERROR(VLOOKUP(C19,'10. Свод Перечней'!C:H,6,0),""),"")
... A1146: =IF(LEN(C1146)>0,MAX($A$6:A1145)+1,"") | B1146: =IFERROR(INDEX('10. Свод Перечней'!B:C,MATCH(C1146,'10. Свод Перечней'!C:C,0),1),"") | C1146: {=IFERROR(INDEX('10. Свод Перечней'!$C$4:$C$529,SMALL(IF("ЗД"='10. Свод Перечней'!$I$4:$Q$529,ROW('10. Свод Перечней'!$C$4:$C$529)-3,""),ROW()-6)),"")} | D1146: =IFERROR(VLOOKUP(C1146,'10. Свод Перечней'!C:H,2,0),"") | E1146: =IFERROR(VLOOKUP(C1146,'10. Свод Перечней'!C:H,3,0),"") | F1146: =IFERROR(VLOOKUP(C1146,'10. Свод Перечней'!C:H,4,0),"") | G1146: =IFERROR(VLOOKUP(C1146,'10. Свод Перечней'!C:H,5,0),"") | H1146: =IF(LEN(IFERROR(VLOOKUP(C1146,'10. Свод Перечней'!C:H,6,0),""))>1,IFERROR(VLOOKUP(C1146,'10. Свод Перечней'!C:H,6,0),""),"")

Sheet 4.Интернат ДетДома Лагеря
A2: Дата актуализации ассортиментного перечня «01» июня 2023 г
A3: Ассортиментный перечень основных групп продовольственных товаров и сырья для обеспечения социального питания в детских домах, школах-интернатах различного типа, учреждениях отдыха и оздоровления детей и молодежи и детских спортивных оздоровительных лагерях
A4: Примечание! * - Продукция предназначенная для лечебного, специального питания ** - предназначенные для использования в питании после термической обработки. Информацию о действующей нормативной документации, а также изменениях вносимых в национальные стандарты можно получить в Управлении социального питания по телефонам 417-35-50, 417-35-52 и на сайте Управления по адресу: http://www.gov.spb.ru, вкладка «Нормативные документы».
A5: № | B5: Потребительское наименование товара | C5: Название товара ККН/КТРУ | D5: ОКПД2 | E5: Детализация ККН | F5: Единица измерения ККН | G5: Характеристики товара | H5: Код КТРУ
A6: 1 | B6: 2 | C6: 2 | D6: 3 | E6: 4 | F6: 5 | G6: 6 | H6: 7
A7: 1 | B7: =IFERROR(INDEX('10. Свод Перечней'!B:C,MATCH(C7,'10. Свод Перечней'!C:C,0),1),"") -> Фасоль овощная свежая | C7: {=IFERROR(INDEX('10. Свод Перечней'!$C$4:$C$529,SMALL(IF("Д"='10. Свод Перечней'!$I$4:$Q$529,ROW('10. Свод Перечней'!$C$4:$C$529)-3,""),ROW()-6)),"")} -> Фасоль тип 1 | D7: =IFERROR(VLOOKUP(C7,'10. Свод Перечней'!C:H,2,0),"") -> 01.11.61.000 | E7: =IFERROR(VLOOKUP(C7,'10. Свод Перечней'!C:H,3,0),"") -> 001 | F7: =IFERROR(VLOOKUP(C7,'10. Свод Перечней'!C:H,4,0),"") -> КГ | G7: =IFERROR(VLOOKUP(C7,'10. Свод Перечней'!C:H,5,0),"") -> Тип: Овощная Вид: Свежая Сорт: Высший; Первый Фасовка: Весовая Соответствие нормативно-технической документации: Технический регламент Таможенного союза "О безопасности упаковки" от 16.08.2011 ТР ТС № 005/2011, Технический регламент Таможенного союза "О безопасности пищевой продукции" от 09.12.2011 № 021/2011, Технический регламент Таможенного союза "Пищевая продукция в части ее маркировки" от 09.12.2011 № 022/2011, ГОСТ 34299-2017 | H7: =IF(LEN(IFERROR(VLOOKUP(C7,'10. Свод Перечней'!C:H,6,0),""))>1,IFERROR(VLOOKUP(C7,'10. Свод Перечней'!C:H,6,0),""),"")
A8: =IF(LEN(C8)>0,MAX($A$6:A7)+1,"") -> 2 | B8: =IFERROR(INDEX('10. Свод Перечней'!B:C,MATCH(C8,'10. Свод Перечней'!C:C,0),1),"") -> Фасоль продовольственная | C8: {=IFERROR(INDEX('10. Свод Перечней'!$C$4:$C$529,SMALL(IF("Д"='10. Свод Перечней'!$I$4:$Q$529,ROW('10. Свод Перечней'!$C$4:$C$529)-3,""),ROW()-6)),"")} -> Фасоль продовольственная тип 1 | D8: =IFERROR(VLOOKUP(C8,'10. Свод Перечней'!C:H,2,0),"") -> 01.11.71.110 | E8: =IFERROR(VLOOKUP(C8,'10. Свод Перечней'!C:H,3,0),"") -> 002 | F8: =IFERROR(VLOOKUP(C8,'10. Свод Перечней'!C:H,4,0),"") -> КГ | G8: =IFERROR(VLOOKUP(C8,'10. Свод Перечней'!C:H,5,0),"") -> Номер и наименование типа фасоли: I. Фасоль белая; II. Фасоль цветная однотонная; III. Фасоль цветная пестрая Фасовка: Весовая Соответствие нормативно-технической документации: Технический регламент Таможенного союза "О безопасности упаковки" от 16.08.2011 ТР ТС № 005/2011, Технический регламент Таможенного союза "О безопасности пищевой продукции" от 09.12.2011 № 021/2011, Технический регламент Таможенного союза "Пищевая продукция в части ее маркировки" от 09.12.2011 № 022/2011, ГОСТ 7758-2020 | H8: =IF(LEN(IFERROR(VLOOKUP(C8,'10. Свод Перечней'!C:H,6,0),""))>1,IFERROR(VLOOKUP(C8,'10. Свод Перечней'!C:H,6,0),""),"") -> 01.11.71.110-00000001, 01.11.71.110-00000002, 01.11.71.110-00000003
A9: =IF(LEN(C9)>0,MAX($A$6:A8)+1,"") -> 3 | B9: =IFERROR(INDEX('10. Свод Перечней'!B:C,MATCH(C9,'10. Свод Перечней'!C:C,0),1),"") -> Фасоль продовольственная | C9: {=IFERROR(INDEX('10. Свод Перечней'!$C$4:$C$529,SMALL(IF("Д"='10. Свод Перечней'!$I$4:$Q$529,ROW('10. Свод Перечней'!$C$4:$C$529)-3,""),ROW()-6)),"")} -> Фасоль продовольственная тип 2 | D9: =IFERROR(VLOOKUP(C9,'10. Свод Перечней'!C:H,2,0),"") -> 01.11.71.110 | E9: =IFERROR(VLOOKUP(C9,'10. Свод Перечней'!C:H,3,0),"") -> 001 | F9: =IFERROR(VLOOKUP(C9,'10. Свод Перечней'!C:H,4,0),"") -> КГ | G9: =IFERROR(VLOOKUP(C9,'10. Свод Перечней'!C:H,5,0),"") -> Номер и наименование типа фасоли: I. Фасоль белая; II. Фасоль цветная однотонная; III. Фасоль цветная пестрая Вес: не более 1 КГ Упаковка производителя: Наличие Соответствие нормативно-технической документации: Технический регламент Таможенного союза "О безопасности упаковки" от 16.08.2011 ТР ТС № 005/2011, Технический регламент Таможенного союза "О безопасности пищевой продукции" от 09.12.2011 № 021/2011, Технический регламент Таможенного союза "Пищевая продукция в части ее маркировки" от 09.12.2011 № 022/2011, ГОСТ 7758-2020 | H9: =IF(LEN(IFERROR(VLOOKUP(C9,'10. Свод Перечней'!C:H,6,0),""))>1,IFERROR(VLOOKUP(C9,'10. Свод Перечней'!C:H,6,0),""),"") -> 01.11.71.110-00000001, 01.11.71.110-00000002, 01.11.71.110-00000003
A10: =IF(LEN(C10)>0,MAX($A$6:A9)+1,"") -> 4 | B10: =IFERROR(INDEX('10. Свод Перечней'!B:C,MATCH(C10,'10. Свод Перечней'!C:C,0),1),"") -> Чечевица | C10: {=IFERROR(INDEX('10. Свод Перечней'!$C$4:$C$529,SMALL(IF("Д"='10. Свод Перечней'!$I$4:$Q$529,ROW('10. Свод Перечней'!$C$4:$C$529)-3,""),ROW()-6)),"")} -> Чечевица продовольственная тип 1 | D10: =IFERROR(VLOOKUP(C10,'10. Свод Перечней'!C:H,2,0),"") -> 01.11.74.110 | E10: =IFERROR(VLOOKUP(C10,'10. Свод Перечней'!C:H,3,0),"") -> 002 | F10: =IFERROR(VLOOKUP(C10,'10. Свод Перечней'!C:H,4,0),"") -> КГ | G10: =IFERROR(VLOOKUP(C10,'10. Свод Перечней'!C:H,5,0),"") -> Тип чечевицы: Красная; Коричневая; Неоднородная; Светло-зеленая; Темно-зеленая Фасовка: Весовая Соответствие нормативно-технической документации: Технический регламент Таможенного союза "О безопасности упаковки" от 16.08.2011 ТР ТС № 005/2011, Технический регламент Таможенного союза "О безопасности пищевой продукции" от 09.12.2011 № 021/2011, Технический регламент Таможенного союза "Пищевая продукция в части ее маркировки" от 09.12.2011 № 022/2011, ГОСТ 7066-2019 | H10: =IF(LEN(IFERROR(VLOOKUP(C10,'10. Свод Перечней'!C:H,6,0),""))>1,IFERROR(VLOOKUP(C10,'10. Свод Перечней'!C:H,6,0),""),"") -> 01.11.74.110-00000001, 01.11.74.110-00000002, 01.11.74.110-00000003, 01.11.74.110-00000004, 01.11.74.110-00000005
A11: =IF(LEN(C11)>0,MAX($A$6:A10)+1,"") -> 5 | B11: =IFERROR(INDEX('10. Свод Перечней'!B:C,MATCH(C11,'10. Свод Перечней'!C:C,0),1),"") -> Чечевица | C11: {=IFERROR(INDEX('10. Свод Перечней'!$C$4:$C$529,SMALL(IF("Д"='10. Свод Перечней'!$I$4:$Q$529,ROW('10. Свод Перечней'!$C$4:$C$529)-3,""),ROW()-6)),"")} -> Чечевица продовольственная тип 2 | D11: =IFERROR(VLOOKUP(C11,'10. Свод Перечней'!C:H,2,0),"") -> 01.11.74.110 | E11: =IFERROR(VLOOKUP(C11,'10. Свод Перечней'!C:H,3,0),"") -> 001 | F11: =IFERROR(VLOOKUP(C11,'10. Свод Перечней'!C:H,4,0),"") -> КГ | G11: =IFERROR(VLOOKUP(C11,'10. Свод Перечней'!C:H,5,0),"") -> Тип чечевицы: Красная; Коричневая; Неоднородная; Светло-зеленая; Темно-зеленая Вес: не более 1 КГ Упаковка производителя: Наличие Соответствие нормативно-технической документации: Технический регламент Таможенного союза "О безопасности упаковки" от 16.08.2011 ТР ТС № 005/2011, Технический регламент Таможенного союза "О безопасности пищевой продукции" от 09.12.2011 № 021/2011, Технический регламент Таможенного союза "Пищевая продукция в части ее маркировки" от 09.12.2011 № 022/2011, ГОСТ 7066-2019 | H11: =IF(LEN(IFERROR(VLOOKUP(C11,'10. Свод Перечней'!C:H,6,0),""))>1,IFERROR(VLOOKUP(C11,'10. Свод Перечней'!C:H,6,0),""),"") -> 01.11.74.110-00000001, 01.11.74.110-00000002, 01.11.74.110-00000003, 01.11.74.110-00000004, 01.11.74.110-00000005
A12: =IF(LEN(C12)>0,MAX($A$6:A11)+1,"") -> 6 | B12: =IFERROR(INDEX('10. Свод Перечней'!B:C,MATCH(C12,'10. Свод Перечней'!C:C,0),1),"") -> Горох шлифованный | C12: {=IFERROR(INDEX('10. Свод Перечней'!$C$4:$C$529,SMALL(IF("Д"='10. Свод Перечней'!$I$4:$Q$529,ROW('10. Свод Перечней'!$C$4:$C$529)-3,""),ROW()-6)),"")} -> Горох шлифованный тип 1 | D12: =IFERROR(VLOOKUP(C12,'10. Свод Перечней'!C:H,2,0),"") -> 01.11.75.110 | E12: =IFERROR(VLOOKUP(C12,'10. Свод Перечней'!C:H,3,0),"") -> 001 | F12: =IFERROR(VLOOKUP(C12,'10. Свод Перечней'!C:H,4,0),"") -> КГ | G12: =IFERROR(VLOOKUP(C12,'10. Свод Перечней'!C:H,5,0),"") -> Вид зерна: Целое Сорт: Не ниже первого Вес: не более 1 КГ Упаковка производителя: Наличие Соответствие нормативно-технической документации: Технический регламент Таможенного союза "О безопасности упаковки" от 16.08.2011 ТР ТС № 005/2011, Технический регламент Таможенного союза "О безопасности пищевой продукции" от 09.12.2011 № 021/2011, Технический регламент Таможенного союза "Пищевая продукция в части ее маркировки" от 09.12.2011 № 022/2011, ГОСТ 6201-20 | H12: =IF(LEN(IFERROR(VLOOKUP(C12,'10. Свод Перечней'!C:H,6,0),""))>1,IFERROR(VLOOKUP(C12,'10. Свод Перечней'!C:H,6,0),""),"") -> 01.11.75.110-00000002
A13: =IF(LEN(C13)>0,MAX($A$6:A12)+1,"") -> 7 | B13: =IFERROR(INDEX('10. Свод Перечней'!B:C,MATCH(C13,'10. Свод Перечней'!C:C,0),1),"") -> Горох шлифованный | C13: {=IFERROR(INDEX('10. Свод Перечней'!$C$4:$C$529,SMALL(IF("Д"='10. Свод Перечней'!$I$4:$Q$529,ROW('10. Свод Перечней'!$C$4:$C$529)-3,""),ROW()-6)),"")} -> Горох шлифованный тип 2 | D13: =IFERROR(VLOOKUP(C13,'10. Свод Перечней'!C:H,2,0),"") -> 01.11.75.110 | E13: =IFERROR(VLOOKUP(C13,'10. Свод Перечней'!C:H,3,0),"") -> 002 | F13: =IFERROR(VLOOKUP(C13,'10. Свод Перечней'!C:H,4,0),"") -> КГ | G13: =IFERROR(VLOOKUP(C13,'10. Свод Перечней'!C:H,5,0),"") -> Вид зерна: Целое Сорт: Не ниже первого Фасовка: Весовая Соответствие нормативно-технической документации: Технический регламент Таможенного союза "О безопасности упаковки" от 16.08.2011 ТР ТС № 005/2011, Технический регламент Таможенного союза "О безопасности пищевой продукции" от 09.12.2011 № 021/2011, Технический регламент Таможенного союза "Пищевая продукция в части ее маркировки" от 09.12.2011 № 022/2011, ГОСТ 6201-20 | H13: =IF(LEN(IFERROR(VLOOKUP(C13,'10. Свод Перечней'!C:H,6,0),""))>1,IFERROR(VLOOKUP(C13,'10. Свод Перечней'!C:H,6,0),""),"") -> 01.11.75.110-00000002
A14: =IF(LEN(C14)>0,MAX($A$6:A13)+1,"") -> 8 | B14: =IFERROR(INDEX('10. Свод Перечней'!B:C,MATCH(C14,'10. Свод Перечней'!C:C,0),1),"") -> Капуста брюссельская свежая | C14: {=IFERROR(INDEX('10. Свод Перечней'!$C$4:$C$529,SMALL(IF("Д"='10. Свод Перечней'!$I$4:$Q$529,ROW('10. Свод Перечней'!$C$4:$C$529)-3,""),ROW()-6)),"")} -> Капуста брюссельская тип 1 | D14: =IFERROR(VLOOKUP(C14,'10. Свод Перечней'!C:H,2,0),"") -> 01.13.12.110 | E14: =IFERROR(VLOOKUP(C14,'10. Свод Перечней'!C:H,3,0),"") -> 001 | F14: =IFERROR(VLOOKUP(C14,'10. Свод Перечней'!C:H,4,0),"") -> КГ | G14: =IFERROR(VLOOKUP(C14,'10. Свод Перечней'!C:H,5,0),"") -> Вид: Свежая Фасовка: Весовая Соответствие нормативно-технической документации: Технический регламент Таможенного союза "О безопасности упаковки" от 16.08.2011 ТР ТС № 005/2011, Технический регламент Таможенного союза "О безопасности пищевой продукции" от 09.12.2011 № 021/2011, Технический регламент Таможенного союза "Пищевая продукция в части ее маркировки" от 09.12.2011 № 022/2011, ГОСТ 33851-2016 | H14: =IF(LEN(IFERROR(VLOOKUP(C14,'10. Свод Перечней'!C:H,6,0),""))>1,IFERROR(VLOOKUP(C14,'10. Свод Перечней'!C:H,6,0),""),"")
A15: =IF(LEN(C15)>0,MAX($A$6:A14)+1,"") -> 9 | B15: =IFERROR(INDEX('10. Свод Перечней'!B:C,MATCH(C15,'10. Свод Перечней'!C:C,0),1),"") -> Капуста белокочанная свежая | C15: {=IFERROR(INDEX('10. Свод Перечней'!$C$4:$C$529,SMALL(IF("Д"='10. Свод Перечней'!$I$4:$Q$529,ROW('10. Свод Перечней'!$C$4:$C$529)-3,""),ROW()-6)),"")} -> Капуста белокочанная тип 1 | D15: =IFERROR(VLOOKUP(C15,'10. Свод Перечней'!C:H,2,0),"") -> 01.13.12.120 | E15: =IFERROR(VLOOKUP(C15,'10. Свод Перечней'!C:H,3,0),"") -> 001 | F15: =IFERROR(VLOOKUP(C15,'10. Свод Перечней'!C:H,4,0),"") -> КГ | G15: =IFERROR(VLOOKUP(C15,'10. Свод Перечней'!C:H,5,0),"") -> Капуста очищенная: Нет Вид капусты по сроку созревания: Среднеспелая; Позднеспелая; Среднепоздняя Товарный класс: Первый Вид: Свежая Фасовка: Весовая Соответствие нормативно-технической документации: Технический регламент Таможенного союза "О безопасности упаковки" от 16.08.2011 ТР ТС № 005/2011, Технический регламент Таможенного союза "О безопасности пищевой продукции" от 09.12.2011 № 021/2011, Технический регламент Таможенного союза "Пищевая продукция в части ее маркировки" от 09.12.2011 № 022/2011, ГОСТ Р 51809-2001 | H15: =IF(LEN(IFERROR(VLOOKUP(C15,'10. Свод Перечней'!C:H,6,0),""))>1,IFERROR(VLOOKUP(C15,'10. Свод Перечней'!C:H,6,0),""),"") -> 01.13.12.120-00000002
A16: =IF(LEN(C16)>0,MAX($A$6:A15)+1,"") -> 10 | B16: =IFERROR(INDEX('10. Свод Перечней'!B:C,MATCH(C16,'10. Свод Перечней'!C:C,0),1),"") -> Капуста белокочанная свежая | C16: {=IFERROR(INDEX('10. Свод Перечней'!$C$4:$C$529,SMALL(IF("Д"='10. Свод Перечней'!$I$4:$Q$529,ROW('10. Свод Перечней'!$C$4:$C$529)-3,""),ROW()-6)),"")} -> Капуста белокочанная тип 2 | D16: =IFERROR(VLOOKUP(C16,'10. Свод Перечней'!C:H,2,0),"") -> 01.13.12.120 | E16: =IFERROR(VLOOKUP(C16,'10. Свод Перечней'!C:H,3,0),"") -> 002 | F16: =IFERROR(VLOOKUP(C16,'10. Свод Перечней'!C:H,4,0),"") -> КГ | G16: =IFERROR(VLOOKUP(C16,'10. Свод Перечней'!C:H,5,0),"") -> Капуста очищенная: Нет Вид капусты по сроку созревания: Раннеспелая Товарный класс: Первый Вид: Свежая Фасовка: Весовая Соответствие нормативно-технической документации: Технический регламент Таможенного союза "О безопасности упаковки" от 16.08.2011 ТР ТС № 005/2011, Технический регламент Таможенного союза "О безопасности пищевой продукции" от 09.12.2011 № 021/2011, Технический регламент Таможенного союза "Пищевая продукция в части ее маркировки" от 09.12.2011 № 022/2011, ГОСТ Р 51809-2001 | H16: =IF(LEN(IFERROR(VLOOKUP(C16,'10. Свод Перечней'!C:H,6,0),""))>1,IFERROR(VLOOKUP(C16,'10. Свод Перечней'!C:H,6,0),""),"") -> 01.13.12.120-00000002
A17: =IF(LEN(C17)>0,MAX($A$6:A16)+1,"") -> 11 | B17: =IFERROR(INDEX('10. Свод Перечней'!B:C,MATCH(C17,'10. Свод Перечней'!C:C,0),1),"") -> Капуста краснокочанная свежая | C17: {=IFERROR(INDEX('10. Свод Перечней'!$C$4:$C$529,SMALL(IF("Д"='10. Свод Перечней'!$I$4:$Q$529,ROW('10. Свод Перечней'!$C$4:$C$529)-3,""),ROW()-6)),"")} -> Капуста краснокочанная тип 1 | D17: =IFERROR(VLOOKUP(C17,'10. Свод Перечней'!C:H,2,0),"") -> 01.13.12.130 | E17: =IFERROR(VLOOKUP(C17,'10. Свод Перечней'!C:H,3,0),"") -> 001 | F17: =IFERROR(VLOOKUP(C17,'10. Свод Перечней'!C:H,4,0),"") -> КГ | G17: =IFERROR(VLOOKUP(C17,'10. Свод Перечней'!C:H,5,0),"") -> Вид: Свежая Фасовка: Весовая Соответствие нормативно-технической документации: Технический регламент Таможенного союза "О безопасности упаковки" от 16.08.2011 ТР ТС № 005/2011, Технический регламент Таможенного союза "О безопасности пищевой продукции" от 09.12.2011 № 021/2011, Технический регламент Таможенного союза "Пищевая продукция в части ее маркировки" от 09.12.2011 № 022/2011, ГОСТ 7967-2015 | H17: =IF(LEN(IFERROR(VLOOKUP(C17,'10. Свод Перечней'!C:H,6,0),""))>1,IFERROR(VLOOKUP(C17,'10. Свод Перечней'!C:H,6,0),""),"")
A18: =IF(LEN(C18)>0,MAX($A$6:A17)+1,"") -> 12 | B18: =IFERROR(INDEX('10. Свод Перечней'!B:C,MATCH(C18,'10. Свод Перечней'!C:C,0),1),"") -> Капуста савойская свежая | C18: {=IFERROR(INDEX('10. Свод Перечней'!$C$4:$C$529,SMALL(IF("Д"='10. Свод Перечней'!$I$4:$Q$529,ROW('10. Свод Перечней'!$C$4:$C$529)-3,""),ROW()-6)),"")} -> Капуста савойская тип 1 | D18: =IFERROR(VLOOKUP(C18,'10. Свод Перечней'!C:H,2,0),"") -> 01.13.12.140 | E18: =IFERROR(VLOOKUP(C18,'10. Свод Перечней'!C:H,3,0),"") -> 001 | F18: =IFERROR(VLOOKUP(C18,'10. Свод Перечней'!C:H,4,0),"") -> КГ | G18: =IFERROR(VLOOKUP(C18,'10. Свод Перечней'!C:H,5,0),"") -> Вид: Свежая Фасовка: Весовая Соответствие нормативно-технической документации: Технический регламент Таможенного союза "О безопасности упаковки" от 16.08.2011 ТР ТС № 005/2011, Технический регламент Таможенного союза "О безопасности пищевой продукции" от 09.12.2011 № 021/2011, Технический регламент Таможенного союза "Пищевая продукция в части ее маркировки" от 09.12.2011 № 022/2011, ГОСТ 33551-2015, РСТ РСФСР 744-88 | H18: =IF(LEN(IFERROR(VLOOKUP(C18,'10. Свод Перечней'!C:H,6,0),""))>1,IFERROR(VLOOKUP(C18,'10. Свод Перечней'!C:H,6,0),""),"")
A19: =IF(LEN(C19)>0,MAX($A$6:A18)+1,"") -> 13 | B19: =IFERROR(INDEX('10. Свод Перечней'!B:C,MATCH(C19,'10. Свод Перечней'!C:C,0),1),"") -> Капуста китайская свежая | C19: {=IFERROR(INDEX('10. Свод Перечней'!$C$4:$C$529,SMALL(IF("Д"='10. Свод Перечней'!$I$4:$Q$529,ROW('10. Свод Перечней'!$C$4:$C$529)-3,""),ROW()-6)),"")} -> Капуста китайская тип 1 | D19: =IFERROR(VLOOKUP(C19,'10. Свод Перечней'!C:H,2,0),"") -> 01.13.12.150 | E19: =IFERROR(VLOOKUP(C19,'10. Свод Перечней'!C:H,3,0),"") -> 001 | F19: =IFERROR(VLOOKUP(C19,'10. Свод Перечней'!C:H,4,0),"") -> КГ | G19: =IFERROR(VLOOKUP(C19,'10. Свод Перечней'!C:H,5,0),"") -> Вид: Свежая Фасовка: Весовая Соответствие нормативно-технической документации: Технический регламент Таможенного союза "О безопасности упаковки" от 16.08.2011 ТР ТС № 005/2011, Технический регламент Таможенного союза "О безопасности пищевой продукции" от 09.12.2011 № 021/2011, Технический регламент Таможенного союза "Пищевая продукция в части ее маркировки" от 09.12.2011 № 022/2011, ГОСТ 34323-2017 | H19: =IF(LEN(IFERROR(VLOOKUP(C19,'10. Свод Перечней'!C:H,6,0),""))>1,IFERROR(VLOOKUP(C19,'10. Свод Перечней'!C:H,6,0),""),"")
... A1178: =IF(LEN(C1178)>0,MAX($A$6:A1177)+1,"") | B1178: =IFERROR(INDEX('10. Свод Перечней'!B:C,MATCH(C1178,'10. Свод Перечней'!C:C,0),1),"") | C1178: {=IFERROR(INDEX('10. Свод Перечней'!$C$4:$C$529,SMALL(IF("Д"='10. Свод Перечней'!$I$4:$Q$529,ROW('10. Свод Перечней'!$C$4:$C$529)-3,""),ROW()-6)),"")} | D1178: =IFERROR(VLOOKUP(C1178,'10. Свод Перечней'!C:H,2,0),"") | E1178: =IFERROR(VLOOKUP(C1178,'10. Свод Перечней'!C:H,3,0),"") | F1178: =IFERROR(VLOOKUP(C1178,'10. Свод Перечней'!C:H,4,0),"") | G1178: =IFERROR(VLOOKUP(C1178,'10. Свод Перечней'!C:H,5,0),"") | H1178: =IF(LEN(IFERROR(VLOOKUP(C1178,'10. Свод Перечней'!C:H,6,0),""))>1,IFERROR(VLOOKUP(C1178,'10. Свод Перечней'!C:H,6,0),""),"")

Sheet 5. Школы ПТУ
A2: Дата актуализации ассортиментного перечня «01» июня 2023 г
A3: Ассортиментный перечень основных групп продовольственных товаров и сырья для обеспечения социального питания в образовательных учреждениях Санкт-Петербурга (школы и профессиональные училища)
A4: Примечание! * - Продукция предназначенная для лечебного, специального питания ** - предназначенные для использования в питании после термической обработки. Информацию о действующей нормативной документации, а также изменениях вносимых в национальные стандарты можно получить в Управлении социального питания по телефонам 417-35-50, 417-35-52 и на сайте Управления по адресу: http://www.gov.spb.ru, вкладка «Нормативные документы».
A5: № | B5: Потребительское наименование товара | C5: Название товара ККН/КТРУ | D5: ОКПД2 | E5: Детализация ККН | F5: Единица измерения ККН | G5: Характеристики товара | H5: Код КТРУ
A6: 1 | B6: 2 | C6: 2 | D6: 3 | E6: 4 | F6: 5 | G6: 6 | H6: 7
A7: 1 | B7: =IFERROR(INDEX('10. Свод Перечней'!B:C,MATCH(C7,'10. Свод Перечней'!C:C,0),1),"") -> Фасоль овощная свежая | C7: {=IFERROR(INDEX('10. Свод Перечней'!$C$4:$C$529,SMALL(IF("Ш"='10. Свод Перечней'!$I$4:$Q$529,ROW('10. Свод Перечней'!$C$4:$C$529)-3,""),ROW()-6)),"")} -> Фасоль тип 1 | D7: =IFERROR(VLOOKUP(C7,'10. Свод Перечней'!C:H,2,0),"") -> 01.11.61.000 | E7: =IFERROR(VLOOKUP(C7,'10. Свод Перечней'!C:H,3,0),"") -> 001 | F7: =IFERROR(VLOOKUP(C7,'10. Свод Перечней'!C:H,4,0),"") -> КГ | G7: =IFERROR(VLOOKUP(C7,'10. Свод Перечней'!C:H,5,0),"") -> Тип: Овощная Вид: Свежая Сорт: Высший; Первый Фасовка: Весовая Соответствие нормативно-технической документации: Технический регламент Таможенного союза "О безопасности упаковки" от 16.08.2011 ТР ТС № 005/2011, Технический регламент Таможенного союза "О безопасности пищевой продукции" от 09.12.2011 № 021/2011, Технический регламент Таможенного союза "Пищевая продукция в части ее маркировки" от 09.12.2011 № 022/2011, ГОСТ 34299-2017 | H7: =IF(LEN(IFERROR(VLOOKUP(C7,'10. Свод Перечней'!C:H,6,0),""))>1,IFERROR(VLOOKUP(C7,'10. Свод Перечней'!C:H,6,0),""),"")
A8: =IF(LEN(C8)>0,MAX($A$5:A7)+1,"") -> 2 | B8: =IFERROR(INDEX('10. Свод Перечней'!B:C,MATCH(C8,'10. Свод Перечней'!C:C,0),1),"") -> Фасоль продовольственная | C8: {=IFERROR(INDEX('10. Свод Перечней'!$C$4:$C$529,SMALL(IF("Ш"='10. Свод Перечней'!$I$4:$Q$529,ROW('10. Свод Перечней'!$C$4:$C$529)-3,""),ROW()-6)),"")} -> Фасоль продовольственная тип 1 | D8: =IFERROR(VLOOKUP(C8,'10. Свод Перечней'!C:H,2,0),"") -> 01.11.71.110 | E8: =IFERROR(VLOOKUP(C8,'10. Свод Перечней'!C:H,3,0),"") -> 002 | F8: =IFERROR(VLOOKUP(C8,'10. Свод Перечней'!C:H,4,0),"") -> КГ | G8: =IFERROR(VLOOKUP(C8,'10. Свод Перечней'!C:H,5,0),"") -> Номер и наименование типа фасоли: I. Фасоль белая; II. Фасоль цветная однотонная; III. Фасоль цветная пестрая Фасовка: Весовая Соответствие нормативно-технической документации: Технический регламент Таможенного союза "О безопасности упаковки" от 16.08.2011 ТР ТС № 005/2011, Технический регламент Таможенного союза "О безопасности пищевой продукции" от 09.12.2011 № 021/2011, Технический регламент Таможенного союза "Пищевая продукция в части ее маркировки" от 09.12.2011 № 022/2011, ГОСТ 7758-2020 | H8: =IF(LEN(IFERROR(VLOOKUP(C8,'10. Свод Перечней'!C:H,6,0),""))>1,IFERROR(VLOOKUP(C8,'10. Свод Перечней'!C:H,6,0),""),"") -> 01.11.71.110-00000001, 01.11.71.110-00000002, 01.11.71.110-00000003
A9: =IF(LEN(C9)>0,MAX($A$5:A8)+1,"") -> 3 | B9: =IFERROR(INDEX('10. Свод Перечней'!B:C,MATCH(C9,'10. Свод Перечней'!C:C,0),1),"") -> Фасоль продовольственная | C9: {=IFERROR(INDEX('10. Свод Перечней'!$C$4:$C$529,SMALL(IF("Ш"='10. Свод Перечней'!$I$4:$Q$529,ROW('10. Свод Перечней'!$C$4:$C$529)-3,""),ROW()-6)),"")} -> Фасоль продовольственная тип 2 | D9: =IFERROR(VLOOKUP(C9,'10. Свод Перечней'!C:H,2,0),"") -> 01.11.71.110 | E9: =IFERROR(VLOOKUP(C9,'10. Свод Перечней'!C:H,3,0),"") -> 001 | F9: =IFERROR(VLOOKUP(C9,'10. Свод Перечней'!C:H,4,0),"") -> КГ | G9: =IFERROR(VLOOKUP(C9,'10. Свод Перечней'!C:H,5,0),"") -> Номер и наименование типа фасоли: I. Фасоль белая; II. Фасоль цветная однотонная; III. Фасоль цветная пестрая Вес: не более 1 КГ Упаковка производителя: Наличие Соответствие нормативно-технической документации: Технический регламент Таможенного союза "О безопасности упаковки" от 16.08.2011 ТР ТС № 005/2011, Технический регламент Таможенного союза "О безопасности пищевой продукции" от 09.12.2011 № 021/2011, Технический регламент Таможенного союза "Пищевая продукция в части ее маркировки" от 09.12.2011 № 022/2011, ГОСТ 7758-2020 | H9: =IF(LEN(IFERROR(VLOOKUP(C9,'10. Свод Перечней'!C:H,6,0),""))>1,IFERROR(VLOOKUP(C9,'10. Свод Перечней'!C:H,6,0),""),"") -> 01.11.71.110-00000001, 01.11.71.110-00000002, 01.11.71.110-00000003
A10: =IF(LEN(C10)>0,MAX($A$5:A9)+1,"") -> 4 | B10: =IFERROR(INDEX('10. Свод Перечней'!B:C,MATCH(C10,'10. Свод Перечней'!C:C,0),1),"") -> Чечевица | C10: {=IFERROR(INDEX('10. Свод Перечней'!$C$4:$C$529,SMALL(IF("Ш"='10. Свод Перечней'!$I$4:$Q$529,ROW('10. Свод Перечней'!$C$4:$C$529)-3,""),ROW()-6)),"")} -> Чечевица продовольственная тип 1 | D10: =IFERROR(VLOOKUP(C10,'10. Свод Перечней'!C:H,2,0),"") -> 01.11.74.110 | E10: =IFERROR(VLOOKUP(C10,'10. Свод Перечней'!C:H,3,0),"") -> 002 | F10: =IFERROR(VLOOKUP(C10,'10. Свод Перечней'!C:H,4,0),"") -> КГ | G10: =IFERROR(VLOOKUP(C10,'10. Свод Перечней'!C:H,5,0),"") -> Тип чечевицы: Красная; Коричневая; Неоднородная; Светло-зеленая; Темно-зеленая Фасовка: Весовая Соответствие нормативно-технической документации: Технический регламент Таможенного союза "О безопасности упаковки" от 16.08.2011 ТР ТС № 005/2011, Технический регламент Таможенного союза "О безопасности пищевой продукции" от 09.12.2011 № 021/2011, Технический регламент Таможенного союза "Пищевая продукция в части ее маркировки" от 09.12.2011 № 022/2011, ГОСТ 7066-2019 | H10: =IF(LEN(IFERROR(VLOOKUP(C10,'10. Свод Перечней'!C:H,6,0),""))>1,IFERROR(VLOOKUP(C10,'10. Свод Перечней'!C:H,6,0),""),"") -> 01.11.74.110-00000001, 01.11.74.110-00000002, 01.11.74.110-00000003, 01.11.74.110-00000004, 01.11.74.110-00000005
A11: =IF(LEN(C11)>0,MAX($A$5:A10)+1,"") -> 5 | B11: =IFERROR(INDEX('10. Свод Перечней'!B:C,MATCH(C11,'10. Свод Перечней'!C:C,0),1),"") -> Чечевица | C11: {=IFERROR(INDEX('10. Свод Перечней'!$C$4:$C$529,SMALL(IF("Ш"='10. Свод Перечней'!$I$4:$Q$529,ROW('10. Свод Перечней'!$C$4:$C$529)-3,""),ROW()-6)),"")} -> Чечевица продовольственная тип 2 | D11: =IFERROR(VLOOKUP(C11,'10. Свод Перечней'!C:H,2,0),"") -> 01.11.74.110 | E11: =IFERROR(VLOOKUP(C11,'10. Свод Перечней'!C:H,3,0),"") -> 001 | F11: =IFERROR(VLOOKUP(C11,'10. Свод Перечней'!C:H,4,0),"") -> КГ | G11: =IFERROR(VLOOKUP(C11,'10. Свод Перечней'!C:H,5,0),"") -> Тип чечевицы: Красная; Коричневая; Неоднородная; Светло-зеленая; Темно-зеленая Вес: не более 1 КГ Упаковка производителя: Наличие Соответствие нормативно-технической документации: Технический регламент Таможенного союза "О безопасности упаковки" от 16.08.2011 ТР ТС № 005/2011, Технический регламент Таможенного союза "О безопасности пищевой продукции" от 09.12.2011 № 021/2011, Технический регламент Таможенного союза "Пищевая продукция в части ее маркировки" от 09.12.2011 № 022/2011, ГОСТ 7066-2019 | H11: =IF(LEN(IFERROR(VLOOKUP(C11,'10. Свод Перечней'!C:H,6,0),""))>1,IFERROR(VLOOKUP(C11,'10. Свод Перечней'!C:H,6,0),""),"") -> 01.11.74.110-00000001, 01.11.74.110-00000002, 01.11.74.110-00000003, 01.11.74.110-00000004, 01.11.74.110-00000005
A12: =IF(LEN(C12)>0,MAX($A$5:A11)+1,"") -> 6 | B12: =IFERROR(INDEX('10. Свод Перечней'!B:C,MATCH(C12,'10. Свод Перечней'!C:C,0),1),"") -> Горох шлифованный | C12: {=IFERROR(INDEX('10. Свод Перечней'!$C$4:$C$529,SMALL(IF("Ш"='10. Свод Перечней'!$I$4:$Q$529,ROW('10. Свод Перечней'!$C$4:$C$529)-3,""),ROW()-6)),"")} -> Горох шлифованный тип 1 | D12: =IFERROR(VLOOKUP(C12,'10. Свод Перечней'!C:H,2,0),"") -> 01.11.75.110 | E12: =IFERROR(VLOOKUP(C12,'10. Свод Перечней'!C:H,3,0),"") -> 001 | F12: =IFERROR(VLOOKUP(C12,'10. Свод Перечней'!C:H,4,0),"") -> КГ | G12: =IFERROR(VLOOKUP(C12,'10. Свод Перечней'!C:H,5,0),"") -> Вид зерна: Целое Сорт: Не ниже первого Вес: не более 1 КГ Упаковка производителя: Наличие Соответствие нормативно-технической документации: Технический регламент Таможенного союза "О безопасности упаковки" от 16.08.2011 ТР ТС № 005/2011, Технический регламент Таможенного союза "О безопасности пищевой продукции" от 09.12.2011 № 021/2011, Технический регламент Таможенного союза "Пищевая продукция в части ее маркировки" от 09.12.2011 № 022/2011, ГОСТ 6201-20 | H12: =IF(LEN(IFERROR(VLOOKUP(C12,'10. Свод Перечней'!C:H,6,0),""))>1,IFERROR(VLOOKUP(C12,'10. Свод Перечней'!C:H,6,0),""),"") -> 01.11.75.110-00000002
A13: =IF(LEN(C13)>0,MAX($A$5:A12)+1,"") -> 7 | B13: =IFERROR(INDEX('10. Свод Перечней'!B:C,MATCH(C13,'10. Свод Перечней'!C:C,0),1),"") -> Горох шлифованный | C13: {=IFERROR(INDEX('10. Свод Перечней'!$C$4:$C$529,SMALL(IF("Ш"='10. Свод Перечней'!$I$4:$Q$529,ROW('10. Свод Перечней'!$C$4:$C$529)-3,""),ROW()-6)),"")} -> Горох шлифованный тип 2 | D13: =IFERROR(VLOOKUP(C13,'10. Свод Перечней'!C:H,2,0),"") -> 01.11.75.110 | E13: =IFERROR(VLOOKUP(C13,'10. Свод Перечней'!C:H,3,0),"") -> 002 | F13: =IFERROR(VLOOKUP(C13,'10. Свод Перечней'!C:H,4,0),"") -> КГ | G13: =IFERROR(VLOOKUP(C13,'10. Свод Перечней'!C:H,5,0),"") -> Вид зерна: Целое Сорт: Не ниже первого Фасовка: Весовая Соответствие нормативно-технической документации: Технический регламент Таможенного союза "О безопасности упаковки" от 16.08.2011 ТР ТС № 005/2011, Технический регламент Таможенного союза "О безопасности пищевой продукции" от 09.12.2011 № 021/2011, Технический регламент Таможенного союза "Пищевая продукция в части ее маркировки" от 09.12.2011 № 022/2011, ГОСТ 6201-20 | H13: =IF(LEN(IFERROR(VLOOKUP(C13,'10. Свод Перечней'!C:H,6,0),""))>1,IFERROR(VLOOKUP(C13,'10. Свод Перечней'!C:H,6,0),""),"") -> 01.11.75.110-00000002
A14: =IF(LEN(C14)>0,MAX($A$5:A13)+1,"") -> 8 | B14: =IFERROR(INDEX('10. Свод Перечней'!B:C,MATCH(C14,'10. Свод Перечней'!C:C,0),1),"") -> Капуста брюссельская свежая | C14: {=IFERROR(INDEX('10. Свод Перечней'!$C$4:$C$529,SMALL(IF("Ш"='10. Свод Перечней'!$I$4:$Q$529,ROW('10. Свод Перечней'!$C$4:$C$529)-3,""),ROW()-6)),"")} -> Капуста брюссельская тип 1 | D14: =IFERROR(VLOOKUP(C14,'10. Свод Перечней'!C:H,2,0),"") -> 01.13.12.110 | E14: =IFERROR(VLOOKUP(C14,'10. Свод Перечней'!C:H,3,0),"") -> 001 | F14: =IFERROR(VLOOKUP(C14,'10. Свод Перечней'!C:H,4,0),"") -> КГ | G14: =IFERROR(VLOOKUP(C14,'10. Свод Перечней'!C:H,5,0),"") -> Вид: Свежая Фасовка: Весовая Соответствие нормативно-технической документации: Технический регламент Таможенного союза "О безопасности упаковки" от 16.08.2011 ТР ТС № 005/2011, Технический регламент Таможенного союза "О безопасности пищевой продукции" от 09.12.2011 № 021/2011, Технический регламент Таможенного союза "Пищевая продукция в части ее маркировки" от 09.12.2011 № 022/2011, ГОСТ 33851-2016 | H14: =IF(LEN(IFERROR(VLOOKUP(C14,'10. Свод Перечней'!C:H,6,0),""))>1,IFERROR(VLOOKUP(C14,'10. Свод Перечней'!C:H,6,0),""),"")
A15: =IF(LEN(C15)>0,MAX($A$5:A14)+1,"") -> 9 | B15: =IFERROR(INDEX('10. Свод Перечней'!B:C,MATCH(C15,'10. Свод Перечней'!C:C,0),1),"") -> Капуста белокочанная свежая | C15: {=IFERROR(INDEX('10. Свод Перечней'!$C$4:$C$529,SMALL(IF("Ш"='10. Свод Перечней'!$I$4:$Q$529,ROW('10. Свод Перечней'!$C$4:$C$529)-3,""),ROW()-6)),"")} -> Капуста белокочанная тип 1 | D15: =IFERROR(VLOOKUP(C15,'10. Свод Перечней'!C:H,2,0),"") -> 01.13.12.120 | E15: =IFERROR(VLOOKUP(C15,'10. Свод Перечней'!C:H,3,0),"") -> 001 | F15: =IFERROR(VLOOKUP(C15,'10. Свод Перечней'!C:H,4,0),"") -> КГ | G15: =IFERROR(VLOOKUP(C15,'10. Свод Перечней'!C:H,5,0),"") -> Капуста очищенная: Нет Вид капусты по сроку созревания: Среднеспелая; Позднеспелая; Среднепоздняя Товарный класс: Первый Вид: Свежая Фасовка: Весовая Соответствие нормативно-технической документации: Технический регламент Таможенного союза "О безопасности упаковки" от 16.08.2011 ТР ТС № 005/2011, Технический регламент Таможенного союза "О безопасности пищевой продукции" от 09.12.2011 № 021/2011, Технический регламент Таможенного союза "Пищевая продукция в части ее маркировки" от 09.12.2011 № 022/2011, ГОСТ Р 51809-2001 | H15: =IF(LEN(IFERROR(VLOOKUP(C15,'10. Свод Перечней'!C:H,6,0),""))>1,IFERROR(VLOOKUP(C15,'10. Свод Перечней'!C:H,6,0),""),"") -> 01.13.12.120-00000002
A16: =IF(LEN(C16)>0,MAX($A$5:A15)+1,"") -> 10 | B16: =IFERROR(INDEX('10. Свод Перечней'!B:C,MATCH(C16,'10. Свод Перечней'!C:C,0),1),"") -> Капуста белокочанная свежая | C16: {=IFERROR(INDEX('10. Свод Перечней'!$C$4:$C$529,SMALL(IF("Ш"='10. Свод Перечней'!$I$4:$Q$529,ROW('10. Свод Перечней'!$C$4:$C$529)-3,""),ROW()-6)),"")} -> Капуста белокочанная тип 2 | D16: =IFERROR(VLOOKUP(C16,'10. Свод Перечней'!C:H,2,0),"") -> 01.13.12.120 | E16: =IFERROR(VLOOKUP(C16,'10. Свод Перечней'!C:H,3,0),"") -> 002 | F16: =IFERROR(VLOOKUP(C16,'10. Свод Перечней'!C:H,4,0),"") -> КГ | G16: =IFERROR(VLOOKUP(C16,'10. Свод Перечней'!C:H,5,0),"") -> Капуста очищенная: Нет Вид капусты по сроку созревания: Раннеспелая Товарный класс: Первый Вид: Свежая Фасовка: Весовая Соответствие нормативно-технической документации: Технический регламент Таможенного союза "О безопасности упаковки" от 16.08.2011 ТР ТС № 005/2011, Технический регламент Таможенного союза "О безопасности пищевой продукции" от 09.12.2011 № 021/2011, Технический регламент Таможенного союза "Пищевая продукция в части ее маркировки" от 09.12.2011 № 022/2011, ГОСТ Р 51809-2001 | H16: =IF(LEN(IFERROR(VLOOKUP(C16,'10. Свод Перечней'!C:H,6,0),""))>1,IFERROR(VLOOKUP(C16,'10. Свод Перечней'!C:H,6,0),""),"") -> 01.13.12.120-00000002
A17: =IF(LEN(C17)>0,MAX($A$5:A16)+1,"") -> 11 | B17: =IFERROR(INDEX('10. Свод Перечней'!B:C,MATCH(C17,'10. Свод Перечней'!C:C,0),1),"") -> Капуста краснокочанная свежая | C17: {=IFERROR(INDEX('10. Свод Перечней'!$C$4:$C$529,SMALL(IF("Ш"='10. Свод Перечней'!$I$4:$Q$529,ROW('10. Свод Перечней'!$C$4:$C$529)-3,""),ROW()-6)),"")} -> Капуста краснокочанная тип 1 | D17: =IFERROR(VLOOKUP(C17,'10. Свод Перечней'!C:H,2,0),"") -> 01.13.12.130 | E17: =IFERROR(VLOOKUP(C17,'10. Свод Перечней'!C:H,3,0),"") -> 001 | F17: =IFERROR(VLOOKUP(C17,'10. Свод Перечней'!C:H,4,0),"") -> КГ | G17: =IFERROR(VLOOKUP(C17,'10. Свод Перечней'!C:H,5,0),"") -> Вид: Свежая Фасовка: Весовая Соответствие нормативно-технической документации: Технический регламент Таможенного союза "О безопасности упаковки" от 16.08.2011 ТР ТС № 005/2011, Технический регламент Таможенного союза "О безопасности пищевой продукции" от 09.12.2011 № 021/2011, Технический регламент Таможенного союза "Пищевая продукция в части ее маркировки" от 09.12.2011 № 022/2011, ГОСТ 7967-2015 | H17: =IF(LEN(IFERROR(VLOOKUP(C17,'10. Свод Перечней'!C:H,6,0),""))>1,IFERROR(VLOOKUP(C17,'10. Свод Перечней'!C:H,6,0),""),"")
A18: =IF(LEN(C18)>0,MAX($A$5:A17)+1,"") -> 12 | B18: =IFERROR(INDEX('10. Свод Перечней'!B:C,MATCH(C18,'10. Свод Перечней'!C:C,0),1),"") -> Капуста савойская свежая | C18: {=IFERROR(INDEX('10. Свод Перечней'!$C$4:$C$529,SMALL(IF("Ш"='10. Свод Перечней'!$I$4:$Q$529,ROW('10. Свод Перечней'!$C$4:$C$529)-3,""),ROW()-6)),"")} -> Капуста савойская тип 1 | D18: =IFERROR(VLOOKUP(C18,'10. Свод Перечней'!C:H,2,0),"") -> 01.13.12.140 | E18: =IFERROR(VLOOKUP(C18,'10. Свод Перечней'!C:H,3,0),"") -> 001 | F18: =IFERROR(VLOOKUP(C18,'10. Свод Перечней'!C:H,4,0),"") -> КГ | G18: =IFERROR(VLOOKUP(C18,'10. Свод Перечней'!C:H,5,0),"") -> Вид: Свежая Фасовка: Весовая Соответствие нормативно-технической документации: Технический регламент Таможенного союза "О безопасности упаковки" от 16.08.2011 ТР ТС № 005/2011, Технический регламент Таможенного союза "О безопасности пищевой продукции" от 09.12.2011 № 021/2011, Технический регламент Таможенного союза "Пищевая продукция в части ее маркировки" от 09.12.2011 № 022/2011, ГОСТ 33551-2015, РСТ РСФСР 744-88 | H18: =IF(LEN(IFERROR(VLOOKUP(C18,'10. Свод Перечней'!C:H,6,0),""))>1,IFERROR(VLOOKUP(C18,'10. Свод Перечней'!C:H,6,0),""),"")
A19: =IF(LEN(C19)>0,MAX($A$5:A18)+1,"") -> 13 | B19: =IFERROR(INDEX('10. Свод Перечней'!B:C,MATCH(C19,'10. Свод Перечней'!C:C,0),1),"") -> Капуста китайская свежая | C19: {=IFERROR(INDEX('10. Свод Перечней'!$C$4:$C$529,SMALL(IF("Ш"='10. Свод Перечней'!$I$4:$Q$529,ROW('10. Свод Перечней'!$C$4:$C$529)-3,""),ROW()-6)),"")} -> Капуста китайская тип 1 | D19: =IFERROR(VLOOKUP(C19,'10. Свод Перечней'!C:H,2,0),"") -> 01.13.12.150 | E19: =IFERROR(VLOOKUP(C19,'10. Свод Перечней'!C:H,3,0),"") -> 001 | F19: =IFERROR(VLOOKUP(C19,'10. Свод Перечней'!C:H,4,0),"") -> КГ | G19: =IFERROR(VLOOKUP(C19,'10. Свод Перечней'!C:H,5,0),"") -> Вид: Свежая Фасовка: Весовая Соответствие нормативно-технической документации: Технический регламент Таможенного союза "О безопасности упаковки" от 16.08.2011 ТР ТС № 005/2011, Технический регламент Таможенного союза "О безопасности пищевой продукции" от 09.12.2011 № 021/2011, Технический регламент Таможенного союза "Пищевая продукция в части ее маркировки" от 09.12.2011 № 022/2011, ГОСТ 34323-2017 | H19: =IF(LEN(IFERROR(VLOOKUP(C19,'10. Свод Перечней'!C:H,6,0),""))>1,IFERROR(VLOOKUP(C19,'10. Свод Перечней'!C:H,6,0),""),"")
... A1007: =IF(LEN(C1007)>0,MAX($A$5:A1006)+1,"") | B1007: =IFERROR(INDEX('10. Свод Перечней'!B:C,MATCH(C1007,'10. Свод Перечней'!C:C,0),1),"") | C1007: {=IFERROR(INDEX('10. Свод Перечней'!$C$4:$C$529,SMALL(IF("Ш"='10. Свод Перечней'!$I$4:$Q$529,ROW('10. Свод Перечней'!$C$4:$C$529)-3,""),ROW()-6)),"")} | D1007: =IFERROR(VLOOKUP(C1007,'10. Свод Перечней'!C:H,2,0),"") | E1007: =IFERROR(VLOOKUP(C1007,'10. Свод Перечней'!C:H,3,0),"") | F1007: =IFERROR(VLOOKUP(C1007,'10. Свод Перечней'!C:H,4,0),"") | G1007: =IFERROR(VLOOKUP(C1007,'10. Свод Перечней'!C:H,5,0),"") | H1007: =IF(LEN(IFERROR(VLOOKUP(C1007,'10. Свод Перечней'!C:H,6,0),""))>1,IFERROR(VLOOKUP(C1007,'10. Свод Перечней'!C:H,6,0),""),"")

Sheet 6. Бездомные
A2: Дата актуализации ассортиментного перечня «01» июня 2023 г
A3: Ассортиментный перечень основных групп продовольственных товаров и сырья для обеспечения социального питания в учереждения Санкт-Петербурга для лиц без определенного места жительства (бездомных)
A4: Примечание! * - Продукция предназначенная для лечебного, специального питания ** - предназначенные для использования в питании после термической обработки. Информацию о действующей нормативной документации, а также изменениях вносимых в национальные стандарты можно получить в Управлении социального питания по телефонам 417-35-50, 417-35-52 и на сайте Управления по адресу: http://www.gov.spb.ru, вкладка «Нормативные документы».
A5: № | B5: Потребительское наименование товара | C5: Название товара ККН/КТРУ | D5: ОКПД2 | E5: Детализация ККН | F5: Единица измерения ККН | G5: Характеристики товара | H5: Код КТРУ
A6: 1 | B6: 2 | C6: 2 | D6: 3 | E6: 4 | F6: 5 | G6: 6 | H6: 7
A7: 1 | B7: =IFERROR(INDEX('10. Свод Перечней'!B:C,MATCH(C7,'10. Свод Перечней'!C:C,0),1),"") -> Суп быстрого приготовления в пакетике, в ассортименте | C7: {=IFERROR(INDEX('10. Свод Перечней'!$C$4:$C$529,SMALL(IF("Б"='10. Свод Перечней'!$I$4:$Q$529,ROW('10. Свод Перечней'!$C$4:$C$529)-3,""),ROW()-6)),"")} -> Суп быстрого приготовления тип 1 | D7: =IFERROR(VLOOKUP(C7,'10. Свод Перечней'!C:H,2,0),"") -> 10.89.11.119 | E7: =IFERROR(VLOOKUP(C7,'10. Свод Перечней'!C:H,3,0),"") -> 001 | F7: =IFERROR(VLOOKUP(C7,'10. Свод Перечней'!C:H,4,0),"") -> КГ | G7: =IFERROR(VLOOKUP(C7,'10. Свод Перечней'!C:H,5,0),"") -> Тип: С жиром; Без жира Наличие вкусовых компонентов: Да; Нет Индивидуальная упаковка: Наличие Вес: не менее 15 не более 50 Г Соответствие нормативно-технической документации: Технический регламент Таможенного союза "О безопасности упаковки" от 16.08.2011 ТР ТС № 005/2011, Технический регламент Таможенного союза "О безопасности пищевой продукции" от 09.12.2011 № 021/2011, Технический регламент Таможенного союза "Пищевая продукция в части ее маркировки" от 09.12.2011 № 022/2011, ГОСТ Р50847-96, ТУ производителя | H7: =IF(LEN(IFERROR(VLOOKUP(C7,'10. Свод Перечней'!C:H,6,0),""))>1,IFERROR(VLOOKUP(C7,'10. Свод Перечней'!C:H,6,0),""),"")
A8: =IF(LEN(C8)>0,MAX($A$6:A7)+1,"") -> 2 | B8: =IFERROR(INDEX('10. Свод Перечней'!B:C,MATCH(C8,'10. Свод Перечней'!C:C,0),1),"") -> Изделия макаронные быстрого приготовления в ассортименте | C8: {=IFERROR(INDEX('10. Свод Перечней'!$C$4:$C$529,SMALL(IF("Б"='10. Свод Перечней'!$I$4:$Q$529,ROW('10. Свод Перечней'!$C$4:$C$529)-3,""),ROW()-6)),"")} -> Изделия макаронные тип 3 | D8: =IFERROR(VLOOKUP(C8,'10. Свод Перечней'!C:H,2,0),"") -> 10.73.11.130 | E8: =IFERROR(VLOOKUP(C8,'10. Свод Перечней'!C:H,3,0),"") -> 003 | F8: =IFERROR(VLOOKUP(C8,'10. Свод Перечней'!C:H,4,0),"") -> КГ | G8: =IFERROR(VLOOKUP(C8,'10. Свод Перечней'!C:H,5,0),"") -> Вид изделия макаронного: Лапша Вид сырья: Пшеничная мука Группа макаронных изделий из пшеничной муки: А; Б; В Сорт макаронных изделий из пшеничной муки: Высший; Первый; Второй Изделие быстрого приготовления: Да Наличие вкусовых компонентов: Да; Нет Вес: не менее 60 не более 100 Г Индивидуальная упаковка: Наличие Соответствие нормативно-технической документации: Технический регламент Таможенного союза "О безопасности упаковки" от 16.08.2011 ТР ТС № 005/2011, Технический регламент Таможенного союза "О безопасности пищевой продукции" от 09.12.2011 № 021/2011, Технический регламент Таможенного союза "Пищевая продукция в части ее маркировки" от 09.12.2011 № 022/2011, ГОСТ 31749-2012, ТУ производителя | H8: =IF(LEN(IFERROR(VLOOKUP(C8,'10. Свод Перечней'!C:H,6,0),""))>1,IFERROR(VLOOKUP(C8,'10. Свод Перечней'!C:H,6,0),""),"") -> 10.73.11.000-00000010
A9: =IF(LEN(C9)>0,MAX($A$6:A8)+1,"") -> 3 | B9: =IFERROR(INDEX('10. Свод Перечней'!B:C,MATCH(C9,'10. Свод Перечней'!C:C,0),1),"") -> Сухое картофельное пюре быстрого приготовления в ассортименте | C9: {=IFERROR(INDEX('10. Свод Перечней'!$C$4:$C$529,SMALL(IF("Б"='10. Свод Перечней'!$I$4:$Q$529,ROW('10. Свод Перечней'!$C$4:$C$529)-3,""),ROW()-6)),"")} -> Продукция из сушеного картофеля тип 1 | D9: =IFERROR(VLOOKUP(C9,'10. Свод Перечней'!C:H,2,0),"") -> 10.31.13.110 | E9: =IFERROR(VLOOKUP(C9,'10. Свод Перечней'!C:H,3,0),"") -> 001 | F9: =IFERROR(VLOOKUP(C9,'10. Свод Перечней'!C:H,4,0),"") -> КГ | G9: =IFERROR(VLOOKUP(C9,'10. Свод Перечней'!C:H,5,0),"") -> Вид продукции: Хлопья картофельные Тип: С жиром; Без жира Наличие вкусовых компонентов: Да; Нет Индивидуальная упаковка: Наличие Вес: не менее 40 не более 60 Г Упаковка производителя: Наличие Соответствие нормативно-технической документации: Технический регламент Таможенного союза "О безопасности упаковки" от 16.08.2011 ТР ТС № 005/2011, Технический регламент Таможенного союза "О безопасности пищевой продукции" от 09.12.2011 № 021/2011, Технический регламент Таможенного союза "Пищевая продукция в части ее маркировки" от 09.12.2011 № 022/2011, ГОСТ Р50847-96, ТУ производителя | H9: =IF(LEN(IFERROR(VLOOKUP(C9,'10. Свод Перечней'!C:H,6,0),""))>1,IFERROR(VLOOKUP(C9,'10. Свод Перечней'!C:H,6,0),""),"") -> 10.31.13.000-00000003
A10: =IF(LEN(C10)>0,MAX($A$6:A9)+1,"") -> 4 | B10: =IFERROR(INDEX('10. Свод Перечней'!B:C,MATCH(C10,'10. Свод Перечней'!C:C,0),1),"") -> Каша быстрого приготовления | C10: {=IFERROR(INDEX('10. Свод Перечней'!$C$4:$C$529,SMALL(IF("Б"='10. Свод Перечней'!$I$4:$Q$529,ROW('10. Свод Перечней'!$C$4:$C$529)-3,""),ROW()-6)),"")} -> Каша быстрого приготовления тип 1 | D10: =IFERROR(VLOOKUP(C10,'10. Свод Перечней'!C:H,2,0),"") -> 10.89.19.110 | E10: =IFERROR(VLOOKUP(C10,'10. Свод Перечней'!C:H,3,0),"") -> 001 | F10: =IFERROR(VLOOKUP(C10,'10. Свод Перечней'!C:H,4,0),"") -> КГ | G10: =IFERROR(VLOOKUP(C10,'10. Свод Перечней'!C:H,5,0),"") -> Тип: С жиром; Без жира Наличие вкусовых компонентов: Да; Нет Индивидуальная упаковка: Наличие Вес: не менее 40 не более 60 Г Упаковка производителя: Наличие Соответствие нормативно-технической документации: Технический регламент Таможенного союза "О безопасности упаковки" от 16.08.2011 ТР ТС № 005/2011, Технический регламент Таможенного союза "О безопасности пищевой продукции" от 09.12.2011 № 021/2011, Технический регламент Таможенного союза "Пищевая продукция в части ее маркировки" от 09.12.2011 № 022/2011, ГОСТ Р50847-96, ТУ производителя | H10: =IF(LEN(IFERROR(VLOOKUP(C10,'10. Свод Перечней'!C:H,6,0),""))>1,IFERROR(VLOOKUP(C10,'10. Свод Перечней'!C:H,6,0),""),"")
A11: =IF(LEN(C11)>0,MAX($A$6:A10)+1,"") -> 5 | B11: =IFERROR(INDEX('10. Свод Перечней'!B:C,MATCH(C11,'10. Свод Перечней'!C:C,0),1),"") -> Хлебцы | C11: {=IFERROR(INDEX('10. Свод Перечней'!$C$4:$C$529,SMALL(IF("Б"='10. Свод Перечней'!$I$4:$Q$529,ROW('10. Свод Перечней'!$C$4:$C$529)-3,""),ROW()-6)),"")} -> Хлебцы хрустящие тип 1 | D11: =IFERROR(VLOOKUP(C11,'10. Свод Перечней'!C:H,2,0),"") -> 10.72.11.130 | E11: =IFERROR(VLOOKUP(C11,'10. Свод Перечней'!C:H,3,0),"") -> 001 | F11: =IFERROR(VLOOKUP(C11,'10. Свод Перечней'!C:H,4,0),"") -> КГ | G11: =IFERROR(VLOOKUP(C11,'10. Свод Перечней'!C:H,5,0),"") -> Вид сырья: Смеси ржаной и пшеничной муки Наличие вкусовых компонентов: Да; Нет Вес: не менее 100 Г Упаковка производителя: Наличие Соответствие нормативно-технической документации: Технический регламент Таможенного союза "О безопасности упаковки" от 16.08.2011 ТР ТС № 005/2011, Технический регламент Таможенного союза "О безопасности пищевой продукции" от 09.12.2011 № 021/2011, Технический регламент Таможенного союза "Пищевая продукция в части ее маркировки" от 09.12.2011 № 022/2011,ТУ производителя | H11: =IF(LEN(IFERROR(VLOOKUP(C11,'10. Свод Перечней'!C:H,6,0),""))>1,IFERROR(VLOOKUP(C11,'10. Свод Перечней'!C:H,6,0),""),"") -> 10.72.11.130-00000003
A12: =IF(LEN(C12)>0,MAX($A$6:A11)+1,"") -> 6 | B12: =IFERROR(INDEX('10. Свод Перечней'!B:C,MATCH(C12,'10. Свод Перечней'!C:C,0),1),"") -> Кофе 3 в 1 | C12: {=IFERROR(INDEX('10. Свод Перечней'!$C$4:$C$529,SMALL(IF("Б"='10. Свод Перечней'!$I$4:$Q$529,ROW('10. Свод Перечней'!$C$4:$C$529)-3,""),ROW()-6)),"")} -> Кофейный напиток растворимый тип 3 | D12: =IFERROR(VLOOKUP(C12,'10. Свод Перечней'!C:H,2,0),"") -> 10.83.12.120 | E12: =IFERROR(VLOOKUP(C12,'10. Свод Перечней'!C:H,3,0),"") -> 005 | F12: =IFERROR(VLOOKUP(C12,'10. Свод Перечней'!C:H,4,0),"") -> КГ | G12: =IFERROR(VLOOKUP(C12,'10. Свод Перечней'!C:H,5,0),"") -> Вид кофейного напитка: С натуральным кофе без цикория Тип: 3 в 1 Вес: не менее 12 не более 25 Г Упаковка производителя: Наличие Соответствие нормативно-технической документации: Технический регламент Таможенного союза "О безопасности упаковки" от 16.08.2011 ТР ТС № 005/2011, Технический регламент Таможенного союза "О безопасности пищевой продукции" от 09.12.2011 № 021/2011, Технический регламент Таможенного союза "Пищевая продукция в части ее маркировки" от 09.12.2011 № 022/2011, ТУ производителя | H12: =IF(LEN(IFERROR(VLOOKUP(C12,'10. Свод Перечней'!C:H,6,0),""))>1,IFERROR(VLOOKUP(C12,'10. Свод Перечней'!C:H,6,0),""),"") -> 10.83.12.120-00000004
A13: =IF(LEN(C13)>0,MAX($A$6:A12)+1,"") -> 7 | B13: =IFERROR(INDEX('10. Свод Перечней'!B:C,MATCH(C13,'10. Свод Перечней'!C:C,0),1),"") -> Сахар порционный | C13: {=IFERROR(INDEX('10. Свод Перечней'!$C$4:$C$529,SMALL(IF("Б"='10. Свод Перечней'!$I$4:$Q$529,ROW('10. Свод Перечней'!$C$4:$C$529)-3,""),ROW()-6)),"")} -> Сахар белый свекловичный в твердом состоянии без вкусоароматических или красящих добавок тип 4 | D13: =IFERROR(VLOOKUP(C13,'10. Свод Перечней'!C:H,2,0),"") -> 10.81.12.110 | E13: =IFERROR(VLOOKUP(C13,'10. Свод Перечней'!C:H,3,0),"") -> 007 | F13: =IFERROR(VLOOKUP(C13,'10. Свод Перечней'!C:H,4,0),"") -> КГ | G13: =IFERROR(VLOOKUP(C13,'10. Свод Перечней'!C:H,5,0),"") -> Вид сахара белого: Кристаллический Тип: Порционный Вес: 5 Г Особые условия (требования к составу пищевых продуктов): Без искусственных ароматизаторов Индивидуальная упаковка: Наличие Соответствие нормативно-технической документации: Технический регламент Таможенного союза "О безопасности упаковки" от 16.08.2011 ТР ТС № 005/2011, Технический регламент Таможенного союза "О безопасности пищевой продукции" от 09.12.2011 № 021/2011, Технический регламент Таможенного союза "Пищевая продукция в части ее маркировки" от 09.12.2011 № 022/2011, ГОСТ 33222-2015, ТУ производителя | H13: =IF(LEN(IFERROR(VLOOKUP(C13,'10. Свод Перечней'!C:H,6,0),""))>1,IFERROR(VLOOKUP(C13,'10. Свод Перечней'!C:H,6,0),""),"") -> 10.81.12.110-00000004
A14: =IF(LEN(C14)>0,MAX($A$6:A13)+1,"") -> 8 | B14: =IFERROR(INDEX('10. Свод Перечней'!B:C,MATCH(C14,'10. Свод Перечней'!C:C,0),1),"") -> Чай черный байховый | C14: {=IFERROR(INDEX('10. Свод Перечней'!$C$4:$C$529,SMALL(IF("Б"='10. Свод Перечней'!$I$4:$Q$529,ROW('10. Свод Перечней'!$C$4:$C$529)-3,""),ROW()-6)),"")} -> Чай черный (ферментированный) тип 4 | D14: =IFERROR(VLOOKUP(C14,'10. Свод Перечней'!C:H,2,0),"") -> 10.83.13.120 | E14: =IFERROR(VLOOKUP(C14,'10. Свод Перечней'!C:H,3,0),"") -> 006 | F14: =IFERROR(VLOOKUP(C14,'10. Свод Перечней'!C:H,4,0),"") -> КГ | G14: =IFERROR(VLOOKUP(C14,'10. Свод Перечней'!C:H,5,0),"") -> Вид чая черного (ферментированного) по способу обработки листа: Листовой Вид чая: Пакетированный Наличие вкусовых компонентов и/или ароматизаторов: Да; Нет Вес: не более 0,2 КГ Количество пакетиков: не менее 55 не более 100 ШТ Упаковка производителя: Наличие Соответствие нормативно-технической документации: Технический регламент Таможенного союза "О безопасности упаковки" от 16.08.2011 ТР ТС № 005/2011, Технический регламент Таможенного союза "О безопасности пищевой продукции" от 09.12.2011 № 021/2011, Технический регламент Таможенного союза "Пищевая продукция в части ее маркировки" от 09.12.2011 № 022/2011, ГОСТ 32573-2013 | H14: =IF(LEN(IFERROR(VLOOKUP(C14,'10. Свод Перечней'!C:H,6,0),""))>1,IFERROR(VLOOKUP(C14,'10. Свод Перечней'!C:H,6,0),""),"") -> 10.83.13.120-00000003
A15: =IF(LEN(C15)>0,MAX($A$6:A14)+1,"") | B15: =IFERROR(INDEX('10. Свод Перечней'!B:C,MATCH(C15,'10. Свод Перечней'!C:C,0),1),"") | C15: {=IFERROR(INDEX('10. Свод Перечней'!$C$4:$C$529,SMALL(IF("Б"='10. Свод Перечней'!$I$4:$Q$529,ROW('10. Свод Перечней'!$C$4:$C$529)-3,""),ROW()-6)),"")} | D15: =IFERROR(VLOOKUP(C15,'10. Свод Перечней'!C:H,2,0),"") | E15: =IFERROR(VLOOKUP(C15,'10. Свод Перечней'!C:H,3,0),"") | F15: =IFERROR(VLOOKUP(C15,'10. Свод Перечней'!C:H,4,0),"") | G15: =IFERROR(VLOOKUP(C15,'10. Свод Перечней'!C:H,5,0),"") | H15: =IF(LEN(IFERROR(VLOOKUP(C15,'10. Свод Перечней'!C:H,6,0),""))>1,IFERROR(VLOOKUP(C15,'10. Свод Перечней'!C:H,6,0),""),"")
A16: =IF(LEN(C16)>0,MAX($A$6:A15)+1,"") | B16: =IFERROR(INDEX('10. Свод Перечней'!B:C,MATCH(C16,'10. Свод Перечней'!C:C,0),1),"") | C16: {=IFERROR(INDEX('10. Свод Перечней'!$C$4:$C$529,SMALL(IF("Б"='10. Свод Перечней'!$I$4:$Q$529,ROW('10. Свод Перечней'!$C$4:$C$529)-3,""),ROW()-6)),"")} | D16: =IFERROR(VLOOKUP(C16,'10. Свод Перечней'!C:H,2,0),"") | E16: =IFERROR(VLOOKUP(C16,'10. Свод Перечней'!C:H,3,0),"") | F16: =IFERROR(VLOOKUP(C16,'10. Свод Перечней'!C:H,4,0),"") | G16: =IFERROR(VLOOKUP(C16,'10. Свод Перечней'!C:H,5,0),"") | H16: =IF(LEN(IFERROR(VLOOKUP(C16,'10. Свод Перечней'!C:H,6,0),""))>1,IFERROR(VLOOKUP(C16,'10. Свод Перечней'!C:H,6,0),""),"")
A17: =IF(LEN(C17)>0,MAX($A$6:A16)+1,"") | B17: =IFERROR(INDEX('10. Свод Перечней'!B:C,MATCH(C17,'10. Свод Перечней'!C:C,0),1),"") | C17: {=IFERROR(INDEX('10. Свод Перечней'!$C$4:$C$529,SMALL(IF("Б"='10. Свод Перечней'!$I$4:$Q$529,ROW('10. Свод Перечней'!$C$4:$C$529)-3,""),ROW()-6)),"")} | D17: =IFERROR(VLOOKUP(C17,'10. Свод Перечней'!C:H,2,0),"") | E17: =IFERROR(VLOOKUP(C17,'10. Свод Перечней'!C:H,3,0),"") | F17: =IFERROR(VLOOKUP(C17,'10. Свод Перечней'!C:H,4,0),"") | G17: =IFERROR(VLOOKUP(C17,'10. Свод Перечней'!C:H,5,0),"") | H17: =IF(LEN(IFERROR(VLOOKUP(C17,'10. Свод Перечней'!C:H,6,0),""))>1,IFERROR(VLOOKUP(C17,'10. Свод Перечней'!C:H,6,0),""),"")
A18: =IF(LEN(C18)>0,MAX($A$6:A17)+1,"") | B18: =IFERROR(INDEX('10. Свод Перечней'!B:C,MATCH(C18,'10. Свод Перечней'!C:C,0),1),"") | C18: {=IFERROR(INDEX('10. Свод Перечней'!$C$4:$C$529,SMALL(IF("Б"='10. Свод Перечней'!$I$4:$Q$529,ROW('10. Свод Перечней'!$C$4:$C$529)-3,""),ROW()-6)),"")} | D18: =IFERROR(VLOOKUP(C18,'10. Свод Перечней'!C:H,2,0),"") | E18: =IFERROR(VLOOKUP(C18,'10. Свод Перечней'!C:H,3,0),"") | F18: =IFERROR(VLOOKUP(C18,'10. Свод Перечней'!C:H,4,0),"") | G18: =IFERROR(VLOOKUP(C18,'10. Свод Перечней'!C:H,5,0),"") | H18: =IF(LEN(IFERROR(VLOOKUP(C18,'10. Свод Перечней'!C:H,6,0),""))>1,IFERROR(VLOOKUP(C18,'10. Свод Перечней'!C:H,6,0),""),"")
A19: =IF(LEN(C19)>0,MAX($A$6:A18)+1,"") | B19: =IFERROR(INDEX('10. Свод Перечней'!B:C,MATCH(C19,'10. Свод Перечней'!C:C,0),1),"") | C19: {=IFERROR(INDEX('10. Свод Перечней'!$C$4:$C$529,SMALL(IF("Б"='10. Свод Перечней'!$I$4:$Q$529,ROW('10. Свод Перечней'!$C$4:$C$529)-3,""),ROW()-6)),"")} | D19: =IFERROR(VLOOKUP(C19,'10. Свод Перечней'!C:H,2,0),"") | E19: =IFERROR(VLOOKUP(C19,'10. Свод Перечней'!C:H,3,0),"") | F19: =IFERROR(VLOOKUP(C19,'10. Свод Перечней'!C:H,4,0),"") | G19: =IFERROR(VLOOKUP(C19,'10. Свод Перечней'!C:H,5,0),"") | H19: =IF(LEN(IFERROR(VLOOKUP(C19,'10. Свод Перечней'!C:H,6,0),""))>1,IFERROR(VLOOKUP(C19,'10. Свод Перечней'!C:H,6,0),""),"")
... A28: =IF(LEN(C28)>0,MAX($A$6:A27)+1,"") | B28: =IFERROR(INDEX('10. Свод Перечней'!B:C,MATCH(C28,'10. Свод Перечней'!C:C,0),1),"") | C28: {=IFERROR(INDEX('10. Свод Перечней'!$C$4:$C$529,SMALL(IF("Б"='10. Свод Перечней'!$I$4:$Q$529,ROW('10. Свод Перечней'!$C$4:$C$529)-3,""),ROW()-6)),"")} | D28: =IFERROR(VLOOKUP(C28,'10. Свод Перечней'!C:H,2,0),"") | E28: =IFERROR(VLOOKUP(C28,'10. Свод Перечней'!C:H,3,0),"") | F28: =IFERROR(VLOOKUP(C28,'10. Свод Перечней'!C:H,4,0),"") | G28: =IFERROR(VLOOKUP(C28,'10. Свод Перечней'!C:H,5,0),"") | H28: =IF(LEN(IFERROR(VLOOKUP(C28,'10. Свод Перечней'!C:H,6,0),""))>1,IFERROR(VLOOKUP(C28,'10. Свод Перечней'!C:H,6,0),""),"")
A29: =IF(LEN(C29)>0,MAX($A$6:A28)+1,"") | B29: =IFERROR(INDEX('10. Свод Перечней'!B:C,MATCH(C29,'10. Свод Перечней'!C:C,0),1),"") | C29: {=IFERROR(INDEX('10. Свод Перечней'!$C$4:$C$529,SMALL(IF("Б"='10. Свод Перечней'!I26:Q530,ROW('10. Свод Перечней'!C26:C530)-3,""),ROW()-6)),"")} | D29: =IFERROR(VLOOKUP(C29,'10. Свод Перечней'!C:H,2,0),"") | E29: =IFERROR(VLOOKUP(C29,'10. Свод Перечней'!C:H,3,0),"") | F29: =IFERROR(VLOOKUP(C29,'10. Свод Перечней'!C:H,4,0),"") | G29: =IFERROR(VLOOKUP(C29,'10. Свод Перечней'!C:H,5,0),"") | H29: =IFERROR(VLOOKUP(C29,'10. Свод Перечней'!C:H,6,0),"")
A30: =IF(LEN(C30)>0,MAX($A$6:A29)+1,"") | B30: =IFERROR(INDEX('10. Свод Перечней'!B:C,MATCH(C30,'10. Свод Перечней'!C:C,0),1),"") | C30: {=IFERROR(INDEX('10. Свод Перечней'!$C$4:$C$529,SMALL(IF("Б"='10. Свод Перечней'!I27:Q531,ROW('10. Свод Перечней'!C27:C531)-3,""),ROW()-6)),"")} | D30: =IFERROR(VLOOKUP(C30,'10. Свод Перечней'!C:H,2,0),"") | E30: =IFERROR(VLOOKUP(C30,'10. Свод Перечней'!C:H,3,0),"") | F30: =IFERROR(VLOOKUP(C30,'10. Свод Перечней'!C:H,4,0),"") | G30: =IFERROR(VLOOKUP(C30,'10. Свод Перечней'!C:H,5,0),"") | H30: =IFERROR(VLOOKUP(C30,'10. Свод Перечней'!C:H,6,0),"")
A31: =IF(LEN(C31)>0,MAX($A$6:A30)+1,"") | B31: =IFERROR(INDEX('10. Свод Перечней'!B:C,MATCH(C31,'10. Свод Перечней'!C:C,0),1),"") | C31: {=IFERROR(INDEX('10. Свод Перечней'!$C$4:$C$529,SMALL(IF("Б"='10. Свод Перечней'!I28:Q532,ROW('10. Свод Перечней'!C28:C532)-3,""),ROW()-6)),"")} | D31: =IFERROR(VLOOKUP(C31,'10. Свод Перечней'!C:H,2,0),"") | E31: =IFERROR(VLOOKUP(C31,'10. Свод Перечней'!C:H,3,0),"") | F31: =IFERROR(VLOOKUP(C31,'10. Свод Перечней'!C:H,4,0),"") | G31: =IFERROR(VLOOKUP(C31,'10. Свод Перечней'!C:H,5,0),"") | H31: =IFERROR(VLOOKUP(C31,'10. Свод Перечней'!C:H,6,0),"")
A32: =IF(LEN(C32)>0,MAX($A$6:A31)+1,"") | B32: =IFERROR(INDEX('10. Свод Перечней'!B:C,MATCH(C32,'10. Свод Перечней'!C:C,0),1),"") | C32: {=IFERROR(INDEX('10. Свод Перечней'!$C$4:$C$529,SMALL(IF("Б"='10. Свод Перечней'!I29:Q533,ROW('10. Свод Перечней'!C29:C533)-3,""),ROW()-6)),"")} | D32: =IFERROR(VLOOKUP(C32,'10. Свод Перечней'!C:H,2,0),"") | E32: =IFERROR(VLOOKUP(C32,'10. Свод Перечней'!C:H,3,0),"") | F32: =IFERROR(VLOOKUP(C32,'10. Свод Перечней'!C:H,4,0),"") | G32: =IFERROR(VLOOKUP(C32,'10. Свод Перечней'!C:H,5,0),"") | H32: =IFERROR(VLOOKUP(C32,'10. Свод Перечней'!C:H,6,0),"")
A33: =IF(LEN(C33)>0,MAX($A$6:A32)+1,"") | B33: =IFERROR(INDEX('10. Свод Перечней'!B:C,MATCH(C33,'10. Свод Перечней'!C:C,0),1),"") | C33: {=IFERROR(INDEX('10. Свод Перечней'!$C$4:$C$529,SMALL(IF("Б"='10. Свод Перечней'!I30:Q534,ROW('10. Свод Перечней'!C30:C534)-3,""),ROW()-6)),"")} | D33: =IFERROR(VLOOKUP(C33,'10. Свод Перечней'!C:H,2,0),"") | E33: =IFERROR(VLOOKUP(C33,'10. Свод Перечней'!C:H,3,0),"") | F33: =IFERROR(VLOOKUP(C33,'10. Свод Перечней'!C:H,4,0),"") | G33: =IFERROR(VLOOKUP(C33,'10. Свод Перечней'!C:H,5,0),"") | H33: =IFERROR(VLOOKUP(C33,'10. Свод Перечней'!C:H,6,0),"")
A34: =IF(LEN(C34)>0,MAX($A$6:A33)+1,"") | B34: =IFERROR(INDEX('10. Свод Перечней'!B:C,MATCH(C34,'10. Свод Перечней'!C:C,0),1),"") | C34: {=IFERROR(INDEX('10. Свод Перечней'!$C$4:$C$529,SMALL(IF("Б"='10. Свод Перечней'!I31:Q535,ROW('10. Свод Перечней'!C31:C535)-3,""),ROW()-6)),"")} | D34: =IFERROR(VLOOKUP(C34,'10. Свод Перечней'!C:H,2,0),"") | E34: =IFERROR(VLOOKUP(C34,'10. Свод Перечней'!C:H,3,0),"") | F34: =IFERROR(VLOOKUP(C34,'10. Свод Перечней'!C:H,4,0),"") | G34: =IFERROR(VLOOKUP(C34,'10. Свод Перечней'!C:H,5,0),"") | H34: =IFERROR(VLOOKUP(C34,'10. Свод Перечней'!C:H,6,0),"")
A35: =IF(LEN(C35)>0,MAX($A$6:A34)+1,"") | B35: =IFERROR(INDEX('10. Свод Перечней'!B:C,MATCH(C35,'10. Свод Перечней'!C:C,0),1),"") | C35: {=IFERROR(INDEX('10. Свод Перечней'!$C$4:$C$529,SMALL(IF("Б"='10. Свод Перечней'!I32:Q536,ROW('10. Свод Перечней'!C32:C536)-3,""),ROW()-6)),"")} | D35: =IFERROR(VLOOKUP(C35,'10. Свод Перечней'!C:H,2,0),"") | E35: =IFERROR(VLOOKUP(C35,'10. Свод Перечней'!C:H,3,0),"") | F35: =IFERROR(VLOOKUP(C35,'10. Свод Перечней'!C:H,4,0),"") | G35: =IFERROR(VLOOKUP(C35,'10. Свод Перечней'!C:H,5,0),"") | H35: =IFERROR(VLOOKUP(C35,'10. Свод Перечней'!C:H,6,0),"")
A36: =IF(LEN(C36)>0,MAX($A$6:A35)+1,"") | B36: =IFERROR(INDEX('10. Свод Перечней'!B:C,MATCH(C36,'10. Свод Перечней'!C:C,0),1),"") | C36: {=IFERROR(INDEX('10. Свод Перечней'!$C$4:$C$529,SMALL(IF("Б"='10. Свод Перечней'!I33:Q537,ROW('10. Свод Перечней'!C33:C537)-3,""),ROW()-6)),"")} | D36: =IFERROR(VLOOKUP(C36,'10. Свод Перечней'!C:H,2,0),"") | E36: =IFERROR(VLOOKUP(C36,'10. Свод Перечней'!C:H,3,0),"") | F36: =IFERROR(VLOOKUP(C36,'10. Свод Перечней'!C:H,4,0),"") | G36: =IFERROR(VLOOKUP(C36,'10. Свод Перечней'!C:H,5,0),"") | H36: =IFERROR(VLOOKUP(C36,'10. Свод Перечней'!C:H,6,0),"")
A37: =IF(LEN(C37)>0,MAX($A$6:A36)+1,"") | B37: =IFERROR(INDEX('10. Свод Перечней'!B:C,MATCH(C37,'10. Свод Перечней'!C:C,0),1),"") | C37: {=IFERROR(INDEX('10. Свод Перечней'!$C$4:$C$529,SMALL(IF("Б"='10. Свод Перечней'!I34:Q538,ROW('10. Свод Перечней'!C34:C538)-3,""),ROW()-6)),"")} | D37: =IFERROR(VLOOKUP(C37,'10. Свод Перечней'!C:H,2,0),"") | E37: =IFERROR(VLOOKUP(C37,'10. Свод Перечней'!C:H,3,0),"") | F37: =IFERROR(VLOOKUP(C37,'10. Свод Перечней'!C:H,4,0),"") | G37: =IFERROR(VLOOKUP(C37,'10. Свод Перечней'!C:H,5,0),"") | H37: =IFERROR(VLOOKUP(C37,'10. Свод Перечней'!C:H,6,0),"")
A38: =IF(LEN(C38)>0,MAX($A$6:A37)+1,"") | B38: =IFERROR(INDEX('10. Свод Перечней'!B:C,MATCH(C38,'10. Свод Перечней'!C:C,0),1),"") | C38: {=IFERROR(INDEX('10. Свод Перечней'!$C$4:$C$529,SMALL(IF("Б"='10. Свод Перечней'!I35:Q539,ROW('10. Свод Перечней'!C35:C539)-3,""),ROW()-6)),"")} | D38: =IFERROR(VLOOKUP(C38,'10. Свод Перечней'!C:H,2,0),"") | E38: =IFERROR(VLOOKUP(C38,'10. Свод Перечней'!C:H,3,0),"") | F38: =IFERROR(VLOOKUP(C38,'10. Свод Перечней'!C:H,4,0),"") | G38: =IFERROR(VLOOKUP(C38,'10. Свод Перечней'!C:H,5,0),"") | H38: =IFERROR(VLOOKUP(C38,'10. Свод Перечней'!C:H,6,0),"")
A39: =IF(LEN(C39)>0,MAX($A$6:A38)+1,"") | B39: =IFERROR(INDEX('10. Свод Перечней'!B:C,MATCH(C39,'10. Свод Перечней'!C:C,0),1),"") | C39: {=IFERROR(INDEX('10. Свод Перечней'!$C$4:$C$529,SMALL(IF("Б"='10. Свод Перечней'!I36:Q540,ROW('10. Свод Перечней'!C36:C540)-3,""),ROW()-6)),"")} | D39: =IFERROR(VLOOKUP(C39,'10. Свод Перечней'!C:H,2,0),"") | E39: =IFERROR(VLOOKUP(C39,'10. Свод Перечней'!C:H,3,0),"") | F39: =IFERROR(VLOOKUP(C39,'10. Свод Перечней'!C:H,4,0),"") | G39: =IFERROR(VLOOKUP(C39,'10. Свод Перечней'!C:H,5,0),"") | H39: =IFERROR(VLOOKUP(C39,'10. Свод Перечней'!C:H,6,0),"")
A40: =IF(LEN(C40)>0,MAX($A$6:A39)+1,"") | B40: =IFERROR(INDEX('10. Свод Перечней'!B:C,MATCH(C40,'10. Свод Перечней'!C:C,0),1),"") | C40: {=IFERROR(INDEX('10. Свод Перечней'!$C$4:$C$529,SMALL(IF("Б"='10. Свод Перечней'!I37:Q541,ROW('10. Свод Перечней'!C37:C541)-3,""),ROW()-6)),"")} | D40: =IFERROR(VLOOKUP(C40,'10. Свод Перечней'!C:H,2,0),"") | E40: =IFERROR(VLOOKUP(C40,'10. Свод Перечней'!C:H,3,0),"") | F40: =IFERROR(VLOOKUP(C40,'10. Свод Перечней'!C:H,4,0),"") | G40: =IFERROR(VLOOKUP(C40,'10. Свод Перечней'!C:H,5,0),"") | H40: =IFERROR(VLOOKUP(C40,'10. Свод Перечней'!C:H,6,0),"")
... A268: =IF(LEN(C268)>0,MAX($A$6:A267)+1,"") | B268: =IFERROR(INDEX('10. Свод Перечней'!B:C,MATCH(C268,'10. Свод Перечней'!C:C,0),1),"") | C268: {=IFERROR(INDEX('10. Свод Перечней'!$C$4:$C$529,SMALL(IF("Б"='10. Свод Перечней'!I265:Q769,ROW('10. Свод Перечней'!C265:C769)-3,""),ROW()-6)),"")} | D268: =IFERROR(VLOOKUP(C268,'10. Свод Перечней'!C:H,2,0),"") | E268: =IFERROR(VLOOKUP(C268,'10. Свод Перечней'!C:H,3,0),"") | F268: =IFERROR(VLOOKUP(C268,'10. Свод Перечней'!C:H,4,0),"") | G268: =IFERROR(VLOOKUP(C268,'10. Свод Перечней'!C:H,5,0),"") | H268: =IFERROR(VLOOKUP(C268,'10. Свод Перечней'!C:H,6,0),"")
A269: =IF(LEN(C269)>0,MAX($A$6:A268)+1,"") | B269: =IFERROR(INDEX('10. Свод Перечней'!B:C,MATCH(C269,'10. Свод Перечней'!C:C,0),1),"") | C269: {=IFERROR(INDEX('10. Свод Перечней'!$C$4:$C$529,SMALL(IF("Б"='10. Свод Перечней'!I267:Q770,ROW('10. Свод Перечней'!C267:C770)-3,""),ROW()-6)),"")} | D269: =IFERROR(VLOOKUP(C269,'10. Свод Перечней'!C:H,2,0),"") | E269: =IFERROR(VLOOKUP(C269,'10. Свод Перечней'!C:H,3,0),"") | F269: =IFERROR(VLOOKUP(C269,'10. Свод Перечней'!C:H,4,0),"") | G269: =IFERROR(VLOOKUP(C269,'10. Свод Перечней'!C:H,5,0),"") | H269: =IFERROR(VLOOKUP(C269,'10. Свод Перечней'!C:H,6,0),"")
A270: =IF(LEN(C270)>0,MAX($A$6:A269)+1,"") | B270: =IFERROR(INDEX('10. Свод Перечней'!B:C,MATCH(C270,'10. Свод Перечней'!C:C,0),1),"") | C270: {=IFERROR(INDEX('10. Свод Перечней'!$C$4:$C$529,SMALL(IF("Б"='10. Свод Перечней'!I269:Q771,ROW('10. Свод Перечней'!C269:C771)-3,""),ROW()-6)),"")} | D270: =IFERROR(VLOOKUP(C270,'10. Свод Перечней'!C:H,2,0),"") | E270: =IFERROR(VLOOKUP(C270,'10. Свод Перечней'!C:H,3,0),"") | F270: =IFERROR(VLOOKUP(C270,'10. Свод Перечней'!C:H,4,0),"") | G270: =IFERROR(VLOOKUP(C270,'10. Свод Перечней'!C:H,5,0),"") | H270: =IFERROR(VLOOKUP(C270,'10. Свод Перечней'!C:H,6,0),"")
A271: =IF(LEN(C271)>0,MAX($A$6:A270)+1,"") | B271: =IFERROR(INDEX('10. Свод Перечней'!B:C,MATCH(C271,'10. Свод Перечней'!C:C,0),1),"") | C271: {=IFERROR(INDEX('10. Свод Перечней'!$C$4:$C$529,SMALL(IF("Б"='10. Свод Перечней'!I271:Q772,ROW('10. Свод Перечней'!C271:C772)-3,""),ROW()-6)),"")} | D271: =IFERROR(VLOOKUP(C271,'10. Свод Перечней'!C:H,2,0),"") | E271: =IFERROR(VLOOKUP(C271,'10. Свод Перечней'!C:H,3,0),"") | F271: =IFERROR(VLOOKUP(C271,'10. Свод Перечней'!C:H,4,0),"") | G271: =IFERROR(VLOOKUP(C271,'10. Свод Перечней'!C:H,5,0),"") | H271: =IFERROR(VLOOKUP(C271,'10. Свод Перечней'!C:H,6,0),"")
A272: =IF(LEN(C272)>0,MAX($A$6:A271)+1,"") | B272: =IFERROR(INDEX('10. Свод Перечней'!B:C,MATCH(C272,'10. Свод Перечней'!C:C,0),1),"") | C272: {=IFERROR(INDEX('10. Свод Перечней'!$C$4:$C$529,SMALL(IF("Б"='10. Свод Перечней'!I273:Q773,ROW('10. Свод Перечней'!C273:C773)-3,""),ROW()-6)),"")} | D272: =IFERROR(VLOOKUP(C272,'10. Свод Перечней'!C:H,2,0),"") | E272: =IFERROR(VLOOKUP(C272,'10. Свод Перечней'!C:H,3,0),"") | F272: =IFERROR(VLOOKUP(C272,'10. Свод Перечней'!C:H,4,0),"") | G272: =IFERROR(VLOOKUP(C272,'10. Свод Перечней'!C:H,5,0),"") | H272: =IFERROR(VLOOKUP(C272,'10. Свод Перечней'!C:H,6,0),"")
A273: =IF(LEN(C273)>0,MAX($A$6:A272)+1,"") | B273: =IFERROR(INDEX('10. Свод Перечней'!B:C,MATCH(C273,'10. Свод Перечней'!C:C,0),1),"") | C273: {=IFERROR(INDEX('10. Свод Перечней'!$C$4:$C$529,SMALL(IF("Б"='10. Свод Перечней'!I275:Q774,ROW('10. Свод Перечней'!C275:C774)-3,""),ROW()-6)),"")} | D273: =IFERROR(VLOOKUP(C273,'10. Свод Перечней'!C:H,2,0),"") | E273: =IFERROR(VLOOKUP(C273,'10. Свод Перечней'!C:H,3,0),"") | F273: =IFERROR(VLOOKUP(C273,'10. Свод Перечней'!C:H,4,0),"") | G273: =IFERROR(VLOOKUP(C273,'10. Свод Перечней'!C:H,5,0),"") | H273: =IFERROR(VLOOKUP(C273,'10. Свод Перечней'!C:H,6,0),"")
A274: =IF(LEN(C274)>0,MAX($A$6:A273)+1,"") | B274: =IFERROR(INDEX('10. Свод Перечней'!B:C,MATCH(C274,'10. Свод Перечней'!C:C,0),1),"") | C274: {=IFERROR(INDEX('10. Свод Перечней'!$C$4:$C$529,SMALL(IF("Б"='10. Свод Перечней'!I277:Q775,ROW('10. Свод Перечней'!C277:C775)-3,""),ROW()-6)),"")} | D274: =IFERROR(VLOOKUP(C274,'10. Свод Перечней'!C:H,2,0),"") | E274: =IFERROR(VLOOKUP(C274,'10. Свод Перечней'!C:H,3,0),"") | F274: =IFERROR(VLOOKUP(C274,'10. Свод Перечней'!C:H,4,0),"") | G274: =IFERROR(VLOOKUP(C274,'10. Свод Перечней'!C:H,5,0),"") | H274: =IFERROR(VLOOKUP(C274,'10. Свод Перечней'!C:H,6,0),"")
A275: =IF(LEN(C275)>0,MAX($A$6:A274)+1,"") | B275: =IFERROR(INDEX('10. Свод Перечней'!B:C,MATCH(C275,'10. Свод Перечней'!C:C,0),1),"") | C275: {=IFERROR(INDEX('10. Свод Перечней'!$C$4:$C$529,SMALL(IF("Б"='10. Свод Перечней'!I279:Q776,ROW('10. Свод Перечней'!C279:C776)-3,""),ROW()-6)),"")} | D275: =IFERROR(VLOOKUP(C275,'10. Свод Перечней'!C:H,2,0),"") | E275: =IFERROR(VLOOKUP(C275,'10. Свод Перечней'!C:H,3,0),"") | F275: =IFERROR(VLOOKUP(C275,'10. Свод Перечней'!C:H,4,0),"") | G275: =IFERROR(VLOOKUP(C275,'10. Свод Перечней'!C:H,5,0),"") | H275: =IFERROR(VLOOKUP(C275,'10. Свод Перечней'!C:H,6,0),"")
A276: =IF(LEN(C276)>0,MAX($A$6:A275)+1,"") | B276: =IFERROR(INDEX('10. Свод Перечней'!B:C,MATCH(C276,'10. Свод Перечней'!C:C,0),1),"") | C276: {=IFERROR(INDEX('10. Свод Перечней'!$C$4:$C$529,SMALL(IF("Б"='10. Свод Перечней'!I280:Q777,ROW('10. Свод Перечней'!C280:C777)-3,""),ROW()-6)),"")} | D276: =IFERROR(VLOOKUP(C276,'10. Свод Перечней'!C:H,2,0),"") | E276: =IFERROR(VLOOKUP(C276,'10. Свод Перечней'!C:H,3,0),"") | F276: =IFERROR(VLOOKUP(C276,'10. Свод Перечней'!C:H,4,0),"") | G276: =IFERROR(VLOOKUP(C276,'10. Свод Перечней'!C:H,5,0),"") | H276: =IFERROR(VLOOKUP(C276,'10. Свод Перечней'!C:H,6,0),"")
A277: =IF(LEN(C277)>0,MAX($A$6:A276)+1,"") | B277: =IFERROR(INDEX('10. Свод Перечней'!B:C,MATCH(C277,'10. Свод Перечней'!C:C,0),1),"") | C277: {=IFERROR(INDEX('10. Свод Перечней'!$C$4:$C$529,SMALL(IF("Б"='10. Свод Перечней'!I281:Q778,ROW('10. Свод Перечней'!C281:C778)-3,""),ROW()-6)),"")} | D277: =IFERROR(VLOOKUP(C277,'10. Свод Перечней'!C:H,2,0),"") | E277: =IFERROR(VLOOKUP(C277,'10. Свод Перечней'!C:H,3,0),"") | F277: =IFERROR(VLOOKUP(C277,'10. Свод Перечней'!C:H,4,0),"") | G277: =IFERROR(VLOOKUP(C277,'10. Свод Перечней'!C:H,5,0),"") | H277: =IFERROR(VLOOKUP(C277,'10. Свод Перечней'!C:H,6,0),"")
A278: =IF(LEN(C278)>0,MAX($A$6:A277)+1,"") | B278: =IFERROR(INDEX('10. Свод Перечней'!B:C,MATCH(C278,'10. Свод Перечней'!C:C,0),1),"") | C278: {=IFERROR(INDEX('10. Свод Перечней'!$C$4:$C$529,SMALL(IF("Б"='10. Свод Перечней'!I282:Q779,ROW('10. Свод Перечней'!C282:C779)-3,""),ROW()-6)),"")} | D278: =IFERROR(VLOOKUP(C278,'10. Свод Перечней'!C:H,2,0),"") | E278: =IFERROR(VLOOKUP(C278,'10. Свод Перечней'!C:H,3,0),"") | F278: =IFERROR(VLOOKUP(C278,'10. Свод Перечней'!C:H,4,0),"") | G278: =IFERROR(VLOOKUP(C278,'10. Свод Перечней'!C:H,5,0),"") | H278: =IFERROR(VLOOKUP(C278,'10. Свод Перечней'!C:H,6,0),"")
A279: =IF(LEN(C279)>0,MAX($A$6:A278)+1,"") | B279: =IFERROR(INDEX('10. Свод Перечней'!B:C,MATCH(C279,'10. Свод Перечней'!C:C,0),1),"") | C279: {=IFERROR(INDEX('10. Свод Перечней'!$C$4:$C$529,SMALL(IF("Б"='10. Свод Перечней'!I283:Q780,ROW('10. Свод Перечней'!C283:C780)-3,""),ROW()-6)),"")} | D279: =IFERROR(VLOOKUP(C279,'10. Свод Перечней'!C:H,2,0),"") | E279: =IFERROR(VLOOKUP(C279,'10. Свод Перечней'!C:H,3,0),"") | F279: =IFERROR(VLOOKUP(C279,'10. Свод Перечней'!C:H,4,0),"") | G279: =IFERROR(VLOOKUP(C279,'10. Свод Перечней'!C:H,5,0),"") | H279: =IFERROR(VLOOKUP(C279,'10. Свод Перечней'!C:H,6,0),"")
A280: =IF(LEN(C280)>0,MAX($A$6:A279)+1,"") | B280: =IFERROR(INDEX('10. Свод Перечней'!B:C,MATCH(C280,'10. Свод Перечней'!C:C,0),1),"") | C280: {=IFERROR(INDEX('10. Свод Перечней'!$C$4:$C$529,SMALL(IF("Б"='10. Свод Перечней'!I284:Q781,ROW('10. Свод Перечней'!C284:C781)-3,""),ROW()-6)),"")} | D280: =IFERROR(VLOOKUP(C280,'10. Свод Перечней'!C:H,2,0),"") | E280: =IFERROR(VLOOKUP(C280,'10. Свод Перечней'!C:H,3,0),"") | F280: =IFERROR(VLOOKUP(C280,'10. Свод Перечней'!C:H,4,0),"") | G280: =IFERROR(VLOOKUP(C280,'10. Свод Перечней'!C:H,5,0),"") | H280: =IFERROR(VLOOKUP(C280,'10. Свод Перечней'!C:H,6,0),"")
A281: =IF(LEN(C281)>0,MAX($A$6:A280)+1,"") | B281: =IFERROR(INDEX('10. Свод Перечней'!B:C,MATCH(C281,'10. Свод Перечней'!C:C,0),1),"") | C281: {=IFERROR(INDEX('10. Свод Перечней'!$C$4:$C$529,SMALL(IF("Б"='10. Свод Перечней'!I285:Q782,ROW('10. Свод Перечней'!C285:C782)-3,""),ROW()-6)),"")} | D281: =IFERROR(VLOOKUP(C281,'10. Свод Перечней'!C:H,2,0),"") | E281: =IFERROR(VLOOKUP(C281,'10. Свод Перечней'!C:H,3,0),"") | F281: =IFERROR(VLOOKUP(C281,'10. Свод Перечней'!C:H,4,0),"") | G281: =IFERROR(VLOOKUP(C281,'10. Свод Перечней'!C:H,5,0),"") | H281: =IFERROR(VLOOKUP(C281,'10. Свод Перечней'!C:H,6,0),"")
A282: =IF(LEN(C282)>0,MAX($A$6:A281)+1,"") | B282: =IFERROR(INDEX('10. Свод Перечней'!B:C,MATCH(C282,'10. Свод Перечней'!C:C,0),1),"") | C282: {=IFERROR(INDEX('10. Свод Перечней'!$C$4:$C$529,SMALL(IF("Б"='10. Свод Перечней'!I286:Q783,ROW('10. Свод Перечней'!C286:C783)-3,""),ROW()-6)),"")} | D282: =IFERROR(VLOOKUP(C282,'10. Свод Перечней'!C:H,2,0),"") | E282: =IFERROR(VLOOKUP(C282,'10. Свод Перечней'!C:H,3,0),"") | F282: =IFERROR(VLOOKUP(C282,'10. Свод Перечней'!C:H,4,0),"") | G282: =IFERROR(VLOOKUP(C282,'10. Свод Перечней'!C:H,5,0),"") | H282: =IFERROR(VLOOKUP(C282,'10. Свод Перечней'!C:H,6,0),"")
A283: =IF(LEN(C283)>0,MAX($A$6:A282)+1,"") | B283: =IFERROR(INDEX('10. Свод Перечней'!B:C,MATCH(C283,'10. Свод Перечней'!C:C,0),1),"") | C283: {=IFERROR(INDEX('10. Свод Перечней'!$C$4:$C$529,SMALL(IF("Б"='10. Свод Перечней'!I287:Q784,ROW('10. Свод Перечней'!C287:C784)-3,""),ROW()-6)),"")} | D283: =IFERROR(VLOOKUP(C283,'10. Свод Перечней'!C:H,2,0),"") | E283: =IFERROR(VLOOKUP(C283,'10. Свод Перечней'!C:H,3,0),"") | F283: =IFERROR(VLOOKUP(C283,'10. Свод Перечней'!C:H,4,0),"") | G283: =IFERROR(VLOOKUP(C283,'10. Свод Перечней'!C:H,5,0),"") | H283: =IFERROR(VLOOKUP(C283,'10. Свод Перечней'!C:H,6,0),"")
A284: =IF(LEN(C284)>0,MAX($A$6:A283)+1,"") | B284: =IFERROR(INDEX('10. Свод Перечней'!B:C,MATCH(C284,'10. Свод Перечней'!C:C,0),1),"") | C284: {=IFERROR(INDEX('10. Свод Перечней'!$C$4:$C$529,SMALL(IF("Б"='10. Свод Перечней'!I288:Q785,ROW('10. Свод Перечней'!C288:C785)-3,""),ROW()-6)),"")} | D284: =IFERROR(VLOOKUP(C284,'10. Свод Перечней'!C:H,2,0),"") | E284: =IFERROR(VLOOKUP(C284,'10. Свод Перечней'!C:H,3,0),"") | F284: =IFERROR(VLOOKUP(C284,'10. Свод Перечней'!C:H,4,0),"") | G284: =IFERROR(VLOOKUP(C284,'10. Свод Перечней'!C:H,5,0),"") | H284: =IFERROR(VLOOKUP(C284,'10. Свод Перечней'!C:H,6,0),"")
A285: =IF(LEN(C285)>0,MAX($A$6:A284)+1,"") | B285: =IFERROR(INDEX('10. Свод Перечней'!B:C,MATCH(C285,'10. Свод Перечней'!C:C,0),1),"") | C285: {=IFERROR(INDEX('10. Свод Перечней'!$C$4:$C$529,SMALL(IF("Б"='10. Свод Перечней'!I289:Q786,ROW('10. Свод Перечней'!C289:C786)-3,""),ROW()-6)),"")} | D285: =IFERROR(VLOOKUP(C285,'10. Свод Перечней'!C:H,2,0),"") | E285: =IFERROR(VLOOKUP(C285,'10. Свод Перечней'!C:H,3,0),"") | F285: =IFERROR(VLOOKUP(C285,'10. Свод Перечней'!C:H,4,0),"") | G285: =IFERROR(VLOOKUP(C285,'10. Свод Перечней'!C:H,5,0),"") | H285: =IFERROR(VLOOKUP(C285,'10. Свод Перечней'!C:H,6,0),"")
A286: =IF(LEN(C286)>0,MAX($A$6:A285)+1,"") | B286: =IFERROR(INDEX('10. Свод Перечней'!B:C,MATCH(C286,'10. Свод Перечней'!C:C,0),1),"") | C286: {=IFERROR(INDEX('10. Свод Перечней'!$C$4:$C$529,SMALL(IF("Б"='10. Свод Перечней'!I290:Q787,ROW('10. Свод Перечней'!C290:C787)-3,""),ROW()-6)),"")} | D286: =IFERROR(VLOOKUP(C286,'10. Свод Перечней'!C:H,2,0),"") | E286: =IFERROR(VLOOKUP(C286,'10. Свод Перечней'!C:H,3,0),"") | F286: =IFERROR(VLOOKUP(C286,'10. Свод Перечней'!C:H,4,0),"") | G286: =IFERROR(VLOOKUP(C286,'10. Свод Перечней'!C:H,5,0),"") | H286: =IFERROR(VLOOKUP(C286,'10. Свод Перечней'!C:H,6,0),"")
... A436: =IF(LEN(C436)>0,MAX($A$6:A435)+1,"") | B436: =IFERROR(INDEX('10. Свод Перечней'!B:C,MATCH(C436,'10. Свод Перечней'!C:C,0),1),"") | C436: {=IFERROR(INDEX('10. Свод Перечней'!$C$4:$C$529,SMALL(IF("Б"='10. Свод Перечней'!I440:Q937,ROW('10. Свод Перечней'!C440:C937)-3,""),ROW()-6)),"")} | D436: =IFERROR(VLOOKUP(C436,'10. Свод Перечней'!C:H,2,0),"") | E436: =IFERROR(VLOOKUP(C436,'10. Свод Перечней'!C:H,3,0),"") | F436: =IFERROR(VLOOKUP(C436,'10. Свод Перечней'!C:H,4,0),"") | G436: =IFERROR(VLOOKUP(C436,'10. Свод Перечней'!C:H,5,0),"") | H436: =IFERROR(VLOOKUP(C436,'10. Свод Перечней'!C:H,6,0),"")
A437: =IF(LEN(C437)>0,MAX($A$6:A436)+1,"") | B437: =IFERROR(INDEX('10. Свод Перечней'!B:C,MATCH(C437,'10. Свод Перечней'!C:C,0),1),"") | C437: {=IFERROR(INDEX('10. Свод Перечней'!$C$4:$C$529,SMALL(IF("Б"='10. Свод Перечней'!I440:Q938,ROW('10. Свод Перечней'!C440:C938)-3,""),ROW()-6)),"")} | D437: =IFERROR(VLOOKUP(C437,'10. Свод Перечней'!C:H,2,0),"") | E437: =IFERROR(VLOOKUP(C437,'10. Свод Перечней'!C:H,3,0),"") | F437: =IFERROR(VLOOKUP(C437,'10. Свод Перечней'!C:H,4,0),"") | G437: =IFERROR(VLOOKUP(C437,'10. Свод Перечней'!C:H,5,0),"") | H437: =IFERROR(VLOOKUP(C437,'10. Свод Перечней'!C:H,6,0),"")
A438: =IF(LEN(C438)>0,MAX($A$6:A437)+1,"") | B438: =IFERROR(INDEX('10. Свод Перечней'!B:C,MATCH(C438,'10. Свод Перечней'!C:C,0),1),"") | C438: {=IFERROR(INDEX('10. Свод Перечней'!$C$4:$C$529,SMALL(IF("Б"='10. Свод Перечней'!I441:Q939,ROW('10. Свод Перечней'!C441:C939)-3,""),ROW()-6)),"")} | D438: =IFERROR(VLOOKUP(C438,'10. Свод Перечней'!C:H,2,0),"") | E438: =IFERROR(VLOOKUP(C438,'10. Свод Перечней'!C:H,3,0),"") | F438: =IFERROR(VLOOKUP(C438,'10. Свод Перечней'!C:H,4,0),"") | G438: =IFERROR(VLOOKUP(C438,'10. Свод Перечней'!C:H,5,0),"") | H438: =IFERROR(VLOOKUP(C438,'10. Свод Перечней'!C:H,6,0),"")
A439: =IF(LEN(C439)>0,MAX($A$6:A438)+1,"") | B439: =IFERROR(INDEX('10. Свод Перечней'!B:C,MATCH(C439,'10. Свод Перечней'!C:C,0),1),"") | C439: {=IFERROR(INDEX('10. Свод Перечней'!$C$4:$C$529,SMALL(IF("Б"='10. Свод Перечней'!I442:Q940,ROW('10. Свод Перечней'!C442:C940)-3,""),ROW()-6)),"")} | D439: =IFERROR(VLOOKUP(C439,'10. Свод Перечней'!C:H,2,0),"") | E439: =IFERROR(VLOOKUP(C439,'10. Свод Перечней'!C:H,3,0),"") | F439: =IFERROR(VLOOKUP(C439,'10. Свод Перечней'!C:H,4,0),"") | G439: =IFERROR(VLOOKUP(C439,'10. Свод Перечней'!C:H,5,0),"") | H439: =IFERROR(VLOOKUP(C439,'10. Свод Перечней'!C:H,6,0),"")
A440: =IF(LEN(C440)>0,MAX($A$6:A439)+1,"") | B440: =IFERROR(INDEX('10. Свод Перечней'!B:C,MATCH(C440,'10. Свод Перечней'!C:C,0),1),"") | C440: {=IFERROR(INDEX('10. Свод Перечней'!$C$4:$C$529,SMALL(IF("Б"='10. Свод Перечней'!I443:Q941,ROW('10. Свод Перечней'!C443:C941)-3,""),ROW()-6)),"")} | D440: =IFERROR(VLOOKUP(C440,'10. Свод Перечней'!C:H,2,0),"") | E440: =IFERROR(VLOOKUP(C440,'10. Свод Перечней'!C:H,3,0),"") | F440: =IFERROR(VLOOKUP(C440,'10. Свод Перечней'!C:H,4,0),"") | G440: =IFERROR(VLOOKUP(C440,'10. Свод Перечней'!C:H,5,0),"") | H440: =IFERROR(VLOOKUP(C440,'10. Свод Перечней'!C:H,6,0),"")
A441: =IF(LEN(C441)>0,MAX($A$6:A440)+1,"") | B441: =IFERROR(INDEX('10. Свод Перечней'!B:C,MATCH(C441,'10. Свод Перечней'!C:C,0),1),"") | C441: {=IFERROR(INDEX('10. Свод Перечней'!$C$4:$C$529,SMALL(IF("Б"='10. Свод Перечней'!I444:Q942,ROW('10. Свод Перечней'!C444:C942)-3,""),ROW()-6)),"")} | D441: =IFERROR(VLOOKUP(C441,'10. Свод Перечней'!C:H,2,0),"") | E441: =IFERROR(VLOOKUP(C441,'10. Свод Перечней'!C:H,3,0),"") | F441: =IFERROR(VLOOKUP(C441,'10. Свод Перечней'!C:H,4,0),"") | G441: =IFERROR(VLOOKUP(C441,'10. Свод Перечней'!C:H,5,0),"") | H441: =IFERROR(VLOOKUP(C441,'10. Свод Перечней'!C:H,6,0),"")
A442: =IF(LEN(C442)>0,MAX($A$6:A441)+1,"") | B442: =IFERROR(INDEX('10. Свод Перечней'!B:C,MATCH(C442,'10. Свод Перечней'!C:C,0),1),"") | C442: {=IFERROR(INDEX('10. Свод Перечней'!$C$4:$C$529,SMALL(IF("Б"='10. Свод Перечней'!I445:Q943,ROW('10. Свод Перечней'!C445:C943)-3,""),ROW()-6)),"")} | D442: =IFERROR(VLOOKUP(C442,'10. Свод Перечней'!C:H,2,0),"") | E442: =IFERROR(VLOOKUP(C442,'10. Свод Перечней'!C:H,3,0),"") | F442: =IFERROR(VLOOKUP(C442,'10. Свод Перечней'!C:H,4,0),"") | G442: =IFERROR(VLOOKUP(C442,'10. Свод Перечней'!C:H,5,0),"") | H442: =IFERROR(VLOOKUP(C442,'10. Свод Перечней'!C:H,6,0),"")
A443: =IF(LEN(C443)>0,MAX($A$6:A442)+1,"") | B443: =IFERROR(INDEX('10. Свод Перечней'!B:C,MATCH(C443,'10. Свод Перечней'!C:C,0),1),"") | C443: {=IFERROR(INDEX('10. Свод Перечней'!$C$4:$C$529,SMALL(IF("Б"='10. Свод Перечней'!I446:Q944,ROW('10. Свод Перечней'!C446:C944)-3,""),ROW()-6)),"")} | D443: =IFERROR(VLOOKUP(C443,'10. Свод Перечней'!C:H,2,0),"") | E443: =IFERROR(VLOOKUP(C443,'10. Свод Перечней'!C:H,3,0),"") | F443: =IFERROR(VLOOKUP(C443,'10. Свод Перечней'!C:H,4,0),"") | G443: =IFERROR(VLOOKUP(C443,'10. Свод Перечней'!C:H,5,0),"") | H443: =IFERROR(VLOOKUP(C443,'10. Свод Перечней'!C:H,6,0),"")
A444: =IF(LEN(C444)>0,MAX($A$6:A443)+1,"") | B444: =IFERROR(INDEX('10. Свод Перечней'!B:C,MATCH(C444,'10. Свод Перечней'!C:C,0),1),"") | C444: {=IFERROR(INDEX('10. Свод Перечней'!$C$4:$C$529,SMALL(IF("Б"='10. Свод Перечней'!I447:Q945,ROW('10. Свод Перечней'!C447:C945)-3,""),ROW()-6)),"")} | D444: =IFERROR(VLOOKUP(C444,'10. Свод Перечней'!C:H,2,0),"") | E444: =IFERROR(VLOOKUP(C444,'10. Свод Перечней'!C:H,3,0),"") | F444: =IFERROR(VLOOKUP(C444,'10. Свод Перечней'!C:H,4,0),"") | G444: =IFERROR(VLOOKUP(C444,'10. Свод Перечней'!C:H,5,0),"") | H444: =IFERROR(VLOOKUP(C444,'10. Свод Перечней'!C:H,6,0),"")
A445: =IF(LEN(C445)>0,MAX($A$6:A444)+1,"") | B445: =IFERROR(INDEX('10. Свод Перечней'!B:C,MATCH(C445,'10. Свод Перечней'!C:C,0),1),"") | C445: {=IFERROR(INDEX('10. Свод Перечней'!$C$4:$C$529,SMALL(IF("Б"='10. Свод Перечней'!I448:Q946,ROW('10. Свод Перечней'!C448:C946)-3,""),ROW()-6)),"")} | D445: =IFERROR(VLOOKUP(C445,'10. Свод Перечней'!C:H,2,0),"") | E445: =IFERROR(VLOOKUP(C445,'10. Свод Перечней'!C:H,3,0),"") | F445: =IFERROR(VLOOKUP(C445,'10. Свод Перечней'!C:H,4,0),"") | G445: =IFERROR(VLOOKUP(C445,'10. Свод Перечней'!C:H,5,0),"") | H445: =IFERROR(VLOOKUP(C445,'10. Свод Перечней'!C:H,6,0),"")
A446: =IF(LEN(C446)>0,MAX($A$6:A445)+1,"") | B446: =IFERROR(INDEX('10. Свод Перечней'!B:C,MATCH(C446,'10. Свод Перечней'!C:C,0),1),"") | C446: {=IFERROR(INDEX('10. Свод Перечней'!$C$4:$C$529,SMALL(IF("Б"='10. Свод Перечней'!I449:Q947,ROW('10. Свод Перечней'!C449:C947)-3,""),ROW()-6)),"")} | D446: =IFERROR(VLOOKUP(C446,'10. Свод Перечней'!C:H,2,0),"") | E446: =IFERROR(VLOOKUP(C446,'10. Свод Перечней'!C:H,3,0),"") | F446: =IFERROR(VLOOKUP(C446,'10. Свод Перечней'!C:H,4,0),"") | G446: =IFERROR(VLOOKUP(C446,'10. Свод Перечней'!C:H,5,0),"") | H446: =IFERROR(VLOOKUP(C446,'10. Свод Перечней'!C:H,6,0),"")
A447: =IF(LEN(C447)>0,MAX($A$6:A446)+1,"") | B447: =IFERROR(INDEX('10. Свод Перечней'!B:C,MATCH(C447,'10. Свод Перечней'!C:C,0),1),"") | C447: {=IFERROR(INDEX('10. Свод Перечней'!$C$4:$C$529,SMALL(IF("Б"='10. Свод Перечней'!I450:Q948,ROW('10. Свод Перечней'!C450:C948)-3,""),ROW()-6)),"")} | D447: =IFERROR(VLOOKUP(C447,'10. Свод Перечней'!C:H,2,0),"") | E447: =IFERROR(VLOOKUP(C447,'10. Свод Перечней'!C:H,3,0),"") | F447: =IFERROR(VLOOKUP(C447,'10. Свод Перечней'!C:H,4,0),"") | G447: =IFERROR(VLOOKUP(C447,'10. Свод Перечней'!C:H,5,0),"") | H447: =IFERROR(VLOOKUP(C447,'10. Свод Перечней'!C:H,6,0),"")
A448: =IF(LEN(C448)>0,MAX($A$6:A447)+1,"") | B448: =IFERROR(INDEX('10. Свод Перечней'!B:C,MATCH(C448,'10. Свод Перечней'!C:C,0),1),"") | C448: {=IFERROR(INDEX('10. Свод Перечней'!$C$4:$C$529,SMALL(IF("Б"='10. Свод Перечней'!I451:Q949,ROW('10. Свод Перечней'!C451:C949)-3,""),ROW()-6)),"")} | D448: =IFERROR(VLOOKUP(C448,'10. Свод Перечней'!C:H,2,0),"") | E448: =IFERROR(VLOOKUP(C448,'10. Свод Перечней'!C:H,3,0),"") | F448: =IFERROR(VLOOKUP(C448,'10. Свод Перечней'!C:H,4,0),"") | G448: =IFERROR(VLOOKUP(C448,'10. Свод Перечней'!C:H,5,0),"") | H448: =IFERROR(VLOOKUP(C448,'10. Свод Перечней'!C:H,6,0),"")
... A479: =IF(LEN(C479)>0,MAX($A$6:A478)+1,"") | B479: =IFERROR(INDEX('10. Свод Перечней'!B:C,MATCH(C479,'10. Свод Перечней'!C:C,0),1),"") | C479: {=IFERROR(INDEX('10. Свод Перечней'!$C$4:$C$529,SMALL(IF("Б"='10. Свод Перечней'!I482:Q980,ROW('10. Свод Перечней'!C482:C980)-3,""),ROW()-6)),"")} | D479: =IFERROR(VLOOKUP(C479,'10. Свод Перечней'!C:H,2,0),"") | E479: =IFERROR(VLOOKUP(C479,'10. Свод Перечней'!C:H,3,0),"") | F479: =IFERROR(VLOOKUP(C479,'10. Свод Перечней'!C:H,4,0),"") | G479: =IFERROR(VLOOKUP(C479,'10. Свод Перечней'!C:H,5,0),"") | H479: =IFERROR(VLOOKUP(C479,'10. Свод Перечней'!C:H,6,0),"")
A480: =IF(LEN(C480)>0,MAX($A$6:A479)+1,"") | B480: =IFERROR(INDEX('10. Свод Перечней'!B:C,MATCH(C480,'10. Свод Перечней'!C:C,0),1),"") | C480: {=IFERROR(INDEX('10. Свод Перечней'!$C$4:$C$529,SMALL(IF("Б"='10. Свод Перечней'!I485:Q981,ROW('10. Свод Перечней'!C485:C981)-3,""),ROW()-6)),"")} | D480: =IFERROR(VLOOKUP(C480,'10. Свод Перечней'!C:H,2,0),"") | E480: =IFERROR(VLOOKUP(C480,'10. Свод Перечней'!C:H,3,0),"") | F480: =IFERROR(VLOOKUP(C480,'10. Свод Перечней'!C:H,4,0),"") | G480: =IFERROR(VLOOKUP(C480,'10. Свод Перечней'!C:H,5,0),"") | H480: =IFERROR(VLOOKUP(C480,'10. Свод Перечней'!C:H,6,0),"")
A481: =IF(LEN(C481)>0,MAX($A$6:A480)+1,"") | B481: =IFERROR(INDEX('10. Свод Перечней'!B:C,MATCH(C481,'10. Свод Перечней'!C:C,0),1),"") | C481: {=IFERROR(INDEX('10. Свод Перечней'!$C$4:$C$529,SMALL(IF("Б"='10. Свод Перечней'!I486:Q982,ROW('10. Свод Перечней'!C486:C982)-3,""),ROW()-6)),"")} | D481: =IFERROR(VLOOKUP(C481,'10. Свод Перечней'!C:H,2,0),"") | E481: =IFERROR(VLOOKUP(C481,'10. Свод Перечней'!C:H,3,0),"") | F481: =IFERROR(VLOOKUP(C481,'10. Свод Перечней'!C:H,4,0),"") | G481: =IFERROR(VLOOKUP(C481,'10. Свод Перечней'!C:H,5,0),"") | H481: =IFERROR(VLOOKUP(C481,'10. Свод Перечней'!C:H,6,0),"")
A482: =IF(LEN(C482)>0,MAX($A$6:A481)+1,"") | B482: =IFERROR(INDEX('10. Свод Перечней'!B:C,MATCH(C482,'10. Свод Перечней'!C:C,0),1),"") | C482: {=IFERROR(INDEX('10. Свод Перечней'!$C$4:$C$529,SMALL(IF("Б"='10. Свод Перечней'!I487:Q983,ROW('10. Свод Перечней'!C487:C983)-3,""),ROW()-6)),"")} | D482: =IFERROR(VLOOKUP(C482,'10. Свод Перечней'!C:H,2,0),"") | E482: =IFERROR(VLOOKUP(C482,'10. Свод Перечней'!C:H,3,0),"") | F482: =IFERROR(VLOOKUP(C482,'10. Свод Перечней'!C:H,4,0),"") | G482: =IFERROR(VLOOKUP(C482,'10. Свод Перечней'!C:H,5,0),"") | H482: =IFERROR(VLOOKUP(C482,'10. Свод Перечней'!C:H,6,0),"")
A483: =IF(LEN(C483)>0,MAX($A$6:A482)+1,"") | B483: =IFERROR(INDEX('10. Свод Перечней'!B:C,MATCH(C483,'10. Свод Перечней'!C:C,0),1),"") | C483: {=IFERROR(INDEX('10. Свод Перечней'!$C$4:$C$529,SMALL(IF("Б"='10. Свод Перечней'!I488:Q984,ROW('10. Свод Перечней'!C488:C984)-3,""),ROW()-6)),"")} | D483: =IFERROR(VLOOKUP(C483,'10. Свод Перечней'!C:H,2,0),"") | E483: =IFERROR(VLOOKUP(C483,'10. Свод Перечней'!C:H,3,0),"") | F483: =IFERROR(VLOOKUP(C483,'10. Свод Перечней'!C:H,4,0),"") | G483: =IFERROR(VLOOKUP(C483,'10. Свод Перечней'!C:H,5,0),"") | H483: =IFERROR(VLOOKUP(C483,'10. Свод Перечней'!C:H,6,0),"")
A484: =IF(LEN(C484)>0,MAX($A$6:A483)+1,"") | B484: =IFERROR(INDEX('10. Свод Перечней'!B:C,MATCH(C484,'10. Свод Перечней'!C:C,0),1),"") | C484: {=IFERROR(INDEX('10. Свод Перечней'!$C$4:$C$529,SMALL(IF("Б"='10. Свод Перечней'!I489:Q985,ROW('10. Свод Перечней'!C489:C985)-3,""),ROW()-6)),"")} | D484: =IFERROR(VLOOKUP(C484,'10. Свод Перечней'!C:H,2,0),"") | E484: =IFERROR(VLOOKUP(C484,'10. Свод Перечней'!C:H,3,0),"") | F484: =IFERROR(VLOOKUP(C484,'10. Свод Перечней'!C:H,4,0),"") | G484: =IFERROR(VLOOKUP(C484,'10. Свод Перечней'!C:H,5,0),"") | H484: =IFERROR(VLOOKUP(C484,'10. Свод Перечней'!C:H,6,0),"")
A485: =IF(LEN(C485)>0,MAX($A$6:A484)+1,"") | B485: =IFERROR(INDEX('10. Свод Перечней'!B:C,MATCH(C485,'10. Свод Перечней'!C:C,0),1),"") | C485: {=IFERROR(INDEX('10. Свод Перечней'!$C$4:$C$529,SMALL(IF("Б"='10. Свод Перечней'!I490:Q986,ROW('10. Свод Перечней'!C490:C986)-3,""),ROW()-6)),"")} | D485: =IFERROR(VLOOKUP(C485,'10. Свод Перечней'!C:H,2,0),"") | E485: =IFERROR(VLOOKUP(C485,'10. Свод Перечней'!C:H,3,0),"") | F485: =IFERROR(VLOOKUP(C485,'10. Свод Перечней'!C:H,4,0),"") | G485: =IFERROR(VLOOKUP(C485,'10. Свод Перечней'!C:H,5,0),"") | H485: =IFERROR(VLOOKUP(C485,'10. Свод Перечней'!C:H,6,0),"")
A486: =IF(LEN(C486)>0,MAX($A$6:A485)+1,"") | B486: =IFERROR(INDEX('10. Свод Перечней'!B:C,MATCH(C486,'10. Свод Перечней'!C:C,0),1),"") | C486: {=IFERROR(INDEX('10. Свод Перечней'!$C$4:$C$529,SMALL(IF("Б"='10. Свод Перечней'!I491:Q987,ROW('10. Свод Перечней'!C491:C987)-3,""),ROW()-6)),"")} | D486: =IFERROR(VLOOKUP(C486,'10. Свод Перечней'!C:H,2,0),"") | E486: =IFERROR(VLOOKUP(C486,'10. Свод Перечней'!C:H,3,0),"") | F486: =IFERROR(VLOOKUP(C486,'10. Свод Перечней'!C:H,4,0),"") | G486: =IFERROR(VLOOKUP(C486,'10. Свод Перечней'!C:H,5,0),"") | H486: =IFERROR(VLOOKUP(C486,'10. Свод Перечней'!C:H,6,0),"")
A487: =IF(LEN(C487)>0,MAX($A$6:A486)+1,"") | B487: =IFERROR(INDEX('10. Свод Перечней'!B:C,MATCH(C487,'10. Свод Перечней'!C:C,0),1),"") | C487: {=IFERROR(INDEX('10. Свод Перечней'!$C$4:$C$529,SMALL(IF("Б"='10. Свод Перечней'!I492:Q988,ROW('10. Свод Перечней'!C492:C988)-3,""),ROW()-6)),"")} | D487: =IFERROR(VLOOKUP(C487,'10. Свод Перечней'!C:H,2,0),"") | E487: =IFERROR(VLOOKUP(C487,'10. Свод Перечней'!C:H,3,0),"") | F487: =IFERROR(VLOOKUP(C487,'10. Свод Перечней'!C:H,4,0),"") | G487: =IFERROR(VLOOKUP(C487,'10. Свод Перечней'!C:H,5,0),"") | H487: =IFERROR(VLOOKUP(C487,'10. Свод Перечней'!C:H,6,0),"")
A488: =IF(LEN(C488)>0,MAX($A$6:A487)+1,"") | B488: =IFERROR(INDEX('10. Свод Перечней'!B:C,MATCH(C488,'10. Свод Перечней'!C:C,0),1),"") | C488: {=IFERROR(INDEX('10. Свод Перечней'!$C$4:$C$529,SMALL(IF("Б"='10. Свод Перечней'!I493:Q989,ROW('10. Свод Перечней'!C493:C989)-3,""),ROW()-6)),"")} | D488: =IFERROR(VLOOKUP(C488,'10. Свод Перечней'!C:H,2,0),"") | E488: =IFERROR(VLOOKUP(C488,'10. Свод Перечней'!C:H,3,0),"") | F488: =IFERROR(VLOOKUP(C488,'10. Свод Перечней'!C:H,4,0),"") | G488: =IFERROR(VLOOKUP(C488,'10. Свод Перечней'!C:H,5,0),"") | H488: =IFERROR(VLOOKUP(C488,'10. Свод Перечней'!C:H,6,0),"")
A489: =IF(LEN(C489)>0,MAX($A$6:A488)+1,"") | B489: =IFERROR(INDEX('10. Свод Перечней'!B:C,MATCH(C489,'10. Свод Перечней'!C:C,0),1),"") | C489: {=IFERROR(INDEX('10. Свод Перечней'!$C$4:$C$529,SMALL(IF("Б"='10. Свод Перечней'!I494:Q990,ROW('10. Свод Перечней'!C494:C990)-3,""),ROW()-6)),"")} | D489: =IFERROR(VLOOKUP(C489,'10. Свод Перечней'!C:H,2,0),"") | E489: =IFERROR(VLOOKUP(C489,'10. Свод Перечней'!C:H,3,0),"") | F489: =IFERROR(VLOOKUP(C489,'10. Свод Перечней'!C:H,4,0),"") | G489: =IFERROR(VLOOKUP(C489,'10. Свод Перечней'!C:H,5,0),"") | H489: =IFERROR(VLOOKUP(C489,'10. Свод Перечней'!C:H,6,0),"")
A490: =IF(LEN(C490)>0,MAX($A$6:A489)+1,"") | B490: =IFERROR(INDEX('10. Свод Перечней'!B:C,MATCH(C490,'10. Свод Перечней'!C:C,0),1),"") | C490: {=IFERROR(INDEX('10. Свод Перечней'!$C$4:$C$529,SMALL(IF("Б"='10. Свод Перечней'!I495:Q991,ROW('10. Свод Перечней'!C495:C991)-3,""),ROW()-6)),"")} | D490: =IFERROR(VLOOKUP(C490,'10. Свод Перечней'!C:H,2,0),"") | E490: =IFERROR(VLOOKUP(C490,'10. Свод Перечней'!C:H,3,0),"") | F490: =IFERROR(VLOOKUP(C490,'10. Свод Перечней'!C:H,4,0),"") | G490: =IFERROR(VLOOKUP(C490,'10. Свод Перечней'!C:H,5,0),"") | H490: =IFERROR(VLOOKUP(C490,'10. Свод Перечней'!C:H,6,0),"")
A491: =IF(LEN(C491)>0,MAX($A$6:A490)+1,"") | B491: =IFERROR(INDEX('10. Свод Перечней'!B:C,MATCH(C491,'10. Свод Перечней'!C:C,0),1),"") | C491: {=IFERROR(INDEX('10. Свод Перечней'!$C$4:$C$529,SMALL(IF("Б"='10. Свод Перечней'!I496:Q992,ROW('10. Свод Перечней'!C496:C992)-3,""),ROW()-6)),"")} | D491: =IFERROR(VLOOKUP(C491,'10. Свод Перечней'!C:H,2,0),"") | E491: =IFERROR(VLOOKUP(C491,'10. Свод Перечней'!C:H,3,0),"") | F491: =IFERROR(VLOOKUP(C491,'10. Свод Перечней'!C:H,4,0),"") | G491: =IFERROR(VLOOKUP(C491,'10. Свод Перечней'!C:H,5,0),"") | H491: =IFERROR(VLOOKUP(C491,'10. Свод Перечней'!C:H,6,0),"")
... A494: =IF(LEN(C494)>0,MAX($A$6:A493)+1,"") | B494: =IFERROR(INDEX('10. Свод Перечней'!B:C,MATCH(C494,'10. Свод Перечней'!C:C,0),1),"") | C494: {=IFERROR(INDEX('10. Свод Перечней'!$C$4:$C$529,SMALL(IF("Б"='10. Свод Перечней'!I499:Q995,ROW('10. Свод Перечней'!C499:C995)-3,""),ROW()-6)),"")} | D494: =IFERROR(VLOOKUP(C494,'10. Свод Перечней'!C:H,2,0),"") | E494: =IFERROR(VLOOKUP(C494,'10. Свод Перечней'!C:H,3,0),"") | F494: =IFERROR(VLOOKUP(C494,'10. Свод Перечней'!C:H,4,0),"") | G494: =IFERROR(VLOOKUP(C494,'10. Свод Перечней'!C:H,5,0),"") | H494: =IFERROR(VLOOKUP(C494,'10. Свод Перечней'!C:H,6,0),"")
A495: =IF(LEN(C495)>0,MAX($A$6:A494)+1,"") | B495: =IFERROR(INDEX('10. Свод Перечней'!B:C,MATCH(C495,'10. Свод Перечней'!C:C,0),1),"") | C495: {=IFERROR(INDEX('10. Свод Перечней'!$C$4:$C$529,SMALL(IF("Б"='10. Свод Перечней'!I499:Q996,ROW('10. Свод Перечней'!C499:C996)-3,""),ROW()-6)),"")} | D495: =IFERROR(VLOOKUP(C495,'10. Свод Перечней'!C:H,2,0),"") | E495: =IFERROR(VLOOKUP(C495,'10. Свод Перечней'!C:H,3,0),"") | F495: =IFERROR(VLOOKUP(C495,'10. Свод Перечней'!C:H,4,0),"") | G495: =IFERROR(VLOOKUP(C495,'10. Свод Перечней'!C:H,5,0),"") | H495: =IFERROR(VLOOKUP(C495,'10. Свод Перечней'!C:H,6,0),"")
A496: =IF(LEN(C496)>0,MAX($A$6:A495)+1,"") | B496: =IFERROR(INDEX('10. Свод Перечней'!B:C,MATCH(C496,'10. Свод Перечней'!C:C,0),1),"") | C496: {=IFERROR(INDEX('10. Свод Перечней'!$C$4:$C$529,SMALL(IF("Б"='10. Свод Перечней'!I499:Q997,ROW('10. Свод Перечней'!C499:C997)-3,""),ROW()-6)),"")} | D496: =IFERROR(VLOOKUP(C496,'10. Свод Перечней'!C:H,2,0),"") | E496: =IFERROR(VLOOKUP(C496,'10. Свод Перечней'!C:H,3,0),"") | F496: =IFERROR(VLOOKUP(C496,'10. Свод Перечней'!C:H,4,0),"") | G496: =IFERROR(VLOOKUP(C496,'10. Свод Перечней'!C:H,5,0),"") | H496: =IFERROR(VLOOKUP(C496,'10. Свод Перечней'!C:H,6,0),"")
A497: =IF(LEN(C497)>0,MAX($A$6:A496)+1,"") | B497: =IFERROR(INDEX('10. Свод Перечней'!B:C,MATCH(C497,'10. Свод Перечней'!C:C,0),1),"") | C497: {=IFERROR(INDEX('10. Свод Перечней'!$C$4:$C$529,SMALL(IF("Б"='10. Свод Перечней'!I500:Q998,ROW('10. Свод Перечней'!C500:C998)-3,""),ROW()-6)),"")} | D497: =IFERROR(VLOOKUP(C497,'10. Свод Перечней'!C:H,2,0),"") | E497: =IFERROR(VLOOKUP(C497,'10. Свод Перечней'!C:H,3,0),"") | F497: =IFERROR(VLOOKUP(C497,'10. Свод Перечней'!C:H,4,0),"") | G497: =IFERROR(VLOOKUP(C497,'10. Свод Перечней'!C:H,5,0),"") | H497: =IFERROR(VLOOKUP(C497,'10. Свод Перечней'!C:H,6,0),"")
A498: =IF(LEN(C498)>0,MAX($A$6:A497)+1,"") | B498: =IFERROR(INDEX('10. Свод Перечней'!B:C,MATCH(C498,'10. Свод Перечней'!C:C,0),1),"") | C498: {=IFERROR(INDEX('10. Свод Перечней'!$C$4:$C$529,SMALL(IF("Б"='10. Свод Перечней'!I501:Q999,ROW('10. Свод Перечней'!C501:C999)-3,""),ROW()-6)),"")} | D498: =IFERROR(VLOOKUP(C498,'10. Свод Перечней'!C:H,2,0),"") | E498: =IFERROR(VLOOKUP(C498,'10. Свод Перечней'!C:H,3,0),"") | F498: =IFERROR(VLOOKUP(C498,'10. Свод Перечней'!C:H,4,0),"") | G498: =IFERROR(VLOOKUP(C498,'10. Свод Перечней'!C:H,5,0),"") | H498: =IFERROR(VLOOKUP(C498,'10. Свод Перечней'!C:H,6,0),"")
A499: =IF(LEN(C499)>0,MAX($A$6:A498)+1,"") | B499: =IFERROR(INDEX('10. Свод Перечней'!B:C,MATCH(C499,'10. Свод Перечней'!C:C,0),1),"") | C499: {=IFERROR(INDEX('10. Свод Перечней'!$C$4:$C$529,SMALL(IF("Б"='10. Свод Перечней'!I502:Q1000,ROW('10. Свод Перечней'!C502:C1000)-3,""),ROW()-6)),"")} | D499: =IFERROR(VLOOKUP(C499,'10. Свод Перечней'!C:H,2,0),"") | E499: =IFERROR(VLOOKUP(C499,'10. Свод Перечней'!C:H,3,0),"") | F499: =IFERROR(VLOOKUP(C499,'10. Свод Перечней'!C:H,4,0),"") | G499: =IFERROR(VLOOKUP(C499,'10. Свод Перечней'!C:H,5,0),"") | H499: =IFERROR(VLOOKUP(C499,'10. Свод Перечней'!C:H,6,0),"")
A500: =IF(LEN(C500)>0,MAX($A$6:A499)+1,"") | B500: =IFERROR(INDEX('10. Свод Перечней'!B:C,MATCH(C500,'10. Свод Перечней'!C:C,0),1),"") | C500: {=IFERROR(INDEX('10. Свод Перечней'!$C$4:$C$529,SMALL(IF("Б"='10. Свод Перечней'!I503:Q1001,ROW('10. Свод Перечней'!C503:C1001)-3,""),ROW()-6)),"")} | D500: =IFERROR(VLOOKUP(C500,'10. Свод Перечней'!C:H,2,0),"") | E500: =IFERROR(VLOOKUP(C500,'10. Свод Перечней'!C:H,3,0),"") | F500: =IFERROR(VLOOKUP(C500,'10. Свод Перечней'!C:H,4,0),"") | G500: =IFERROR(VLOOKUP(C500,'10. Свод Перечней'!C:H,5,0),"") | H500: =IFERROR(VLOOKUP(C500,'10. Свод Перечней'!C:H,6,0),"")
A501: =IF(LEN(C501)>0,MAX($A$6:A500)+1,"") | B501: =IFERROR(INDEX('10. Свод Перечней'!B:C,MATCH(C501,'10. Свод Перечней'!C:C,0),1),"") | C501: {=IFERROR(INDEX('10. Свод Перечней'!$C$4:$C$529,SMALL(IF("Б"='10. Свод Перечней'!I504:Q1002,ROW('10. Свод Перечней'!C504:C1002)-3,""),ROW()-6)),"")} | D501: =IFERROR(VLOOKUP(C501,'10. Свод Перечней'!C:H,2,0),"") | E501: =IFERROR(VLOOKUP(C501,'10. Свод Перечней'!C:H,3,0),"") | F501: =IFERROR(VLOOKUP(C501,'10. Свод Перечней'!C:H,4,0),"") | G501: =IFERROR(VLOOKUP(C501,'10. Свод Перечней'!C:H,5,0),"") | H501: =IFERROR(VLOOKUP(C501,'10. Свод Перечней'!C:H,6,0),"")
A502: =IF(LEN(C502)>0,MAX($A$6:A501)+1,"") | B502: =IFERROR(INDEX('10. Свод Перечней'!B:C,MATCH(C502,'10. Свод Перечней'!C:C,0),1),"") | C502: {=IFERROR(INDEX('10. Свод Перечней'!$C$4:$C$529,SMALL(IF("Б"='10. Свод Перечней'!I505:Q1003,ROW('10. Свод Перечней'!C505:C1003)-3,""),ROW()-6)),"")} | D502: =IFERROR(VLOOKUP(C502,'10. Свод Перечней'!C:H,2,0),"") | E502: =IFERROR(VLOOKUP(C502,'10. Свод Перечней'!C:H,3,0),"") | F502: =IFERROR(VLOOKUP(C502,'10. Свод Перечней'!C:H,4,0),"") | G502: =IFERROR(VLOOKUP(C502,'10. Свод Перечней'!C:H,5,0),"") | H502: =IFERROR(VLOOKUP(C502,'10. Свод Перечней'!C:H,6,0),"")
A503: =IF(LEN(C503)>0,MAX($A$6:A502)+1,"") | B503: =IFERROR(INDEX('10. Свод Перечней'!B:C,MATCH(C503,'10. Свод Перечней'!C:C,0),1),"") | C503: {=IFERROR(INDEX('10. Свод Перечней'!$C$4:$C$529,SMALL(IF("Б"='10. Свод Перечней'!I506:Q1004,ROW('10. Свод Перечней'!C506:C1004)-3,""),ROW()-6)),"")} | D503: =IFERROR(VLOOKUP(C503,'10. Свод Перечней'!C:H,2,0),"") | E503: =IFERROR(VLOOKUP(C503,'10. Свод Перечней'!C:H,3,0),"") | F503: =IFERROR(VLOOKUP(C503,'10. Свод Перечней'!C:H,4,0),"") | G503: =IFERROR(VLOOKUP(C503,'10. Свод Перечней'!C:H,5,0),"") | H503: =IFERROR(VLOOKUP(C503,'10. Свод Перечней'!C:H,6,0),"")
A504: =IF(LEN(C504)>0,MAX($A$6:A503)+1,"") | B504: =IFERROR(INDEX('10. Свод Перечней'!B:C,MATCH(C504,'10. Свод Перечней'!C:C,0),1),"") | C504: {=IFERROR(INDEX('10. Свод Перечней'!$C$4:$C$529,SMALL(IF("Б"='10. Свод Перечней'!I507:Q1005,ROW('10. Свод Перечней'!C507:C1005)-3,""),ROW()-6)),"")} | D504: =IFERROR(VLOOKUP(C504,'10. Свод Перечней'!C:H,2,0),"") | E504: =IFERROR(VLOOKUP(C504,'10. Свод Перечней'!C:H,3,0),"") | F504: =IFERROR(VLOOKUP(C504,'10. Свод Перечней'!C:H,4,0),"") | G504: =IFERROR(VLOOKUP(C504,'10. Свод Перечней'!C:H,5,0),"") | H504: =IFERROR(VLOOKUP(C504,'10. Свод Перечней'!C:H,6,0),"")
A505: =IF(LEN(C505)>0,MAX($A$6:A504)+1,"") | B505: =IFERROR(INDEX('10. Свод Перечней'!B:C,MATCH(C505,'10. Свод Перечней'!C:C,0),1),"") | C505: {=IFERROR(INDEX('10. Свод Перечней'!$C$4:$C$529,SMALL(IF("Б"='10. Свод Перечней'!I508:Q1006,ROW('10. Свод Перечней'!C508:C1006)-3,""),ROW()-6)),"")} | D505: =IFERROR(VLOOKUP(C505,'10. Свод Перечней'!C:H,2,0),"") | E505: =IFERROR(VLOOKUP(C505,'10. Свод Перечней'!C:H,3,0),"") | F505: =IFERROR(VLOOKUP(C505,'10. Свод Перечней'!C:H,4,0),"") | G505: =IFERROR(VLOOKUP(C505,'10. Свод Перечней'!C:H,5,0),"") | H505: =IFERROR(VLOOKUP(C505,'10. Свод Перечней'!C:H,6,0),"")
A506: =IF(LEN(C506)>0,MAX($A$6:A505)+1,"") | B506: =IFERROR(INDEX('10. Свод Перечней'!B:C,MATCH(C506,'10. Свод Перечней'!C:C,0),1),"") | C506: {=IFERROR(INDEX('10. Свод Перечней'!$C$4:$C$529,SMALL(IF("Б"='10. Свод Перечней'!I509:Q1007,ROW('10. Свод Перечней'!C509:C1007)-3,""),ROW()-6)),"")} | D506: =IFERROR(VLOOKUP(C506,'10. Свод Перечней'!C:H,2,0),"") | E506: =IFERROR(VLOOKUP(C506,'10. Свод Перечней'!C:H,3,0),"") | F506: =IFERROR(VLOOKUP(C506,'10. Свод Перечней'!C:H,4,0),"") | G506: =IFERROR(VLOOKUP(C506,'10. Свод Перечней'!C:H,5,0),"") | H506: =IFERROR(VLOOKUP(C506,'10. Свод Перечней'!C:H,6,0),"")
A507: =IF(LEN(C507)>0,MAX($A$6:A506)+1,"") | B507: =IFERROR(INDEX('10. Свод Перечней'!B:C,MATCH(C507,'10. Свод Перечней'!C:C,0),1),"") | C507: {=IFERROR(INDEX('10. Свод Перечней'!$C$4:$C$529,SMALL(IF("Б"='10. Свод Перечней'!I510:Q1008,ROW('10. Свод Перечней'!C510:C1008)-3,""),ROW()-6)),"")} | D507: =IFERROR(VLOOKUP(C507,'10. Свод Перечней'!C:H,2,0),"") | E507: =IFERROR(VLOOKUP(C507,'10. Свод Перечней'!C:H,3,0),"") | F507: =IFERROR(VLOOKUP(C507,'10. Свод Перечней'!C:H,4,0),"") | G507: =IFERROR(VLOOKUP(C507,'10. Свод Перечней'!C:H,5,0),"") | H507: =IFERROR(VLOOKUP(C507,'10. Свод Перечней'!C:H,6,0),"")
... A512: =IF(LEN(C512)>0,MAX($A$6:A511)+1,"") | B512: =IFERROR(INDEX('10. Свод Перечней'!B:C,MATCH(C512,'10. Свод Перечней'!C:C,0),1),"") | C512: {=IFERROR(INDEX('10. Свод Перечней'!$C$4:$C$529,SMALL(IF("Б"='10. Свод Перечней'!I515:Q1013,ROW('10. Свод Перечней'!C515:C1013)-3,""),ROW()-6)),"")} | D512: =IFERROR(VLOOKUP(C512,'10. Свод Перечней'!C:H,2,0),"") | E512: =IFERROR(VLOOKUP(C512,'10. Свод Перечней'!C:H,3,0),"") | F512: =IFERROR(VLOOKUP(C512,'10. Свод Перечней'!C:H,4,0),"") | G512: =IFERROR(VLOOKUP(C512,'10. Свод Перечней'!C:H,5,0),"") | H512: =IFERROR(VLOOKUP(C512,'10. Свод Перечней'!C:H,6,0),"")
A513: =IF(LEN(C513)>0,MAX($A$6:A512)+1,"") | B513: =IFERROR(INDEX('10. Свод Перечней'!B:C,MATCH(C513,'10. Свод Перечней'!C:C,0),1),"") | C513: {=IFERROR(INDEX('10. Свод Перечней'!$C$4:$C$529,SMALL(IF("Б"='10. Свод Перечней'!I529:Q1014,ROW('10. Свод Перечней'!C529:C1014)-3,""),ROW()-6)),"")} | D513: =IFERROR(VLOOKUP(C513,'10. Свод Перечней'!C:H,2,0),"") | E513: =IFERROR(VLOOKUP(C513,'10. Свод Перечней'!C:H,3,0),"") | F513: =IFERROR(VLOOKUP(C513,'10. Свод Перечней'!C:H,4,0),"") | G513: =IFERROR(VLOOKUP(C513,'10. Свод Перечней'!C:H,5,0),"") | H513: =IFERROR(VLOOKUP(C513,'10. Свод Перечней'!C:H,6,0),"")
A514: =IF(LEN(C514)>0,MAX($A$6:A513)+1,"") | B514: =IFERROR(INDEX('10. Свод Перечней'!B:C,MATCH(C514,'10. Свод Перечней'!C:C,0),1),"") | C514: {=IFERROR(INDEX('10. Свод Перечней'!$C$4:$C$529,SMALL(IF("Б"='10. Свод Перечней'!I278:Q1015,ROW('10. Свод Перечней'!C278:C1015)-3,""),ROW()-6)),"")} | D514: =IFERROR(VLOOKUP(C514,'10. Свод Перечней'!C:H,2,0),"") | E514: =IFERROR(VLOOKUP(C514,'10. Свод Перечней'!C:H,3,0),"") | F514: =IFERROR(VLOOKUP(C514,'10. Свод Перечней'!C:H,4,0),"") | G514: =IFERROR(VLOOKUP(C514,'10. Свод Перечней'!C:H,5,0),"") | H514: =IFERROR(VLOOKUP(C514,'10. Свод Перечней'!C:H,6,0),"")
A515: =IF(LEN(C515)>0,MAX($A$6:A514)+1,"") | B515: =IFERROR(INDEX('10. Свод Перечней'!B:C,MATCH(C515,'10. Свод Перечней'!C:C,0),1),"") | C515: {=IFERROR(INDEX('10. Свод Перечней'!$C$4:$C$529,SMALL(IF("Б"='10. Свод Перечней'!I272:Q1016,ROW('10. Свод Перечней'!C272:C1016)-3,""),ROW()-6)),"")} | D515: =IFERROR(VLOOKUP(C515,'10. Свод Перечней'!C:H,2,0),"") | E515: =IFERROR(VLOOKUP(C515,'10. Свод Перечней'!C:H,3,0),"") | F515: =IFERROR(VLOOKUP(C515,'10. Свод Перечней'!C:H,4,0),"") | G515: =IFERROR(VLOOKUP(C515,'10. Свод Перечней'!C:H,5,0),"") | H515: =IFERROR(VLOOKUP(C515,'10. Свод Перечней'!C:H,6,0),"")
A516: =IF(LEN(C516)>0,MAX($A$6:A515)+1,"") | B516: =IFERROR(INDEX('10. Свод Перечней'!B:C,MATCH(C516,'10. Свод Перечней'!C:C,0),1),"") | C516: {=IFERROR(INDEX('10. Свод Перечней'!$C$4:$C$529,SMALL(IF("Б"='10. Свод Перечней'!I531:Q1017,ROW('10. Свод Перечней'!C531:C1017)-3,""),ROW()-6)),"")} | D516: =IFERROR(VLOOKUP(C516,'10. Свод Перечней'!C:H,2,0),"") | E516: =IFERROR(VLOOKUP(C516,'10. Свод Перечней'!C:H,3,0),"") | F516: =IFERROR(VLOOKUP(C516,'10. Свод Перечней'!C:H,4,0),"") | G516: =IFERROR(VLOOKUP(C516,'10. Свод Перечней'!C:H,5,0),"") | H516: =IFERROR(VLOOKUP(C516,'10. Свод Перечней'!C:H,6,0),"")
A517: =IF(LEN(C517)>0,MAX($A$6:A516)+1,"") | B517: =IFERROR(INDEX('10. Свод Перечней'!B:C,MATCH(C517,'10. Свод Перечней'!C:C,0),1),"") | C517: {=IFERROR(INDEX('10. Свод Перечней'!$C$4:$C$529,SMALL(IF("Б"='10. Свод Перечней'!I531:Q1018,ROW('10. Свод Перечней'!C531:C1018)-3,""),ROW()-6)),"")} | D517: =IFERROR(VLOOKUP(C517,'10. Свод Перечней'!C:H,2,0),"") | E517: =IFERROR(VLOOKUP(C517,'10. Свод Перечней'!C:H,3,0),"") | F517: =IFERROR(VLOOKUP(C517,'10. Свод Перечней'!C:H,4,0),"") | G517: =IFERROR(VLOOKUP(C517,'10. Свод Перечней'!C:H,5,0),"") | H517: =IFERROR(VLOOKUP(C517,'10. Свод Перечней'!C:H,6,0),"")
A518: =IF(LEN(C518)>0,MAX($A$6:A517)+1,"") | B518: =IFERROR(INDEX('10. Свод Перечней'!B:C,MATCH(C518,'10. Свод Перечней'!C:C,0),1),"") | C518: {=IFERROR(INDEX('10. Свод Перечней'!$C$4:$C$529,SMALL(IF("Б"='10. Свод Перечней'!I531:Q1019,ROW('10. Свод Перечней'!C531:C1019)-3,""),ROW()-6)),"")} | D518: =IFERROR(VLOOKUP(C518,'10. Свод Перечней'!C:H,2,0),"") | E518: =IFERROR(VLOOKUP(C518,'10. Свод Перечней'!C:H,3,0),"") | F518: =IFERROR(VLOOKUP(C518,'10. Свод Перечней'!C:H,4,0),"") | G518: =IFERROR(VLOOKUP(C518,'10. Свод Перечней'!C:H,5,0),"") | H518: =IFERROR(VLOOKUP(C518,'10. Свод Перечней'!C:H,6,0),"")
A519: =IF(LEN(C519)>0,MAX($A$6:A518)+1,"") | B519: =IFERROR(INDEX('10. Свод Перечней'!B:C,MATCH(C519,'10. Свод Перечней'!C:C,0),1),"") | C519: {=IFERROR(INDEX('10. Свод Перечней'!$C$4:$C$529,SMALL(IF("Б"='10. Свод Перечней'!I531:Q1020,ROW('10. Свод Перечней'!C531:C1020)-3,""),ROW()-6)),"")} | D519: =IFERROR(VLOOKUP(C519,'10. Свод Перечней'!C:H,2,0),"") | E519: =IFERROR(VLOOKUP(C519,'10. Свод Перечней'!C:H,3,0),"") | F519: =IFERROR(VLOOKUP(C519,'10. Свод Перечней'!C:H,4,0),"") | G519: =IFERROR(VLOOKUP(C519,'10. Свод Перечней'!C:H,5,0),"") | H519: =IFERROR(VLOOKUP(C519,'10. Свод Перечней'!C:H,6,0),"")
A520: =IF(LEN(C520)>0,MAX($A$6:A519)+1,"") | B520: =IFERROR(INDEX('10. Свод Перечней'!B:C,MATCH(C520,'10. Свод Перечней'!C:C,0),1),"") | C520: {=IFERROR(INDEX('10. Свод Перечней'!$C$4:$C$529,SMALL(IF("Б"='10. Свод Перечней'!I531:Q1021,ROW('10. Свод Перечней'!C531:C1021)-3,""),ROW()-6)),"")} | D520: =IFERROR(VLOOKUP(C520,'10. Свод Перечней'!C:H,2,0),"") | E520: =IFERROR(VLOOKUP(C520,'10. Свод Перечней'!C:H,3,0),"") | F520: =IFERROR(VLOOKUP(C520,'10. Свод Перечней'!C:H,4,0),"") | G520: =IFERROR(VLOOKUP(C520,'10. Свод Перечней'!C:H,5,0),"") | H520: =IFERROR(VLOOKUP(C520,'10. Свод Перечней'!C:H,6,0),"")
A521: =IF(LEN(C521)>0,MAX($A$6:A520)+1,"") | B521: =IFERROR(INDEX('10. Свод Перечней'!B:C,MATCH(C521,'10. Свод Перечней'!C:C,0),1),"") | C521: {=IFERROR(INDEX('10. Свод Перечней'!$C$4:$C$529,SMALL(IF("Б"='10. Свод Перечней'!I531:Q1022,ROW('10. Свод Перечней'!C531:C1022)-3,""),ROW()-6)),"")} | D521: =IFERROR(VLOOKUP(C521,'10. Свод Перечней'!C:H,2,0),"") | E521: =IFERROR(VLOOKUP(C521,'10. Свод Перечней'!C:H,3,0),"") | F521: =IFERROR(VLOOKUP(C521,'10. Свод Перечней'!C:H,4,0),"") | G521: =IFERROR(VLOOKUP(C521,'10. Свод Перечней'!C:H,5,0),"") | H521: =IFERROR(VLOOKUP(C521,'10. Свод Перечней'!C:H,6,0),"")
...

Sheet 7. Детские Сады
A2: Дата актуализации ассортиментного перечня «01» июня 2023 г
A3: Ассортиментный перечень основных групп продовольственных товаров и сырья для обеспечения социального питания в дошкольных образовательных учреждениях Санкт-Петербурга
A4: Примечание! * - Продукция предназначенная для лечебного, специального питания ** - предназначенные для использования в питании после термической обработки. Информацию о действующей нормативной документации, а также изменениях вносимых в национальные стандарты можно получить в Управлении социального питания по телефонам 417-35-50, 417-35-52 и на сайте Управления по адресу: http://www.gov.spb.ru, вкладка «Нормативные документы».
A5: № | B5: Потребительское наименование товара | C5: Название товара ККН/КТРУ | D5: ОКПД2 | E5: Детализация ККН | F5: Единица измерения ККН | G5: Характеристики товара | H5: Код КТРУ
A6: 1 | B6: 2 | C6: 2 | D6: 3 | E6: 4 | F6: 5 | G6: 6 | H6: 7
A7: 1 | B7: =IFERROR(INDEX('10. Свод Перечней'!B:C,MATCH(C7,'10. Свод Перечней'!C:C,0),1),"") -> Фасоль овощная свежая | C7: {=IFERROR(INDEX('10. Свод Перечней'!$C$4:$C$529,SMALL(IF("С"='10. Свод Перечней'!$I$4:$Q$529,ROW('10. Свод Перечней'!$C$4:$C$529)-3,""),ROW()-6)),"")} -> Фасоль тип 1 | D7: =IFERROR(VLOOKUP(C7,'10. Свод Перечней'!C:H,2,0),"") -> 01.11.61.000 | E7: =IFERROR(VLOOKUP(C7,'10. Свод Перечней'!C:H,3,0),"") -> 001 | F7: =IFERROR(VLOOKUP(C7,'10. Свод Перечней'!C:H,4,0),"") -> КГ | G7: =IFERROR(VLOOKUP(C7,'10. Свод Перечней'!C:H,5,0),"") -> Тип: Овощная Вид: Свежая Сорт: Высший; Первый Фасовка: Весовая Соответствие нормативно-технической документации: Технический регламент Таможенного союза "О безопасности упаковки" от 16.08.2011 ТР ТС № 005/2011, Технический регламент Таможенного союза "О безопасности пищевой продукции" от 09.12.2011 № 021/2011, Технический регламент Таможенного союза "Пищевая продукция в части ее маркировки" от 09.12.2011 № 022/2011, ГОСТ 34299-2017 | H7: =IF(LEN(IFERROR(VLOOKUP(C7,'10. Свод Перечней'!C:H,6,0),""))>1,IFERROR(VLOOKUP(C7,'10. Свод Перечней'!C:H,6,0),""),"")
A8: =IF(LEN(C8)>0,MAX($A$6:A7)+1,"") -> 2 | B8: =IFERROR(INDEX('10. Свод Перечней'!B:C,MATCH(C8,'10. Свод Перечней'!C:C,0),1),"") -> Фасоль продовольственная | C8: {=IFERROR(INDEX('10. Свод Перечней'!$C$4:$C$529,SMALL(IF("С"='10. Свод Перечней'!$I$4:$Q$529,ROW('10. Свод Перечней'!$C$4:$C$529)-3,""),ROW()-6)),"")} -> Фасоль продовольственная тип 1 | D8: =IFERROR(VLOOKUP(C8,'10. Свод Перечней'!C:H,2,0),"") -> 01.11.71.110 | E8: =IFERROR(VLOOKUP(C8,'10. Свод Перечней'!C:H,3,0),"") -> 002 | F8: =IFERROR(VLOOKUP(C8,'10. Свод Перечней'!C:H,4,0),"") -> КГ | G8: =IFERROR(VLOOKUP(C8,'10. Свод Перечней'!C:H,5,0),"") -> Номер и наименование типа фасоли: I. Фасоль белая; II. Фасоль цветная однотонная; III. Фасоль цветная пестрая Фасовка: Весовая Соответствие нормативно-технической документации: Технический регламент Таможенного союза "О безопасности упаковки" от 16.08.2011 ТР ТС № 005/2011, Технический регламент Таможенного союза "О безопасности пищевой продукции" от 09.12.2011 № 021/2011, Технический регламент Таможенного союза "Пищевая продукция в части ее маркировки" от 09.12.2011 № 022/2011, ГОСТ 7758-2020 | H8: =IF(LEN(IFERROR(VLOOKUP(C8,'10. Свод Перечней'!C:H,6,0),""))>1,IFERROR(VLOOKUP(C8,'10. Свод Перечней'!C:H,6,0),""),"") -> 01.11.71.110-00000001, 01.11.71.110-00000002, 01.11.71.110-00000003
A9: =IF(LEN(C9)>0,MAX($A$6:A8)+1,"") -> 3 | B9: =IFERROR(INDEX('10. Свод Перечней'!B:C,MATCH(C9,'10. Свод Перечней'!C:C,0),1),"") -> Фасоль продовольственная | C9: {=IFERROR(INDEX('10. Свод Перечней'!$C$4:$C$529,SMALL(IF("С"='10. Свод Перечней'!$I$4:$Q$529,ROW('10. Свод Перечней'!$C$4:$C$529)-3,""),ROW()-6)),"")} -> Фасоль продовольственная тип 2 | D9: =IFERROR(VLOOKUP(C9,'10. Свод Перечней'!C:H,2,0),"") -> 01.11.71.110 | E9: =IFERROR(VLOOKUP(C9,'10. Свод Перечней'!C:H,3,0),"") -> 001 | F9: =IFERROR(VLOOKUP(C9,'10. Свод Перечней'!C:H,4,0),"") -> КГ | G9: =IFERROR(VLOOKUP(C9,'10. Свод Перечней'!C:H,5,0),"") -> Номер и наименование типа фасоли: I. Фасоль белая; II. Фасоль цветная однотонная; III. Фасоль цветная пестрая Вес: не более 1 КГ Упаковка производителя: Наличие Соответствие нормативно-технической документации: Технический регламент Таможенного союза "О безопасности упаковки" от 16.08.2011 ТР ТС № 005/2011, Технический регламент Таможенного союза "О безопасности пищевой продукции" от 09.12.2011 № 021/2011, Технический регламент Таможенного союза "Пищевая продукция в части ее маркировки" от 09.12.2011 № 022/2011, ГОСТ 7758-2020 | H9: =IF(LEN(IFERROR(VLOOKUP(C9,'10. Свод Перечней'!C:H,6,0),""))>1,IFERROR(VLOOKUP(C9,'10. Свод Перечней'!C:H,6,0),""),"") -> 01.11.71.110-00000001, 01.11.71.110-00000002, 01.11.71.110-00000003
A10: =IF(LEN(C10)>0,MAX($A$6:A9)+1,"") -> 4 | B10: =IFERROR(INDEX('10. Свод Перечней'!B:C,MATCH(C10,'10. Свод Перечней'!C:C,0),1),"") -> Чечевица | C10: {=IFERROR(INDEX('10. Свод Перечней'!$C$4:$C$529,SMALL(IF("С"='10. Свод Перечней'!$I$4:$Q$529,ROW('10. Свод Перечней'!$C$4:$C$529)-3,""),ROW()-6)),"")} -> Чечевица продовольственная тип 1 | D10: =IFERROR(VLOOKUP(C10,'10. Свод Перечней'!C:H,2,0),"") -> 01.11.74.110 | E10: =IFERROR(VLOOKUP(C10,'10. Свод Перечней'!C:H,3,0),"") -> 002 | F10: =IFERROR(VLOOKUP(C10,'10. Свод Перечней'!C:H,4,0),"") -> КГ | G10: =IFERROR(VLOOKUP(C10,'10. Свод Перечней'!C:H,5,0),"") -> Тип чечевицы: Красная; Коричневая; Неоднородная; Светло-зеленая; Темно-зеленая Фасовка: Весовая Соответствие нормативно-технической документации: Технический регламент Таможенного союза "О безопасности упаковки" от 16.08.2011 ТР ТС № 005/2011, Технический регламент Таможенного союза "О безопасности пищевой продукции" от 09.12.2011 № 021/2011, Технический регламент Таможенного союза "Пищевая продукция в части ее маркировки" от 09.12.2011 № 022/2011, ГОСТ 7066-2019 | H10: =IF(LEN(IFERROR(VLOOKUP(C10,'10. Свод Перечней'!C:H,6,0),""))>1,IFERROR(VLOOKUP(C10,'10. Свод Перечней'!C:H,6,0),""),"") -> 01.11.74.110-00000001, 01.11.74.110-00000002, 01.11.74.110-00000003, 01.11.74.110-00000004, 01.11.74.110-00000005
A11: =IF(LEN(C11)>0,MAX($A$6:A10)+1,"") -> 5 | B11: =IFERROR(INDEX('10. Свод Перечней'!B:C,MATCH(C11,'10. Свод Перечней'!C:C,0),1),"") -> Чечевица | C11: {=IFERROR(INDEX('10. Свод Перечней'!$C$4:$C$529,SMALL(IF("С"='10. Свод Перечней'!$I$4:$Q$529,ROW('10. Свод Перечней'!$C$4:$C$529)-3,""),ROW()-6)),"")} -> Чечевица продовольственная тип 2 | D11: =IFERROR(VLOOKUP(C11,'10. Свод Перечней'!C:H,2,0),"") -> 01.11.74.110 | E11: =IFERROR(VLOOKUP(C11,'10. Свод Перечней'!C:H,3,0),"") -> 001 | F11: =IFERROR(VLOOKUP(C11,'10. Свод Перечней'!C:H,4,0),"") -> КГ | G11: =IFERROR(VLOOKUP(C11,'10. Свод Перечней'!C:H,5,0),"") -> Тип чечевицы: Красная; Коричневая; Неоднородная; Светло-зеленая; Темно-зеленая Вес: не более 1 КГ Упаковка производителя: Наличие Соответствие нормативно-технической документации: Технический регламент Таможенного союза "О безопасности упаковки" от 16.08.2011 ТР ТС № 005/2011, Технический регламент Таможенного союза "О безопасности пищевой продукции" от 09.12.2011 № 021/2011, Технический регламент Таможенного союза "Пищевая продукция в части ее маркировки" от 09.12.2011 № 022/2011, ГОСТ 7066-2019 | H11: =IF(LEN(IFERROR(VLOOKUP(C11,'10. Свод Перечней'!C:H,6,0),""))>1,IFERROR(VLOOKUP(C11,'10. Свод Перечней'!C:H,6,0),""),"") -> 01.11.74.110-00000001, 01.11.74.110-00000002, 01.11.74.110-00000003, 01.11.74.110-00000004, 01.11.74.110-00000005
A12: =IF(LEN(C12)>0,MAX($A$6:A11)+1,"") -> 6 | B12: =IFERROR(INDEX('10. Свод Перечней'!B:C,MATCH(C12,'10. Свод Перечней'!C:C,0),1),"") -> Горох шлифованный | C12: {=IFERROR(INDEX('10. Свод Перечней'!$C$4:$C$529,SMALL(IF("С"='10. Свод Перечней'!$I$4:$Q$529,ROW('10. Свод Перечней'!$C$4:$C$529)-3,""),ROW()-6)),"")} -> Горох шлифованный тип 1 | D12: =IFERROR(VLOOKUP(C12,'10. Свод Перечней'!C:H,2,0),"") -> 01.11.75.110 | E12: =IFERROR(VLOOKUP(C12,'10. Свод Перечней'!C:H,3,0),"") -> 001 | F12: =IFERROR(VLOOKUP(C12,'10. Свод Перечней'!C:H,4,0),"") -> КГ | G12: =IFERROR(VLOOKUP(C12,'10. Свод Перечней'!C:H,5,0),"") -> Вид зерна: Целое Сорт: Не ниже первого Вес: не более 1 КГ Упаковка производителя: Наличие Соответствие нормативно-технической документации: Технический регламент Таможенного союза "О безопасности упаковки" от 16.08.2011 ТР ТС № 005/2011, Технический регламент Таможенного союза "О безопасности пищевой продукции" от 09.12.2011 № 021/2011, Технический регламент Таможенного союза "Пищевая продукция в части ее маркировки" от 09.12.2011 № 022/2011, ГОСТ 6201-20 | H12: =IF(LEN(IFERROR(VLOOKUP(C12,'10. Свод Перечней'!C:H,6,0),""))>1,IFERROR(VLOOKUP(C12,'10. Свод Перечней'!C:H,6,0),""),"") -> 01.11.75.110-00000002
A13: =IF(LEN(C13)>0,MAX($A$6:A12)+1,"") -> 7 | B13: =IFERROR(INDEX('10. Свод Перечней'!B:C,MATCH(C13,'10. Свод Перечней'!C:C,0),1),"") -> Горох шлифованный | C13: {=IFERROR(INDEX('10. Свод Перечней'!$C$4:$C$529,SMALL(IF("С"='10. Свод Перечней'!$I$4:$Q$529,ROW('10. Свод Перечней'!$C$4:$C$529)-3,""),ROW()-6)),"")} -> Горох шлифованный тип 2 | D13: =IFERROR(VLOOKUP(C13,'10. Свод Перечней'!C:H,2,0),"") -> 01.11.75.110 | E13: =IFERROR(VLOOKUP(C13,'10. Свод Перечней'!C:H,3,0),"") -> 002 | F13: =IFERROR(VLOOKUP(C13,'10. Свод Перечней'!C:H,4,0),"") -> КГ | G13: =IFERROR(VLOOKUP(C13,'10. Свод Перечней'!C:H,5,0),"") -> Вид зерна: Целое Сорт: Не ниже первого Фасовка: Весовая Соответствие нормативно-технической документации: Технический регламент Таможенного союза "О безопасности упаковки" от 16.08.2011 ТР ТС № 005/2011, Технический регламент Таможенного союза "О безопасности пищевой продукции" от 09.12.2011 № 021/2011, Технический регламент Таможенного союза "Пищевая продукция в части ее маркировки" от 09.12.2011 № 022/2011, ГОСТ 6201-20 | H13: =IF(LEN(IFERROR(VLOOKUP(C13,'10. Свод Перечней'!C:H,6,0),""))>1,IFERROR(VLOOKUP(C13,'10. Свод Перечней'!C:H,6,0),""),"") -> 01.11.75.110-00000002
A14: =IF(LEN(C14)>0,MAX($A$6:A13)+1,"") -> 8 | B14: =IFERROR(INDEX('10. Свод Перечней'!B:C,MATCH(C14,'10. Свод Перечней'!C:C,0),1),"") -> Капуста белокочанная свежая | C14: {=IFERROR(INDEX('10. Свод Перечней'!$C$4:$C$529,SMALL(IF("С"='10. Свод Перечней'!$I$4:$Q$529,ROW('10. Свод Перечней'!$C$4:$C$529)-3,""),ROW()-6)),"")} -> Капуста белокочанная тип 1 | D14: =IFERROR(VLOOKUP(C14,'10. Свод Перечней'!C:H,2,0),"") -> 01.13.12.120 | E14: =IFERROR(VLOOKUP(C14,'10. Свод Перечней'!C:H,3,0),"") -> 001 | F14: =IFERROR(VLOOKUP(C14,'10. Свод Перечней'!C:H,4,0),"") -> КГ | G14: =IFERROR(VLOOKUP(C14,'10. Свод Перечней'!C:H,5,0),"") -> Капуста очищенная: Нет Вид капусты по сроку созревания: Среднеспелая; Позднеспелая; Среднепоздняя Товарный класс: Первый Вид: Свежая Фасовка: Весовая Соответствие нормативно-технической документации: Технический регламент Таможенного союза "О безопасности упаковки" от 16.08.2011 ТР ТС № 005/2011, Технический регламент Таможенного союза "О безопасности пищевой продукции" от 09.12.2011 № 021/2011, Технический регламент Таможенного союза "Пищевая продукция в части ее маркировки" от 09.12.2011 № 022/2011, ГОСТ Р 51809-2001 | H14: =IF(LEN(IFERROR(VLOOKUP(C14,'10. Свод Перечней'!C:H,6,0),""))>1,IFERROR(VLOOKUP(C14,'10. Свод Перечней'!C:H,6,0),""),"") -> 01.13.12.120-00000002
A15: =IF(LEN(C15)>0,MAX($A$6:A14)+1,"") -> 9 | B15: =IFERROR(INDEX('10. Свод Перечней'!B:C,MATCH(C15,'10. Свод Перечней'!C:C,0),1),"") -> Капуста белокочанная свежая | C15: {=IFERROR(INDEX('10. Свод Перечней'!$C$4:$C$529,SMALL(IF("С"='10. Свод Перечней'!$I$4:$Q$529,ROW('10. Свод Перечней'!$C$4:$C$529)-3,""),ROW()-6)),"")} -> Капуста белокочанная тип 2 | D15: =IFERROR(VLOOKUP(C15,'10. Свод Перечней'!C:H,2,0),"") -> 01.13.12.120 | E15: =IFERROR(VLOOKUP(C15,'10. Свод Перечней'!C:H,3,0),"") -> 002 | F15: =IFERROR(VLOOKUP(C15,'10. Свод Перечней'!C:H,4,0),"") -> КГ | G15: =IFERROR(VLOOKUP(C15,'10. Свод Перечней'!C:H,5,0),"") -> Капуста очищенная: Нет Вид капусты по сроку созревания: Раннеспелая Товарный класс: Первый Вид: Свежая Фасовка: Весовая Соответствие нормативно-технической документации: Технический регламент Таможенного союза "О безопасности упаковки" от 16.08.2011 ТР ТС № 005/2011, Технический регламент Таможенного союза "О безопасности пищевой продукции" от 09.12.2011 № 021/2011, Технический регламент Таможенного союза "Пищевая продукция в части ее маркировки" от 09.12.2011 № 022/2011, ГОСТ Р 51809-2001 | H15: =IF(LEN(IFERROR(VLOOKUP(C15,'10. Свод Перечней'!C:H,6,0),""))>1,IFERROR(VLOOKUP(C15,'10. Свод Перечней'!C:H,6,0),""),"") -> 01.13.12.120-00000002
A16: =IF(LEN(C16)>0,MAX($A$6:A15)+1,"") -> 10 | B16: =IFERROR(INDEX('10. Свод Перечней'!B:C,MATCH(C16,'10. Свод Перечней'!C:C,0),1),"") -> Капуста краснокочанная свежая | C16: {=IFERROR(INDEX('10. Свод Перечней'!$C$4:$C$529,SMALL(IF("С"='10. Свод Перечней'!$I$4:$Q$529,ROW('10. Свод Перечней'!$C$4:$C$529)-3,""),ROW()-6)),"")} -> Капуста краснокочанная тип 1 | D16: =IFERROR(VLOOKUP(C16,'10. Свод Перечней'!C:H,2,0),"") -> 01.13.12.130 | E16: =IFERROR(VLOOKUP(C16,'10. Свод Перечней'!C:H,3,0),"") -> 001 | F16: =IFERROR(VLOOKUP(C16,'10. Свод Перечней'!C:H,4,0),"") -> КГ | G16: =IFERROR(VLOOKUP(C16,'10. Свод Перечней'!C:H,5,0),"") -> Вид: Свежая Фасовка: Весовая Соответствие нормативно-технической документации: Технический регламент Таможенного союза "О безопасности упаковки" от 16.08.2011 ТР ТС № 005/2011, Технический регламент Таможенного союза "О безопасности пищевой продукции" от 09.12.2011 № 021/2011, Технический регламент Таможенного союза "Пищевая продукция в части ее маркировки" от 09.12.2011 № 022/2011, ГОСТ 7967-2015 | H16: =IF(LEN(IFERROR(VLOOKUP(C16,'10. Свод Перечней'!C:H,6,0),""))>1,IFERROR(VLOOKUP(C16,'10. Свод Перечней'!C:H,6,0),""),"")
A17: =IF(LEN(C17)>0,MAX($A$6:A16)+1,"") -> 11 | B17: =IFERROR(INDEX('10. Свод Перечней'!B:C,MATCH(C17,'10. Свод Перечней'!C:C,0),1),"") -> Капуста китайская свежая | C17: {=IFERROR(INDEX('10. Свод Перечней'!$C$4:$C$529,SMALL(IF("С"='10. Свод Перечней'!$I$4:$Q$529,ROW('10. Свод Перечней'!$C$4:$C$529)-3,""),ROW()-6)),"")} -> Капуста китайская тип 1 | D17: =IFERROR(VLOOKUP(C17,'10. Свод Перечней'!C:H,2,0),"") -> 01.13.12.150 | E17: =IFERROR(VLOOKUP(C17,'10. Свод Перечней'!C:H,3,0),"") -> 001 | F17: =IFERROR(VLOOKUP(C17,'10. Свод Перечней'!C:H,4,0),"") -> КГ | G17: =IFERROR(VLOOKUP(C17,'10. Свод Перечней'!C:H,5,0),"") -> Вид: Свежая Фасовка: Весовая Соответствие нормативно-технической документации: Технический регламент Таможенного союза "О безопасности упаковки" от 16.08.2011 ТР ТС № 005/2011, Технический регламент Таможенного союза "О безопасности пищевой продукции" от 09.12.2011 № 021/2011, Технический регламент Таможенного союза "Пищевая продукция в части ее маркировки" от 09.12.2011 № 022/2011, ГОСТ 34323-2017 | H17: =IF(LEN(IFERROR(VLOOKUP(C17,'10. Свод Перечней'!C:H,6,0),""))>1,IFERROR(VLOOKUP(C17,'10. Свод Перечней'!C:H,6,0),""),"")
A18: =IF(LEN(C18)>0,MAX($A$6:A17)+1,"") -> 12 | B18: =IFERROR(INDEX('10. Свод Перечней'!B:C,MATCH(C18,'10. Свод Перечней'!C:C,0),1),"") -> Капуста брокколи тип 1 | C18: {=IFERROR(INDEX('10. Свод Перечней'!$C$4:$C$529,SMALL(IF("С"='10. Свод Перечней'!$I$4:$Q$529,ROW('10. Свод Перечней'!$C$4:$C$529)-3,""),ROW()-6)),"")} -> Капуста брокколи тип 1 | D18: =IFERROR(VLOOKUP(C18,'10. Свод Перечней'!C:H,2,0),"") -> 01.13.13.000 | E18: =IFERROR(VLOOKUP(C18,'10. Свод Перечней'!C:H,3,0),"") -> 001 | F18: =IFERROR(VLOOKUP(C18,'10. Свод Перечней'!C:H,4,0),"") -> КГ | G18: =IFERROR(VLOOKUP(C18,'10. Свод Перечней'!C:H,5,0),"") -> Товарный сорт: Первый Вид: Свежая Фасовка: Весовая Соответствие нормативно-технической документации: Технический регламент Таможенного союза "О безопасности упаковки" от 16.08.2011 ТР ТС № 005/2011, Технический регламент Таможенного союза "О безопасности пищевой продукции" от 09.12.2011 № 021/2011, Технический регламент Таможенного союза "Пищевая продукция в части ее маркировки" от 09.12.2011 № 022/2011, ГОСТ 33854-2016 | H18: =IF(LEN(IFERROR(VLOOKUP(C18,'10. Свод Перечней'!C:H,6,0),""))>1,IFERROR(VLOOKUP(C18,'10. Свод Перечней'!C:H,6,0),""),"") -> 01.13.13.000-00000002
A19: =IF(LEN(C19)>0,MAX($A$6:A18)+1,"") -> 13 | B19: =IFERROR(INDEX('10. Свод Перечней'!B:C,MATCH(C19,'10. Свод Перечней'!C:C,0),1),"") -> Капуста цветная свежая | C19: {=IFERROR(INDEX('10. Свод Перечней'!$C$4:$C$529,SMALL(IF("С"='10. Свод Перечней'!$I$4:$Q$529,ROW('10. Свод Перечней'!$C$4:$C$529)-3,""),ROW()-6)),"")} -> Капуста цветная тип 1 | D19: =IFERROR(VLOOKUP(C19,'10. Свод Перечней'!C:H,2,0),"") -> 01.13.13.000 | E19: =IFERROR(VLOOKUP(C19,'10. Свод Перечней'!C:H,3,0),"") -> 003 | F19: =IFERROR(VLOOKUP(C19,'10. Свод Перечней'!C:H,4,0),"") -> КГ | G19: =IFERROR(VLOOKUP(C19,'10. Свод Перечней'!C:H,5,0),"") -> Товарный сорт: Высший Вид: Свежая Фасовка: Весовая Соответствие нормативно-технической документации: Технический регламент Таможенного союза "О безопасности упаковки" от 16.08.2011 ТР ТС № 005/2011, Технический регламент Таможенного союза "О безопасности пищевой продукции" от 09.12.2011 № 021/2011, Технический регламент Таможенного союза "Пищевая продукция в части ее маркировки" от 09.12.2011 № 022/2011, ГОСТ 33952-2016 | H19: =IF(LEN(IFERROR(VLOOKUP(C19,'10. Свод Перечней'!C:H,6,0),""))>1,IFERROR(VLOOKUP(C19,'10. Свод Перечней'!C:H,6,0),""),"") -> 01.13.13.000-00000006
... A1178: =IF(LEN(C1178)>0,MAX($A$6:A1177)+1,"") | B1178: =IFERROR(INDEX('10. Свод Перечней'!B:C,MATCH(C1178,'10. Свод Перечней'!C:C,0),1),"") | C1178: {=IFERROR(INDEX('10. Свод Перечней'!$C$4:$C$529,SMALL(IF("С"='10. Свод Перечней'!$I$4:$Q$529,ROW('10. Свод Перечней'!$C$4:$C$529)-3,""),ROW()-6)),"")} | D1178: =IFERROR(VLOOKUP(C1178,'10. Свод Перечней'!C:H,2,0),"") | E1178: =IFERROR(VLOOKUP(C1178,'10. Свод Перечней'!C:H,3,0),"") | F1178: =IFERROR(VLOOKUP(C1178,'10. Свод Перечней'!C:H,4,0),"") | G1178: =IFERROR(VLOOKUP(C1178,'10. Свод Перечней'!C:H,5,0),"") | H1178: =IF(LEN(IFERROR(VLOOKUP(C1178,'10. Свод Перечней'!C:H,6,0),""))>1,IFERROR(VLOOKUP(C1178,'10. Свод Перечней'!C:H,6,0),""),"")

Sheet 8. Целиакия Взрослые
A2: Дата актуализации ассортиментного перечня «01» июня 2023 г
A3: Ассортиментный перечень основных групп продовольственных товаров и сырья для обеспечения социального питания в учреждениях Санкт-Петербурга для больных целиакией (для взрослых)
A4: Примечание! * - Продукция предназначенная для лечебного, специального питания ** - предназначенные для использования в питании после термической обработки. Информацию о действующей нормативной документации, а также изменениях вносимых в национальные стандарты можно получить в Управлении социального питания по телефонам 417-35-50, 417-35-52 и на сайте Управления по адресу: http://www.gov.spb.ru, вкладка «Нормативные документы».
A5: № | B5: Потребительское наименование товара | C5: Название товара ККН/КТРУ | D5: ОКПД2 | E5: Детализация ККН | F5: Единица измерения ККН | G5: Характеристики товара | H5: Код КТРУ
A6: 1 | B6: 2 | C6: 2 | D6: 3 | E6: 4 | F6: 5 | G6: 6 | H6: 7
A7: 1 | B7: =IFERROR(INDEX('10. Свод Перечней'!B:C,MATCH(C7,'10. Свод Перечней'!C:C,0),1),"") -> Фасоль овощная свежая | C7: {=IFERROR(INDEX('10. Свод Перечней'!$C$4:$C$529,SMALL(IF("ЦВ"='10. Свод Перечней'!$I$4:$Q$529,ROW('10. Свод Перечней'!$C$4:$C$529)-3,""),ROW()-6)),"")} -> Фасоль тип 1 | D7: =IFERROR(VLOOKUP(C7,'10. Свод Перечней'!C:H,2,0),"") -> 01.11.61.000 | E7: =IFERROR(VLOOKUP(C7,'10. Свод Перечней'!C:H,3,0),"") -> 001 | F7: =IFERROR(VLOOKUP(C7,'10. Свод Перечней'!C:H,4,0),"") -> КГ | G7: =IFERROR(VLOOKUP(C7,'10. Свод Перечней'!C:H,5,0),"") -> Тип: Овощная Вид: Свежая Сорт: Высший; Первый Фасовка: Весовая Соответствие нормативно-технической документации: Технический регламент Таможенного союза "О безопасности упаковки" от 16.08.2011 ТР ТС № 005/2011, Технический регламент Таможенного союза "О безопасности пищевой продукции" от 09.12.2011 № 021/2011, Технический регламент Таможенного союза "Пищевая продукция в части ее маркировки" от 09.12.2011 № 022/2011, ГОСТ 34299-2017 | H7: =IF(LEN(IFERROR(VLOOKUP(C7,'10. Свод Перечней'!C:H,6,0),""))>1,IFERROR(VLOOKUP(C7,'10. Свод Перечней'!C:H,6,0),""),"")
A8: =IF(LEN(C8)>0,MAX($A$6:A7)+1,"") -> 2 | B8: =IFERROR(INDEX('10. Свод Перечней'!B:C,MATCH(C8,'10. Свод Перечней'!C:C,0),1),"") -> Фасоль продовольственная | C8: {=IFERROR(INDEX('10. Свод Перечней'!$C$4:$C$529,SMALL(IF("ЦВ"='10. Свод Перечней'!$I$4:$Q$529,ROW('10. Свод Перечней'!$C$4:$C$529)-3,""),ROW()-6)),"")} -> Фасоль продовольственная тип 1 | D8: =IFERROR(VLOOKUP(C8,'10. Свод Перечней'!C:H,2,0),"") -> 01.11.71.110 | E8: =IFERROR(VLOOKUP(C8,'10. Свод Перечней'!C:H,3,0),"") -> 002 | F8: =IFERROR(VLOOKUP(C8,'10. Свод Перечней'!C:H,4,0),"") -> КГ | G8: =IFERROR(VLOOKUP(C8,'10. Свод Перечней'!C:H,5,0),"") -> Номер и наименование типа фасоли: I. Фасоль белая; II. Фасоль цветная однотонная; III. Фасоль цветная пестрая Фасовка: Весовая Соответствие нормативно-технической документации: Технический регламент Таможенного союза "О безопасности упаковки" от 16.08.2011 ТР ТС № 005/2011, Технический регламент Таможенного союза "О безопасности пищевой продукции" от 09.12.2011 № 021/2011, Технический регламент Таможенного союза "Пищевая продукция в части ее маркировки" от 09.12.2011 № 022/2011, ГОСТ 7758-2020 | H8: =IF(LEN(IFERROR(VLOOKUP(C8,'10. Свод Перечней'!C:H,6,0),""))>1,IFERROR(VLOOKUP(C8,'10. Свод Перечней'!C:H,6,0),""),"") -> 01.11.71.110-00000001, 01.11.71.110-00000002, 01.11.71.110-00000003
A9: =IF(LEN(C9)>0,MAX($A$6:A8)+1,"") -> 3 | B9: =IFERROR(INDEX('10. Свод Перечней'!B:C,MATCH(C9,'10. Свод Перечней'!C:C,0),1),"") -> Фасоль продовольственная | C9: {=IFERROR(INDEX('10. Свод Перечней'!$C$4:$C$529,SMALL(IF("ЦВ"='10. Свод Перечней'!$I$4:$Q$529,ROW('10. Свод Перечней'!$C$4:$C$529)-3,""),ROW()-6)),"")} -> Фасоль продовольственная тип 2 | D9: =IFERROR(VLOOKUP(C9,'10. Свод Перечней'!C:H,2,0),"") -> 01.11.71.110 | E9: =IFERROR(VLOOKUP(C9,'10. Свод Перечней'!C:H,3,0),"") -> 001 | F9: =IFERROR(VLOOKUP(C9,'10. Свод Перечней'!C:H,4,0),"") -> КГ | G9: =IFERROR(VLOOKUP(C9,'10. Свод Перечней'!C:H,5,0),"") -> Номер и наименование типа фасоли: I. Фасоль белая; II. Фасоль цветная однотонная; III. Фасоль цветная пестрая Вес: не более 1 КГ Упаковка производителя: Наличие Соответствие нормативно-технической документации: Технический регламент Таможенного союза "О безопасности упаковки" от 16.08.2011 ТР ТС № 005/2011, Технический регламент Таможенного союза "О безопасности пищевой продукции" от 09.12.2011 № 021/2011, Технический регламент Таможенного союза "Пищевая продукция в части ее маркировки" от 09.12.2011 № 022/2011, ГОСТ 7758-2020 | H9: =IF(LEN(IFERROR(VLOOKUP(C9,'10. Свод Перечней'!C:H,6,0),""))>1,IFERROR(VLOOKUP(C9,'10. Свод Перечней'!C:H,6,0),""),"") -> 01.11.71.110-00000001, 01.11.71.110-00000002, 01.11.71.110-00000003
A10: =IF(LEN(C10)>0,MAX($A$6:A9)+1,"") -> 4 | B10: =IFERROR(INDEX('10. Свод Перечней'!B:C,MATCH(C10,'10. Свод Перечней'!C:C,0),1),"") -> Чечевица | C10: {=IFERROR(INDEX('10. Свод Перечней'!$C$4:$C$529,SMALL(IF("ЦВ"='10. Свод Перечней'!$I$4:$Q$529,ROW('10. Свод Перечней'!$C$4:$C$529)-3,""),ROW()-6)),"")} -> Чечевица продовольственная тип 1 | D10: =IFERROR(VLOOKUP(C10,'10. Свод Перечней'!C:H,2,0),"") -> 01.11.74.110 | E10: =IFERROR(VLOOKUP(C10,'10. Свод Перечней'!C:H,3,0),"") -> 002 | F10: =IFERROR(VLOOKUP(C10,'10. Свод Перечней'!C:H,4,0),"") -> КГ | G10: =IFERROR(VLOOKUP(C10,'10. Свод Перечней'!C:H,5,0),"") -> Тип чечевицы: Красная; Коричневая; Неоднородная; Светло-зеленая; Темно-зеленая Фасовка: Весовая Соответствие нормативно-технической документации: Технический регламент Таможенного союза "О безопасности упаковки" от 16.08.2011 ТР ТС № 005/2011, Технический регламент Таможенного союза "О безопасности пищевой продукции" от 09.12.2011 № 021/2011, Технический регламент Таможенного союза "Пищевая продукция в части ее маркировки" от 09.12.2011 № 022/2011, ГОСТ 7066-2019 | H10: =IF(LEN(IFERROR(VLOOKUP(C10,'10. Свод Перечней'!C:H,6,0),""))>1,IFERROR(VLOOKUP(C10,'10. Свод Перечней'!C:H,6,0),""),"") -> 01.11.74.110-00000001, 01.11.74.110-00000002, 01.11.74.110-00000003, 01.11.74.110-00000004, 01.11.74.110-00000005
A11: =IF(LEN(C11)>0,MAX($A$6:A10)+1,"") -> 5 | B11: =IFERROR(INDEX('10. Свод Перечней'!B:C,MATCH(C11,'10. Свод Перечней'!C:C,0),1),"") -> Чечевица | C11: {=IFERROR(INDEX('10. Свод Перечней'!$C$4:$C$529,SMALL(IF("ЦВ"='10. Свод Перечней'!$I$4:$Q$529,ROW('10. Свод Перечней'!$C$4:$C$529)-3,""),ROW()-6)),"")} -> Чечевица продовольственная тип 2 | D11: =IFERROR(VLOOKUP(C11,'10. Свод Перечней'!C:H,2,0),"") -> 01.11.74.110 | E11: =IFERROR(VLOOKUP(C11,'10. Свод Перечней'!C:H,3,0),"") -> 001 | F11: =IFERROR(VLOOKUP(C11,'10. Свод Перечней'!C:H,4,0),"") -> КГ | G11: =IFERROR(VLOOKUP(C11,'10. Свод Перечней'!C:H,5,0),"") -> Тип чечевицы: Красная; Коричневая; Неоднородная; Светло-зеленая; Темно-зеленая Вес: не более 1 КГ Упаковка производителя: Наличие Соответствие нормативно-технической документации: Технический регламент Таможенного союза "О безопасности упаковки" от 16.08.2011 ТР ТС № 005/2011, Технический регламент Таможенного союза "О безопасности пищевой продукции" от 09.12.2011 № 021/2011, Технический регламент Таможенного союза "Пищевая продукция в части ее маркировки" от 09.12.2011 № 022/2011, ГОСТ 7066-2019 | H11: =IF(LEN(IFERROR(VLOOKUP(C11,'10. Свод Перечней'!C:H,6,0),""))>1,IFERROR(VLOOKUP(C11,'10. Свод Перечней'!C:H,6,0),""),"") -> 01.11.74.110-00000001, 01.11.74.110-00000002, 01.11.74.110-00000003, 01.11.74.110-00000004, 01.11.74.110-00000005
A12: =IF(LEN(C12)>0,MAX($A$6:A11)+1,"") -> 6 | B12: =IFERROR(INDEX('10. Свод Перечней'!B:C,MATCH(C12,'10. Свод Перечней'!C:C,0),1),"") -> Горох шлифованный | C12: {=IFERROR(INDEX('10. Свод Перечней'!$C$4:$C$529,SMALL(IF("ЦВ"='10. Свод Перечней'!$I$4:$Q$529,ROW('10. Свод Перечней'!$C$4:$C$529)-3,""),ROW()-6)),"")} -> Горох шлифованный тип 1 | D12: =IFERROR(VLOOKUP(C12,'10. Свод Перечней'!C:H,2,0),"") -> 01.11.75.110 | E12: =IFERROR(VLOOKUP(C12,'10. Свод Перечней'!C:H,3,0),"") -> 001 | F12: =IFERROR(VLOOKUP(C12,'10. Свод Перечней'!C:H,4,0),"") -> КГ | G12: =IFERROR(VLOOKUP(C12,'10. Свод Перечней'!C:H,5,0),"") -> Вид зерна: Целое Сорт: Не ниже первого Вес: не более 1 КГ Упаковка производителя: Наличие Соответствие нормативно-технической документации: Технический регламент Таможенного союза "О безопасности упаковки" от 16.08.2011 ТР ТС № 005/2011, Технический регламент Таможенного союза "О безопасности пищевой продукции" от 09.12.2011 № 021/2011, Технический регламент Таможенного союза "Пищевая продукция в части ее маркировки" от 09.12.2011 № 022/2011, ГОСТ 6201-20 | H12: =IF(LEN(IFERROR(VLOOKUP(C12,'10. Свод Перечней'!C:H,6,0),""))>1,IFERROR(VLOOKUP(C12,'10. Свод Перечней'!C:H,6,0),""),"") -> 01.11.75.110-00000002
A13: =IF(LEN(C13)>0,MAX($A$6:A12)+1,"") -> 7 | B13: =IFERROR(INDEX('10. Свод Перечней'!B:C,MATCH(C13,'10. Свод Перечней'!C:C,0),1),"") -> Горох шлифованный | C13: {=IFERROR(INDEX('10. Свод Перечней'!$C$4:$C$529,SMALL(IF("ЦВ"='10. Свод Перечней'!$I$4:$Q$529,ROW('10. Свод Перечней'!$C$4:$C$529)-3,""),ROW()-6)),"")} -> Горох шлифованный тип 2 | D13: =IFERROR(VLOOKUP(C13,'10. Свод Перечней'!C:H,2,0),"") -> 01.11.75.110 | E13: =IFERROR(VLOOKUP(C13,'10. Свод Перечней'!C:H,3,0),"") -> 002 | F13: =IFERROR(VLOOKUP(C13,'10. Свод Перечней'!C:H,4,0),"") -> КГ | G13: =IFERROR(VLOOKUP(C13,'10. Свод Перечней'!C:H,5,0),"") -> Вид зерна: Целое Сорт: Не ниже первого Фасовка: Весовая Соответствие нормативно-технической документации: Технический регламент Таможенного союза "О безопасности упаковки" от 16.08.2011 ТР ТС № 005/2011, Технический регламент Таможенного союза "О безопасности пищевой продукции" от 09.12.2011 № 021/2011, Технический регламент Таможенного союза "Пищевая продукция в части ее маркировки" от 09.12.2011 № 022/2011, ГОСТ 6201-20 | H13: =IF(LEN(IFERROR(VLOOKUP(C13,'10. Свод Перечней'!C:H,6,0),""))>1,IFERROR(VLOOKUP(C13,'10. Свод Перечней'!C:H,6,0),""),"") -> 01.11.75.110-00000002
A14: =IF(LEN(C14)>0,MAX($A$6:A13)+1,"") -> 8 | B14: =IFERROR(INDEX('10. Свод Перечней'!B:C,MATCH(C14,'10. Свод Перечней'!C:C,0),1),"") -> Капуста брюссельская свежая | C14: {=IFERROR(INDEX('10. Свод Перечней'!$C$4:$C$529,SMALL(IF("ЦВ"='10. Свод Перечней'!$I$4:$Q$529,ROW('10. Свод Перечней'!$C$4:$C$529)-3,""),ROW()-6)),"")} -> Капуста брюссельская тип 1 | D14: =IFERROR(VLOOKUP(C14,'10. Свод Перечней'!C:H,2,0),"") -> 01.13.12.110 | E14: =IFERROR(VLOOKUP(C14,'10. Свод Перечней'!C:H,3,0),"") -> 001 | F14: =IFERROR(VLOOKUP(C14,'10. Свод Перечней'!C:H,4,0),"") -> КГ | G14: =IFERROR(VLOOKUP(C14,'10. Свод Перечней'!C:H,5,0),"") -> Вид: Свежая Фасовка: Весовая Соответствие нормативно-технической документации: Технический регламент Таможенного союза "О безопасности упаковки" от 16.08.2011 ТР ТС № 005/2011, Технический регламент Таможенного союза "О безопасности пищевой продукции" от 09.12.2011 № 021/2011, Технический регламент Таможенного союза "Пищевая продукция в части ее маркировки" от 09.12.2011 № 022/2011, ГОСТ 33851-2016 | H14: =IF(LEN(IFERROR(VLOOKUP(C14,'10. Свод Перечней'!C:H,6,0),""))>1,IFERROR(VLOOKUP(C14,'10. Свод Перечней'!C:H,6,0),""),"")
A15: =IF(LEN(C15)>0,MAX($A$6:A14)+1,"") -> 9 | B15: =IFERROR(INDEX('10. Свод Перечней'!B:C,MATCH(C15,'10. Свод Перечней'!C:C,0),1),"") -> Капуста белокочанная свежая | C15: {=IFERROR(INDEX('10. Свод Перечней'!$C$4:$C$529,SMALL(IF("ЦВ"='10. Свод Перечней'!$I$4:$Q$529,ROW('10. Свод Перечней'!$C$4:$C$529)-3,""),ROW()-6)),"")} -> Капуста белокочанная тип 1 | D15: =IFERROR(VLOOKUP(C15,'10. Свод Перечней'!C:H,2,0),"") -> 01.13.12.120 | E15: =IFERROR(VLOOKUP(C15,'10. Свод Перечней'!C:H,3,0),"") -> 001 | F15: =IFERROR(VLOOKUP(C15,'10. Свод Перечней'!C:H,4,0),"") -> КГ | G15: =IFERROR(VLOOKUP(C15,'10. Свод Перечней'!C:H,5,0),"") -> Капуста очищенная: Нет Вид капусты по сроку созревания: Среднеспелая; Позднеспелая; Среднепоздняя Товарный класс: Первый Вид: Свежая Фасовка: Весовая Соответствие нормативно-технической документации: Технический регламент Таможенного союза "О безопасности упаковки" от 16.08.2011 ТР ТС № 005/2011, Технический регламент Таможенного союза "О безопасности пищевой продукции" от 09.12.2011 № 021/2011, Технический регламент Таможенного союза "Пищевая продукция в части ее маркировки" от 09.12.2011 № 022/2011, ГОСТ Р 51809-2001 | H15: =IF(LEN(IFERROR(VLOOKUP(C15,'10. Свод Перечней'!C:H,6,0),""))>1,IFERROR(VLOOKUP(C15,'10. Свод Перечней'!C:H,6,0),""),"") -> 01.13.12.120-00000002
A16: =IF(LEN(C16)>0,MAX($A$6:A15)+1,"") -> 10 | B16: =IFERROR(INDEX('10. Свод Перечней'!B:C,MATCH(C16,'10. Свод Перечней'!C:C,0),1),"") -> Капуста белокочанная свежая | C16: {=IFERROR(INDEX('10. Свод Перечней'!$C$4:$C$529,SMALL(IF("ЦВ"='10. Свод Перечней'!$I$4:$Q$529,ROW('10. Свод Перечней'!$C$4:$C$529)-3,""),ROW()-6)),"")} -> Капуста белокочанная тип 2 | D16: =IFERROR(VLOOKUP(C16,'10. Свод Перечней'!C:H,2,0),"") -> 01.13.12.120 | E16: =IFERROR(VLOOKUP(C16,'10. Свод Перечней'!C:H,3,0),"") -> 002 | F16: =IFERROR(VLOOKUP(C16,'10. Свод Перечней'!C:H,4,0),"") -> КГ | G16: =IFERROR(VLOOKUP(C16,'10. Свод Перечней'!C:H,5,0),"") -> Капуста очищенная: Нет Вид капусты по сроку созревания: Раннеспелая Товарный класс: Первый Вид: Свежая Фасовка: Весовая Соответствие нормативно-технической документации: Технический регламент Таможенного союза "О безопасности упаковки" от 16.08.2011 ТР ТС № 005/2011, Технический регламент Таможенного союза "О безопасности пищевой продукции" от 09.12.2011 № 021/2011, Технический регламент Таможенного союза "Пищевая продукция в части ее маркировки" от 09.12.2011 № 022/2011, ГОСТ Р 51809-2001 | H16: =IF(LEN(IFERROR(VLOOKUP(C16,'10. Свод Перечней'!C:H,6,0),""))>1,IFERROR(VLOOKUP(C16,'10. Свод Перечней'!C:H,6,0),""),"") -> 01.13.12.120-00000002
A17: =IF(LEN(C17)>0,MAX($A$6:A16)+1,"") -> 11 | B17: =IFERROR(INDEX('10. Свод Перечней'!B:C,MATCH(C17,'10. Свод Перечней'!C:C,0),1),"") -> Капуста краснокочанная свежая | C17: {=IFERROR(INDEX('10. Свод Перечней'!$C$4:$C$529,SMALL(IF("ЦВ"='10. Свод Перечней'!$I$4:$Q$529,ROW('10. Свод Перечней'!$C$4:$C$529)-3,""),ROW()-6)),"")} -> Капуста краснокочанная тип 1 | D17: =IFERROR(VLOOKUP(C17,'10. Свод Перечней'!C:H,2,0),"") -> 01.13.12.130 | E17: =IFERROR(VLOOKUP(C17,'10. Свод Перечней'!C:H,3,0),"") -> 001 | F17: =IFERROR(VLOOKUP(C17,'10. Свод Перечней'!C:H,4,0),"") -> КГ | G17: =IFERROR(VLOOKUP(C17,'10. Свод Перечней'!C:H,5,0),"") -> Вид: Свежая Фасовка: Весовая Соответствие нормативно-технической документации: Технический регламент Таможенного союза "О безопасности упаковки" от 16.08.2011 ТР ТС № 005/2011, Технический регламент Таможенного союза "О безопасности пищевой продукции" от 09.12.2011 № 021/2011, Технический регламент Таможенного союза "Пищевая продукция в части ее маркировки" от 09.12.2011 № 022/2011, ГОСТ 7967-2015 | H17: =IF(LEN(IFERROR(VLOOKUP(C17,'10. Свод Перечней'!C:H,6,0),""))>1,IFERROR(VLOOKUP(C17,'10. Свод Перечней'!C:H,6,0),""),"")
A18: =IF(LEN(C18)>0,MAX($A$6:A17)+1,"") -> 12 | B18: =IFERROR(INDEX('10. Свод Перечней'!B:C,MATCH(C18,'10. Свод Перечней'!C:C,0),1),"") -> Капуста брокколи тип 1 | C18: {=IFERROR(INDEX('10. Свод Перечней'!$C$4:$C$529,SMALL(IF("ЦВ"='10. Свод Перечней'!$I$4:$Q$529,ROW('10. Свод Перечней'!$C$4:$C$529)-3,""),ROW()-6)),"")} -> Капуста брокколи тип 1 | D18: =IFERROR(VLOOKUP(C18,'10. Свод Перечней'!C:H,2,0),"") -> 01.13.13.000 | E18: =IFERROR(VLOOKUP(C18,'10. Свод Перечней'!C:H,3,0),"") -> 001 | F18: =IFERROR(VLOOKUP(C18,'10. Свод Перечней'!C:H,4,0),"") -> КГ | G18: =IFERROR(VLOOKUP(C18,'10. Свод Перечней'!C:H,5,0),"") -> Товарный сорт: Первый Вид: Свежая Фасовка: Весовая Соответствие нормативно-технической документации: Технический регламент Таможенного союза "О безопасности упаковки" от 16.08.2011 ТР ТС № 005/2011, Технический регламент Таможенного союза "О безопасности пищевой продукции" от 09.12.2011 № 021/2011, Технический регламент Таможенного союза "Пищевая продукция в части ее маркировки" от 09.12.2011 № 022/2011, ГОСТ 33854-2016 | H18: =IF(LEN(IFERROR(VLOOKUP(C18,'10. Свод Перечней'!C:H,6,0),""))>1,IFERROR(VLOOKUP(C18,'10. Свод Перечней'!C:H,6,0),""),"") -> 01.13.13.000-00000002
A19: =IF(LEN(C19)>0,MAX($A$6:A18)+1,"") -> 13 | B19: =IFERROR(INDEX('10. Свод Перечней'!B:C,MATCH(C19,'10. Свод Перечней'!C:C,0),1),"") -> Капуста цветная свежая | C19: {=IFERROR(INDEX('10. Свод Перечней'!$C$4:$C$529,SMALL(IF("ЦВ"='10. Свод Перечней'!$I$4:$Q$529,ROW('10. Свод Перечней'!$C$4:$C$529)-3,""),ROW()-6)),"")} -> Капуста цветная тип 1 | D19: =IFERROR(VLOOKUP(C19,'10. Свод Перечней'!C:H,2,0),"") -> 01.13.13.000 | E19: =IFERROR(VLOOKUP(C19,'10. Свод Перечней'!C:H,3,0),"") -> 003 | F19: =IFERROR(VLOOKUP(C19,'10. Свод Перечней'!C:H,4,0),"") -> КГ | G19: =IFERROR(VLOOKUP(C19,'10. Свод Перечней'!C:H,5,0),"") -> Товарный сорт: Высший Вид: Свежая Фасовка: Весовая Соответствие нормативно-технической документации: Технический регламент Таможенного союза "О безопасности упаковки" от 16.08.2011 ТР ТС № 005/2011, Технический регламент Таможенного союза "О безопасности пищевой продукции" от 09.12.2011 № 021/2011, Технический регламент Таможенного союза "Пищевая продукция в части ее маркировки" от 09.12.2011 № 022/2011, ГОСТ 33952-2016 | H19: =IF(LEN(IFERROR(VLOOKUP(C19,'10. Свод Перечней'!C:H,6,0),""))>1,IFERROR(VLOOKUP(C19,'10. Свод Перечней'!C:H,6,0),""),"") -> 01.13.13.000-00000006
... A1125: =IF(LEN(C1125)>0,MAX($A$6:A1124)+1,"") | B1125: =IFERROR(INDEX('10. Свод Перечней'!B:C,MATCH(C1125,'10. Свод Перечней'!C:C,0),1),"") | C1125: {=IFERROR(INDEX('10. Свод Перечней'!$C$4:$C$529,SMALL(IF("ЦВ"='10. Свод Перечней'!$I$4:$Q$529,ROW('10. Свод Перечней'!$C$4:$C$529)-3,""),ROW()-6)),"")} | D1125: =IFERROR(VLOOKUP(C1125,'10. Свод Перечней'!C:H,2,0),"") | E1125: =IFERROR(VLOOKUP(C1125,'10. Свод Перечней'!C:H,3,0),"") | F1125: =IFERROR(VLOOKUP(C1125,'10. Свод Перечней'!C:H,4,0),"") | G1125: =IFERROR(VLOOKUP(C1125,'10. Свод Перечней'!C:H,5,0),"") | H1125: =IF(LEN(IFERROR(VLOOKUP(C1125,'10. Свод Перечней'!C:H,6,0),""))>1,IFERROR(VLOOKUP(C1125,'10. Свод Перечней'!C:H,6,0),""),"")

Sheet 9. Целиакия Дети
A2: Дата актуализации ассортиментного перечня «01» июня 2023 г
A3: Ассортиментный перечень основных групп продовольственных товаров и сырья для обеспечения социального питания в учреждениях Санкт-Петербурга для больных целиакией (для детей)
A4: Примечание! * - Продукция предназначенная для лечебного, специального питания ** - предназначенные для использования в питании после термической обработки. Информацию о действующей нормативной документации, а также изменениях вносимых в национальные стандарты можно получить в Управлении социального питания по телефонам 417-35-50, 417-35-52 и на сайте Управления по адресу: http://www.gov.spb.ru, вкладка «Нормативные документы».
