Workbook

Sheet расчет
A1: ПРОТОКОЛ ПО ФОРМИРОВАНИЮ НАЧАЛЬНОЙ (МАКСИМАЛЬНОЙ) ЦЕНЫ КОНТРАКТА
A2: Расчет произведен в соответствии с Приказом Минэкономразвития России от 02.10.2013 N 567 на основании информации о ценах продукции, полученной по запросу заказчика (ч.5 ст.22 44-ФЗ) и (или) информации о ценах продукции, содержащейся в контрактах (п.1 ч.18 ст.22 44-ФЗ)
A3: Поставка товаров, для оснащения медицинского кабинета для нужд Государственного бюджетного общеобразовательного учреждения средняя общеобразовательная школа № 321 Центрального района Санкт-Петербурга
A5: № п/п | B5: Наименование товара | C5: Ед.изм | D5: Кол-во | E5: Цена предл. №1 (исх. №225 от 18.05.2026) | F5: Цена предл. №2 (исх. №911 от 18.05.2026) | G5: Цена предл. №3 (исх. №462 от 12.05.2026) | H5: Цена предл. №4 от _____, б/н,(руб. вкл. НДС) | I5: Цена предл. №5 от _____, б/н, (руб. вкл. НДС) | J5: Средняя арифметическая цена единицы товара | K5: Среднеквадратичное отклонение | L5: Коэффициент вариации (%) | M5: НМЦК (руб. вкл. НДС)
A6: 1 | B6: 2 | C6: 3 | D6: 4 | E6: 5 | F6: 6 | G6: 7 | H6: 8 | I6: 9 | J6: 10 | K6: 11 | L6: 12 | M6: 13
A7: 1 | B7: =[1]НМЦК!C15 -> Ростомер медицинский | C7: =[2]НМЦК!E15 -> шт | D7: =[1]НМЦК!D15 -> 1 | E7: 9980 | F7: 9450 | G7: 9540 | H7: 0 | I7: 0 | J7: =ROUND(SUM(E7:I7)/(IF(E7<1,0,1)+IF(F7<1,0,1)+IF(G7<1,0,1)+IF(H7<1,0,1)+IF(I7<1,0,1)),2) -> 9656.67 | K7: =IF(J7=0,0,(SQRT((IF(E7<1,0,POWER((E7-J7),2))+IF(F7<1,0,POWER((F7-J7),2))+IF(G7<1,0,POWER((G7-J7),2))+IF(H7<1,0,POWER((H7-J7),2))+IF(I7<1,0,POWER((I7-J7),2)))/((IF(E7<1,0,1)+IF(F7<1,0,1)+IF(G7<1,0,1)+IF(H7<1,0,1)+IF(I7<1,0,1))-1)))) -> 283.60771 | L7: =IF(J7=0,0,(K7/J7)*100) -> 2.93691 | M7: =J7*D7 -> 9656.67
A8: 2 | B8: =[1]НМЦК!C16 -> Весы напольные, электронные | C8: =[2]НМЦК!E16 -> шт | D8: =[1]НМЦК!D16 -> 1 | E8: 27250 | F8: 25813 | G8: 26060 | J8: =ROUND(SUM(E8:I8)/(IF(E8<1,0,1)+IF(F8<1,0,1)+IF(G8<1,0,1)+IF(H8<1,0,1)+IF(I8<1,0,1)),2) -> 26374.33 | K8: =IF(J8=0,0,(SQRT((IF(E8<1,0,POWER((E8-J8),2))+IF(F8<1,0,POWER((F8-J8),2))+IF(G8<1,0,POWER((G8-J8),2))+IF(H8<1,0,POWER((H8-J8),2))+IF(I8<1,0,POWER((I8-J8),2)))/((IF(E8<1,0,1)+IF(F8<1,0,1)+IF(G8<1,0,1)+IF(H8<1,0,1)+IF(I8<1,0,1))-1)))) -> 768.33999 | L8: =IF(J8=0,0,(K8/J8)*100) -> 2.9132114 | M8: =J8*D8 -> 26374.33
A9: 3 | B9: =[1]НМЦК!C17 -> Тонометр с набором возрастных манжет | C9: =[2]НМЦК!E17 -> шт | D9: =[1]НМЦК!D17 -> 1 | E9: 2200 | F9: 2100 | G9: 2145 | J9: =ROUND(SUM(E9:I9)/(IF(E9<1,0,1)+IF(F9<1,0,1)+IF(G9<1,0,1)+IF(H9<1,0,1)+IF(I9<1,0,1)),2) -> 2148.33 | K9: =IF(J9=0,0,(SQRT((IF(E9<1,0,POWER((E9-J9),2))+IF(F9<1,0,POWER((F9-J9),2))+IF(G9<1,0,POWER((G9-J9),2))+IF(H9<1,0,POWER((H9-J9),2))+IF(I9<1,0,POWER((I9-J9),2)))/((IF(E9<1,0,1)+IF(F9<1,0,1)+IF(G9<1,0,1)+IF(H9<1,0,1)+IF(I9<1,0,1))-1)))) -> 50.083264 | L9: =IF(J9=0,0,(K9/J9)*100) -> 2.3312649 | M9: =J9*D9 -> 2148.33
A10: 4 | B10: =[1]НМЦК!C18 -> Тонометр автоматический | C10: =[2]НМЦК!E18 -> шт | D10: =[1]НМЦК!D18 -> 1 | E10: 8420 | F10: 7700 | G10: 7740 | J10: =ROUND(SUM(E10:I10)/(IF(E10<1,0,1)+IF(F10<1,0,1)+IF(G10<1,0,1)+IF(H10<1,0,1)+IF(I10<1,0,1)),2) -> 7953.33 | K10: =IF(J10=0,0,(SQRT((IF(E10<1,0,POWER((E10-J10),2))+IF(F10<1,0,POWER((F10-J10),2))+IF(G10<1,0,POWER((G10-J10),2))+IF(H10<1,0,POWER((H10-J10),2))+IF(I10<1,0,POWER((I10-J10),2)))/((IF(E10<1,0,1)+IF(F10<1,0,1)+IF(G10<1,0,1)+IF(H10<1,0,1)+IF(I10<1,0,1))-1)))) -> 404.63976 | L10: =IF(J10=0,0,(K10/J10)*100) -> 5.0876772 | M10: =J10*D10 -> 7953.33
A11: 5 | B11: =[1]НМЦК!C19 -> Стетоскоп | C11: =[2]НМЦК!E19 -> шт | D11: =[1]НМЦК!D19 -> 1 | E11: 2220 | F11: 2100 | G11: 2175 | J11: =ROUND(SUM(E11:I11)/(IF(E11<1,0,1)+IF(F11<1,0,1)+IF(G11<1,0,1)+IF(H11<1,0,1)+IF(I11<1,0,1)),2) -> 2165 | K11: =IF(J11=0,0,(SQRT((IF(E11<1,0,POWER((E11-J11),2))+IF(F11<1,0,POWER((F11-J11),2))+IF(G11<1,0,POWER((G11-J11),2))+IF(H11<1,0,POWER((H11-J11),2))+IF(I11<1,0,POWER((I11-J11),2)))/((IF(E11<1,0,1)+IF(F11<1,0,1)+IF(G11<1,0,1)+IF(H11<1,0,1)+IF(I11<1,0,1))-1)))) -> 60.621778 | L11: =IF(J11=0,0,(K11/J11)*100) -> 2.8000821 | M11: =J11*D11 -> 2165
A12: 6 | B12: =[1]НМЦК!C20 -> Динамометр кистевой тип 1 | C12: =[2]НМЦК!E20 -> шт | D12: =[1]НМЦК!D20 -> 2 | E12: 11140 | F12: 10150 | G12: 10555 | J12: =ROUND(SUM(E12:I12)/(IF(E12<1,0,1)+IF(F12<1,0,1)+IF(G12<1,0,1)+IF(H12<1,0,1)+IF(I12<1,0,1)),2) -> 10615 | K12: =IF(J12=0,0,(SQRT((IF(E12<1,0,POWER((E12-J12),2))+IF(F12<1,0,POWER((F12-J12),2))+IF(G12<1,0,POWER((G12-J12),2))+IF(H12<1,0,POWER((H12-J12),2))+IF(I12<1,0,POWER((I12-J12),2)))/((IF(E12<1,0,1)+IF(F12<1,0,1)+IF(G12<1,0,1)+IF(H12<1,0,1)+IF(I12<1,0,1))-1)))) -> 497.7198 | L12: =IF(J12=0,0,(K12/J12)*100) -> 4.6888347 | M12: =J12*D12 -> 21230
A13: 7 | B13: =[1]НМЦК!C21 -> Динамометр кистевой тип 2 | C13: =[2]НМЦК!E21 -> шт | D13: =[1]НМЦК!D21 -> 2 | E13: 10390 | F13: 10150 | G13: 10250 | J13: =ROUND(SUM(E13:I13)/(IF(E13<1,0,1)+IF(F13<1,0,1)+IF(G13<1,0,1)+IF(H13<1,0,1)+IF(I13<1,0,1)),2) -> 10263.33 | K13: =IF(J13=0,0,(SQRT((IF(E13<1,0,POWER((E13-J13),2))+IF(F13<1,0,POWER((F13-J13),2))+IF(G13<1,0,POWER((G13-J13),2))+IF(H13<1,0,POWER((H13-J13),2))+IF(I13<1,0,POWER((I13-J13),2)))/((IF(E13<1,0,1)+IF(F13<1,0,1)+IF(G13<1,0,1)+IF(H13<1,0,1)+IF(I13<1,0,1))-1)))) -> 120.55428 | L13: =IF(J13=0,0,(K13/J13)*100) -> 1.1746117 | M13: =J13*D13 -> 20526.66
A14: 8 | B14: =[1]НМЦК!C22 -> Портативный компрессорный небулайзер | C14: =[2]НМЦК!E22 -> шт | D14: =[1]НМЦК!D22 -> 1 | E14: 5900 | F14: 5425 | G14: 5475 | J14: =ROUND(SUM(E14:I14)/(IF(E14<1,0,1)+IF(F14<1,0,1)+IF(G14<1,0,1)+IF(H14<1,0,1)+IF(I14<1,0,1)),2) -> 5600 | K14: =IF(J14=0,0,(SQRT((IF(E14<1,0,POWER((E14-J14),2))+IF(F14<1,0,POWER((F14-J14),2))+IF(G14<1,0,POWER((G14-J14),2))+IF(H14<1,0,POWER((H14-J14),2))+IF(I14<1,0,POWER((I14-J14),2)))/((IF(E14<1,0,1)+IF(F14<1,0,1)+IF(G14<1,0,1)+IF(H14<1,0,1)+IF(I14<1,0,1))-1)))) -> 261.00766 | L14: =IF(J14=0,0,(K14/J14)*100) -> 4.6608511 | M14: =J14*D14 -> 5600
A15: 9 | B15: =[1]НМЦК!C23 -> Термометр медицинский | C15: шт | D15: =[1]НМЦК!D23 -> 4 | E15: 630 | F15: 613 | G15: 660 | J15: =ROUND(SUM(E15:I15)/(IF(E15<1,0,1)+IF(F15<1,0,1)+IF(G15<1,0,1)+IF(H15<1,0,1)+IF(I15<1,0,1)),2) -> 634.33 | K15: =IF(J15=0,0,(SQRT((IF(E15<1,0,POWER((E15-J15),2))+IF(F15<1,0,POWER((F15-J15),2))+IF(G15<1,0,POWER((G15-J15),2))+IF(H15<1,0,POWER((H15-J15),2))+IF(I15<1,0,POWER((I15-J15),2)))/((IF(E15<1,0,1)+IF(F15<1,0,1)+IF(G15<1,0,1)+IF(H15<1,0,1)+IF(I15<1,0,1))-1)))) -> 23.797759 | L15: =IF(J15=0,0,(K15/J15)*100) -> 3.7516371 | M15: =J15*D15 -> 2537.32
A16: 10 | B16: =[1]НМЦК!C24 -> Термометр бесконтактный | C16: =[2]НМЦК!E24 -> шт | D16: =[1]НМЦК!D24 -> 4 | E16: 1460 | F16: 1400 | G16: 1430 | J16: =ROUND(SUM(E16:I16)/(IF(E16<1,0,1)+IF(F16<1,0,1)+IF(G16<1,0,1)+IF(H16<1,0,1)+IF(I16<1,0,1)),2) -> 1430 | K16: =IF(J16=0,0,(SQRT((IF(E16<1,0,POWER((E16-J16),2))+IF(F16<1,0,POWER((F16-J16),2))+IF(G16<1,0,POWER((G16-J16),2))+IF(H16<1,0,POWER((H16-J16),2))+IF(I16<1,0,POWER((I16-J16),2)))/((IF(E16<1,0,1)+IF(F16<1,0,1)+IF(G16<1,0,1)+IF(H16<1,0,1)+IF(I16<1,0,1))-1)))) -> 30 | L16: =IF(J16=0,0,(K16/J16)*100) -> 2.0979021 | M16: =J16*D16 -> 5720
A17: 11 | B17: =[1]НМЦК!C25 -> Глюкометр | C17: =[2]НМЦК!E25 -> шт | D17: =[1]НМЦК!D25 -> 1 | E17: 3250 | F17: 2975 | G17: 3030 | J17: =ROUND(SUM(E17:I17)/(IF(E17<1,0,1)+IF(F17<1,0,1)+IF(G17<1,0,1)+IF(H17<1,0,1)+IF(I17<1,0,1)),2) -> 3085 | K17: =IF(J17=0,0,(SQRT((IF(E17<1,0,POWER((E17-J17),2))+IF(F17<1,0,POWER((F17-J17),2))+IF(G17<1,0,POWER((G17-J17),2))+IF(H17<1,0,POWER((H17-J17),2))+IF(I17<1,0,POWER((I17-J17),2)))/((IF(E17<1,0,1)+IF(F17<1,0,1)+IF(G17<1,0,1)+IF(H17<1,0,1)+IF(I17<1,0,1))-1)))) -> 145.51632 | L17: =IF(J17=0,0,(K17/J17)*100) -> 4.7168986 | M17: =J17*D17 -> 3085
A18: 12 | B18: =[1]НМЦК!C26 -> Таблица проверки остроты зрения электронная | C18: =[2]НМЦК!E26 -> шт | D18: =[1]НМЦК!D26 -> 1 | E18: 10200 | F18: 9450 | G18: 9540 | J18: =ROUND(SUM(E18:I18)/(IF(E18<1,0,1)+IF(F18<1,0,1)+IF(G18<1,0,1)+IF(H18<1,0,1)+IF(I18<1,0,1)),2) -> 9730 | K18: =IF(J18=0,0,(SQRT((IF(E18<1,0,POWER((E18-J18),2))+IF(F18<1,0,POWER((F18-J18),2))+IF(G18<1,0,POWER((G18-J18),2))+IF(H18<1,0,POWER((H18-J18),2))+IF(I18<1,0,POWER((I18-J18),2)))/((IF(E18<1,0,1)+IF(F18<1,0,1)+IF(G18<1,0,1)+IF(H18<1,0,1)+IF(I18<1,0,1))-1)))) -> 409.5119 | L18: =IF(J18=0,0,(K18/J18)*100) -> 4.2087554 | M18: =J18*D18 -> 9730
A19: 13 | B19: =[1]НМЦК!C27 -> Комплект воздуховодов ротоглоточных одноразового использования | C19: =[2]НМЦК!E27 -> шт | D19: =[1]НМЦК!D27 -> 2 | E19: 580 | F19: 525 | G19: 530 | J19: =ROUND(SUM(E19:I19)/(IF(E19<1,0,1)+IF(F19<1,0,1)+IF(G19<1,0,1)+IF(H19<1,0,1)+IF(I19<1,0,1)),2) -> 545 | K19: =IF(J19=0,0,(SQRT((IF(E19<1,0,POWER((E19-J19),2))+IF(F19<1,0,POWER((F19-J19),2))+IF(G19<1,0,POWER((G19-J19),2))+IF(H19<1,0,POWER((H19-J19),2))+IF(I19<1,0,POWER((I19-J19),2)))/((IF(E19<1,0,1)+IF(F19<1,0,1)+IF(G19<1,0,1)+IF(H19<1,0,1)+IF(I19<1,0,1))-1)))) -> 30.413813 | L19: =IF(J19=0,0,(K19/J19)*100) -> 5.5805161 | M19: =J19*D19 -> 1090
A20: 14 | B20: =[1]НМЦК!C28 -> Аппарат искусственной вентиляции легких Амбу | C20: =[2]НМЦК!E28 -> шт | D20: =[1]НМЦК!D28 -> 1 | E20: 9780 | F20: 9450 | G20: 9495 | J20: =ROUND(SUM(E20:I20)/(IF(E20<1,0,1)+IF(F20<1,0,1)+IF(G20<1,0,1)+IF(H20<1,0,1)+IF(I20<1,0,1)),2) -> 9575 | K20: =IF(J20=0,0,(SQRT((IF(E20<1,0,POWER((E20-J20),2))+IF(F20<1,0,POWER((F20-J20),2))+IF(G20<1,0,POWER((G20-J20),2))+IF(H20<1,0,POWER((H20-J20),2))+IF(I20<1,0,POWER((I20-J20),2)))/((IF(E20<1,0,1)+IF(F20<1,0,1)+IF(G20<1,0,1)+IF(H20<1,0,1)+IF(I20<1,0,1))-1)))) -> 178.9553 | L20: =IF(J20=0,0,(K20/J20)*100) -> 1.8689849 | M20: =J20*D20 -> 9575
A21: 15 | B21: =[1]НМЦК!C29 -> Лоток медицинский | C21: =[2]НМЦК!E29 -> шт | D21: =[1]НМЦК!D29 -> 4 | E21: 470 | F21: 438 | G21: 440 | J21: =ROUND(SUM(E21:I21)/(IF(E21<1,0,1)+IF(F21<1,0,1)+IF(G21<1,0,1)+IF(H21<1,0,1)+IF(I21<1,0,1)),2) -> 449.33 | K21: =IF(J21=0,0,(SQRT((IF(E21<1,0,POWER((E21-J21),2))+IF(F21<1,0,POWER((F21-J21),2))+IF(G21<1,0,POWER((G21-J21),2))+IF(H21<1,0,POWER((H21-J21),2))+IF(I21<1,0,POWER((I21-J21),2)))/((IF(E21<1,0,1)+IF(F21<1,0,1)+IF(G21<1,0,1)+IF(H21<1,0,1)+IF(I21<1,0,1))-1)))) -> 17.925773 | L21: =IF(J21=0,0,(K21/J21)*100) -> 3.989445 | M21: =J21*D21 -> 1797.32
A22: 16 | B22: =[1]НМЦК!C30 -> Мензурки градуированные | C22: =[2]НМЦК!E30 -> шт | D22: =[1]НМЦК!D30 -> 10 | E22: 560 | F22: 525 | G22: 550 | J22: =ROUND(SUM(E22:I22)/(IF(E22<1,0,1)+IF(F22<1,0,1)+IF(G22<1,0,1)+IF(H22<1,0,1)+IF(I22<1,0,1)),2) -> 545 | K22: =IF(J22=0,0,(SQRT((IF(E22<1,0,POWER((E22-J22),2))+IF(F22<1,0,POWER((F22-J22),2))+IF(G22<1,0,POWER((G22-J22),2))+IF(H22<1,0,POWER((H22-J22),2))+IF(I22<1,0,POWER((I22-J22),2)))/((IF(E22<1,0,1)+IF(F22<1,0,1)+IF(G22<1,0,1)+IF(H22<1,0,1)+IF(I22<1,0,1))-1)))) -> 18.027756 | L22: =IF(J22=0,0,(K22/J22)*100) -> 3.3078452 | M22: =J22*D22 -> 5450
A23: 17 | B23: =[1]НМЦК!C31 -> Грелка медицинская | C23: =[2]НМЦК!E31 -> шт | D23: =[1]НМЦК!D31 -> 2 | E23: 470 | F23: 438 | G23: 440 | J23: =ROUND(SUM(E23:I23)/(IF(E23<1,0,1)+IF(F23<1,0,1)+IF(G23<1,0,1)+IF(H23<1,0,1)+IF(I23<1,0,1)),2) -> 449.33 | K23: =IF(J23=0,0,(SQRT((IF(E23<1,0,POWER((E23-J23),2))+IF(F23<1,0,POWER((F23-J23),2))+IF(G23<1,0,POWER((G23-J23),2))+IF(H23<1,0,POWER((H23-J23),2))+IF(I23<1,0,POWER((I23-J23),2)))/((IF(E23<1,0,1)+IF(F23<1,0,1)+IF(G23<1,0,1)+IF(H23<1,0,1)+IF(I23<1,0,1))-1)))) -> 17.925773 | L23: =IF(J23=0,0,(K23/J23)*100) -> 3.989445 | M23: =J23*D23 -> 898.66
A24: 18 | B24: =[1]НМЦК!C32 -> Гипотермический пакет | C24: =[2]НМЦК!E32 -> шт | D24: =[1]НМЦК!D32 -> 10 | E24: 100 | F24: 88 | G24: 95 | J24: =ROUND(SUM(E24:I24)/(IF(E24<1,0,1)+IF(F24<1,0,1)+IF(G24<1,0,1)+IF(H24<1,0,1)+IF(I24<1,0,1)),2) -> 94.33 | K24: =IF(J24=0,0,(SQRT((IF(E24<1,0,POWER((E24-J24),2))+IF(F24<1,0,POWER((F24-J24),2))+IF(G24<1,0,POWER((G24-J24),2))+IF(H24<1,0,POWER((H24-J24),2))+IF(I24<1,0,POWER((I24-J24),2)))/((IF(E24<1,0,1)+IF(F24<1,0,1)+IF(G24<1,0,1)+IF(H24<1,0,1)+IF(I24<1,0,1))-1)))) -> 6.0277152 | L24: =IF(J24=0,0,(K24/J24)*100) -> 6.3900298 | M24: =J24*D24 -> 943.3
A25: 19 | B25: =[1]НМЦК!C33 -> Жгут кровоостанавливающий | C25: шт | D25: =[1]НМЦК!D33 -> 2 | E25: 380 | F25: 350 | G25: 360 | J25: =ROUND(SUM(E25:I25)/(IF(E25<1,0,1)+IF(F25<1,0,1)+IF(G25<1,0,1)+IF(H25<1,0,1)+IF(I25<1,0,1)),2) -> 363.33 | K25: =IF(J25=0,0,(SQRT((IF(E25<1,0,POWER((E25-J25),2))+IF(F25<1,0,POWER((F25-J25),2))+IF(G25<1,0,POWER((G25-J25),2))+IF(H25<1,0,POWER((H25-J25),2))+IF(I25<1,0,POWER((I25-J25),2)))/((IF(E25<1,0,1)+IF(F25<1,0,1)+IF(G25<1,0,1)+IF(H25<1,0,1)+IF(I25<1,0,1))-1)))) -> 15.275253 | L25: =IF(J25=0,0,(K25/J25)*100) -> 4.2042366 | M25: =J25*D25 -> 726.66
A26: 20 | B26: =[1]НМЦК!C34 -> Носилки | C26: =[2]НМЦК!E34 -> шт | D26: =[1]НМЦК!D34 -> 1 | E26: 5360 | F26: 5075 | G26: 5125 | J26: =ROUND(SUM(E26:I26)/(IF(E26<1,0,1)+IF(F26<1,0,1)+IF(G26<1,0,1)+IF(H26<1,0,1)+IF(I26<1,0,1)),2) -> 5186.67 | K26: =IF(J26=0,0,(SQRT((IF(E26<1,0,POWER((E26-J26),2))+IF(F26<1,0,POWER((F26-J26),2))+IF(G26<1,0,POWER((G26-J26),2))+IF(H26<1,0,POWER((H26-J26),2))+IF(I26<1,0,POWER((I26-J26),2)))/((IF(E26<1,0,1)+IF(F26<1,0,1)+IF(G26<1,0,1)+IF(H26<1,0,1)+IF(I26<1,0,1))-1)))) -> 152.17862 | L26: =IF(J26=0,0,(K26/J26)*100) -> 2.9340333 | M26: =J26*D26 -> 5186.67
A27: 21 | B27: =[1]НМЦК!C35 -> Шина транспортная иммобилизационная для верхней конечности | C27: =[2]НМЦК!E35 -> шт | D27: =[1]НМЦК!D35 -> 2 | E27: 4940 | F27: 4725 | G27: 4730 | J27: =ROUND(SUM(E27:I27)/(IF(E27<1,0,1)+IF(F27<1,0,1)+IF(G27<1,0,1)+IF(H27<1,0,1)+IF(I27<1,0,1)),2) -> 4798.33 | K27: =IF(J27=0,0,(SQRT((IF(E27<1,0,POWER((E27-J27),2))+IF(F27<1,0,POWER((F27-J27),2))+IF(G27<1,0,POWER((G27-J27),2))+IF(H27<1,0,POWER((H27-J27),2))+IF(I27<1,0,POWER((I27-J27),2)))/((IF(E27<1,0,1)+IF(F27<1,0,1)+IF(G27<1,0,1)+IF(H27<1,0,1)+IF(I27<1,0,1))-1)))) -> 122.7124 | L27: =IF(J27=0,0,(K27/J27)*100) -> 2.5573981 | M27: =J27*D27 -> 9596.66
A28: 22 | B28: =[1]НМЦК!C36 -> Шина транспортная иммобилизационная для нижней конечности | C28: =[2]НМЦК!E36 -> шт | D28: =[1]НМЦК!D36 -> 2 | E28: 5550 | F28: 5075 | G28: 5340 | J28: =ROUND(SUM(E28:I28)/(IF(E28<1,0,1)+IF(F28<1,0,1)+IF(G28<1,0,1)+IF(H28<1,0,1)+IF(I28<1,0,1)),2) -> 5321.67 | K28: =IF(J28=0,0,(SQRT((IF(E28<1,0,POWER((E28-J28),2))+IF(F28<1,0,POWER((F28-J28),2))+IF(G28<1,0,POWER((G28-J28),2))+IF(H28<1,0,POWER((H28-J28),2))+IF(I28<1,0,POWER((I28-J28),2)))/((IF(E28<1,0,1)+IF(F28<1,0,1)+IF(G28<1,0,1)+IF(H28<1,0,1)+IF(I28<1,0,1))-1)))) -> 238.03011 | L28: =IF(J28=0,0,(K28/J28)*100) -> 4.4728461 | M28: =J28*D28 -> 10643.34
A29: 23 | B29: =[1]НМЦК!C37 -> Матрас вакуумный иммобилизационный, взрослый (школы, колледжы) | C29: =[2]НМЦК!E37 -> шт | D29: =[1]НМЦК!D37 -> 1 | E29: 60980 | F29: 57750 | G29: 59830 | J29: =ROUND(SUM(E29:I29)/(IF(E29<1,0,1)+IF(F29<1,0,1)+IF(G29<1,0,1)+IF(H29<1,0,1)+IF(I29<1,0,1)),2) -> 59520 | K29: =IF(J29=0,0,(SQRT((IF(E29<1,0,POWER((E29-J29),2))+IF(F29<1,0,POWER((F29-J29),2))+IF(G29<1,0,POWER((G29-J29),2))+IF(H29<1,0,POWER((H29-J29),2))+IF(I29<1,0,POWER((I29-J29),2)))/((IF(E29<1,0,1)+IF(F29<1,0,1)+IF(G29<1,0,1)+IF(H29<1,0,1)+IF(I29<1,0,1))-1)))) -> 1637.1622 | L29: =IF(J29=0,0,(K29/J29)*100) -> 2.7506085 | M29: =J29*D29 -> 59520
A30: 24 | B30: =[1]НМЦК!C38 -> Косынка | C30: =[2]НМЦК!E38 -> шт | D30: =[1]НМЦК!D38 -> 2 | E30: 960 | F30: 875 | G30: 910 | J30: =ROUND(SUM(E30:I30)/(IF(E30<1,0,1)+IF(F30<1,0,1)+IF(G30<1,0,1)+IF(H30<1,0,1)+IF(I30<1,0,1)),2) -> 915 | K30: =IF(J30=0,0,(SQRT((IF(E30<1,0,POWER((E30-J30),2))+IF(F30<1,0,POWER((F30-J30),2))+IF(G30<1,0,POWER((G30-J30),2))+IF(H30<1,0,POWER((H30-J30),2))+IF(I30<1,0,POWER((I30-J30),2)))/((IF(E30<1,0,1)+IF(F30<1,0,1)+IF(G30<1,0,1)+IF(H30<1,0,1)+IF(I30<1,0,1))-1)))) -> 42.720019 | L30: =IF(J30=0,0,(K30/J30)*100) -> 4.6688545 | M30: =J30*D30 -> 1830
A31: 25 | B31: =[1]НМЦК!C39 -> Комплект воротников для шейного отдела позвоночника | C31: =[2]НМЦК!E39 -> шт | D31: =[1]НМЦК!D39 -> 1 | E31: 8060 | F31: 7875 | G31: 7955 | J31: =ROUND(SUM(E31:I31)/(IF(E31<1,0,1)+IF(F31<1,0,1)+IF(G31<1,0,1)+IF(H31<1,0,1)+IF(I31<1,0,1)),2) -> 7963.33 | K31: =IF(J31=0,0,(SQRT((IF(E31<1,0,POWER((E31-J31),2))+IF(F31<1,0,POWER((F31-J31),2))+IF(G31<1,0,POWER((G31-J31),2))+IF(H31<1,0,POWER((H31-J31),2))+IF(I31<1,0,POWER((I31-J31),2)))/((IF(E31<1,0,1)+IF(F31<1,0,1)+IF(G31<1,0,1)+IF(H31<1,0,1)+IF(I31<1,0,1))-1)))) -> 92.781104 | L31: =IF(J31=0,0,(K31/J31)*100) -> 1.1651044 | M31: =J31*D31 -> 7963.33
A32: 26 | B32: =[1]НМЦК!C40 -> Щипцы для перевязочного материала/универсальные в форме пинцета | C32: шт | D32: =[1]НМЦК!D40 -> 4 | E32: 380 | F32: 350 | G32: 355 | J32: =ROUND(SUM(E32:I32)/(IF(E32<1,0,1)+IF(F32<1,0,1)+IF(G32<1,0,1)+IF(H32<1,0,1)+IF(I32<1,0,1)),2) -> 361.67 | K32: =IF(J32=0,0,(SQRT((IF(E32<1,0,POWER((E32-J32),2))+IF(F32<1,0,POWER((F32-J32),2))+IF(G32<1,0,POWER((G32-J32),2))+IF(H32<1,0,POWER((H32-J32),2))+IF(I32<1,0,POWER((I32-J32),2)))/((IF(E32<1,0,1)+IF(F32<1,0,1)+IF(G32<1,0,1)+IF(H32<1,0,1)+IF(I32<1,0,1))-1)))) -> 16.072752 | L32: =IF(J32=0,0,(K32/J32)*100) -> 4.4440379 | M32: =J32*D32 -> 1446.68
A33: 27 | B33: =[1]НМЦК!C41 -> Корнцанг | C33: =[2]НМЦК!E41 -> шт | D33: =[1]НМЦК!D41 -> 2 | E33: 1440 | F33: 1400 | G33: 1430 | J33: =ROUND(SUM(E33:I33)/(IF(E33<1,0,1)+IF(F33<1,0,1)+IF(G33<1,0,1)+IF(H33<1,0,1)+IF(I33<1,0,1)),2) -> 1423.33 | K33: =IF(J33=0,0,(SQRT((IF(E33<1,0,POWER((E33-J33),2))+IF(F33<1,0,POWER((F33-J33),2))+IF(G33<1,0,POWER((G33-J33),2))+IF(H33<1,0,POWER((H33-J33),2))+IF(I33<1,0,POWER((I33-J33),2)))/((IF(E33<1,0,1)+IF(F33<1,0,1)+IF(G33<1,0,1)+IF(H33<1,0,1)+IF(I33<1,0,1))-1)))) -> 20.81666 | L33: =IF(J33=0,0,(K33/J33)*100) -> 1.4625323 | M33: =J33*D33 -> 2846.66
A34: 28 | B34: =[1]НМЦК!C42 -> Ножницы хирургические | C34: =[2]НМЦК!E42 -> шт | D34: =[1]НМЦК!D42 -> 4 | E34: 730 | F34: 700 | G34: 705 | J34: =ROUND(SUM(E34:I34)/(IF(E34<1,0,1)+IF(F34<1,0,1)+IF(G34<1,0,1)+IF(H34<1,0,1)+IF(I34<1,0,1)),2) -> 711.67 | K34: =IF(J34=0,0,(SQRT((IF(E34<1,0,POWER((E34-J34),2))+IF(F34<1,0,POWER((F34-J34),2))+IF(G34<1,0,POWER((G34-J34),2))+IF(H34<1,0,POWER((H34-J34),2))+IF(I34<1,0,POWER((I34-J34),2)))/((IF(E34<1,0,1)+IF(F34<1,0,1)+IF(G34<1,0,1)+IF(H34<1,0,1)+IF(I34<1,0,1))-1)))) -> 16.072752 | L34: =IF(J34=0,0,(K34/J34)*100) -> 2.2584557 | M34: =J34*D34 -> 2846.68
A35: 29 | B35: =[1]НМЦК!C43 -> Сейф для хранения медикаментов | C35: =[2]НМЦК!E43 -> шт | D35: =[1]НМЦК!D43 -> 1 | E35: 20320 | F35: 19250 | G35: 19945 | J35: =ROUND(SUM(E35:I35)/(IF(E35<1,0,1)+IF(F35<1,0,1)+IF(G35<1,0,1)+IF(H35<1,0,1)+IF(I35<1,0,1)),2) -> 19838.33 | K35: =IF(J35=0,0,(SQRT((IF(E35<1,0,POWER((E35-J35),2))+IF(F35<1,0,POWER((F35-J35),2))+IF(G35<1,0,POWER((G35-J35),2))+IF(H35<1,0,POWER((H35-J35),2))+IF(I35<1,0,POWER((I35-J35),2)))/((IF(E35<1,0,1)+IF(F35<1,0,1)+IF(G35<1,0,1)+IF(H35<1,0,1)+IF(I35<1,0,1))-1)))) -> 542.91651 | L35: =IF(J35=0,0,(K35/J35)*100) -> 2.7367047 | M35: =J35*D35 -> 19838.33
A36: 30 | B36: =[1]НМЦК!C44 -> Холодильник лабораторный | C36: =[2]НМЦК!E44 -> шт | D36: =[1]НМЦК!D44 -> 1 | E36: 87110 | F36: 83300 | G36: 86630 | J36: =ROUND(SUM(E36:I36)/(IF(E36<1,0,1)+IF(F36<1,0,1)+IF(G36<1,0,1)+IF(H36<1,0,1)+IF(I36<1,0,1)),2) -> 85680 | K36: =IF(J36=0,0,(SQRT((IF(E36<1,0,POWER((E36-J36),2))+IF(F36<1,0,POWER((F36-J36),2))+IF(G36<1,0,POWER((G36-J36),2))+IF(H36<1,0,POWER((H36-J36),2))+IF(I36<1,0,POWER((I36-J36),2)))/((IF(E36<1,0,1)+IF(F36<1,0,1)+IF(G36<1,0,1)+IF(H36<1,0,1)+IF(I36<1,0,1))-1)))) -> 2075.0663 | L36: =IF(J36=0,0,(K36/J36)*100) -> 2.4218794 | M36: =J36*D36 -> 85680
A37: 31 | B37: =[1]НМЦК!C45 -> Пульсоксиметр | C37: шт | D37: =[1]НМЦК!D45 -> 2 | E37: 3450 | F37: 3150 | G37: 3180 | J37: =ROUND(SUM(E37:I37)/(IF(E37<1,0,1)+IF(F37<1,0,1)+IF(G37<1,0,1)+IF(H37<1,0,1)+IF(I37<1,0,1)),2) -> 3260 | K37: =IF(J37=0,0,(SQRT((IF(E37<1,0,POWER((E37-J37),2))+IF(F37<1,0,POWER((F37-J37),2))+IF(G37<1,0,POWER((G37-J37),2))+IF(H37<1,0,POWER((H37-J37),2))+IF(I37<1,0,POWER((I37-J37),2)))/((IF(E37<1,0,1)+IF(F37<1,0,1)+IF(G37<1,0,1)+IF(H37<1,0,1)+IF(I37<1,0,1))-1)))) -> 165.22712 | L37: =IF(J37=0,0,(K37/J37)*100) -> 5.0683165 | M37: =J37*D37 -> 6520
A38: 32 | B38: =[1]НМЦК!C46 -> Термометрбытовой жидкостный | C38: шт | D38: =[1]НМЦК!D46 -> 2 | E38: 1570 | F38: 1488 | G38: 1500 | J38: =ROUND(SUM(E38:I38)/(IF(E38<1,0,1)+IF(F38<1,0,1)+IF(G38<1,0,1)+IF(H38<1,0,1)+IF(I38<1,0,1)),2) -> 1519.33 | K38: =IF(J38=0,0,(SQRT((IF(E38<1,0,POWER((E38-J38),2))+IF(F38<1,0,POWER((F38-J38),2))+IF(G38<1,0,POWER((G38-J38),2))+IF(H38<1,0,POWER((H38-J38),2))+IF(I38<1,0,POWER((I38-J38),2)))/((IF(E38<1,0,1)+IF(F38<1,0,1)+IF(G38<1,0,1)+IF(H38<1,0,1)+IF(I38<1,0,1))-1)))) -> 44.286943 | L38: =IF(J38=0,0,(K38/J38)*100) -> 2.9148996 | M38: =J38*D38 -> 3038.66
A39: 33 | B39: =[1]НМЦК!C47 -> Термоконтейнер | C39: =[2]НМЦК!E47 -> шт | D39: =[1]НМЦК!D47 -> 1 | E39: 7490 | F39: 6825 | G39: 7335 | J39: =ROUND(SUM(E39:I39)/(IF(E39<1,0,1)+IF(F39<1,0,1)+IF(G39<1,0,1)+IF(H39<1,0,1)+IF(I39<1,0,1)),2) -> 7216.67 | K39: =IF(J39=0,0,(SQRT((IF(E39<1,0,POWER((E39-J39),2))+IF(F39<1,0,POWER((F39-J39),2))+IF(G39<1,0,POWER((G39-J39),2))+IF(H39<1,0,POWER((H39-J39),2))+IF(I39<1,0,POWER((I39-J39),2)))/((IF(E39<1,0,1)+IF(F39<1,0,1)+IF(G39<1,0,1)+IF(H39<1,0,1)+IF(I39<1,0,1))-1)))) -> 347.93438 | L39: =IF(J39=0,0,(K39/J39)*100) -> 4.8212594 | M39: =J39*D39 -> 7216.67
A40: 34 | B40: =[1]НМЦК!C48 -> Дозатор для мыла | C40: =[2]НМЦК!E48 -> шт | D40: =[1]НМЦК!D48 -> 2 | E40: 3050 | F40: 2975 | G40: 3045 | J40: =ROUND(SUM(E40:I40)/(IF(E40<1,0,1)+IF(F40<1,0,1)+IF(G40<1,0,1)+IF(H40<1,0,1)+IF(I40<1,0,1)),2) -> 3023.33 | K40: =IF(J40=0,0,(SQRT((IF(E40<1,0,POWER((E40-J40),2))+IF(F40<1,0,POWER((F40-J40),2))+IF(G40<1,0,POWER((G40-J40),2))+IF(H40<1,0,POWER((H40-J40),2))+IF(I40<1,0,POWER((I40-J40),2)))/((IF(E40<1,0,1)+IF(F40<1,0,1)+IF(G40<1,0,1)+IF(H40<1,0,1)+IF(I40<1,0,1))-1)))) -> 41.932486 | L40: =IF(J40=0,0,(K40/J40)*100) -> 1.3869636 | M40: =J40*D40 -> 6046.66
A41: 35 | B41: =[1]НМЦК!C49 -> Дозатор локтевой | C41: =[2]НМЦК!E49 -> шт | D41: =[1]НМЦК!D49 -> 2 | E41: 5140 | F41: 4725 | G41: 4815 | J41: =ROUND(SUM(E41:I41)/(IF(E41<1,0,1)+IF(F41<1,0,1)+IF(G41<1,0,1)+IF(H41<1,0,1)+IF(I41<1,0,1)),2) -> 4893.33 | K41: =IF(J41=0,0,(SQRT((IF(E41<1,0,POWER((E41-J41),2))+IF(F41<1,0,POWER((F41-J41),2))+IF(G41<1,0,POWER((G41-J41),2))+IF(H41<1,0,POWER((H41-J41),2))+IF(I41<1,0,POWER((I41-J41),2)))/((IF(E41<1,0,1)+IF(F41<1,0,1)+IF(G41<1,0,1)+IF(H41<1,0,1)+IF(I41<1,0,1))-1)))) -> 218.30789 | L41: =IF(J41=0,0,(K41/J41)*100) -> 4.4613359 | M41: =J41*D41 -> 9786.66
A42: 36 | B42: =[1]НМЦК!C50 -> Диспенсер для полотенец | C42: шт | D42: =[1]НМЦК!D50 -> 2 | E42: 4660 | F42: 4550 | G42: 4595 | J42: =ROUND(SUM(E42:I42)/(IF(E42<1,0,1)+IF(F42<1,0,1)+IF(G42<1,0,1)+IF(H42<1,0,1)+IF(I42<1,0,1)),2) -> 4601.67 | K42: =IF(J42=0,0,(SQRT((IF(E42<1,0,POWER((E42-J42),2))+IF(F42<1,0,POWER((F42-J42),2))+IF(G42<1,0,POWER((G42-J42),2))+IF(H42<1,0,POWER((H42-J42),2))+IF(I42<1,0,POWER((I42-J42),2)))/((IF(E42<1,0,1)+IF(F42<1,0,1)+IF(G42<1,0,1)+IF(H42<1,0,1)+IF(I42<1,0,1))-1)))) -> 55.3022 | L42: =IF(J42=0,0,(K42/J42)*100) -> 1.2017854 | M42: =J42*D42 -> 9203.34
A43: 37 | B43: =[1]НМЦК!C51 -> Ведро с педальной крышкой | C43: шт | D43: =[1]НМЦК!D51 -> 2 | E43: 4940 | F43: 4725 | G43: 4760 | J43: =ROUND(SUM(E43:I43)/(IF(E43<1,0,1)+IF(F43<1,0,1)+IF(G43<1,0,1)+IF(H43<1,0,1)+IF(I43<1,0,1)),2) -> 4808.33 | K43: =IF(J43=0,0,(SQRT((IF(E43<1,0,POWER((E43-J43),2))+IF(F43<1,0,POWER((F43-J43),2))+IF(G43<1,0,POWER((G43-J43),2))+IF(H43<1,0,POWER((H43-J43),2))+IF(I43<1,0,POWER((I43-J43),2)))/((IF(E43<1,0,1)+IF(F43<1,0,1)+IF(G43<1,0,1)+IF(H43<1,0,1)+IF(I43<1,0,1))-1)))) -> 115.36175 | L43: =IF(J43=0,0,(K43/J43)*100) -> 2.3992062 | M43: =J43*D43 -> 9616.66
A44: 38 | B44: =[1]НМЦК!C52 -> Секундомер электронный | C44: =[2]НМЦК!E52 -> шт | D44: =[1]НМЦК!D52 -> 2 | E44: 1820 | F44: 1663 | G44: 1670 | J44: =ROUND(SUM(E44:I44)/(IF(E44<1,0,1)+IF(F44<1,0,1)+IF(G44<1,0,1)+IF(H44<1,0,1)+IF(I44<1,0,1)),2) -> 1717.67 | K44: =IF(J44=0,0,(SQRT((IF(E44<1,0,POWER((E44-J44),2))+IF(F44<1,0,POWER((F44-J44),2))+IF(G44<1,0,POWER((G44-J44),2))+IF(H44<1,0,POWER((H44-J44),2))+IF(I44<1,0,POWER((I44-J44),2)))/((IF(E44<1,0,1)+IF(F44<1,0,1)+IF(G44<1,0,1)+IF(H44<1,0,1)+IF(I44<1,0,1))-1)))) -> 88.692352 | L44: =IF(J44=0,0,(K44/J44)*100) -> 5.1635269 | M44: =J44*D44 -> 3435.34
A45: 39 | B45: =[1]НМЦК!C53 -> Сантиметровая лента | C45: шт | D45: =[1]НМЦК!D53 -> 2 | E45: 95 | F45: 88 | G45: 90 | J45: =ROUND(SUM(E45:I45)/(IF(E45<1,0,1)+IF(F45<1,0,1)+IF(G45<1,0,1)+IF(H45<1,0,1)+IF(I45<1,0,1)),2) -> 91 | K45: =IF(J45=0,0,(SQRT((IF(E45<1,0,POWER((E45-J45),2))+IF(F45<1,0,POWER((F45-J45),2))+IF(G45<1,0,POWER((G45-J45),2))+IF(H45<1,0,POWER((H45-J45),2))+IF(I45<1,0,POWER((I45-J45),2)))/((IF(E45<1,0,1)+IF(F45<1,0,1)+IF(G45<1,0,1)+IF(H45<1,0,1)+IF(I45<1,0,1))-1)))) -> 3.6055513 | L45: =IF(J45=0,0,(K45/J45)*100) -> 3.9621443 | M45: =J45*D45 -> 182
A46: 40 | B46: =[1]НМЦК!C54 -> Фонарик диагностический | C46: =[2]НМЦК!E54 -> шт | D46: =[1]НМЦК!D54 -> 2 | E46: 2120 | F46: 1925 | G46: 2015 | J46: =ROUND(SUM(E46:I46)/(IF(E46<1,0,1)+IF(F46<1,0,1)+IF(G46<1,0,1)+IF(H46<1,0,1)+IF(I46<1,0,1)),2) -> 2020 | K46: =IF(J46=0,0,(SQRT((IF(E46<1,0,POWER((E46-J46),2))+IF(F46<1,0,POWER((F46-J46),2))+IF(G46<1,0,POWER((G46-J46),2))+IF(H46<1,0,POWER((H46-J46),2))+IF(I46<1,0,POWER((I46-J46),2)))/((IF(E46<1,0,1)+IF(F46<1,0,1)+IF(G46<1,0,1)+IF(H46<1,0,1)+IF(I46<1,0,1))-1)))) -> 97.596106 | L46: =IF(J46=0,0,(K46/J46)*100) -> 4.8314904 | M46: =J46*D46 -> 4040
A47: 41 | B47: =[1]НМЦК!C55 -> Емкость для дезинфицирующих средств | C47: шт | D47: =[1]НМЦК!D55 -> 2 | E47: 1360 | F47: 1313 | G47: 1320 | J47: =ROUND(SUM(E47:I47)/(IF(E47<1,0,1)+IF(F47<1,0,1)+IF(G47<1,0,1)+IF(H47<1,0,1)+IF(I47<1,0,1)),2) -> 1331 | K47: =IF(J47=0,0,(SQRT((IF(E47<1,0,POWER((E47-J47),2))+IF(F47<1,0,POWER((F47-J47),2))+IF(G47<1,0,POWER((G47-J47),2))+IF(H47<1,0,POWER((H47-J47),2))+IF(I47<1,0,POWER((I47-J47),2)))/((IF(E47<1,0,1)+IF(F47<1,0,1)+IF(G47<1,0,1)+IF(H47<1,0,1)+IF(I47<1,0,1))-1)))) -> 25.357445 | L47: =IF(J47=0,0,(K47/J47)*100) -> 1.9051423 | M47: =J47*D47 -> 2662
A48: 42 | B48: =[1]НМЦК!C56 -> Емкость для сбора колюще-режущих медицинских отходов | C48: =[2]НМЦК!E56 -> шт | D48: =[1]НМЦК!D56 -> 2 | E48: 190 | F48: 175.3 | G48: 185 | J48: =ROUND(SUM(E48:I48)/(IF(E48<1,0,1)+IF(F48<1,0,1)+IF(G48<1,0,1)+IF(H48<1,0,1)+IF(I48<1,0,1)),2) -> 183.43 | K48: =IF(J48=0,0,(SQRT((IF(E48<1,0,POWER((E48-J48),2))+IF(F48<1,0,POWER((F48-J48),2))+IF(G48<1,0,POWER((G48-J48),2))+IF(H48<1,0,POWER((H48-J48),2))+IF(I48<1,0,POWER((I48-J48),2)))/((IF(E48<1,0,1)+IF(F48<1,0,1)+IF(G48<1,0,1)+IF(H48<1,0,1)+IF(I48<1,0,1))-1)))) -> 7.4741789 | L48: =IF(J48=0,0,(K48/J48)*100) -> 4.0746764 | M48: =J48*D48 -> 366.86
A49: 43 | B49: =[1]НМЦК!C57 -> Коврик резиновый грязезащитный | C49: =[2]НМЦК!E57 -> шт | D49: =[1]НМЦК!D57 -> 1 | E49: 2430 | F49: 2275 | G49: 2285 | J49: =ROUND(SUM(E49:I49)/(IF(E49<1,0,1)+IF(F49<1,0,1)+IF(G49<1,0,1)+IF(H49<1,0,1)+IF(I49<1,0,1)),2) -> 2330 | K49: =IF(J49=0,0,(SQRT((IF(E49<1,0,POWER((E49-J49),2))+IF(F49<1,0,POWER((F49-J49),2))+IF(G49<1,0,POWER((G49-J49),2))+IF(H49<1,0,POWER((H49-J49),2))+IF(I49<1,0,POWER((I49-J49),2)))/((IF(E49<1,0,1)+IF(F49<1,0,1)+IF(G49<1,0,1)+IF(H49<1,0,1)+IF(I49<1,0,1))-1)))) -> 86.746758 | L49: =IF(J49=0,0,(K49/J49)*100) -> 3.7230368 | M49: =J49*D49 -> 2330
A50: 44 | B50: =[1]НМЦК!C58 -> Комплект оборудования для наглядной пропаганды здорового образа жизни | C50: =[2]НМЦК!E58 -> шт | D50: =[1]НМЦК!D58 -> 2 | E50: 5640 | F50: 5250 | G50: 5300 | J50: =ROUND(SUM(E50:I50)/(IF(E50<1,0,1)+IF(F50<1,0,1)+IF(G50<1,0,1)+IF(H50<1,0,1)+IF(I50<1,0,1)),2) -> 5396.67 | K50: =IF(J50=0,0,(SQRT((IF(E50<1,0,POWER((E50-J50),2))+IF(F50<1,0,POWER((F50-J50),2))+IF(G50<1,0,POWER((G50-J50),2))+IF(H50<1,0,POWER((H50-J50),2))+IF(I50<1,0,POWER((I50-J50),2)))/((IF(E50<1,0,1)+IF(F50<1,0,1)+IF(G50<1,0,1)+IF(H50<1,0,1)+IF(I50<1,0,1))-1)))) -> 212.21059 | L50: =IF(J50=0,0,(K50/J50)*100) -> 3.9322506 | M50: =J50*D50 -> 10793.34
A51: Итого НМЦК | M51: =SUM(M7:M50) -> 419844.12
A52: * При определении Н(М)ЦК, ЦКЕП контракта Заказчиком применяется Приказ Минэкономразвития России от 02.10.2013 N 567 "Об утверждении Методических рекомендаций по применению методов определения начальной(максимальной) цены контракта, цены контракта, заключаемого с единственным поставщиком(подрядчиком, исполнителем)". Данный Приказ не учитывает, что применение утвержденных формул определения Н(М)ЦК, ЦКЕП, может привести к формированию цены контракта и цены за единицу товара (работы, услуги) с дробными значениями (количество знаков после запятой превышает 2). Большинство бухгалтерских программ, а также программное обеспечение реестра контрактов не позволяет проводить операции с такими значениями. Поэтому в случае необходимости Заказчиком применяется округление (вниз) таких показателей.
A53: Начальная (максимальная) цена контракта определена методом сопоставимых рыночных цен (анализа рынка).
A55: Директор: Анцырева Е.М.
