Workbook

Sheet расчет
A1: ПРОТОКОЛ ПО ФОРМИРОВАНИЮ НАЧАЛЬНОЙ (МАКСИМАЛЬНОЙ) ЦЕНЫ КОНТРАКТА
A2: Расчет произведен в соответствии с Приказом Минэкономразвития России от 02.10.2013 N 567 на основании информации о ценах продукции, полученной по запросу заказчика (ч.5 ст.22 44-ФЗ) и (или) информации о ценах продукции, содержащейся в контрактах (п.1 ч.18 ст.22 44-ФЗ)
A3: Поставка знаков дорожного движения для нужд государственного бюджетного общеобразовательного учреждения средняя общеобразовательная школа № 321 Центрального района Санкт-Петербурга
A5: № п/п | B5: Наименование товара | C5: Ед.изм | D5: Кол-во | E5: Цена предл. №1 (исх. №261 от 18.05.2026) | F5: Цена предл. №2 (исх. №55 от 12.05.2026) | G5: Цена предл. №3 (исх. №462 от 12.05.2026) | H5: Цена предл. №4 от _____, б/н,(руб. вкл. НДС) | I5: Цена предл. №5 от _____, б/н, (руб. вкл. НДС) | J5: Средняя арифметическая цена единицы товара | K5: Среднеквадратичное отклонение | L5: Коэффициент вариации (%) | M5: НМЦК (руб. вкл. НДС)
A6: 1 | B6: 2 | C6: 3 | D6: 4 | E6: 5 | F6: 6 | G6: 7 | H6: 8 | I6: 9 | J6: 10 | K6: 11 | L6: 12 | M6: 13
A7: 1 | B7: Коррекционная дорожка | C7: =[1]НМЦК!E104 -> шт | D7: 2 | E7: =[1]НМЦК!H104 -> 50435 | F7: 49795 | G7: 57720 | J7: =ROUND(SUM(E7:I7)/(IF(E7<1,0,1)+IF(F7<1,0,1)+IF(G7<1,0,1)+IF(H7<1,0,1)+IF(I7<1,0,1)),2) -> 52650 | K7: =IF(J7=0,0,(SQRT((IF(E7<1,0,POWER((E7-J7),2))+IF(F7<1,0,POWER((F7-J7),2))+IF(G7<1,0,POWER((G7-J7),2))+IF(H7<1,0,POWER((H7-J7),2))+IF(I7<1,0,POWER((I7-J7),2)))/((IF(E7<1,0,1)+IF(F7<1,0,1)+IF(G7<1,0,1)+IF(H7<1,0,1)+IF(I7<1,0,1))-1)))) -> 4402.3942 | L7: =IF(J7=0,0,(K7/J7)*100) -> 8.3616225 | M7: =J7*D7 -> 105300
A8: 2 | B8: Четырехсторонний перекресток | C8: =[1]НМЦК!E105 -> шт | D8: 1 | E8: =[1]НМЦК!H105 -> 63180 | F8: 63050 | G8: 64480 | J8: =ROUND(SUM(E8:I8)/(IF(E8<1,0,1)+IF(F8<1,0,1)+IF(G8<1,0,1)+IF(H8<1,0,1)+IF(I8<1,0,1)),2) -> 63570 | K8: =IF(J8=0,0,(SQRT((IF(E8<1,0,POWER((E8-J8),2))+IF(F8<1,0,POWER((F8-J8),2))+IF(G8<1,0,POWER((G8-J8),2))+IF(H8<1,0,POWER((H8-J8),2))+IF(I8<1,0,POWER((I8-J8),2)))/((IF(E8<1,0,1)+IF(F8<1,0,1)+IF(G8<1,0,1)+IF(H8<1,0,1)+IF(I8<1,0,1))-1)))) -> 790.75913 | L8: =IF(J8=0,0,(K8/J8)*100) -> 1.2439187 | M8: =J8*D8 -> 63570
A9: 3 | B9: Комплект стоек с дорожными знаками | C9: =[1]НМЦК!E106 -> компл | D9: 1 | E9: =[1]НМЦК!H106 -> 35570 | F9: 35485 | G9: 38340 | J9: =ROUND(SUM(E9:I9)/(IF(E9<1,0,1)+IF(F9<1,0,1)+IF(G9<1,0,1)+IF(H9<1,0,1)+IF(I9<1,0,1)),2) -> 36465 | K9: =IF(J9=0,0,(SQRT((IF(E9<1,0,POWER((E9-J9),2))+IF(F9<1,0,POWER((F9-J9),2))+IF(G9<1,0,POWER((G9-J9),2))+IF(H9<1,0,POWER((H9-J9),2))+IF(I9<1,0,POWER((I9-J9),2)))/((IF(E9<1,0,1)+IF(F9<1,0,1)+IF(G9<1,0,1)+IF(H9<1,0,1)+IF(I9<1,0,1))-1)))) -> 1624.3537 | L9: =IF(J9=0,0,(K9/J9)*100) -> 4.4545556 | M9: =J9*D9 -> 36465
A10: 4 | B10: Комплект тематических магнитных дорожных знаков | C10: =[1]НМЦК!E107 -> компл | D10: 1 | E10: =[1]НМЦК!H107 -> 8645 | F10: 8630 | G10: 9050 | J10: =ROUND(SUM(E10:I10)/(IF(E10<1,0,1)+IF(F10<1,0,1)+IF(G10<1,0,1)+IF(H10<1,0,1)+IF(I10<1,0,1)),2) -> 8775 | K10: =IF(J10=0,0,(SQRT((IF(E10<1,0,POWER((E10-J10),2))+IF(F10<1,0,POWER((F10-J10),2))+IF(G10<1,0,POWER((G10-J10),2))+IF(H10<1,0,POWER((H10-J10),2))+IF(I10<1,0,POWER((I10-J10),2)))/((IF(E10<1,0,1)+IF(F10<1,0,1)+IF(G10<1,0,1)+IF(H10<1,0,1)+IF(I10<1,0,1))-1)))) -> 238.27505 | L10: =IF(J10=0,0,(K10/J10)*100) -> 2.7153852 | M10: =J10*D10 -> 8775
A11: 5 | B11: Комплект тематических магнитных моделей автомобилей | C11: =[1]НМЦК!E108 -> компл | D11: 1 | E11: =[1]НМЦК!H108 -> 15755 | F11: 14075 | G11: 15800 | J11: =ROUND(SUM(E11:I11)/(IF(E11<1,0,1)+IF(F11<1,0,1)+IF(G11<1,0,1)+IF(H11<1,0,1)+IF(I11<1,0,1)),2) -> 15210 | K11: =IF(J11=0,0,(SQRT((IF(E11<1,0,POWER((E11-J11),2))+IF(F11<1,0,POWER((F11-J11),2))+IF(G11<1,0,POWER((G11-J11),2))+IF(H11<1,0,POWER((H11-J11),2))+IF(I11<1,0,POWER((I11-J11),2)))/((IF(E11<1,0,1)+IF(F11<1,0,1)+IF(G11<1,0,1)+IF(H11<1,0,1)+IF(I11<1,0,1))-1)))) -> 983.19632 | L11: =IF(J11=0,0,(K11/J11)*100) -> 6.4641441 | M11: =J11*D11 -> 15210
A12: Итого НМЦК | M12: =SUM(M7:M11) -> 229320
A13: * При определении Н(М)ЦК, ЦКЕП контракта Заказчиком применяется Приказ Минэкономразвития России от 02.10.2013 N 567 "Об утверждении Методических рекомендаций по применению методов определения начальной(максимальной) цены контракта, цены контракта, заключаемого с единственным поставщиком(подрядчиком, исполнителем)". Данный Приказ не учитывает, что применение утвержденных формул определения Н(М)ЦК, ЦКЕП, может привести к формированию цены контракта и цены за единицу товара (работы, услуги) с дробными значениями (количество знаков после запятой превышает 2). Большинство бухгалтерских программ, а также программное обеспечение реестра контрактов не позволяет проводить операции с такими значениями. Поэтому в случае необходимости Заказчиком применяется округление (вниз) таких показателей.
A14: Начальная (максимальная) цена контракта определена методом сопоставимых рыночных цен (анализа рынка).
A16: Директор: Анцырева Е.М.
