Workbook

Sheet расчет
B1: Расчет начальной (максимальной) цены контракта | L1: Приложение № 3 Расчет НМЦК
B3: Заказчик | F3: СПб ГКУЗ "Детский туберкулезный санаторий "Жемчужина"
B4: Объект закупки | F4: Поставка медицинских изделий для клинико-диагностической лаборатории (НСК) для нужд СПб ГКУЗ «Детский туберкулезный санаторий «Жемчужина» в 2026 году
B5: Используемый метод определения НМЦК | F5: Метод сопоставимых рыночных цен (анализа рынка), согласно пункту 1 части 1 статьи 22 Федерального закона от 05.04.2013 г. № 44-ФЗ «О контрактной системе в сфере закупок товаров, работ, услуг для обеспечения государственных и муниципальных нужд»
B7: Расчет НМЦК | F7: Для расчета НМЦК использовались цены, полученные из реестра контрактов и от поставщика
B8: НМЦК | F8: Начальная максимальная цена контракта составляет 4542,00 руб. Совокупность значений, используемых в расчете при определении НМЦК, считается однородной, т.к. коэффициент вариации не превышает 33 %.
B9: Дата расчета | F9: 12 мая 2026 года
B11: Цена включает в себя транспортные, страховые, таможенные и другие расходы, а также налоги и сборы, установленные действующим законодательством Российской Федерации, стоимость тары, упаковки и маркировки.
A13: № п/п | B13: Наименование товара (работы, услуги) | D13: Номер источника ценовой информации (ИЦИ №i) и цена единицы товара, работы, услуги, представленная i-тым ИЦИ (Цi), руб. | H13: v - кол-во (объем) закупаемого товара (работы, услуги), ед. | I13: n - кол-во значений, используемых в расчете | J13: Определение однородности совокупности значений выявленных цен | N13: НДС, % | O13: Начальная цена единицы медицинского изделия, с НДС, руб.
C14: Характеристики | D14: ИЦИ №1 вх. № 89 от 05.05.2026 | E14: ИЦИ №2 | F14: ИЦИ №3 | J14: <ц> - средн. арифм. величина цены единицы прод-ции, руб. | L14: Среднее квадратичное отклонение | M14: V - коэф-нт вариации
A15: 1 | B15: 2 | D15: 3 | E15: 4 | F15: 5 | G15: 6=3+4+5 | H15: 7 | I15: 8 = кол-во ответов ИЦИ | J15: 9 | K15: 10 | L15: 11 | M15: 12 | P15: 13=6*7/8
A16: 1 | B16: Стекло предметное и (или) слайд для микроскопии ИВД, одноразового использования | C16: Длина 75.0 - 76.0 миллиметр Зона для маркировки Да - Исполнение гладкое - Количество в упаковке ≤100 - Матирование нет - Тип кромки шлифованная - Толщина 1.0 - 1.2 миллиметр Ширина 25.0 - 26.0 миллиметр | D16: 3.72 | E16: ='ИЦИ 2'!F2 -> 4.56 | F16: ='ИЦИ 3'!F4 -> 5.54 | G16: =SUM(D16:F16) -> 13.82 | H16: 200 | I16: 3 | J16: =ROUND(AVERAGE(D16:F16),2) -> 4.61 | K16: =DEVSQ(D16:F16)/(I16-1) -> 0.82973333 | L16: =SQRT(K16) -> 0.91089699 | M16: =L16/J16*100 -> 19.759154 | N16: 10 | O16: =ROUND(J16+(N16*(J16/100)),2) -> 5.07 | P16: =O16*H16 -> 1014
A17: 2 | B17: Пипетка с ручным заполнением | C17: Тип Пастеровские Объем 3,0 Длина ≥ 120 Градуировка нет Материал изготовления бесцветный полиэтилен | D17: 13.38 | E17: ='ИЦИ 2'!F3 -> 12.6 | F17: ='ИЦИ 3'!F5 -> 10.4 | G17: =SUM(D17:F17) -> 36.38 | H17: 200 | I17: 3 | J17: =ROUND(AVERAGE(D17:F17),2) -> 12.13 | K17: =DEVSQ(D17:F17)/(I17-1) -> 2.3881333 | L17: =SQRT(K17) -> 1.5453586 | M17: =L17/J17*100 -> 12.739972 | N17: 10 | O17: =ROUND(J17+(N17*(J17/100)),2) -> 13.34 | P17: =O17*H17 -> 2668
A18: 3 | B18: Пробирка центрифужная ИВД | C18: Объем ≥ 10 и ≤ 15 кубический сантиметр; миллилитр Стерильность нет Количество в упаковке ≥100 шт. Форма дна Конические Градуировка Да Крышка Нет - Высота ≥ 105 миллиметр Диаметр ≥ 16.5 и ≤ 17.5 миллиметр Наличие регистрационного удостоверения Устойчивость к центрифугированию ≥ 1500 оборотов/мин Совместимость с анализатором СОЭ Вестерлайт 1230 | D18: 3.48 | E18: ='ИЦИ 2'!F4 -> 4.4 | F18: ='ИЦИ 3'!F6 -> 3.8646 | G18: =SUM(D18:F18) -> 11.7446 | H18: 200 | I18: 3 | J18: =ROUND(AVERAGE(D18:F18),2) -> 3.91 | K18: =DEVSQ(D18:F18)/(I18-1) -> 0.21349505 | L18: =SQRT(K18) -> 0.46205525 | M18: =L18/J18*100 -> 11.81727 | N18: 10 | O18: =ROUND(J18+(N18*(J18/100)),2) -> 4.3 | P18: =O18*H18 -> 860
A19: Начальная (максимальная) цена контракта, руб. с НДС | P19: =SUM(P16:P18) -> 4542
B22: Контрактный управляющий | F22: Визе И.Е.

Sheet ИЦИ 2
C1: Цена в контракте, руб. | D1: Коэф. по способу (максимальный размер): для аукционов - 13% для конкурсов - 10% для запросов предложений или запросов котировок - 17% | E1: Коэф. по периоду рассчитан для цен старше 6 месяцев в соответствии с рекомендациями п.3.18 Приказа №567
A2: 1 | B2: РК№27814134422 25 000251 от 04.12.2025 | C2: 4.56 | D2: =1+0% -> 1 | E2: =1+0% -> 1 | F2: =C2*D2*E2 -> 4.56
A3: 2 | B3: РК№17802048200 25 000121 от 28.01.2025 | C3: 12.6 | D3: =1+0% -> 1 | E3: =1+0% -> 1 | F3: =C3*D3*E3 -> 12.6
A4: 3 | B4: РК№27802078420 25 000417 от 04.04.2025 | C4: 4.4 | D4: =1+0% -> 1 | E4: =1+0% -> 1 | F4: =C4*D4*E4 -> 4.4

Sheet ИЦИ 3
C1: Цена в контракте, руб. | D1: Коэф. по способу (максимальный размер): для аукционов - 13% для конкурсов - 10% для запросов предложений или запросов котировок - 17% | E1: Коэф. по периоду рассчитан для цен старше 6 месяцев в соответствии с рекомендациями п.3.18 Приказа №567
A4: 1 | B4: РК№27820013553 25 000130 от 14.04.2025 | C4: 5.54 | D4: =1+0% -> 1 | E4: =1+0% -> 1 | F4: =C4*D4*E4 -> 5.54
A5: 2 | B5: РК№17802048200 25 000622 от 15.07.2025 | C5: 10.4 | D5: =1+0% -> 1 | E5: =1+0% -> 1 | F5: =C5*D5*E5 -> 10.4
A6: 3 | B6: РК№27810214300 25 000145 от 29.12.2025 | C6: 3.42 | D6: =1+13% -> 1.13 | E6: =1+0% -> 1 | F6: =C6*D6*E6 -> 3.8646
