Workbook

Sheet Лист1
B2: Начальная (максимальная) стоимость единицы
B3: на выполнение работ по текущему ремонту системы холодоснабжения серверной
B5: № п/п | C5: Наименование | D5: Ед. изм. | E5: Количество | F5: НМСЕ в руб.
B6: Работы
B7: I. Замена компрессора ANB52FKFMT и повреждённого участка линии нагнетания на прецизионном кондиционере CyberRow 361 GES s/n 10062125
C8: Демонтажные работы
B9: 1.1 | C9: Отключение питающих проводов компрессора | D9: Усл.ед. | E9: 1 | F9: =[1]Лист1!J9 -> 10000
B10: 1.2 | C10: Демонтаж электрических элементов от участка фреонопровода в месте проведения работ | D10: Усл.ед. | E10: 1 | F10: =[1]Лист1!J10 -> 12739.35
B11: 1.3 | C11: Демонтаж компрессора | D11: Усл.ед. | E11: 1 | F11: =[1]Лист1!J11 -> 15288.67
B12: 1.4 | C12: Демонтаж отвода трубы нагнетания | D12: Усл.ед. | E12: 1 | F12: =[1]Лист1!J12 -> 6000
C13: Монтажные работы
B14: 1.5 | C14: Монтаж штуцеров для подключения электрических элементов | D14: Усл.ед. | E14: 1 | F14: =[1]Лист1!J14 -> 12127.14
B15: 1.6 | C15: Монтаж компрессора | D15: Усл.ед. | E15: 1 | F15: =[1]Лист1!J15 -> 34988.047
B16: 1.7 | C16: Монтаж отвода трубы нагнетания к новому компрессору | D16: Усл.ед. | E16: 1 | F16: =[1]Лист1!J16 -> 14587.38
B17: 1.8 | C17: Предварительное вакуумирование перед опрессовкой | D17: Усл.ед. | E17: 1 | F17: =[1]Лист1!J17 -> 38935.62
B18: 1.9 | C18: Комплекс работ по опрессовке | D18: Усл.ед. | E18: 1 | F18: =[1]Лист1!J18 -> 8520.48
B19: 1.10 | C19: Окончательное вакуумирование перед заправкой | D19: Усл.ед. | E19: 1 | F19: =[1]Лист1!J19 -> 10180.97
B20: 1.11 | C20: Заправка хладагента (фреон R410A) | D20: Усл.ед. | E20: 1 | F20: =[1]Лист1!J20 -> 12953.46
C21: Пусконаладочные работы
B22: 1.12 | C22: Настройка оборудования (установка температуры, относительной влажности, давления всасывания, давления нагнетания) | D22: Усл.ед. | E22: 1 | F22: =[1]Лист1!J22 -> 42878.14
B23: 1.13 | C23: Комплексные испытания оборудования | D23: Усл.ед. | E23: 1 | F23: =[1]Лист1!J23 -> 44215.23
B24: II. Замена насосной станции HydroUNIТ 3А1В.01.ООТРЕ40-430х2 HTS на насосную станцию Гидромодуль УНЗ-1-40-0000-01
C25: Демонтажные работы
B26: 2.1 | C26: Отключение питающих и сигнальных проводов | D26: усл. ед. | E26: 1 | F26: =[1]Лист1!J26 -> 12225.423
B27: 2.2 | C27: Слив теплоносителя в тару Подрядчика | D27: кг | E27: 25 | F27: =[1]Лист1!J27 -> 718.85
B28: 2.3 | C28: Демонтаж датчиков давления | D28: усл. ед. | E28: 1 | F28: =[1]Лист1!J28 -> 6753.21
B29: 2.4 | C29: Демонтаж насосной станции включая места соединения и запорную арматуру | D29: усл. ед. | E29: 2 | F29: =[1]Лист1!J29 -> 13933.8
B30: 2.5 | C30: Очистка соединений от старых прокладок и грязи | D30: усл. ед. | E30: 1 | F30: =[1]Лист1!J30 -> 7000
C31: Монтажные работы
B32: 2.6 | C32: Монтаж насосной станции | D32: Усл.ед. | E32: 1 | F32: =[1]Лист1!J32 -> 37969.86
B33: 2.7 | C33: Монтаж щита управления насосом | D33: Усл.ед. | E33: 1 | F33: =[1]Лист1!J33 -> 16661.56
B34: 2.8 | C34: Монтаж датчиков давления | D34: Усл.ед. | E34: 1 | F34: =[1]Лист1!J34 -> 13277.33
B35: 2.9 | C35: Комплекс работ по опрессовке воздухом с использованием компрессора | D35: Усл.ед. | E35: 1 | F35: =[1]Лист1!J35 -> 15000
B36: 2.10 | C36: Комплекс работ по опрессовке водой | D36: Усл.ед. | E36: 1 | F36: =[1]Лист1!J36 -> 13705.19
B37: 2.11 | C37: Проверка концентрации пропиленгликоля в растворе | D37: Усл.ед. | E37: 1 | F37: =[1]Лист1!J37 -> 5762.87
B38: 2.12 | C38: Заливка в смонтированный контур слитого на этапе демонтажных работ (п. 15) раствора пропиленгликоля в воде 40% | D38: Усл.ед. | E38: 1 | F38: =[1]Лист1!J38 -> 11952.15
B39: 2.13 | C39: Подключение питающих и сигнальных проводов | D39: Усл.ед. | E39: 1 | F39: =[1]Лист1!J39 -> 12140.32
C40: Пусконаладочные работы
B41: 2.14 | C41: Настройка оборудования (установка температуры, относительной влажности, давления всасывания, давления нагнетания) | D41: Усл.ед. | E41: 1 | F41: =[1]Лист1!J41 -> 49125.69
B42: 2.15 | C42: Комплексные испытания оборудования | D42: Усл.ед. | E42: 1 | F42: =[1]Лист1!J42 -> 49125.69
B43: III. Ремонт прецизионного кондиционера CyberRow 361 GES s/n 10062126 в части отсечения гликолевого теплообменника
C44: Демонтажные работы
B45: 3.1. | C45: Слив теплоносителя в тару Подрядчика | D45: кг | E45: 25 | F45: =[1]Лист1!J45 -> 718.85
B46: 3.2. | C46: Отключение теплообменника от контура | D46: Усл.ед. | E46: 1 | F46: =[1]Лист1!J46 -> 15439.44
C47: Монтажные работы
B48: 3.3. | C48: Герметизация контура в местах подключения теплообменника | D48: усл. ед. | E48: 1 | F48: =[1]Лист1!J48 -> 16401
B49: 3.4. | C49: Комплекс работ по опрессовке воздухом с использованием компрессора | D49: усл. ед. | E49: 1 | F49: =[1]Лист1!J49 -> 18014.75
B50: 3.5. | C50: Комплекс работ по опрессовке водой | D50: усл. ед. | E50: 1 | F50: =[1]Лист1!J50 -> 14660.6
B51: 3.6. | C51: Заливка в смонтированный контур слитого на этапе демонтажных работ (п. 29) раствора пропиленгликоля в воде 40% | D51: усл. ед. | E51: 1 | F51: =[1]Лист1!J51 -> 8609.7
C52: Пусконаладочные работы
B53: 3.7. | C53: Настройка оборудования (установка температуры, относительной влажности, давления всасывания, давления нагнетания) | D53: усл. ед. | E53: 1 | F53: =[1]Лист1!J53 -> 49125.69
B54: 3.8. | C54: Комплексные испытания оборудования | D54: усл. ед. | E54: 1 | F54: =[1]Лист1!J54 -> 49125.69
B55: материалы
B56: 1 | C56: Клапан Шредера 03 тр.3/16 ZENNY MA | D56: шт. | E56: 3 | F56: =[1]Лист1!J56 -> 259.26
B57: 2 | C57: Компрессор ANB52 | D57: шт. | E57: 1 | F57: =[1]Лист1!J57 -> 214167.23
B58: 3 | C58: Технические газы | D58: компл. | E58: 1 | F58: -
B59: 4 | C59: Фреон R410A | D59: компл. | E59: 1 | F59: =[1]Лист1!J59 -> 26981.29
B60: 5 | C60: Гидромодуль УНЗ-1-40-0000-01 (в составе насос, набор датчиков, щит управления с ЧП) | D60: шт. | E60: 1 | F60: =[1]Лист1!J60 -> 516770.05
B61: 6 | C61: Переход полипропиленовый 75-63 | D61: шт. | E61: 2 | F61: =[1]Лист1!J61 -> 361.37
B62: 7 | C62: Фланец полипропиленовый 63 + бурт под фланец + прокладка межфланцевая | D62: шт. | E62: 14 | F62: =[1]Лист1!J62 -> 933.74
B63: 8 | C63: Фланец полипропиленовый 50 + бурт под фланец + прокладка межфланцевая | D63: шт. | E63: 2 | F63: =[1]Лист1!J63 -> 1171.41
B64: 9 | C64: Тройник полипропиленовый 63 | D64: шт. | E64: 2 | F64: =[1]Лист1!J64 -> 463.29
B65: 10 | C65: Тройник полипропиленовый 63х20х63 | D65: шт. | E65: 5 | F65: =[1]Лист1!J65 -> 249.19667
B66: 11 | C66: Муфта полипропиленовая неразъёмная 20х1/2 НР | D66: шт. | E66: 4 | F66: =[1]Лист1!J66 -> 164.51
B67: 12 | C67: Муфта полипропиленовая неразъёмная 20х1/2 ВР | D67: шт. | E67: 1 | F67: =[1]Лист1!J67 -> 125.55
B68: 13 | C68: Кран шаровый 1/2 ВР | D68: шт. | E68: 2 | F68: =[1]Лист1!J68 -> 2018.05
B69: 14 | C69: Кран трёхходовой под манометр 1/2 ВР | D69: шт. | E69: 2 | F69: =[1]Лист1!J69 -> 3471.42
B70: 15 | C70: Задвижка фланцевая Ду50 | D70: шт. | E70: 4 | F70: =[1]Лист1!J70 -> 10716.067
... B82: 27 | C82: Шайба М16 | D82: шт. | E82: 64 | F82: =[1]Лист1!J82 -> 5.56
