Workbook

Sheet Лист1
B2: Начальная (максимальная) стоимость единицы
B3: на выполнение работ по текущему ремонту системы холодоснабжения серверной
B5: № п/п | C5: Наименование | D5: Ед. изм. | E5: Количество | F5: НМСЕ в руб.
B6: Работы
B7: I. Замена компрессора ANB52FKFMT и повреждённого участка линии нагнетания на прецизионном кондиционере CyberRow 361 GES s/n 10062125
C8: Демонтажные работы
B9: 1.1 | C9: Отключение питающих проводов компрессора | D9: Усл.ед. | E9: 1 | F9: =[1]Лист1!J9 -> 10000
B10: 1.2 | C10: Демонтаж электрических элементов от участка фреонопровода в месте проведения работ | D10: Усл.ед. | E10: 1 | F10: =[1]Лист1!J10 -> 12739.35
B11: 1.3 | C11: Демонтаж компрессора | D11: Усл.ед. | E11: 1 | F11: =[1]Лист1!J11 -> 15288.67
B12: 1.4 | C12: Демонтаж отвода трубы нагнетания | D12: Усл.ед. | E12: 1 | F12: =[1]Лист1!J12 -> 6000
C13: Монтажные работы
B14: 1.5 | C14: Монтаж штуцеров для подключения электрических элементов | D14: Усл.ед. | E14: 1 | F14: =[1]Лист1!J14 -> 12127.14
B15: 1.6 | C15: Монтаж компрессора | D15: Усл.ед. | E15: 1 | F15: =[1]Лист1!J15 -> 34988.047
B16: 1.7 | C16: Монтаж отвода трубы нагнетания к новому компрессору | D16: Усл.ед. | E16: 1 | F16: =[1]Лист1!J16 -> 14587.38
B17: 1.8 | C17: Предварительное вакуумирование перед опрессовкой | D17: Усл.ед. | E17: 1 | F17: =[1]Лист1!J17 -> 38935.62
B18: 1.9 | C18: Комплекс работ по опрессовке | D18: Усл.ед. | E18: 1 | F18: =[1]Лист1!J18 -> 8520.48
B19: 1.10 | C19: Окончательное вакуумирование перед заправкой | D19: Усл.ед. | E19: 1 | F19: =[1]Лист1!J19 -> 10180.97
B20: 1.11 | C20: Заправка хладагента (фреон R410A) | D20: Усл.ед. | E20: 1 | F20: =[1]Лист1!J20 -> 12953.46
C21: Пусконаладочные работы
B22: 1.12 | C22: Настройка оборудования (установка температуры, относительной влажности, давления всасывания, давления нагнетания) | D22: Усл.ед. | E22: 1 | F22: =[1]Лист1!J22 -> 42878.14
B23: 1.13 | C23: Комплексные испытания оборудования | D23: Усл.ед. | E23: 1 | F23: =[1]Лист1!J23 -> 44215.23
B24: II. Замена насосной станции HydroUNIТ 3А1В.01.ООТРЕ40-430х2 HTS на насосную станцию Гидромодуль УНЗ-1-40-0000-01
C25: Демонтажные работы
B26: 2.1 | C26: Отключение питающих и сигнальных проводов | D26: усл. ед. | E26: 1 | F26: =[1]Лист1!J26 -> 12225.423
B27: 2.2 | C27: Слив теплоносителя в тару Подрядчика | D27: кг | E27: 25 | F27: =[1]Лист1!J27 -> 718.85
B28: 2.3 | C28: Демонтаж датчиков давления | D28: усл. ед. | E28: 1 | F28: =[1]Лист1!J28 -> 6753.21
B29: 2.4 | C29: Демонтаж насосной станции включая места соединения и запорную арматуру | D29: усл. ед. | E29: 2 | F29: =[1]Лист1!J29 -> 13933.8
B30: 2.5 | C30: Очистка соединений от старых прокладок и грязи | D30: усл. ед. | E30: 1 | F30: =[1]Лист1!J30 -> 7000
C31: Монтажные работы
B32: 2.6 | C32: Монтаж насосной станции | D32: Усл.ед. | E32: 1 | F32: =[1]Лист1!J32 -> 37969.86
B33: 2.7 | C33: Монтаж щита управления насосом | D33: Усл.ед. | E33: 1 | F33: =[1]Лист1!J33 -> 16661.56
B34: 2.8 | C34: Монтаж датчиков давления | D34: Усл.ед. | E34: 1 | F34: =[1]Лист1!J34 -> 13277.33
B35: 2.9 | C35: Комплекс работ по опрессовке воздухом с использованием компрессора | D35: Усл.ед. | E35: 1 | F35: =[1]Лист1!J35 -> 15000
B36: 2.10 | C36: Комплекс работ по опрессовке водой | D36: Усл.ед. | E36: 1 | F36: =[1]Лист1!J36 -> 13705.19
B37: 2.11 | C37: Проверка концентрации пропиленгликоля в растворе | D37: Усл.ед. | E37: 1 | F37: =[1]Лист1!J37 -> 5762.87
B38: 2.12 | C38: Заливка в смонтированный контур слитого на этапе демонтажных работ (п. 15) раствора пропиленгликоля в воде 40% | D38: Усл.ед. | E38: 1 | F38: =[1]Лист1!J38 -> 11952.15
B39: 2.13 | C39: Подключение питающих и сигнальных проводов | D39: Усл.ед. | E39: 1 | F39: =[1]Лист1!J39 -> 12140.32
C40: Пусконаладочные работы
B41: 2.14 | C41: Настройка оборудования (установка температуры, относительной влажности, давления всасывания, давления нагнетания) | D41: Усл.ед. | E41: 1 | F41: =[1]Лист1!J41 -> 49125.69
B42: 2.15 | C42: Комплексные испытания оборудования | D42: Усл.ед. | E42: 1 | F42: =[1]Лист1!J42 -> 49125.69
...
