Workbook

Sheet 3предлож
B1: Расчет начальной максимальной цены контракта на закупку лестниц для кроватей в 2023 году
B3: Наименование поставщиков давших коммерческое предложение | E3: Поставщик № 1 | F3: Поставщик № 2 | G3: Поставщик № 3
A4: № | B4: Товары (работы, услуги) | C4: Ед. измр | D4: Кол-во | E4: цена с НДС за 1 ед | F4: цена с НДС за 1 ед | G4: цена с НДС за 1 ед | H4: среднее квадратичное отклонение | I4: средняя арифмитическая величина цены единицы товара | J4: коэффициент вариативности % | K4: расчет начальной максимальной цены контракта по одной позиции товара
A5: 1 | B5: Лестница навесная для 3-ярусной кровати (тип 3) | C5: шт | D5: 10 | E5: 1440 | F5: 1512 | G5: 1584 | H5: =STDEVA(E5:G5) -> 72 | I5: =(E5+F5+G5)/3 -> 1512 | J5: =(H5/I5)*100 -> 4.7619048 | K5: =D5*I5 -> 15120
A6: 2 | H6: =STDEVA(E6:G6) -> #DIV/0! | I6: =(E6+F6+G6)/3 -> 0 | J6: =(H6/I6)*100 -> #DIV/0! | K6: =D6*I6 -> 0
K7: =SUM(K5:K6) -> 15120
A8: Руководитель Контрактной службы Вахонева В. М.
A10: исполнитель Бей-Биенко Ю.Б.

Sheet Лист1
B1: ='3предлож'!$B$1 -> Расчет начальной максимальной цены контракта на закупку лестниц для кроватей в 2023 году
A3: № | B3: Товары (работы, услуги) | C3: Ед. измр | D3: Кол-во | E3: цена с НДС за 1 ед | F3: Сумма
A4: ='3предлож'!A5 -> 1 | B4: ='3предлож'!B5 -> Лестница навесная для 3-ярусной кровати (тип 3) | C4: ='3предлож'!C5 -> шт | D4: ='3предлож'!D5 -> 10 | E4: ='3предлож'!E5 -> 1440 | F4: =D4*E4 -> 14400
A5: ='3предлож'!#REF! -> #REF! | B5: ='3предлож'!#REF! -> #REF! | C5: ='3предлож'!#REF! -> #REF! | D5: ='3предлож'!#REF! -> #REF! | E5: ='3предлож'!#REF! -> #REF! | F5: =D5*E5 -> #REF!
A6: ='3предлож'!#REF! -> #REF! | B6: ='3предлож'!#REF! -> #REF! | C6: ='3предлож'!#REF! -> #REF! | D6: ='3предлож'!#REF! -> #REF! | E6: ='3предлож'!#REF! -> #REF! | F6: =D6*E6 -> #REF!
A7: ИТОГО: | F7: =SUM(F4:F6) -> #REF!
A9: Руководитель Контрактной службы Вахонева В. М.
A11: исполнитель Бей-Биенко Ю.Б.
