Workbook

Sheet Окончательный расчёт
A1: Сформировано в системе СТАР - универсальном сервисе для работы с закупками РФ
A3: Обоснование начальной (максимальной) цены контракта на поставку лекарственных средств
A4: Наименование организации: | F4: САНКТ-ПЕТЕРБУРГСКОЕ ГОСУДАРСТВЕННОЕ КАЗЕННОЕ УЧРЕЖДЕНИЕ ЗДРАВООХРАНЕНИЯ "ПСИХОНЕВРОЛОГИЧЕСКИЙ ДИСПАНСЕР № 4" ИНН: 7813338617 КПП: 781301001
A5: Наименование пользователя: | F5: СПБ ГКУЗ "ПНД № 4" ИНН:7813338617 КПП:781301001
A6: Используемый метод определения НМЦК: | F6: в соответствии с приказом Министерства здравоохранения РФ от 19.12.2019 N 1064н
A7: Используемый способ округления: | F7: округление вниз с точностью до копейки
A9: Дата выполнения расчёта: | F9: 24.01.2024 17:02
A11: Объект закупки (предмет контракта):
A12: Начальная (максимальная) цена контракта (далее - НМЦК) определена Приказом Минздрава России от 19.12.2019 N 1064н "Об утверждении Порядка определения начальной (максимальной) цены контракта, цены контракта, заключаемого с единственным поставщиком (подрядчиком, исполнителем), начальной цены единицы товара, работы, услуги при осуществлении закупок лекарственных препаратов для медицинского применения" (далее - Порядок).
A14: № | B14: Заказчик | E14: Объект закупки - МНН/Торговое наименование | F14: Ссылка на карточку КТРУ | G14: Примечание | H14: В реестре ЖНВЛП? | I14: В реестре нарк. препаратов? | J14: Форма выпуска | K14: Дозировка / Кол-во акт вещества | L14: Ед изм КТРУ - наим-е | M14: Ед изм для рассчета | O14: Цена за единицу измерения, руб | S14: Min цена за единицу измерения, руб | T14: Оптовая надбавка, % | U14: НДС, % | V14: Цена единицы планируемого к закупке лекарственного препарата с учетом НДС и оптовой надбавки (руб.)*** | W14: НМЦ, руб
B15: Наименование | C15: ИНН | D15: КПП | M15: Кол-во | N15: Наим-е | O15: Метод ср.взвеш. цены | P15: Анализ рынка | Q15: Тарифный метод | R15: Метод референтных цен
A16: 1 | B16: 2 | C16: 3 | D16: 4 | E16: 5 | F16: 6 | G16: 7 | H16: 8 | I16: 9 | J16: 10 | K16: 11 | L16: 12 | M16: 13 | N16: 14 | O16: 15 | P16: 16 | Q16: 17 | R16: 18 | S16: 19 | T16: 20 | U16: 21 | V16: 22 | W16: 23
A17: 1 | B17: САНКТ-ПЕТЕРБУРГСКОЕ ГОСУДАРСТВЕННОЕ КАЗЕННОЕ УЧРЕЖДЕНИЕ ЗДРАВООХРАНЕНИЯ "ПСИХОНЕВРОЛОГИЧЕСКИЙ ДИСПАНСЕР № 4" | C17: 7813338617 | D17: 781301001 | E17: АКТИВИРОВАННЫЙ УГОЛЬ | F17: 21.20.10.116-000004-1-00041-0000000000000 | H17: Нет | I17: Нет | J17: ТАБЛЕТКИ | K17: 250 мг | L17: ШТ | M17: 60 | N17: ШТ | O17: =IF(ROUNDDOWN(((SUMPRODUCT('Метод ср.взвеш. цены'!W8:W9,'Метод ср.взвеш. цены'!X8:X9)))/MAX(SUM('Метод ср.взвеш. цены'!W8:W9),1),2)>0,ROUNDDOWN(((SUMPRODUCT('Метод ср.взвеш. цены'!W8:W9,'Метод ср.взвеш. цены'!X8:X9)))/MAX(SUM('Метод ср.взвеш. цены'!W8:W9),1),2),TEXT(VALUE(ROUNDDOWN(((SUMPRODUCT('Метод ср.взвеш. цены'!W8:W9,'Метод ср.взвеш. цены'!X8:X9)))/MAX(SUM('Метод ср.взвеш. цены'!W8:W9),1),2)),"#")) | P17: =IF('Анализ рынка'!W15>0,'Анализ рынка'!W15,TEXT(VALUE('Анализ рынка'!W15),"#")) -> 0.79 | Q17: =IF('Реестр пред. отп. цен на ЖНВЛП'!P11>0,'Реестр пред. отп. цен на ЖНВЛП'!P11,TEXT(VALUE('Реестр пред. отп. цен на ЖНВЛП'!P11),"#")) | R17: =IF(ROUNDDOWN(,2)>0,ROUNDDOWN(,2),TEXT(VALUE(ROUNDDOWN(,2)),"#")) | S17: {=ROUNDDOWN(MIN(IF(O17:R17 <> 0, O17:R17)),2)} -> 0.79 | T17: 0 | U17: 10 | V17: =ROUNDDOWN(S17*(1+T17*0.01)*(1+U17*0.01),2) -> 0.86 | W17: =ROUNDDOWN(M17*V17,2) -> 51.6
A18: 2 | E18: АММИАК | F18: 21.20.10.259-000005-1-00021-0000000000000 | H18: Нет | I18: Нет | J18: РАСТВОР ДЛЯ НАРУЖНОГО ПРИМЕНЕНИЯ И ИНГАЛЯЦИЙ | K18: 100 мг/мл | L18: МЛ | M18: 240 | N18: МЛ | O18: =IF(ROUNDDOWN(((SUMPRODUCT('Метод ср.взвеш. цены'!W13:W14,'Метод ср.взвеш. цены'!X13:X14)))/MAX(SUM('Метод ср.взвеш. цены'!W13:W14),1),2)>0,ROUNDDOWN(((SUMPRODUCT('Метод ср.взвеш. цены'!W13:W14,'Метод ср.взвеш. цены'!X13:X14)))/MAX(SUM('Метод ср.взвеш. цены'!W13:W14),1),2),TEXT(VALUE(ROUNDDOWN(((SUMPRODUCT('Метод ср.взвеш. цены'!W13:W14,'Метод ср.взвеш. цены'!X13:X14)))/MAX(SUM('Метод ср.взвеш. цены'!W13:W14),1),2)),"#")) | P18: =IF('Анализ рынка'!W27>0,'Анализ рынка'!W27,TEXT(VALUE('Анализ рынка'!W27),"#")) -> 0.15 | Q18: =IF('Реестр пред. отп. цен на ЖНВЛП'!P24>0,'Реестр пред. отп. цен на ЖНВЛП'!P24,TEXT(VALUE('Реестр пред. отп. цен на ЖНВЛП'!P24),"#")) | R18: =IF(ROUNDDOWN(,2)>0,ROUNDDOWN(,2),TEXT(VALUE(ROUNDDOWN(,2)),"#")) | S18: {=ROUNDDOWN(MIN(IF(O18:R18 <> 0, O18:R18)),2)} -> 0.15 | T18: 0 | U18: 10 | V18: =ROUNDDOWN(S18*(1+T18*0.01)*(1+U18*0.01),2) -> 0.16 | W18: =ROUNDDOWN(M18*V18,2) -> 38.4
A19: 3 | E19: МЕТАМИЗОЛ НАТРИЯ | F19: 21.20.10.232-000011-1-00239-0000000000000 | H19: Нет | I19: Нет | J19: РАСТВОР ДЛЯ ВНУТРИВЕННОГО И ВНУТРИМЫШЕЧНОГО ВВЕДЕНИЯ | K19: 500 мг/мл | L19: МЛ | M19: 120 | N19: МЛ | O19: =IF(ROUNDDOWN(((SUMPRODUCT('Метод ср.взвеш. цены'!W18:W19,'Метод ср.взвеш. цены'!X18:X19)))/MAX(SUM('Метод ср.взвеш. цены'!W18:W19),1),2)>0,ROUNDDOWN(((SUMPRODUCT('Метод ср.взвеш. цены'!W18:W19,'Метод ср.взвеш. цены'!X18:X19)))/MAX(SUM('Метод ср.взвеш. цены'!W18:W19),1),2),TEXT(VALUE(ROUNDDOWN(((SUMPRODUCT('Метод ср.взвеш. цены'!W18:W19,'Метод ср.взвеш. цены'!X18:X19)))/MAX(SUM('Метод ср.взвеш. цены'!W18:W19),1),2)),"#")) | P19: =IF('Анализ рынка'!W39>0,'Анализ рынка'!W39,TEXT(VALUE('Анализ рынка'!W39),"#")) -> 4.01 | Q19: =IF('Реестр пред. отп. цен на ЖНВЛП'!P37>0,'Реестр пред. отп. цен на ЖНВЛП'!P37,TEXT(VALUE('Реестр пред. отп. цен на ЖНВЛП'!P37),"#")) | R19: =IF(ROUNDDOWN(,2)>0,ROUNDDOWN(,2),TEXT(VALUE(ROUNDDOWN(,2)),"#")) | S19: {=ROUNDDOWN(MIN(IF(O19:R19 <> 0, O19:R19)),2)} -> 4.01 | T19: 0 | U19: 10 | V19: =ROUNDDOWN(S19*(1+T19*0.01)*(1+U19*0.01),2) -> 4.41 | W19: =ROUNDDOWN(M19*V19,2) -> 529.2
A20: 4 | E20: МЕТАМИЗОЛ НАТРИЯ | F20: 21.20.10.232-000011-1-00056-0000000000000 | H20: Нет | I20: Нет | J20: ТАБЛЕТКИ | K20: 500 мг | L20: ШТ | M20: 60 | N20: ШТ | O20: =IF(ROUNDDOWN(((SUMPRODUCT('Метод ср.взвеш. цены'!W23:W24,'Метод ср.взвеш. цены'!X23:X24)))/MAX(SUM('Метод ср.взвеш. цены'!W23:W24),1),2)>0,ROUNDDOWN(((SUMPRODUCT('Метод ср.взвеш. цены'!W23:W24,'Метод ср.взвеш. цены'!X23:X24)))/MAX(SUM('Метод ср.взвеш. цены'!W23:W24),1),2),TEXT(VALUE(ROUNDDOWN(((SUMPRODUCT('Метод ср.взвеш. цены'!W23:W24,'Метод ср.взвеш. цены'!X23:X24)))/MAX(SUM('Метод ср.взвеш. цены'!W23:W24),1),2)),"#")) | P20: =IF('Анализ рынка'!W51>0,'Анализ рынка'!W51,TEXT(VALUE('Анализ рынка'!W51),"#")) -> 3.49 | Q20: =IF('Реестр пред. отп. цен на ЖНВЛП'!P50>0,'Реестр пред. отп. цен на ЖНВЛП'!P50,TEXT(VALUE('Реестр пред. отп. цен на ЖНВЛП'!P50),"#")) | R20: =IF(ROUNDDOWN(,2)>0,ROUNDDOWN(,2),TEXT(VALUE(ROUNDDOWN(,2)),"#")) | S20: {=ROUNDDOWN(MIN(IF(O20:R20 <> 0, O20:R20)),2)} -> 3.49 | T20: 0 | U20: 10 | V20: =ROUNDDOWN(S20*(1+T20*0.01)*(1+U20*0.01),2) -> 3.83 | W20: =ROUNDDOWN(M20*V20,2) -> 229.8
A21: 5 | E21: МЕТАМИЗОЛ НАТРИЯ+ПИТОФЕНОН+ФЕНПИВЕРИНИЯ БРОМИД | F21: 21.20.10.232-000021-1-00085-0000000000000 | H21: Нет | I21: Нет | J21: ТАБЛЕТКИ | K21: 500 мг | L21: ШТ | M21: 120 | N21: ШТ | O21: =IF(ROUNDDOWN(((SUMPRODUCT('Метод ср.взвеш. цены'!W28:W29,'Метод ср.взвеш. цены'!X28:X29)))/MAX(SUM('Метод ср.взвеш. цены'!W28:W29),1),2)>0,ROUNDDOWN(((SUMPRODUCT('Метод ср.взвеш. цены'!W28:W29,'Метод ср.взвеш. цены'!X28:X29)))/MAX(SUM('Метод ср.взвеш. цены'!W28:W29),1),2),TEXT(VALUE(ROUNDDOWN(((SUMPRODUCT('Метод ср.взвеш. цены'!W28:W29,'Метод ср.взвеш. цены'!X28:X29)))/MAX(SUM('Метод ср.взвеш. цены'!W28:W29),1),2)),"#")) | P21: =IF('Анализ рынка'!W63>0,'Анализ рынка'!W63,TEXT(VALUE('Анализ рынка'!W63),"#")) -> 5.49 | Q21: =IF('Реестр пред. отп. цен на ЖНВЛП'!P63>0,'Реестр пред. отп. цен на ЖНВЛП'!P63,TEXT(VALUE('Реестр пред. отп. цен на ЖНВЛП'!P63),"#")) | R21: =IF(ROUNDDOWN(,2)>0,ROUNDDOWN(,2),TEXT(VALUE(ROUNDDOWN(,2)),"#")) | S21: {=ROUNDDOWN(MIN(IF(O21:R21 <> 0, O21:R21)),2)} -> 5.49 | T21: 0 | U21: 10 | V21: =ROUNDDOWN(S21*(1+T21*0.01)*(1+U21*0.01),2) -> 6.03 | W21: =ROUNDDOWN(M21*V21,2) -> 723.6
A22: 6 | E22: СУЛЬФАЦЕТАМИД | F22: 21.20.10.261-000018-1-00029-0000000000000 | H22: Нет | I22: Нет | J22: КАПЛИ ГЛАЗНЫЕ | K22: 200 мг/мл | L22: МЛ | M22: 60 | N22: МЛ | O22: =IF(ROUNDDOWN(((SUMPRODUCT('Метод ср.взвеш. цены'!W33:W34,'Метод ср.взвеш. цены'!X33:X34)))/MAX(SUM('Метод ср.взвеш. цены'!W33:W34),1),2)>0,ROUNDDOWN(((SUMPRODUCT('Метод ср.взвеш. цены'!W33:W34,'Метод ср.взвеш. цены'!X33:X34)))/MAX(SUM('Метод ср.взвеш. цены'!W33:W34),1),2),TEXT(VALUE(ROUNDDOWN(((SUMPRODUCT('Метод ср.взвеш. цены'!W33:W34,'Метод ср.взвеш. цены'!X33:X34)))/MAX(SUM('Метод ср.взвеш. цены'!W33:W34),1),2)),"#")) | P22: =IF('Анализ рынка'!W75>0,'Анализ рынка'!W75,TEXT(VALUE('Анализ рынка'!W75),"#")) -> 10.02 | Q22: =IF('Реестр пред. отп. цен на ЖНВЛП'!P76>0,'Реестр пред. отп. цен на ЖНВЛП'!P76,TEXT(VALUE('Реестр пред. отп. цен на ЖНВЛП'!P76),"#")) | R22: =IF(ROUNDDOWN(,2)>0,ROUNDDOWN(,2),TEXT(VALUE(ROUNDDOWN(,2)),"#")) | S22: {=ROUNDDOWN(MIN(IF(O22:R22 <> 0, O22:R22)),2)} -> 10.02 | T22: 0 | U22: 10 | V22: =ROUNDDOWN(S22*(1+T22*0.01)*(1+U22*0.01),2) -> 11.02 | W22: =ROUNDDOWN(M22*V22,2) -> 661.2
A23: Начальная максимальная цена контракта, руб | W23: =ROUNDDOWN(SUM(W17:W22),2) -> 2233.8
A25: Дата подготовки обоснования НМЦК: _________________________
A26: Руководитель контрактной службы: _________________________

Sheet Метод ср.взвеш. цены
A1: Сформировано в системе СТАР - универсальном сервисе для работы с закупками РФ
A3: "Метод средневзвешенной цены" расчёта НМЦК | C3: в соответствии с приказом Министерства здравоохранения РФ от 19.12.2019 N 1064н
A5: № | B5: Заказчик | E5: Контракты ЕИС | G5: Извещения ЕИС | I5: Объект закупки - МНН/Торговое наименование | J5: Форма выпуска | K5: Сведения о форме выпуска из ГРЛС | N5: Дозировка / Кол-во акт вещества | O5: Источник | P5: Подробнее | Q5: Ед изм в источнике | R5: Кол-во в источнике | T5: Цена в источнике, руб | U5: Примечание | V5: Ед изм для расчёта | W5: Кол-во ед изм для расчёта | X5: Цена для расчёта, руб
B6: Наименование | C6: ИНН | D6: КПП | E6: № Контракта ЕИС | F6: Дата подписания контракта | K6: Кол-во лек. форм в первичной упаковке | L6: Кол-во первичных упак. в потреб-х упак. | M6: Кол-во потреб-х ед. в потреб-ой упаковке
A7: 1 | B7: 2 | C7: 3 | D7: 4 | E7: 5 | F7: 6 | G7: 7 | I7: 8 | J7: 9 | K7: 10 | L7: 11 | M7: 12 | N7: 13 | O7: 14 | P7: 15 | Q7: 16 | R7: 17 | T7: 18 | U7: 19 | V7: 20 | W7: 21 | X7: 22
A8: 1 | W8: 0 | X8: 0
A10: № | B10: Заказчик | E10: Контракты ЕИС | G10: Извещения ЕИС | I10: Объект закупки - МНН/Торговое наименование | J10: Форма выпуска | K10: Сведения о форме выпуска из ГРЛС | N10: Дозировка / Кол-во акт вещества | O10: Источник | P10: Подробнее | Q10: Ед изм в источнике | R10: Кол-во в источнике | T10: Цена в источнике, руб | U10: Примечание | V10: Ед изм для расчёта | W10: Кол-во ед изм для расчёта | X10: Цена для расчёта, руб
B11: Наименование | C11: ИНН | D11: КПП | E11: № Контракта ЕИС | F11: Дата подписания контракта | K11: Кол-во лек. форм в первичной упаковке | L11: Кол-во первичных упак. в потреб-х упак. | M11: Кол-во потреб-х ед. в потреб-ой упаковке
A12: 1 | B12: 2 | C12: 3 | D12: 4 | E12: 5 | F12: 6 | G12: 7 | I12: 8 | J12: 9 | K12: 10 | L12: 11 | M12: 12 | N12: 13 | O12: 14 | P12: 15 | Q12: 16 | R12: 17 | T12: 18 | U12: 19 | V12: 20 | W12: 21 | X12: 22
A13: 1 | W13: 0 | X13: 0
A15: № | B15: Заказчик | E15: Контракты ЕИС | G15: Извещения ЕИС | I15: Объект закупки - МНН/Торговое наименование | J15: Форма выпуска | K15: Сведения о форме выпуска из ГРЛС | N15: Дозировка / Кол-во акт вещества | O15: Источник | P15: Подробнее | Q15: Ед изм в источнике | R15: Кол-во в источнике | T15: Цена в источнике, руб | U15: Примечание | V15: Ед изм для расчёта | W15: Кол-во ед изм для расчёта | X15: Цена для расчёта, руб
B16: Наименование | C16: ИНН | D16: КПП | E16: № Контракта ЕИС | F16: Дата подписания контракта | K16: Кол-во лек. форм в первичной упаковке | L16: Кол-во первичных упак. в потреб-х упак. | M16: Кол-во потреб-х ед. в потреб-ой упаковке
A17: 1 | B17: 2 | C17: 3 | D17: 4 | E17: 5 | F17: 6 | G17: 7 | I17: 8 | J17: 9 | K17: 10 | L17: 11 | M17: 12 | N17: 13 | O17: 14 | P17: 15 | Q17: 16 | R17: 17 | T17: 18 | U17: 19 | V17: 20 | W17: 21 | X17: 22
A18: 1 | W18: 0 | X18: 0
A20: № | B20: Заказчик | E20: Контракты ЕИС | G20: Извещения ЕИС | I20: Объект закупки - МНН/Торговое наименование | J20: Форма выпуска | K20: Сведения о форме выпуска из ГРЛС | N20: Дозировка / Кол-во акт вещества | O20: Источник | P20: Подробнее | Q20: Ед изм в источнике | R20: Кол-во в источнике | T20: Цена в источнике, руб | U20: Примечание | V20: Ед изм для расчёта | W20: Кол-во ед изм для расчёта | X20: Цена для расчёта, руб
B21: Наименование | C21: ИНН | D21: КПП | E21: № Контракта ЕИС | F21: Дата подписания контракта | K21: Кол-во лек. форм в первичной упаковке | L21: Кол-во первичных упак. в потреб-х упак. | M21: Кол-во потреб-х ед. в потреб-ой упаковке
A22: 1 | B22: 2 | C22: 3 | D22: 4 | E22: 5 | F22: 6 | G22: 7 | I22: 8 | J22: 9 | K22: 10 | L22: 11 | M22: 12 | N22: 13 | O22: 14 | P22: 15 | Q22: 16 | R22: 17 | T22: 18 | U22: 19 | V22: 20 | W22: 21 | X22: 22
A23: 1 | W23: 0 | X23: 0
A25: № | B25: Заказчик | E25: Контракты ЕИС | G25: Извещения ЕИС | I25: Объект закупки - МНН/Торговое наименование | J25: Форма выпуска | K25: Сведения о форме выпуска из ГРЛС | N25: Дозировка / Кол-во акт вещества | O25: Источник | P25: Подробнее | Q25: Ед изм в источнике | R25: Кол-во в источнике | T25: Цена в источнике, руб | U25: Примечание | V25: Ед изм для расчёта | W25: Кол-во ед изм для расчёта | X25: Цена для расчёта, руб
B26: Наименование | C26: ИНН | D26: КПП | E26: № Контракта ЕИС | F26: Дата подписания контракта | K26: Кол-во лек. форм в первичной упаковке | L26: Кол-во первичных упак. в потреб-х упак. | M26: Кол-во потреб-х ед. в потреб-ой упаковке
A27: 1 | B27: 2 | C27: 3 | D27: 4 | E27: 5 | F27: 6 | G27: 7 | I27: 8 | J27: 9 | K27: 10 | L27: 11 | M27: 12 | N27: 13 | O27: 14 | P27: 15 | Q27: 16 | R27: 17 | T27: 18 | U27: 19 | V27: 20 | W27: 21 | X27: 22
A28: 1 | W28: 0 | X28: 0
A30: № | B30: Заказчик | E30: Контракты ЕИС | G30: Извещения ЕИС | I30: Объект закупки - МНН/Торговое наименование | J30: Форма выпуска | K30: Сведения о форме выпуска из ГРЛС | N30: Дозировка / Кол-во акт вещества | O30: Источник | P30: Подробнее | Q30: Ед изм в источнике | R30: Кол-во в источнике | T30: Цена в источнике, руб | U30: Примечание | V30: Ед изм для расчёта | W30: Кол-во ед изм для расчёта | X30: Цена для расчёта, руб
B31: Наименование | C31: ИНН | D31: КПП | E31: № Контракта ЕИС | F31: Дата подписания контракта | K31: Кол-во лек. форм в первичной упаковке | L31: Кол-во первичных упак. в потреб-х упак. | M31: Кол-во потреб-х ед. в потреб-ой упаковке
A32: 1 | B32: 2 | C32: 3 | D32: 4 | E32: 5 | F32: 6 | G32: 7 | I32: 8 | J32: 9 | K32: 10 | L32: 11 | M32: 12 | N32: 13 | O32: 14 | P32: 15 | Q32: 16 | R32: 17 | T32: 18 | U32: 19 | V32: 20 | W32: 21 | X32: 22
A33: 1 | W33: 0 | X33: 0
A35: Цены контрактов, не учтённые в расчёте в соответствии с пунктом 5 приказа Министерства здравоохранения РФ от 19 декабря 2019 г. № 1064н
A36: № | B36: Заказчик | E36: Контракты ЕИС | G36: Извещения ЕИС | I36: Объект закупки - МНН/Торговое наименование | J36: Форма выпуска | K36: Сведения о форме выпуска из ГРЛС | N36: Дозировка / Кол-во акт вещества | O36: Источник | P36: Подробнее | Q36: Ед изм в источнике | R36: Кол-во в источнике | T36: Цена в источнике, руб | U36: Примечание | V36: Ед изм для расчёта | W36: Кол-во ед изм для расчёта
B37: Наименование | C37: ИНН | D37: КПП | E37: № Контракта ЕИС | F37: Дата подписания контракта | K37: Кол-во лек. форм в первичной упаковке | L37: Кол-во первичных упак. в потреб-х упак. | M37: Кол-во потреб-х ед. в потреб-ой упаковке
A38: 1 | B38: 2 | C38: 3 | D38: 4 | E38: 5 | F38: 6 | G38: 7 | I38: 8 | J38: 9 | K38: 10 | L38: 11 | M38: 12 | N38: 13 | O38: 14 | P38: 15 | Q38: 16 | R38: 17 | T38: 18 | U38: 19 | V38: 20 | W38: 21

Sheet Анализ рынка
A1: Сформировано в системе СТАР - универсальном сервисе для работы с закупками РФ
A3: Метод "Анализ рынка" расчёта НМЦК | D3: в соответствии с приказом Министерства здравоохранения РФ от 19.12.2019 N 1064н
A5: № | B5: Заказчик | F5: Контракты ЕИС | H5: Извещения ЕИС | I5: Объект закупки - МНН/Торговое наименование | J5: Форма выпуска | K5: Сведения о форме выпуска из ГРЛС | N5: Дозировка / Кол-во акт вещества | O5: Источник | P5: Подробнее | Q5: Ед изм в источнике | R5: Кол-во в источнике | S5: Цена в источнике, руб | T5: Примечание | U5: Ед изм для расчёта | V5: Кол-во ед изм для расчёта | W5: Цена для расчёта, руб
B6: Наименование | C6: ИНН | E6: КПП | F6: № Контракта ЕИС | G6: Дата подписания контракта | K6: Кол-во лек. форм в первичной упаковке | L6: Кол-во первичных упак. в потреб-х упак. | M6: Кол-во потреб-х ед. в потреб-ой упаковке
A7: 1 | B7: 2 | C7: 3 | E7: 4 | F7: 5 | G7: 6 | H7: 7 | I7: 8 | J7: 9 | K7: 10 | L7: 11 | M7: 12 | N7: 13 | O7: 14 | P7: 15 | Q7: 16 | R7: 17 | S7: 18 | T7: 19 | U7: 20 | V7: 21 | W7: 22
A8: 1 | B8: ФЕДЕРАЛЬНОЕ ГОСУДАРСТВЕННОЕ БЮДЖЕТНОЕ ОБРАЗОВАТЕЛЬНОЕ УЧРЕЖДЕНИЕ ВЫСШЕГО ОБРАЗОВАНИЯ "ПЕРВЫЙ САНКТ-ПЕТЕРБУРГСКИЙ ГОСУДАРСТВЕННЫЙ МЕДИЦИНСКИЙ УНИВЕРСИТЕТ ИМЕНИ АКАДЕМИКА И.П. ПАВЛОВА" МИНИСТЕРСТВА ЗДРАВООХРАНЕНИЯ РОССИЙСКОЙ ФЕДЕРАЦИИ | C8: 7813047463 | E8: 781301001 | F8: 1781304746323000760 | G8: 10 июля 2023 | H8: 0372100010623000726 | I8: АКТИВИРОВАННЫЙ УГОЛЬ | J8: ТАБЛЕТКИ | K8: 10 | L8: 1 | M8: 10 | N8: 250 мг 10 | O8: Акт контракта №1781304746323000760 | P8: Акт контракта на ЕИС | R8: 81 | S8: 13 | U8: ШТ | V8: 81 | W8: 1.18
A9: 2 | B9: САНКТ-ПЕТЕРБУРГСКОЕ ГОСУДАРСТВЕННОЕ БЮДЖЕТНОЕ УЧРЕЖДЕНИЕ ЗДРАВООХРАНЕНИЯ "ГОРОДСКАЯ ПОЛИКЛИНИКА №23" | C9: 7805039564 | E9: 780501001 | F9: 2780503956423000014 | G9: 20 февраля 2023 | H9: 0372200115923000004 | I9: АКТИВИРОВАННЫЙ УГОЛЬ | J9: ТАБЛЕТКИ | K9: 10 | L9: 1 | M9: 10 | N9: 250 мг 10 | O9: Акт контракта №2780503956423000014 | P9: Акт контракта на ЕИС | R9: 35 | S9: 9 | U9: ШТ | V9: 35 | W9: 0.81
A10: 3 | B10: САНКТ-ПЕТЕРБУРГСКОЕ ГОСУДАРСТВЕННОЕ БЮДЖЕТНОЕ УЧРЕЖДЕНИЕ ЗДРАВООХРАНЕНИЯ "ГОРОДСКАЯ ПОЛИКЛИНИКА №74" | C10: 7818012182 | E10: 784301001 | F10: 2781801218223000050 | G10: 09 марта 2023 | H10: 0372200030623000012 | I10: АКТИВИРОВАННЫЙ УГОЛЬ | J10: ТАБЛЕТКИ | K10: 10 | L10: 1 | M10: 10 | N10: 250 мг 10 | O10: Акт контракта №2781801218223000050 | P10: Акт контракта на ЕИС | R10: 10 | S10: 8.7 | U10: ШТ | V10: 10 | W10: 0.79
A11: Мин. цена за ед. изм., руб. | W11: =ROUNDDOWN(MIN(W8,W9,W10),2) -> 0.79
A12: Ср. ар. цена за ед. изм., руб. <ц> | W12: =ROUNDDOWN(AVERAGE(W8,W9,W10),2) -> 0.92
A13: Ср. кв. откл. | W13: =ROUNDDOWN(STDEV(W8,W9,W10),2) -> 0.21
A14: Коэфф. Вариации | W14: =ROUNDDOWN(W13/W12*100,2) -> 22.82
A15: Цена за ед. изм. (шт) с округлением (руб.) | W15: =W11 -> 0.79
A17: № | B17: Заказчик | F17: Контракты ЕИС | H17: Извещения ЕИС | I17: Объект закупки - МНН/Торговое наименование | J17: Форма выпуска | K17: Сведения о форме выпуска из ГРЛС | N17: Дозировка / Кол-во акт вещества | O17: Источник | P17: Подробнее | Q17: Ед изм в источнике | R17: Кол-во в источнике | S17: Цена в источнике, руб | T17: Примечание | U17: Ед изм для расчёта | V17: Кол-во ед изм для расчёта | W17: Цена для расчёта, руб
B18: Наименование | C18: ИНН | E18: КПП | F18: № Контракта ЕИС | G18: Дата подписания контракта | K18: Кол-во лек. форм в первичной упаковке | L18: Кол-во первичных упак. в потреб-х упак. | M18: Кол-во потреб-х ед. в потреб-ой упаковке
A19: 1 | B19: 2 | C19: 3 | E19: 4 | F19: 5 | G19: 6 | H19: 7 | I19: 8 | J19: 9 | K19: 10 | L19: 11 | M19: 12 | N19: 13 | O19: 14 | P19: 15 | Q19: 16 | R19: 17 | S19: 18 | T19: 19 | U19: 20 | V19: 21 | W19: 22
A20: 1 | B20: САНКТ-ПЕТЕРБУРГСКОЕ ГОСУДАРСТВЕННОЕ БЮДЖЕТНОЕ УЧРЕЖДЕНИЕ ЗДРАВООХРАНЕНИЯ "СТОМАТОЛОГИЧЕСКАЯ ПОЛИКЛИНИКА № 31 НЕВСКОГО РАЙОНА" | C20: 7811000290 | E20: 781101001 | F20: 2781100029023000050 | G20: 14 июля 2023 | H20: 0372200011923000023 | I20: АММИАК | J20: РАСТВОР ДЛЯ НАРУЖНОГО ПРИМЕНЕНИЯ И ИНГАЛЯЦИЙ | K20: 100 | L20: 1 | M20: 100 | N20: 100 мг/мл 100 | O20: Акт контракта №2781100029023000050 | P20: Акт контракта на ЕИС | R20: 50 | S20: 17 | U20: МЛ | V20: 50 | W20: 0.15
A21: 2 | B21: САНКТ-ПЕТЕРБУРГСКОЕ ГОСУДАРСТВЕННОЕ БЮДЖЕТНОЕ УЧРЕЖДЕНИЕ ЗДРАВООХРАНЕНИЯ "ГОРОДСКАЯ ПОЛИКЛИНИКА № 78" | C21: 7816050947 | E21: 781601001 | F21: 2781605094723000092 | G21: 29 мая 2023 | H21: 0372200150423000045 | I21: АММИАК | J21: РАСТВОР ДЛЯ НАРУЖНОГО ПРИМЕНЕНИЯ И ИНГАЛЯЦИЙ | K21: 100 | L21: 1 | M21: 100 | N21: 100 мг/мл 100 | O21: Акт контракта №2781605094723000092 | P21: Акт контракта на ЕИС | R21: 30 | S21: 17 | U21: МЛ | V21: 30 | W21: 0.15
A22: 3 | B22: САНКТ-ПЕТЕРБУРГСКОЕ ГОСУДАРСТВЕННОЕ БЮДЖЕТНОЕ УЧРЕЖДЕНИЕ ЗДРАВООХРАНЕНИЯ "ДЕТСКАЯ ГОРОДСКАЯ ПОЛИКЛИНИКА №29" | C22: 7804009951 | E22: 780401001 | F22: 2780400995123000086 | G22: 18 июля 2023 | H22: 0372200120123000063 | I22: АММИАК | J22: РАСТВОР ДЛЯ НАРУЖНОГО ПРИМЕНЕНИЯ И ИНГАЛЯЦИЙ | K22: 40 | L22: 1 | M22: 40 | N22: 100 мг/мл 40 | O22: Акт контракта №2780400995123000086 | P22: Акт контракта на ЕИС | R22: 40 | S22: 8 | U22: МЛ | V22: 40 | W22: 0.18
A23: Мин. цена за ед. изм., руб. | W23: =ROUNDDOWN(MIN(W20,W21,W22),2) -> 0.15
A24: Ср. ар. цена за ед. изм., руб. <ц> | W24: =ROUNDDOWN(AVERAGE(W20,W21,W22),2) -> 0.16
A25: Ср. кв. откл. | W25: =ROUNDDOWN(STDEV(W20,W21,W22),2) -> 0.01
A26: Коэфф. Вариации | W26: =ROUNDDOWN(W25/W24*100,2) -> 6.25
A27: Цена за ед. изм. (шт) с округлением (руб.) | W27: =W23 -> 0.15
A29: № | B29: Заказчик | F29: Контракты ЕИС | H29: Извещения ЕИС | I29: Объект закупки - МНН/Торговое наименование | J29: Форма выпуска | K29: Сведения о форме выпуска из ГРЛС | N29: Дозировка / Кол-во акт вещества | O29: Источник | P29: Подробнее | Q29: Ед изм в источнике | R29: Кол-во в источнике | S29: Цена в источнике, руб | T29: Примечание | U29: Ед изм для расчёта | V29: Кол-во ед изм для расчёта | W29: Цена для расчёта, руб
B30: Наименование | C30: ИНН | E30: КПП | F30: № Контракта ЕИС | G30: Дата подписания контракта | K30: Кол-во лек. форм в первичной упаковке | L30: Кол-во первичных упак. в потреб-х упак. | M30: Кол-во потреб-х ед. в потреб-ой упаковке
A31: 1 | B31: 2 | C31: 3 | E31: 4 | F31: 5 | G31: 6 | H31: 7 | I31: 8 | J31: 9 | K31: 10 | L31: 11 | M31: 12 | N31: 13 | O31: 14 | P31: 15 | Q31: 16 | R31: 17 | S31: 18 | T31: 19 | U31: 20 | V31: 21 | W31: 22
A32: 1 | I32: МЕТАМИЗОЛ НАТРИЯ | J32: РАСТВОР ДЛЯ ВНУТРИВЕННОГО И ВНУТРИМЫШЕЧНОГО ВВЕДЕНИЯ | K32: 1 | L32: 1 | M32: 1 | N32: 500 мг/мл | O32: КП вх. № 264 от 22.01.2024 | Q32: МЛ | R32: 1 | U32: МЛ | V32: 20 | W32: 4.01
A33: 2 | I33: МЕТАМИЗОЛ НАТРИЯ | J33: РАСТВОР ДЛЯ ВНУТРИВЕННОГО И ВНУТРИМЫШЕЧНОГО ВВЕДЕНИЯ | K33: 1 | L33: 1 | M33: 1 | N33: 500 мг/мл | O33: КП вх. № 265 от 22.01.2025 | Q33: МЛ | R33: 1 | U33: МЛ | V33: 20 | W33: 4.05
A34: 3 | I34: МЕТАМИЗОЛ НАТРИЯ | J34: РАСТВОР ДЛЯ ВНУТРИВЕННОГО И ВНУТРИМЫШЕЧНОГО ВВЕДЕНИЯ | K34: 1 | L34: 1 | M34: 1 | N34: 500 мг/мл | O34: КП вх. № 266 от 22.01.2026 | Q34: МЛ | R34: 1 | U34: МЛ | V34: 20 | W34: 4.04
A35: Мин. цена за ед. изм., руб. | W35: =ROUNDDOWN(MIN(W32,W33,W34),2) -> 4.01
A36: Ср. ар. цена за ед. изм., руб. <ц> | W36: =ROUNDDOWN(AVERAGE(W32,W33,W34),2) -> 4.03
A37: Ср. кв. откл. | W37: =ROUNDDOWN(STDEV(W32,W33,W34),2) -> 0.02
A38: Коэфф. Вариации | W38: =ROUNDDOWN(W37/W36*100,2) -> 0.49
A39: Цена за ед. изм. (шт) с округлением (руб.) | W39: =W35 -> 4.01
A41: № | B41: Заказчик | F41: Контракты ЕИС | H41: Извещения ЕИС | I41: Объект закупки - МНН/Торговое наименование | J41: Форма выпуска | K41: Сведения о форме выпуска из ГРЛС | N41: Дозировка / Кол-во акт вещества | O41: Источник | P41: Подробнее | Q41: Ед изм в источнике | R41: Кол-во в источнике | S41: Цена в источнике, руб | T41: Примечание | U41: Ед изм для расчёта | V41: Кол-во ед изм для расчёта | W41: Цена для расчёта, руб
B42: Наименование | C42: ИНН | E42: КПП | F42: № Контракта ЕИС | G42: Дата подписания контракта | K42: Кол-во лек. форм в первичной упаковке | L42: Кол-во первичных упак. в потреб-х упак. | M42: Кол-во потреб-х ед. в потреб-ой упаковке
A43: 1 | B43: 2 | C43: 3 | E43: 4 | F43: 5 | G43: 6 | H43: 7 | I43: 8 | J43: 9 | K43: 10 | L43: 11 | M43: 12 | N43: 13 | O43: 14 | P43: 15 | Q43: 16 | R43: 17 | S43: 18 | T43: 19 | U43: 20 | V43: 21 | W43: 22
A44: 1 | I44: МЕТАМИЗОЛ НАТРИЯ | J44: ТАБЛЕТКИ | K44: 1 | L44: 1 | M44: 1 | N44: 500 мг | O44: КП вх. № 264 от 22.01.2024 | Q44: ШТ | R44: 1 | U44: ШТ | V44: 20 | W44: 3.49
A45: 2 | I45: МЕТАМИЗОЛ НАТРИЯ | J45: ТАБЛЕТКИ | K45: 1 | L45: 1 | M45: 1 | N45: 500 мг | O45: КП вх. № 265 от 22.01.2025 | Q45: ШТ | R45: 1 | U45: ШТ | V45: 20 | W45: 3.52
...

Sheet Реестр пред. отп. цен на ЖНВЛП
A1: Сформировано в системе СТАР - универсальном сервисе для работы с закупками РФ
A3: "Реестр предельных отпускных цен на ЖНВЛП" расчёта НМЦК | D3: в соответствии с приказом Министерства здравоохранения РФ от 19.12.2019 N 1064н
A5: Расчёт по препарату: | C5: АКТИВИРОВАННЫЙ УГОЛЬ 250 мг
A6: № | B6: МНН | C6: Торговое наименование лекарственного препарата | D6: Лекарственная форма, дозировка, упаковка (полная) | E6: Сведения о форме выпуска из ГРЛС | H6: Владелец РУ/производитель/упаковщик/Выпускающий контроль | I6: Предельная цена руб. без НДС | J6: Цена указана для первич. упаковки | K6: № РУ | L6: Дата регистрации цены (№ решения) | M6: Штрих-код (EAN13) | N6: АТХ | O6: Ед.изм.для расчета | P6: Цена за ед для расчёта, руб
E7: Кол-во лек. форм в первичной упаковке | F7: Кол-во первичных упак. в потреб-х упак. | G7: Кол-во потреб-х ед. в потреб-ой упаковке
A8: 1 | B8: 2 | C8: 3 | D8: 4 | E8: 5 | F8: 6 | G8: 7 | H8: 8 | I8: 10 | J8: 11 | K8: 12 | L8: 13 | M8: 14 | N8: 15 | O8: 16 | P8: 17
A9: 1 | P9: 0
A10: Максимальное значение за единицу измерения, руб | P10: =ROUNDDOWN(MAX(P9),2) -> 0
A11: Минимальное значение за единицу измерения, руб | P11: =ROUNDDOWN(MIN(P9),2) -> 0
A13: Цены контрактов, не учтённые в расчёте в соответствии с пунктом 5 приказа Министерства здравоохранения РФ от 19 декабря 2019 г. № 1064н
A14: № | B14: МНН | C14: Торговое наименование лекарственного препарата | D14: Лекарственная форма, дозировка, упаковка (полная) | E14: Сведения о форме выпуска из ГРЛС | H14: Владелец РУ/производитель/упаковщик/Выпускающий контроль | I14: Предельная цена руб. без НДС | J14: Цена указана для первич. упаковки | K14: № РУ | L14: Дата регистрации цены (№ решения) | M14: Штрих-код (EAN13) | N14: АТХ | O14: Ед.изм.для расчета
E15: Кол-во лек. форм в первичной упаковке | F15: Кол-во первичных упак. в потреб-х упак. | G15: Кол-во потреб-х ед. в потреб-ой упаковке
A16: 1 | B16: 2 | C16: 3 | D16: 4 | E16: 5 | F16: 6 | G16: 7 | H16: 8 | I16: 10 | J16: 11 | K16: 12 | L16: 13 | M16: 14 | N16: 15 | O16: 16
A18: Расчёт по препарату: | C18: АММИАК 100 мг/мл
A19: № | B19: МНН | C19: Торговое наименование лекарственного препарата | D19: Лекарственная форма, дозировка, упаковка (полная) | E19: Сведения о форме выпуска из ГРЛС | H19: Владелец РУ/производитель/упаковщик/Выпускающий контроль | I19: Предельная цена руб. без НДС | J19: Цена указана для первич. упаковки | K19: № РУ | L19: Дата регистрации цены (№ решения) | M19: Штрих-код (EAN13) | N19: АТХ | O19: Ед.изм.для расчета | P19: Цена за ед для расчёта, руб
E20: Кол-во лек. форм в первичной упаковке | F20: Кол-во первичных упак. в потреб-х упак. | G20: Кол-во потреб-х ед. в потреб-ой упаковке
A21: 1 | B21: 2 | C21: 3 | D21: 4 | E21: 5 | F21: 6 | G21: 7 | H21: 8 | I21: 10 | J21: 11 | K21: 12 | L21: 13 | M21: 14 | N21: 15 | O21: 16 | P21: 17
A22: 1 | P22: 0
A23: Максимальное значение за единицу измерения, руб | P23: =ROUNDDOWN(MAX(P22),2) -> 0
A24: Минимальное значение за единицу измерения, руб | P24: =ROUNDDOWN(MIN(P22),2) -> 0
A26: Цены контрактов, не учтённые в расчёте в соответствии с пунктом 5 приказа Министерства здравоохранения РФ от 19 декабря 2019 г. № 1064н
A27: № | B27: МНН | C27: Торговое наименование лекарственного препарата | D27: Лекарственная форма, дозировка, упаковка (полная) | E27: Сведения о форме выпуска из ГРЛС | H27: Владелец РУ/производитель/упаковщик/Выпускающий контроль | I27: Предельная цена руб. без НДС | J27: Цена указана для первич. упаковки | K27: № РУ | L27: Дата регистрации цены (№ решения) | M27: Штрих-код (EAN13) | N27: АТХ | O27: Ед.изм.для расчета
E28: Кол-во лек. форм в первичной упаковке | F28: Кол-во первичных упак. в потреб-х упак. | G28: Кол-во потреб-х ед. в потреб-ой упаковке
A29: 1 | B29: 2 | C29: 3 | D29: 4 | E29: 5 | F29: 6 | G29: 7 | H29: 8 | I29: 10 | J29: 11 | K29: 12 | L29: 13 | M29: 14 | N29: 15 | O29: 16
A31: Расчёт по препарату: | C31: МЕТАМИЗОЛ НАТРИЯ 500 мг/мл
A32: № | B32: МНН | C32: Торговое наименование лекарственного препарата | D32: Лекарственная форма, дозировка, упаковка (полная) | E32: Сведения о форме выпуска из ГРЛС | H32: Владелец РУ/производитель/упаковщик/Выпускающий контроль | I32: Предельная цена руб. без НДС | J32: Цена указана для первич. упаковки | K32: № РУ | L32: Дата регистрации цены (№ решения) | M32: Штрих-код (EAN13) | N32: АТХ | O32: Ед.изм.для расчета | P32: Цена за ед для расчёта, руб
E33: Кол-во лек. форм в первичной упаковке | F33: Кол-во первичных упак. в потреб-х упак. | G33: Кол-во потреб-х ед. в потреб-ой упаковке
A34: 1 | B34: 2 | C34: 3 | D34: 4 | E34: 5 | F34: 6 | G34: 7 | H34: 8 | I34: 10 | J34: 11 | K34: 12 | L34: 13 | M34: 14 | N34: 15 | O34: 16 | P34: 17
A35: 1 | P35: 0
A36: Максимальное значение за единицу измерения, руб | P36: =ROUNDDOWN(MAX(P35),2) -> 0
A37: Минимальное значение за единицу измерения, руб | P37: =ROUNDDOWN(MIN(P35),2) -> 0
A39: Цены контрактов, не учтённые в расчёте в соответствии с пунктом 5 приказа Министерства здравоохранения РФ от 19 декабря 2019 г. № 1064н
A40: № | B40: МНН | C40: Торговое наименование лекарственного препарата | D40: Лекарственная форма, дозировка, упаковка (полная) | E40: Сведения о форме выпуска из ГРЛС | H40: Владелец РУ/производитель/упаковщик/Выпускающий контроль | I40: Предельная цена руб. без НДС | J40: Цена указана для первич. упаковки | K40: № РУ | L40: Дата регистрации цены (№ решения) | M40: Штрих-код (EAN13) | N40: АТХ | O40: Ед.изм.для расчета
E41: Кол-во лек. форм в первичной упаковке | F41: Кол-во первичных упак. в потреб-х упак. | G41: Кол-во потреб-х ед. в потреб-ой упаковке
A42: 1 | B42: 2 | C42: 3 | D42: 4 | E42: 5 | F42: 6 | G42: 7 | H42: 8 | I42: 10 | J42: 11 | K42: 12 | L42: 13 | M42: 14 | N42: 15 | O42: 16
A44: Расчёт по препарату: | C44: МЕТАМИЗОЛ НАТРИЯ 500 мг
A45: № | B45: МНН | C45: Торговое наименование лекарственного препарата | D45: Лекарственная форма, дозировка, упаковка (полная) | E45: Сведения о форме выпуска из ГРЛС | H45: Владелец РУ/производитель/упаковщик/Выпускающий контроль | I45: Предельная цена руб. без НДС | J45: Цена указана для первич. упаковки | K45: № РУ | L45: Дата регистрации цены (№ решения) | M45: Штрих-код (EAN13) | N45: АТХ | O45: Ед.изм.для расчета | P45: Цена за ед для расчёта, руб
E46: Кол-во лек. форм в первичной упаковке | F46: Кол-во первичных упак. в потреб-х упак. | G46: Кол-во потреб-х ед. в потреб-ой упаковке
A47: 1 | B47: 2 | C47: 3 | D47: 4 | E47: 5 | F47: 6 | G47: 7 | H47: 8 | I47: 10 | J47: 11 | K47: 12 | L47: 13 | M47: 14 | N47: 15 | O47: 16 | P47: 17
A48: 1 | P48: 0
...

Sheet Метод референтных цен
A1: Сформировано в системе СТАР - универсальном сервисе для работы с закупками РФ
A3: Метод "Референтных цен" расчёта НМЦК | D3: в соответствии с приказом Министерства здравоохранения РФ от 19.12.2019 N 1064н
A5: № | B5: МНН | C5: Код узла СМНН | D5: Код ОКПД2 | E5: Лекарственная форма | F5: Дозировка | K5: Потребительская единица | N5: Наименование ФТГ | O5: АТХ | Q5: В реестре ЖНВЛП? | R5: В реестре нарк. препаратов? | S5: Период действия узла СМНН | U5: Дата изменения записи | V5: Референтные цены | AI5: Список нестандартизованных МНН для узла СМНН
F6: Кол-во | G6: Единица измерения | J6: Описание | V6: Тип цены | W6: Период действия | Y6: Значение цены I | Z6: Диапазон I | AB6: Значение цены II | AC6: Диапазон II | AE6: Значение цены III | AF6: Диапазон III | AH6: Показатель среднеквадратичного отклонения (σ)
G7: Наименование | H7: Код ОКЕИ | I7: Наименование единицы из ОКЕИ | K7: Наименование | L7: Код ОКЕИ | M7: Наименование единицы из ОКЕИ | O7: Код | P7: Наименование | S7: Начало | T7: Окончание | W7: Начало | X7: Окончание | Z7: Минимальное | AA7: Максимальное | AC7: Минимальное | AD7: Максимальное | AF7: Минимальное | AG7: Максимальное
A8: 1 | B8: 2 | C8: 3 | D8: 4 | E8: 5 | F8: 6 | G8: 7 | H8: 8 | I8: 9 | J8: 10 | K8: 11 | L8: 12 | M8: 13 | N8: 14 | O8: 15 | P8: 16 | Q8: 17 | R8: 18 | S8: 19 | T8: 20 | U8: 21 | V8: 22 | W8: 23 | X8: 24 | Y8: 25 | Z8: 27 | AA8: 26 | AB8: 28 | AC8: 29 | AD8: 30 | AE8: 31 | AF8: 32 | AG8: 33 | AH8: 34 | AI8: 35
A10: ДРУГИЕ ЗАПИСИ В ЕСКЛП ПО ПРЕПАРАТУ АКТИВИРОВАННЫЙ УГОЛЬ :
A11: 2 | B11: АКТИВИРОВАННЫЙ УГОЛЬ | C11: 21.20.10.116-000004-1-00041-0000000000000 | D11: 21.20.10.116 | E11: таблетки | F11: 250 | G11: мг | H11: 161 | I11: мг | J11: 250 мг | K11: шт. (таблетка) | L11: 796 | M11: шт | N11: энтеросорбирующее средство | O11: A07BA01 | P11: Активированный уголь | Q11: Нет | R11: Нет | S11: 43692 | U11: 43923 | Y11: 0 | AB11: 0 | AE11: 0
A13: № | B13: МНН | C13: Код узла СМНН | D13: Код ОКПД2 | E13: Лекарственная форма | F13: Дозировка | K13: Потребительская единица | N13: Наименование ФТГ | O13: АТХ | Q13: В реестре ЖНВЛП? | R13: В реестре нарк. препаратов? | S13: Период действия узла СМНН | U13: Дата изменения записи | V13: Референтные цены | AI13: Список нестандартизованных МНН для узла СМНН
F14: Кол-во | G14: Единица измерения | J14: Описание | V14: Тип цены | W14: Период действия | Y14: Значение цены I | Z14: Диапазон I | AB14: Значение цены II | AC14: Диапазон II | AE14: Значение цены III | AF14: Диапазон III | AH14: Показатель среднеквадратичного отклонения (σ)
G15: Наименование | H15: Код ОКЕИ | I15: Наименование единицы из ОКЕИ | K15: Наименование | L15: Код ОКЕИ | M15: Наименование единицы из ОКЕИ | O15: Код | P15: Наименование | S15: Начало | T15: Окончание | W15: Начало | X15: Окончание | Z15: Минимальное | AA15: Максимальное | AC15: Минимальное | AD15: Максимальное | AF15: Минимальное | AG15: Максимальное
A16: 1 | B16: 2 | C16: 3 | D16: 4 | E16: 5 | F16: 6 | G16: 7 | H16: 8 | I16: 9 | J16: 10 | K16: 11 | L16: 12 | M16: 13 | N16: 14 | O16: 15 | P16: 16 | Q16: 17 | R16: 18 | S16: 19 | T16: 20 | U16: 21 | V16: 22 | W16: 23 | X16: 24 | Y16: 25 | Z16: 27 | AA16: 26 | AB16: 28 | AC16: 29 | AD16: 30 | AE16: 31 | AF16: 32 | AG16: 33 | AH16: 34 | AI16: 35
A18: ДРУГИЕ ЗАПИСИ В ЕСКЛП ПО ПРЕПАРАТУ АММИАК :
A19: 2 | B19: АММИАК | C19: 21.20.10.259-000005-1-00021-0000000000000 | D19: 21.20.10.259 | E19: раствор для наружного применения и ингаляций | F19: 100 | G19: мг/мл | H19: 876 | I19: усл. ед | J19: 100 мг/мл | K19: мл | L19: 111 | M19: см[3*];^мл | N19: антисептическое и местнораздражающее средство | O19: R07AB | P19: Стимуляторы дыхания | Q19: Нет | R19: Нет | S19: 44056 | U19: 44056 | Y19: 0 | AB19: 0 | AE19: 0
A21: № | B21: МНН | C21: Код узла СМНН | D21: Код ОКПД2 | E21: Лекарственная форма | F21: Дозировка | K21: Потребительская единица | N21: Наименование ФТГ | O21: АТХ | Q21: В реестре ЖНВЛП? | R21: В реестре нарк. препаратов? | S21: Период действия узла СМНН | U21: Дата изменения записи | V21: Референтные цены | AI21: Список нестандартизованных МНН для узла СМНН
F22: Кол-во | G22: Единица измерения | J22: Описание | V22: Тип цены | W22: Период действия | Y22: Значение цены I | Z22: Диапазон I | AB22: Значение цены II | AC22: Диапазон II | AE22: Значение цены III | AF22: Диапазон III | AH22: Показатель среднеквадратичного отклонения (σ)
G23: Наименование | H23: Код ОКЕИ | I23: Наименование единицы из ОКЕИ | K23: Наименование | L23: Код ОКЕИ | M23: Наименование единицы из ОКЕИ | O23: Код | P23: Наименование | S23: Начало | T23: Окончание | W23: Начало | X23: Окончание | Z23: Минимальное | AA23: Максимальное | AC23: Минимальное | AD23: Максимальное | AF23: Минимальное | AG23: Максимальное
A24: 1 | B24: 2 | C24: 3 | D24: 4 | E24: 5 | F24: 6 | G24: 7 | H24: 8 | I24: 9 | J24: 10 | K24: 11 | L24: 12 | M24: 13 | N24: 14 | O24: 15 | P24: 16 | Q24: 17 | R24: 18 | S24: 19 | T24: 20 | U24: 21 | V24: 22 | W24: 23 | X24: 24 | Y24: 25 | Z24: 27 | AA24: 26 | AB24: 28 | AC24: 29 | AD24: 30 | AE24: 31 | AF24: 32 | AG24: 33 | AH24: 34 | AI24: 35
A26: ДРУГИЕ ЗАПИСИ В ЕСКЛП ПО ПРЕПАРАТУ МЕТАМИЗОЛ НАТРИЯ :
A27: 2 | B27: МЕТАМИЗОЛ НАТРИЯ | C27: 21.20.10.232-000011-1-00239-0000000000000 | D27: 21.20.10.232 | E27: раствор для внутривенного и внутримышечного введения | F27: 500 | G27: мг/мл | H27: 876 | I27: усл. ед | J27: 500 мг/мл | K27: мл | L27: 111 | M27: см[3*];^мл | N27: анальгезирующее ненаркотическое средство | O27: N02BB02 | P27: Метамизол натрия | Q27: Нет | R27: Нет | S27: 43692 | U27: 43692 | Y27: 0 | AB27: 0 | AE27: 0
A29: № | B29: МНН | C29: Код узла СМНН | D29: Код ОКПД2 | E29: Лекарственная форма | F29: Дозировка | K29: Потребительская единица | N29: Наименование ФТГ | O29: АТХ | Q29: В реестре ЖНВЛП? | R29: В реестре нарк. препаратов? | S29: Период действия узла СМНН | U29: Дата изменения записи | V29: Референтные цены | AI29: Список нестандартизованных МНН для узла СМНН
F30: Кол-во | G30: Единица измерения | J30: Описание | V30: Тип цены | W30: Период действия | Y30: Значение цены I | Z30: Диапазон I | AB30: Значение цены II | AC30: Диапазон II | AE30: Значение цены III | AF30: Диапазон III | AH30: Показатель среднеквадратичного отклонения (σ)
G31: Наименование | H31: Код ОКЕИ | I31: Наименование единицы из ОКЕИ | K31: Наименование | L31: Код ОКЕИ | M31: Наименование единицы из ОКЕИ | O31: Код | P31: Наименование | S31: Начало | T31: Окончание | W31: Начало | X31: Окончание | Z31: Минимальное | AA31: Максимальное | AC31: Минимальное | AD31: Максимальное | AF31: Минимальное | AG31: Максимальное
A32: 1 | B32: 2 | C32: 3 | D32: 4 | E32: 5 | F32: 6 | G32: 7 | H32: 8 | I32: 9 | J32: 10 | K32: 11 | L32: 12 | M32: 13 | N32: 14 | O32: 15 | P32: 16 | Q32: 17 | R32: 18 | S32: 19 | T32: 20 | U32: 21 | V32: 22 | W32: 23 | X32: 24 | Y32: 25 | Z32: 27 | AA32: 26 | AB32: 28 | AC32: 29 | AD32: 30 | AE32: 31 | AF32: 32 | AG32: 33 | AH32: 34 | AI32: 35
A34: ДРУГИЕ ЗАПИСИ В ЕСКЛП ПО ПРЕПАРАТУ МЕТАМИЗОЛ НАТРИЯ :
A35: 2 | B35: МЕТАМИЗОЛ НАТРИЯ | C35: 21.20.10.232-000011-1-00056-0000000000000 | D35: 21.20.10.232 | E35: таблетки | F35: 500 | G35: мг | H35: 161 | I35: мг | J35: 500 мг | K35: шт. (таблетка) | L35: 796 | M35: шт | N35: анальгезирующее ненаркотическое средство | O35: N02BB02 | P35: Метамизол натрия | Q35: Нет | R35: Нет | S35: 43692 | U35: 43923 | Y35: 0 | AB35: 0 | AE35: 0
A37: № | B37: МНН | C37: Код узла СМНН | D37: Код ОКПД2 | E37: Лекарственная форма | F37: Дозировка | K37: Потребительская единица | N37: Наименование ФТГ | O37: АТХ | Q37: В реестре ЖНВЛП? | R37: В реестре нарк. препаратов? | S37: Период действия узла СМНН | U37: Дата изменения записи | V37: Референтные цены | AI37: Список нестандартизованных МНН для узла СМНН
F38: Кол-во | G38: Единица измерения | J38: Описание | V38: Тип цены | W38: Период действия | Y38: Значение цены I | Z38: Диапазон I | AB38: Значение цены II | AC38: Диапазон II | AE38: Значение цены III | AF38: Диапазон III | AH38: Показатель среднеквадратичного отклонения (σ)
G39: Наименование | H39: Код ОКЕИ | I39: Наименование единицы из ОКЕИ | K39: Наименование | L39: Код ОКЕИ | M39: Наименование единицы из ОКЕИ | O39: Код | P39: Наименование | S39: Начало | T39: Окончание | W39: Начало | X39: Окончание | Z39: Минимальное | AA39: Максимальное | AC39: Минимальное | AD39: Максимальное | AF39: Минимальное | AG39: Максимальное
A40: 1 | B40: 2 | C40: 3 | D40: 4 | E40: 5 | F40: 6 | G40: 7 | H40: 8 | I40: 9 | J40: 10 | K40: 11 | L40: 12 | M40: 13 | N40: 14 | O40: 15 | P40: 16 | Q40: 17 | R40: 18 | S40: 19 | T40: 20 | U40: 21 | V40: 22 | W40: 23 | X40: 24 | Y40: 25 | Z40: 27 | AA40: 26 | AB40: 28 | AC40: 29 | AD40: 30 | AE40: 31 | AF40: 32 | AG40: 33 | AH40: 34 | AI40: 35
A42: ДРУГИЕ ЗАПИСИ В ЕСКЛП ПО ПРЕПАРАТУ МЕТАМИЗОЛ НАТРИЯ+ПИТОФЕНОН+ФЕНПИВЕРИНИЯ БРОМИД :
A43: 2 | B43: МЕТАМИЗОЛ НАТРИЯ+ПИТОФЕНОН+ФЕНПИВЕРИНИЯ БРОМИД | C43: 21.20.10.232-000021-1-00085-0000000000000 | D43: 21.20.10.232 | E43: таблетки | F43: 1 | G43: 500 мг+5 мг+0.1 мг | H43: 876 | I43: усл. ед | J43: 500 мг+5 мг+0.1 мг | K43: шт. (таблетка) | L43: 796 | M43: шт | N43: анальгезирующее средство комбинированное (анальгезирующее ненаркотическое средство+спазмолитическое средство) | O43: N02BB52 | P43: Метамизол натрия, в комбинации с другими препаратами (исключая психотропные препараты) | Q43: Нет | R43: Нет | S43: 43692 | U43: 44496 | Y43: 0 | AB43: 0 | AE43: 0
A45: № | B45: МНН | C45: Код узла СМНН | D45: Код ОКПД2 | E45: Лекарственная форма | F45: Дозировка | K45: Потребительская единица | N45: Наименование ФТГ | O45: АТХ | Q45: В реестре ЖНВЛП? | R45: В реестре нарк. препаратов? | S45: Период действия узла СМНН | U45: Дата изменения записи | V45: Референтные цены | AI45: Список нестандартизованных МНН для узла СМНН
F46: Кол-во | G46: Единица измерения | J46: Описание | V46: Тип цены | W46: Период действия | Y46: Значение цены I | Z46: Диапазон I | AB46: Значение цены II | AC46: Диапазон II | AE46: Значение цены III | AF46: Диапазон III | AH46: Показатель среднеквадратичного отклонения (σ)
G47: Наименование | H47: Код ОКЕИ | I47: Наименование единицы из ОКЕИ | K47: Наименование | L47: Код ОКЕИ | M47: Наименование единицы из ОКЕИ | O47: Код | P47: Наименование | S47: Начало | T47: Окончание | W47: Начало | X47: Окончание | Z47: Минимальное | AA47: Максимальное | AC47: Минимальное | AD47: Максимальное | AF47: Минимальное | AG47: Максимальное
A48: 1 | B48: 2 | C48: 3 | D48: 4 | E48: 5 | F48: 6 | G48: 7 | H48: 8 | I48: 9 | J48: 10 | K48: 11 | L48: 12 | M48: 13 | N48: 14 | O48: 15 | P48: 16 | Q48: 17 | R48: 18 | S48: 19 | T48: 20 | U48: 21 | V48: 22 | W48: 23 | X48: 24 | Y48: 25 | Z48: 27 | AA48: 26 | AB48: 28 | AC48: 29 | AD48: 30 | AE48: 31 | AF48: 32 | AG48: 33 | AH48: 34 | AI48: 35
A50: ДРУГИЕ ЗАПИСИ В ЕСКЛП ПО ПРЕПАРАТУ СУЛЬФАЦЕТАМИД :
A51: 2 | B51: СУЛЬФАЦЕТАМИД | C51: 21.20.10.261-000018-1-00029-0000000000000 | D51: 21.20.10.261 | E51: капли глазные | F51: 200 | G51: мг/мл | H51: 876 | I51: усл. ед | J51: 200 мг/мл | K51: мл | L51: 111 | M51: см[3*];^мл | N51: противомикробное средство - сульфаниламид | O51: S01AB04 | P51: Сульфацетамид | Q51: Нет | R51: Нет | S51: 43692 | U51: 43692 | Y51: 0 | AB51: 0 | AE51: 0
