Workbook

Sheet Справочник лекарств
A2: Начальная (максимальная) цена контракта определена в соответствии с Порядком, утвержденном Приказом Министерства здравоохранения Российской Федерации от 19 декабря 2019 года № 1064н «Об утверждении Порядка определения начальной (максимальной) цены контракта, цены контракта, заключаемого с единственным поставщиком (подрядчиком, исполнителем), начальной цены единицы товара, работы, услуги при осуществлении закупок лекарственных препаратов для медицинского применения».
A3: Для целей применения настоящего Порядка в качестве "единицы лекарственного препарата" используются единицы измерения, указанные в едином справочнике-каталоге лекарственных препаратов. В случае отсутствия в едином справочнике-каталоге лекарственных препаратов информации о лекарственном препарате в качестве "единицы лекарственного препарата" используется единица измерения "штука", соответствующая одной лекарственной форме (форме выпуска) (таблетка, капсула, суппозиторий и проч.), либо иная единица измерения в соответствии с Общероссийским классификатором единиц измерения (ОК 015-94 (МК 002-97)), применимая для измерения количественных характеристик закупаемого лекарственного препарата.
A5: Каталог товаров, работ, услуг для обеспечения государственных и муниципальных нужд
A7: № п/п | B7: МНН или при отсутствии МНН химическое, группировочное наименование Товара | C7: Код позиции КТРУ / Реестровая запись. | D7: Единицы измерения | E7: Лекарственная форма | F7: Дозировка | G7: Лекарственный препарат включен в перечень жизненно необходимых и важнейших лекарственных препаратов | H7: Наличие в лекарственном препарате наркотических средств, психотропных веществ и их прекурсоров
A8: 1 | B8: Вакцина для профилактики кори | C8: 21.20.21.120-000021-1-00007-0000000000000 | D8: доз (доз(а)) | E8: ЛИОФИЛИЗАТ ДЛЯ ПРИГОТОВЛЕНИЯ РАСТВОРА ДЛЯ ПОДКОЖНОГО ВВЕДЕНИЯ | F8: 0.5 мл/дозаГРЛС: 2 дозы ; 1 доза ; 5 доз ; НЕ УКАЗАНО ; 0.5 мл/доза | G8: Да | H8: Нет
A9: 2 | B9: МНН ~Торговое наименование : Растворитель для коревой и паротитной вакцин культуральных живых сухих | D9: см[3*];^мл (мл) | E9: растворитель для приготовления вакцин для инъекций | F9: ~ | G9: Нет | H9: Нет

Sheet анализ рынка
A2: Начальная (максимальная) цена контракта определена в соответствии с Порядком, утвержденном Приказом Министерства здравоохранения Российской Федерации от 19 декабря 2019 года № 1064н «Об утверждении Порядка определения начальной (максимальной) цены контракта, цены контракта, заключаемого с единственным поставщиком (подрядчиком, исполнителем), начальной цены единицы товара, работы, услуги при осуществлении закупок лекарственных препаратов для медицинского применения».
A3: а) Метод, предусмотренный пунктом 1 части 1 статьи 22 Федерального закона от 05.04.2013 N 44-ФЗ "О контрактной системе в сфере закупок товаров, работ, услуг для обеспечения государственных и муниципальных нужд"
A4: В целях получения ценовой информации в отношении поставляемого товара для определения НМЦК был направлен запрос о предоставлении ценовой информации Поставщикам, обладающим опытом поставок соответствующих Товаров, информация о которых имеется в свободном доступе, в частности, опубликована в печати, размещена на сайтах в сети «Интернет». На запросы были представлены ценовые предложения от 1 Поставщика, также для расчета были использованы ценовые предожения, имеющиеся в свободном боступе, размещнные на сайтах в сети "Интернет". Расчет произведен по наименьшему ценовому предложению, в целях эффективности и экономии использования бюджетных средств, что не противоречит положениям Закона N 44-ФЗ (см., например, Решение Санкт-Петербургского УФАС России от 29.02.2016 по делу N 44-672/16).
A6: Метод сопоставимых рыночных цен (анализ рынка) (ч.2-6 ст.22 44-ФЗ), без учета НДС и оптовой надбавки
A8: № п/п | B8: МНН или при отсутствии МНН химическое, группировочное наименование Товара | C8: Код позиции КТРУ / Реестровая запись. | D8: Единицы измерения (количество товара, объем работы, услуги по ОКЕИ) | E8: Лекарственная форма | F8: Дозировка | G8: Номер фармацевтической организации, дата КП, цена без учета НДС 10% и оптовой надбавки, руб. | J8: Среднее расчетное значение цены за единицу измерения, руб. | K8: Среднее квадратичное отклонение | L8: Коэффициент вариации | M8: Цена единицы лекарственного препараты расчитанная методом сопоставимых рыночных цен
G9: Ценовое предложение № 1 исх. № б/н от 27.03.2024, вх. № 87-03/24 от 27.03.2024 | H9: Ценовое предложение № 2 исх. № б/н от 27.03.2024, вх. № 88-03/24 от 27.03.2024 | I9: Ценовое предложение № 3 исх. № б/н от 27.03.2024, вх № 89-03/24 от 27.03.2024
A10: 1 | B10: ='Справочник лекарств'!B8 -> Вакцина для профилактики кори | C10: ='Справочник лекарств'!C8 -> 21.20.21.120-000021-1-00007-0000000000000 | D10: ='Справочник лекарств'!D8 -> доз (доз(а)) | E10: ='Справочник лекарств'!E8 -> ЛИОФИЛИЗАТ ДЛЯ ПРИГОТОВЛЕНИЯ РАСТВОРА ДЛЯ ПОДКОЖНОГО ВВЕДЕНИЯ | F10: ='Справочник лекарств'!F8 -> 0.5 мл/дозаГРЛС: 2 дозы ; 1 доза ; 5 доз ; НЕ УКАЗАНО ; 0.5 мл/доза | G10: =3060/5/10 -> 61.2 | H10: =3060/10/5 -> 61.2 | I10: =3060/5/10 -> 61.2 | J10: =AVERAGE(G10:I10) -> 61.2 | K10: =STDEV(G10:I10) -> 8.7023357e-15 | L10: =K10/J10*100 -> 1.4219503e-14 | M10: =G10 -> 61.2
A11: 2 | B11: ='Справочник лекарств'!B9 -> МНН ~Торговое наименование : Растворитель для коревой и паротитной вакцин культуральных живых сухих | D11: ='Справочник лекарств'!D9 -> см[3*];^мл (мл) | E11: ='Справочник лекарств'!E9 -> растворитель для приготовления вакцин для инъекций | F11: ='Справочник лекарств'!F9 -> ~ | G11: =645.45/2.5/10 -> 25.818 | H11: =650/2.5/10 -> 26 | I11: =655/10/2.5 -> 26.2 | J11: =AVERAGE(G11:I11) -> 26.006 | K11: =STDEV(G11:I11) -> 0.19107067 | L11: =K11/J11*100 -> 0.73471763 | M11: =G11 -> 25.818

Sheet тарифный метод (только ЖНВЛП)
A2: Начальная (максимальная) цена контракта определена в соответствии с Порядком, утвержденном Приказом Министерства здравоохранения Российской Федерации от 19 декабря 2019 года № 1064н «Об утверждении Порядка определения начальной (максимальной) цены контракта, цены контракта, заключаемого с единственным поставщиком (подрядчиком, исполнителем), начальной цены единицы товара, работы, услуги при осуществлении закупок лекарственных препаратов для медицинского применения».
A4: а) Метод, предусмотренный пунктом 3 части 1 статьи 22 Федерального закона от 05.04.2013 N 44-ФЗ "О контрактной системе в сфере закупок товаров, работ, услуг для обеспечения государственных и муниципальных нужд"
A5: Информация о минимально возможной зарегистрированной цене производителя в соответствии с перечнем жизненно необходимых и важнейших лекарственных препаратов для медицинского применения на 2022 год, утвержденным распоряжением Правительства Российской Федерации от 12 октября 2019 г. N 2406-р, постановлением Правительства Российской Федерации от 29.10.2010 № 865 «О государственном регулировании цен на лекарственные препараты, включенные в перечень жизненно необходимых и важнейших лекарственных препаратов», представлена в Государственном реестре предельных отпускных цен производителей на лекарственные препараты, включенные в перечень жизненно необходимых и важнейших лекарственных препаратов, по адресу в сети Интернет http://grls.rosminzdrav.ru/:
A6: Тарифный метод (ч.8 ст.22 44-ФЗ), без учета НДС и оптовой надбавки
A8: № п/п | B8: МНН | C8: Торговое наименование лекарственного препарата | D8: Лекарственная форма, дозировка, упаковка (полная) | E8: Владелец РУ/производитель/упаковщик/Выпускающий контроль | F8: Коли- чество в потреб. упаков- ке | G8: Предельная цена руб. без НДС | H8: Расчетная цена за единицу измерения, руб. | I8: № РУ | J8: Дата регистрации цены (№ решения) | K8: Расчетная предельная отпускная цена производителя без оптовой надбавки и без НДС, за единицу товара руб.
A9: 1 | B9: Вакцина для профилактики кори | C9: Вакцина коревая культуральная живая | D9: лиофилизат для приготовления раствора для подкожного введения, 5 доз, - ампулы (10) - пачки картонные | E9: Вл.Вып.к.Перв.Уп.Втор.Уп.Пр.Федеральное бюджетное учреждение науки "Государственный научный центр вирусологии и биотехнологии "Вектор" Федеральной службы по надзору в сфере защиты прав потребителей и благополучия человека (ФБУН ГНЦ ВБ "Вектор" Роспотребнадзора), Россия (5433161342); | F9: 10 | G9: 3060 | H9: =G9/10/5 -> 61.2 | I9: Р N001586/01 | J9: 05.12.2023 1877/20-23/ОС | K9: =H9 -> 61.2
A10: 2 | B10: ='Справочник лекарств'!B9 -> МНН ~Торговое наименование : Растворитель для коревой и паротитной вакцин культуральных живых сухих

Sheet Средневзвешенная
A2: Начальная (максимальная) цена контракта определена в соответствии с Порядком, утвержденном Приказом Министерства здравоохранения Российской Федерации от 19 декабря 2019 года № 1064н «Об утверждении Порядка определения начальной (максимальной) цены контракта, цены контракта, заключаемого с единственным поставщиком (подрядчиком, исполнителем), начальной цены единицы товара, работы, услуги при осуществлении закупок лекарственных препаратов для медицинского применения».
A3: б) Метод расчета средневзвешенной цены в соответствии с пунктом 5 № 1064н «Об утверждении Порядка определения начальной (максимальной) цены контракта, цены контракта, заключаемого с единственным поставщиком (подрядчиком, исполнителем), начальной цены единицы товара, работы, услуги при осуществлении закупок лекарственных препаратов для медицинского применения».
A4: Все используемые, при расчете средневзвешенной цены, договора удовлетворяют требованиям: Учитываются цены и количество единиц лекарственного препарата, указанные в документах о приемке товаров, подписанных заказчиком в течение 12 месяцев. Не учитываются цены лекарственных препаратов: закупка которых, осуществлялась у единственного поставщика на основании пункта 28 части 1 статьи 93 Закона о контрактной системе; с остаточным сроком годности, на 20 и более процентов отличающимся от остаточного срока годности, предусмотренного заказчиком в описании объекта закупки; по договорам заказчиком взыскивались неустойки (штрафы, пени) в связи с неисполнением или ненадлежащим исполнением обязательств; обращение которых на месяц расчета НМЦК, начальной цены единицы лекарственного препарата приостановлено в порядке, установленном частью 1 статьи 6.5.
A5: Расчет средневзвешенной цены по контрактам
A7: № п/п | B7: Международное непатентованное или химическое или группировочное наименование | C7: Предмет закупки | D7: Единица измерения | E7: Грамм в упаковке | F7: Цена за упаковку Товара без НДС и оптовой надбавки согласно протоколу согласования цен на ЖНВЛП | G7: Цена за единицу измерения Товара согласно протоколу согласования цен на ЖНВЛП | H7: Кол-во в единицах измерения | I7: Средневзвешенная цена за единицу измерения | J7: Номер сведений о контракте (реестровой записи) и даты заключения контракта | K7: Ссылка на страницу в сети Интернет
A8: 1 | B8: ='тарифный метод (только ЖНВЛП)'!B9 -> Вакцина для профилактики кори | K8: за последние 12 месяцев лекарственный препарат не закупался
D9: см[3*];^мл (мл)
A10: 2 | B10: ='тарифный метод (только ЖНВЛП)'!B10 -> МНН ~Торговое наименование : Растворитель для коревой и паротитной вакцин культуральных живых сухих

Sheet Выбор минимального значения
A2: Минимальное значение НМЦ Товара за единицу измерения, установленное в ходе проведенного анализа, принимается в качестве начальной (максимальной) цены за единицу товара при расчете начальной (максимальной) цены государственного контракта.
A4: № п\п | B4: МНН или при отсутствии МНН химическое, группировочное наименование Товара | C4: Код позиции КТРУ / Реестровая запись. | D4: Единицы измерения (количество товара, объем работы, услуги по ОКЕИ) | E4: Лекарственная форма | F4: Дозировка | G4: Метод сопоставимых рыночных цен (анализ рынка) (ч.2-6 ст.22 44-ФЗ), без учета НДС и оптовой надбавки | H4: Тарифный метод (ч.8 ст.22 44-ФЗ), без учета НДС и оптовой надбавки | I4: Расчет референтных цен, без учета НДС и оптовой надбавки | J4: Расчет средневзвешенной цены по контрактам (в случае заключения единственного контракта – цены по контракту) | K4: Минимальное значение НМЦ Товара за единицу измерения, руб.
A5: 1 | B5: ='Справочник лекарств'!B8 -> Вакцина для профилактики кори | C5: ='Справочник лекарств'!C8 -> 21.20.21.120-000021-1-00007-0000000000000 | D5: ='Справочник лекарств'!D8 -> доз (доз(а)) | E5: ='Справочник лекарств'!E8 -> ЛИОФИЛИЗАТ ДЛЯ ПРИГОТОВЛЕНИЯ РАСТВОРА ДЛЯ ПОДКОЖНОГО ВВЕДЕНИЯ | F5: ='Справочник лекарств'!F8 -> 0.5 мл/дозаГРЛС: 2 дозы ; 1 доза ; 5 доз ; НЕ УКАЗАНО ; 0.5 мл/доза | G5: ='анализ рынка'!M10 -> 61.2 | H5: =+'тарифный метод (только ЖНВЛП)'!K9 -> 61.2 | K5: =H5 -> 61.2
A6: 2 | B6: МНН ~Торговое наименование : Растворитель для коревой и паротитной вакцин культуральных живых сухих | D6: ='Справочник лекарств'!D9 -> см[3*];^мл (мл) | E6: ='Справочник лекарств'!E9 -> растворитель для приготовления вакцин для инъекций | F6: ='Справочник лекарств'!F9 -> ~ | G6: ='анализ рынка'!M11 -> 25.818 | K6: =MIN(G6:J6) -> 25.818
A8: Обоснование формирования начальной (максимальной) цены контракта:
A9: В соответствии с приказом Министерства здравоохранения Российской Федерации от 19 декабря 2019 года № 1064н «Об утверждении Порядка определения начальной (максимальной) цены контракта, цены контракта, заключаемого с единственным поставщиком (подрядчиком, исполнителем), начальной цены единицы товара, работы, услуги при осуществлении закупок лекарственных препаратов для медицинского применения» при определение начальной (максимальной) цены (далее – НМЦ) Товара за единицу измерения использовались:
A10: а) метод сопоставимых рыночных цен (анализ рынка) по коммерческим предложением полученных заказчиком и контрактам ЕИС (отсутствие информации о ценах от потенциальных поставщиков).
A11: б) тарифный метод, предусмотренный пунктом 3 части 1 статьи 22 Федерального закона от 05.04.2013 N 44-ФЗ "О контрактной системе в сфере закупок товаров, работ, услуг для обеспечения государственных и муниципальных нужд"
A12: в) метод использования цены, которая рассчитывается автоматически в единой государственной информационной системе в сфере здравоохранения, сведения о которой предоставляются в единую информационную систему в сфере закупок посредством информационного взаимодействия между указанными системами.
A13: г) метод расчета средневзвешенной цены на основании всех исполненных Заказчиком государственных контрактов на поставку планируемого к закупке лекарственного препарата с учетом эквивалентных лекарственных форм и дозировок за 12 месяцев
C15: ~

Sheet РНМЦД
C1: СОГЛАСОВАНО: Начальник отдела здравоохранения администрации Пушкинского района Санкт-Петербурга | D1: ___________________ | E1: О.А. Фрачнук | L1: УТВЕРЖДАЮ: Главный врач СПб ГБУЗ «Городская поликлиника №60 Пушкинского района» | M1: ____________ | O1: В.Б.Жолудь
A3: РАСЧЕТ НАЧАЛЬНОЙ (МАКСИМАЛЬНОЙ) ЦЕНЫ КОНТРАКТА
A5: Начальная (максимальная) цена контракта определена в соответствии с Порядком, утвержденном Приказом Министерства здравоохранения Российской Федерации от 19 декабря 2019 года № 1064н «Об утверждении Порядка определения начальной (максимальной) цены контракта, цены контракта, заключаемого с единственным поставщиком (подрядчиком, исполнителем), начальной цены единицы товара, работы, услуги при осуществлении закупок лекарственных препаратов для медицинского применения».
A6: Расчет начальной (максимальной) цены контракта осуществляется по формуле:
A7: где: n - количество поставляемых лекарственных препаратов; Цi - цена единицы i-го лекарственного препарата с учетом налога на добавленную стоимость (далее - НДС) и оптовой надбавки; Vi - объем поставки i-го лекарственного препарата
A8: Объект закупки: Поставка лекарственных препаратов (МНН: вакцина для профилактики кори) для нужд СПб ГБУЗ "Городская поликлиника №60 Пушкинского района" в 2024 году
A9: № п/п | B9: ЖНВЛП | C9: МНН или при отсутствии МНН химическое, группировочное наименование Товара | D9: Код позиции КТРУ / Реестровая запись. | E9: Единицы измерения (количество товара, объем работы, услуги по ОКЕИ) | F9: Лекарственная форма | G9: Дозировка | H9: Количество единиц измерения к обеспечению* | I9: Минимальное значение цены без учета НДС и оптовой надбавки** | J9: Цена с НДС **** | K9: Надбавка оптовая *** | L9: Цена для формирования НЦК с НДС и оптовой надбавкой для ЖНВЛП | M9: Цена для формирования НЦК с НДС с округлением | N9: Ценаза упаковку с НДС с округлением | O9: Начальная (максимальная цена контракта с НДС и оптовой надбавкой
A10: 1 | B10: Да | C10: ='Справочник лекарств'!B8 -> Вакцина для профилактики кори | D10: ='Справочник лекарств'!C8 -> 21.20.21.120-000021-1-00007-0000000000000 | E10: ='Справочник лекарств'!D8 -> доз (доз(а)) | F10: ='Справочник лекарств'!E8 -> ЛИОФИЛИЗАТ ДЛЯ ПРИГОТОВЛЕНИЯ РАСТВОРА ДЛЯ ПОДКОЖНОГО ВВЕДЕНИЯ | G10: ='Справочник лекарств'!F8 -> 0.5 мл/дозаГРЛС: 2 дозы ; 1 доза ; 5 доз ; НЕ УКАЗАНО ; 0.5 мл/доза | H10: 500 | I10: ='Выбор минимального значения'!K5 -> 61.2 | J10: =I10*1.1 -> 67.32 | K10: 0.1 | L10: =J10*1.1 -> 74.052 | M10: =ROUND(L10,2) -> 74.05 | N10: =M10*100 -> 7405 | O10: =ROUND(M10*H10,2) -> 37025 | R10: 10 упаковок
A11: 2 | B11: нет | C11: ='Справочник лекарств'!B9 -> МНН ~Торговое наименование : Растворитель для коревой и паротитной вакцин культуральных живых сухих | E11: ='Справочник лекарств'!D9 -> см[3*];^мл (мл) | G11: ='Справочник лекарств'!F9 -> ~ | H11: 250 | I11: ='Выбор минимального значения'!K6 -> 25.818 | J11: =I11*1.1 -> 28.3998 | K11: 0.18 | L11: =J11*1.18 -> 33.511764 | M11: =ROUND(L11,2) -> 33.51 | N11: =M11*100 -> 3351 | O11: =ROUND(M11*H11,2) -> 8377.5 | R11: 10 упаковок
O12: =SUM(O10:O11) -> 45402.5
D14: Начальная (максимальная) цена договора составляет: | G14: =O12 -> 45402.5
A16: *Участник размещения заказа вправе предложить другое количество единиц товара в потребительской упаковке. При этом количесвто упаковок к поставке должно пересчитываться соответственно объему (не менее), заявленному Заказчиком, без нарушения потребительской упаковки.
A17: **при расчете НМЦК учтены все эквивалентные лекарственные формы и дозировки лекарственного препарата, предусмотренного к закупке.
A18: *** Оптовая надбавка устанавливается только для лекарственных препаратов, включенных в перечень жизненно необходимых и важнейших лекарственных препаратов
A19: **** НДС +10%, в соответствии с подпунктом 4 пункта 2 статьи 164 «Налогового кодекса Российской Федерации (часть вторая)» от 05.08.2000 № 117-ФЗ.
C22: Специалист по закупкам ____________ /С.В.Холод/ | K22: дата: | L22: 45378
