Workbook

Sheet Справочник лекарств
A2: Начальная (максимальная) цена контракта определена в соответствии с Порядком, утвержденном Приказом Министерства здравоохранения Российской Федерации от 19 декабря 2019 года № 1064н «Об утверждении Порядка определения начальной (максимальной) цены контракта, цены контракта, заключаемого с единственным поставщиком (подрядчиком, исполнителем), начальной цены единицы товара, работы, услуги при осуществлении закупок лекарственных препаратов для медицинского применения».
A3: Для целей применения настоящего Порядка в качестве "единицы лекарственного препарата" используются единицы измерения, указанные в едином справочнике-каталоге лекарственных препаратов. В случае отсутствия в едином справочнике-каталоге лекарственных препаратов информации о лекарственном препарате в качестве "единицы лекарственного препарата" используется единица измерения "штука", соответствующая одной лекарственной форме (форме выпуска) (таблетка, капсула, суппозиторий и проч.), либо иная единица измерения в соответствии с Общероссийским классификатором единиц измерения (ОК 015-94 (МК 002-97)), применимая для измерения количественных характеристик закупаемого лекарственного препарата.
A5: Каталог товаров, работ, услуг для обеспечения государственных и муниципальных нужд
A7: № п/п | B7: МНН или при отсутствии МНН химическое, группировочное наименование Товара | C7: Код позиции КТРУ / Реестровая запись. | D7: Единицы измерения | E7: Лекарственная форма | F7: Дозировка | G7: Лекарственный препарат включен в перечень жизненно необходимых и важнейших лекарственных препаратов | H7: Наличие в лекарственном препарате наркотических средств, психотропных веществ и их прекурсоров
A8: 1 | B8: ПЕРИЦИАЗИН | C8: 21.20.10.235-000051-1-00031-0000000000000 | D8: шт (капсула) | E8: КАПСУЛЫ | F8: 10 мг | G8: Да | H8: Нет

Sheet анализ рынка
A2: Начальная (максимальная) цена контракта определена в соответствии с Порядком, утвержденном Приказом Министерства здравоохранения Российской Федерации от 19 декабря 2019 года № 1064н «Об утверждении Порядка определения начальной (максимальной) цены контракта, цены контракта, заключаемого с единственным поставщиком (подрядчиком, исполнителем), начальной цены единицы товара, работы, услуги при осуществлении закупок лекарственных препаратов для медицинского применения».
A3: а) Метод, предусмотренный пунктом 1 части 1 статьи 22 Федерального закона от 05.04.2013 N 44-ФЗ "О контрактной системе в сфере закупок товаров, работ, услуг для обеспечения государственных и муниципальных нужд"
A4: В целях получения ценовой информации в отношении поставляемого товара для определения НМЦК был направлен запрос о предоставлении ценовой информации 23 (двадцати трём) Поставщикам, обладающим опытом поставок соответствующих Товаров, информация о которых имеется в свободном доступе, в частности, опубликована в печати, размещена на сайтах в сети «Интернет». На запросы были представлены ценовые предложения от 3 (трех) Поставщиков. Расчет произведен по наименьшему ценовому предложению, в целях эффективности и экономии использования бюджетных средств, что не противоречит положениям Закона N 44-ФЗ (см., например, Решение Санкт-Петербургского УФАС России от 29.02.2016 по делу N 44-672/16).
A6: Метод сопоставимых рыночных цен (анализ рынка) (ч.2-6 ст.22 44-ФЗ), без учета НДС и оптовой надбавки
A8: № п/п | B8: МНН или при отсутствии МНН химическое, группировочное наименование Товара | C8: Код позиции КТРУ / Реестровая запись. | D8: Единицы измерения (количество товара, объем работы, услуги по ОКЕИ) | E8: Лекарственная форма | F8: Дозировка | G8: Номер фармацевтической организации, дата КП, цена без учета НДС 10% и оптовой надбавки, руб. | J8: Среднее расчетное значение цены за единицу измерения, руб. | K8: Среднее квадратичное отклонение | L8: Коэффициент вариации | M8: Цена единицы лекарственного препараты расчитанная методом сопоставимых рыночных цен
G9: Источник 1 (расчет цены за единицу измерения) | H9: Источник 2 (расчет цены за единицу измерения) | I9: Источник 3 (расчет цены за единицу измерения)
A10: 1 | B10: ='Справочник лекарств'!B8 -> ПЕРИЦИАЗИН | C10: ='Справочник лекарств'!C8 -> 21.20.10.235-000051-1-00031-0000000000000 | D10: ='Справочник лекарств'!D8 -> шт (капсула) | E10: ='Справочник лекарств'!E8 -> КАПСУЛЫ | F10: ='Справочник лекарств'!F8 -> 10 мг | G10: =234.66/50 -> 4.6932 | H10: =223.21/50 -> 4.4642 | I10: =253.25/50 -> 5.065 | J10: =AVERAGE(G10:I10) -> 4.7408 | K10: =STDEV(G10:I10) -> 0.30321524 | L10: =K10/J10*100 -> 6.3958665 | M10: =MIN(G10:I10) -> 4.4642 | P10: =363.67/5 -> 72.734

Sheet тарифный метод (только ЖНВЛП)
A2: Начальная (максимальная) цена контракта определена в соответствии с Порядком, утвержденном Приказом Министерства здравоохранения Российской Федерации от 19 декабря 2019 года № 1064н «Об утверждении Порядка определения начальной (максимальной) цены контракта, цены контракта, заключаемого с единственным поставщиком (подрядчиком, исполнителем), начальной цены единицы товара, работы, услуги при осуществлении закупок лекарственных препаратов для медицинского применения». | M2: до 100 | N2: 0.18
M3: от 101 до 500 | N3: 0.12
A4: а) Метод, предусмотренный пунктом 3 части 1 статьи 22 Федерального закона от 05.04.2013 N 44-ФЗ "О контрактной системе в сфере закупок товаров, работ, услуг для обеспечения государственных и муниципальных нужд" | M4: больше 500 | N4: 0.1
A5: Информация о минимально возможной зарегистрированной цене производителя в соответствии с перечнем жизненно необходимых и важнейших лекарственных препаратов для медицинского применения на 2020 год, утвержденным распоряжением Правительства Российской Федерации от 12 октября 2019 г. N 2406-р, постановлением Правительства Российской Федерации от 29.10.2010 № 865 «О государственном регулировании цен на лекарственные препараты, включенные в перечень жизненно необходимых и важнейших лекарственных препаратов», представлена в Государственном реестре предельных отпускных цен производителей на лекарственные препараты, включенные в перечень жизненно необходимых и важнейших лекарственных препаратов, по адресу в сети Интернет http://grls.rosminzdrav.ru/:
A6: Тарифный метод (ч.8 ст.22 44-ФЗ), без учета НДС и оптовой надбавки
A8: № п/п | B8: МНН | C8: Торговое наименование лекарственного препарата | D8: Лекарственная форма, дозировка, упаковка (полная) | E8: Владелец РУ/производитель/упаковщик/Выпускающий контроль | F8: Коли- чество в потреб. упаков- ке | G8: Предельная цена руб. без НДС | H8: Расчетная цена за единицу измерения, руб. | I8: № РУ | J8: Дата регистрации цены (№ решения) | K8: Расчетная предельная отпускная цена производителя без оптовой надбавки и без НДС, за единицу товара руб.
A9: 1 | B9: ='Справочник лекарств'!B8 -> ПЕРИЦИАЗИН | C9: Неулептил | D9: капсулы, 10 мг, 10 шт. - блистеры (5) - пачки картонные | E9: Вл.Закрытое акционерное общество "ФармФирма "Сотекс" (ЗАО "ФармФирма "Сотекс"), Россия (7715240941); Вып.к.Перв.Уп.Втор.Уп.Пр.Фамар Хелс Кеа Сервисез Мадрид С.А.У., Испания (А86227261); | F9: 50 | G9: 223.51 | H9: =G9/50 -> 4.4702 | I9: П N014803/01 | J9: 21.12.2023 25-7-4273328-ОПР-изм | K9: =H9 -> 4.4702

Sheet Средневзвешенная
A2: Начальная (максимальная) цена контракта определена в соответствии с Порядком, утвержденном Приказом Министерства здравоохранения Российской Федерации от 19 декабря 2019 года № 1064н «Об утверждении Порядка определения начальной (максимальной) цены контракта, цены контракта, заключаемого с единственным поставщиком (подрядчиком, исполнителем), начальной цены единицы товара, работы, услуги при осуществлении закупок лекарственных препаратов для медицинского применения».
A3: б) Метод расчета средневзвешенной цены в соответствии с пунктом 5 № 1064н «Об утверждении Порядка определения начальной (максимальной) цены контракта, цены контракта, заключаемого с единственным поставщиком (подрядчиком, исполнителем), начальной цены единицы товара, работы, услуги при осуществлении закупок лекарственных препаратов для медицинского применения».
A4: Все используемые, при расчете средневзвешенной цены, договора удовлетворяют требованиям: Учитываются цены и количество единиц лекарственного препарата, указанные в документах о приемке товаров, подписанных заказчиком в течение 12 месяцев. Не учитываются цены лекарственных препаратов: закупка которых, осуществлялась у единственного поставщика на основании пункта 28 части 1 статьи 93 Закона о контрактной системе; с остаточным сроком годности, на 20 и более процентов отличающимся от остаточного срока годности, предусмотренного заказчиком в описании объекта закупки; по договорам заказчиком взыскивались неустойки (штрафы, пени) в связи с неисполнением или ненадлежащим исполнением обязательств; обращение которых на месяц расчета НМЦК, начальной цены единицы лекарственного препарата приостановлено в порядке, установленном частью 1 статьи 6.5.
A5: Расчет средневзвешенной цены по контрактам
A7: № п/п | B7: Международное непатентованное или химическое или группировочное наименование | C7: Предмет закупки | D7: Единица измерения | E7: Грамм в упаковке | F7: Цена за упаковку Товара без НДС и оптовой надбавки, согласно протоколу согласования цен на ЖНВЛП | G7: Цена за единицу измерения Товара согласно протоколу согласования цен на ЖНВЛП | H7: Кол-во в единицах измерения | I7: Средневзвешенная цена за единицу измерения | J7: Номер сведений о контракте (реестровой записи) и даты заключения контракта | K7: Ссылка на страницу в сети Интернет
A8: 1 | J8: Остаточный срок годности поставленных лекарственных препаратов на 20 и более процентов отличается от остаточного срока годности, предусмотренного заказчиком в описании объекта закупки, для которой осуществляется определение НМЦК

Sheet Выбор минимального значения
A2: Минимальное значение НМЦ Товара за единицу измерения, установленное в ходе проведенного анализа, принимается в качестве начальной (максимальной) цены за единицу товара при расчете начальной (максимальной) цены государственного контракта.
A4: № п\п | B4: МНН или при отсутствии МНН химическое, группировочное наименование Товара | C4: Код позиции КТРУ / Реестровая запись. | D4: Единицы измерения (количество товара, объем работы, услуги по ОКЕИ) | E4: Лекарственная форма | F4: Дозировка | G4: Метод сопоставимых рыночных цен (анализ рынка) (ч.2-6 ст.22 44-ФЗ), без учета НДС и оптовой надбавки | H4: Тарифный метод (ч.8 ст.22 44-ФЗ), без учета НДС и оптовой надбавки | I4: Расчет референтных цен, без учета НДС и оптовой надбавки | J4: Расчет средневзвешенной цены по контрактам (в случае заключения единственного контракта – цены по контракту) | K4: Минимальное значение НМЦ Товара за единицу измерения, руб. | P4: цена реестра
A6: 1 | B6: ='Справочник лекарств'!B8 -> ПЕРИЦИАЗИН | C6: ='Справочник лекарств'!C8 -> 21.20.10.235-000051-1-00031-0000000000000 | D6: ='Справочник лекарств'!D8 -> шт (капсула) | E6: ='Справочник лекарств'!E8 -> КАПСУЛЫ | F6: ='Справочник лекарств'!F8 -> 10 мг | G6: =+'анализ рынка'!M10 -> 4.4642 | H6: ='тарифный метод (только ЖНВЛП)'!K9 -> 4.4702 | K6: =MIN(G6:J6) -> 4.4642 | N6: 51141.2 | O6: =N6/440 -> 116.23 | P6: =363.67/5 -> 72.734
A7: Обоснование формирования начальной (максимальной) цены контракта:
A8: В соответствии с приказом Министерства здравоохранения Российской Федерации от 19 декабря 2019 года № 1064н «Об утверждении Порядка определения начальной (максимальной) цены контракта, цены контракта, заключаемого с единственным поставщиком (подрядчиком, исполнителем), начальной цены единицы товара, работы, услуги при осуществлении закупок лекарственных препаратов для медицинского применения» при определение начальной (максимальной) цены (далее – НМЦ) Товара за единицу измерения использовались:
A9: а) метод сопоставимых рыночных цен (анализ рынка) по коммерческим предложением полученных заказчиком и контрактам ЕИС (отсутствие информации о ценах от потенциальных поставщиков).
A10: б) тарифный метод, предусмотренный пунктом 3 части 1 статьи 22 Федерального закона от 05.04.2013 N 44-ФЗ "О контрактной системе в сфере закупок товаров, работ, услуг для обеспечения государственных и муниципальных нужд"
A11: в) метод использования цены, которая рассчитывается автоматически в единой государственной информационной системе в сфере здравоохранения, сведения о которой предоставляются в единую информационную систему в сфере закупок посредством информационного взаимодействия между указанными системами.
A12: г) метод расчета средневзвешенной цены на основании всех исполненных Заказчиком государственных контрактов на поставку планируемого к закупке лекарственного препарата с учетом эквивалентных лекарственных форм и дозировок за 12 месяцев

Sheet РНМЦД
L1: УТВЕРЖДАЮ: Главный врач СПб ГКУЗ «Хоспис №2» | M1: ____________ | O1: А.О. Емельянов
A3: РАСЧЕТ НАЧАЛЬНОЙ (МАКСИМАЛЬНОЙ) ЦЕНЫ КОНТРАКТА
A5: Начальная (максимальная) цена контракта определена в соответствии с Порядком, утвержденном Приказом Министерства здравоохранения Российской Федерации от 19 декабря 2019 года № 1064н «Об утверждении Порядка определения начальной (максимальной) цены контракта, цены контракта, заключаемого с единственным поставщиком (подрядчиком, исполнителем), начальной цены единицы товара, работы, услуги при осуществлении закупок лекарственных препаратов для медицинского применения».
A6: Расчет начальной (максимальной) цены контракта осуществляется по формуле:
A7: где: n - количество поставляемых лекарственных препаратов; Цi - цена единицы i-го лекарственного препарата с учетом налога на добавленную стоимость (далее - НДС) и оптовой надбавки; Vi - объем поставки i-го лекарственного препарата
A8: Объект закупки: Поставка лекарственных препаратов с МНН ПЕРИЦИАЗИН (ЖНВЛП) для нужд СПб ГКУЗ «Хоспис №2» | Q8: ДЛЯ КОНТРАКТА
A9: № п/п | B9: ЖНВЛП | C9: МНН или при отсутствии МНН химическое, группировочное наименование Товара | D9: Код позиции КТРУ / Реестровая запись. | E9: Единицы измерения (количество товара, объем работы, услуги по ОКЕИ) | F9: Лекарственная форма | G9: Дозировка | H9: Количество единиц измерения к обеспечению* | I9: Минимальное значение цены без учета НДС и оптовой надбавки** | J9: Цена с НДС **** | K9: Надбавка оптовая *** | L9: Цена для формирования НЦК с НДС и оптовой надбавкой для ЖНВЛП | M9: Цена для формирования НЦК с НДС с округлением | N9: Цена за упаковку с НДС с округлением | O9: Начальная (максимальная цена контракта с НДС и оптовой надбавкой | Q9: Цена за единицу | R9: Цена за упаковку | T9: Кол-во упаковок | U9: Итого
A10: 1 | B10: да | C10: ='Справочник лекарств'!B8 -> ПЕРИЦИАЗИН | D10: ='Справочник лекарств'!C8 -> 21.20.10.235-000051-1-00031-0000000000000 | E10: ='Справочник лекарств'!D8 -> шт (капсула) | F10: ='Справочник лекарств'!E8 -> КАПСУЛЫ | G10: ='Справочник лекарств'!F8 -> 10 мг | H10: 1000 | I10: ='Выбор минимального значения'!K6 -> 4.4642 | J10: =I10*1.1 -> 4.91062 | K10: 0.12 | L10: =J10*1.12 -> 5.4998944 | M10: =ROUND(L10,2) -> 5.5 | N10: =M10*50 -> 275 | O10: =ROUND(M10*H10,2) -> 5500 | Q10: =U10/H10 -> 3.63855 | R10: 727.71 | T10: 5 | U10: =R10*T10 -> 3638.55
O11: =SUM(O10:O10) -> 5500 | U11: =SUM(U10:U10) -> 3638.55
D13: Начальная (максимальная) цена договора составляет: | G13: =O11 -> 5500
A15: *Участник размещения заказа вправе предложить другое количество единиц товара в потребительской упаковке. При этом количесвто упаковок к поставке должно пересчитываться соответственно объему (не менее), заявленному Заказчиком, без нарушения потребительской упаковки.
A16: **при расчете НМЦК учтены все эквивалентные лекарственные формы и дозировки лекарственного препарата, предусмотренного к закупке.
A17: *** Оптовая надбавка устанавливается только для лекарственных препаратов, включенных в перечень жизненно необходимых и важнейших лекарственных препаратов
A18: **** НДС +10%, в соответствии с подпунктом 4 пункта 2 статьи 164 «Налогового кодекса Российской Федерации (часть вторая)» от 05.08.2000 № 117-ФЗ.
C21: Юрисконсульт (контрактный управляющий) ____________ Е.В. Кочергина | K21: дата: | L21: 45425
