Workbook

Sheet Справочник лекарств
A2: Начальная (максимальная) цена контракта определена в соответствии с Порядком, утвержденном Приказом Министерства здравоохранения Российской Федерации от 19 декабря 2019 года № 1064н «Об утверждении Порядка определения начальной (максимальной) цены контракта, цены контракта, заключаемого с единственным поставщиком (подрядчиком, исполнителем), начальной цены единицы товара, работы, услуги при осуществлении закупок лекарственных препаратов для медицинского применения».
A3: Для целей применения настоящего Порядка в качестве "единицы лекарственного препарата" используются единицы измерения, указанные в едином справочнике-каталоге лекарственных препаратов. В случае отсутствия в едином справочнике-каталоге лекарственных препаратов информации о лекарственном препарате в качестве "единицы лекарственного препарата" используется единица измерения "штука", соответствующая одной лекарственной форме (форме выпуска) (таблетка, капсула, суппозиторий и проч.), либо иная единица измерения в соответствии с Общероссийским классификатором единиц измерения (ОК 015-94 (МК 002-97)), применимая для измерения количественных характеристик закупаемого лекарственного препарата.
A6: № п/п | B6: МНН или при отсутствии МНН химическое, группировочное наименование Товара | C6: Код позиции КТРУ / Реестровая запись. | D6: Единицы измерения | E6: Лекарственная форма | F6: Дозировка | G6: Лекарственный препарат включен в перечень жизненно необходимых и важнейших лекарственных препаратов | H6: Наличие в лекарственном препарате наркотических средств, психотропных веществ и их прекурсоров
A7: 1 | B7: Хлоргексидин | C7: 21.20.10.158-000002-1-00104-0000000000000 | D7: см[3*];^мл | E7: раствор для местного и наружного применения | F7: 0,5 мг/мл | G7: Да | H7: Нет

Sheet анализ рынка
A2: Начальная (максимальная) цена контракта определена в соответствии с Порядком, утвержденном Приказом Министерства здравоохранения Российской Федерации от 19 декабря 2019 года № 1064н «Об утверждении Порядка определения начальной (максимальной) цены контракта, цены контракта, заключаемого с единственным поставщиком (подрядчиком, исполнителем), начальной цены единицы товара, работы, услуги при осуществлении закупок лекарственных препаратов для медицинского применения».
A3: а) Метод, предусмотренный пунктом 1 части 1 статьи 22 Федерального закона от 05.04.2013 N 44-ФЗ "О контрактной системе в сфере закупок товаров, работ, услуг для обеспечения государственных и муниципальных нужд"
A4: В целях получения ценовой информации в отношении поставляемого товара для определения НМЦК был направлен запрос № 25-01-01 от 25.01.2022г. о предоставлении ценовой информации Поставщикам, обладающим опытом поставок соответствующих Товаров, информация о которых имеется в свободном доступе, в частности, опубликована в печати, размещена на сайтах в сети «Интернет». На запросы были представлены ценовые предложения от 3 (трех) Поставщиков. Расчет произведен по наименьшему ценовому предложению, в целях эффективности и экономии использования бюджетных средств, что не противоречит положениям Закона N 44-ФЗ (см., например, Решение Санкт-Петербургского УФАС России от 29.02.2016 по делу N 44-672/16).
A6: Метод сопоставимых рыночных цен (анализ рынка) (ч.2-6 ст.22 44-ФЗ), без учета НДС и оптовой надбавки
A8: № п/п | B8: МНН или при отсутствии МНН химическое, группировочное наименование Товара | C8: Код позиции КТРУ / Реестровая запись. | D8: Единицы измерения (количество товара, объем работы, услуги по ОКЕИ) | E8: Лекарственная форма | F8: Дозировка | G8: Номер фармацевтической организации, дата КП, цена без учета НДС 10% и оптовой надбавки, руб. | J8: Среднее расчетное значение цены за единицу измерения, руб. | K8: Среднее квадратичное отклонение | L8: Коэффициент вариации | M8: Цена единицы лекарственного препараты расчитанная методом сопоставимых рыночных цен
G9: КП № 152251 от 17.06.2024г. | H9: КП № б/н от 17.06.2024г. | I9: КП № 204 от 17.06.2024г.
A10: 1 | B10: ='Справочник лекарств'!B7 -> Хлоргексидин | C10: ='Справочник лекарств'!C7 -> 21.20.10.158-000002-1-00104-0000000000000 | D10: ='Справочник лекарств'!D7 -> см[3*];^мл | E10: ='Справочник лекарств'!E7 -> раствор для местного и наружного применения | F10: ='Справочник лекарств'!F7 -> 0,5 мг/мл | G10: 0.14 | H10: 0.14 | I10: 0.14 | J10: =AVERAGE(G10:I10) -> 0.14 | K10: =STDEV(G10:I10) -> 0 | L10: =K10/J10*100 -> 0 | M10: =G10 -> 0.14

Sheet тарифный метод (только ЖНВЛП)
A2: Начальная (максимальная) цена контракта определена в соответствии с Порядком, утвержденном Приказом Министерства здравоохранения Российской Федерации от 19 декабря 2019 года № 1064н «Об утверждении Порядка определения начальной (максимальной) цены контракта, цены контракта, заключаемого с единственным поставщиком (подрядчиком, исполнителем), начальной цены единицы товара, работы, услуги при осуществлении закупок лекарственных препаратов для медицинского применения».
A4: а) Метод, предусмотренный пунктом 3 части 1 статьи 22 Федерального закона от 05.04.2013 N 44-ФЗ "О контрактной системе в сфере закупок товаров, работ, услуг для обеспечения государственных и муниципальных нужд"
A5: Информация о минимально возможной зарегистрированной цене производителя в соответствии с перечнем жизненно необходимых и важнейших лекарственных препаратов для медицинского применения на 2020 год, утвержденным распоряжением Правительства Российской Федерации от 12 октября 2019 г. N 2406-р, постановлением Правительства Российской Федерации от 29.10.2010 № 865 «О государственном регулировании цен на лекарственные препараты, включенные в перечень жизненно необходимых и важнейших лекарственных препаратов», представлена в Государственном реестре предельных отпускных цен производителей на лекарственные препараты, включенные в перечень жизненно необходимых и важнейших лекарственных препаратов, по адресу в сети Интернет http://grls.rosminzdrav.ru/:
A6: Тарифный метод (ч.8 ст.22 44-ФЗ), без учета НДС и оптовой надбавки
A8: № п/п | B8: МНН | C8: Торговое наименование лекарственного препарата | D8: Лекарственная форма, дозировка, упаковка (полная) | E8: Владелец РУ/производитель/упаковщик/Выпускающий контроль | F8: Коли- чество в потреб. упаков- ке | G8: Предельная цена руб. без НДС | H8: Расчетная цена за единицу измерения, руб. | I8: № РУ | J8: Дата регистрации цены (№ решения) | K8: Расчетная предельная отпускная цена производителя без оптовой надбавки и без НДС, за единицу товара руб.
A9: 1 | B9: ='Справочник лекарств'!B7 -> Хлоргексидин | C9: Хлоргексидина биглюконат | D9: раствор для местного и наружного применения, 0,5 мг/мл, 100 мл - флаконы | E9: Общество с ограниченной ответственностью "Тульская фармацевтическая фабрика" (ООО "Тульская фармацевтическая фабрика"), Россия | F9: 100 | G9: 12.35 | H9: =G9/F9 -> 0.1235 | I9: ЛП-001347 | J9: 40889 | K9: =H9 -> 0.1235

Sheet Средневзвешенная
A2: Начальная (максимальная) цена контракта определена в соответствии с Порядком, утвержденном Приказом Министерства здравоохранения Российской Федерации от 19 декабря 2019 года № 1064н «Об утверждении Порядка определения начальной (максимальной) цены контракта, цены контракта, заключаемого с единственным поставщиком (подрядчиком, исполнителем), начальной цены единицы товара, работы, услуги при осуществлении закупок лекарственных препаратов для медицинского применения».
A3: б) Метод расчета средневзвешенной цены в соответствии с пунктом 5 № 1064н «Об утверждении Порядка определения начальной (максимальной) цены контракта, цены контракта, заключаемого с единственным поставщиком (подрядчиком, исполнителем), начальной цены единицы товара, работы, услуги при осуществлении закупок лекарственных препаратов для медицинского применения».
A4: Все используемые, при расчете средневзвешенной цены, договора удовлетворяют требованиям: Учитываются цены и количество единиц лекарственного препарата, указанные в документах о приемке товаров, подписанных заказчиком в течение 12 месяцев. Не учитываются цены лекарственных препаратов: закупка которых, осуществлялась у единственного поставщика на основании пункта 28 части 1 статьи 93 Закона о контрактной системе; с остаточным сроком годности, на 20 и более процентов отличающимся от остаточного срока годности, предусмотренного заказчиком в описании объекта закупки; по договорам заказчиком взыскивались неустойки (штрафы, пени) в связи с неисполнением или ненадлежащим исполнением обязательств; обращение которых на месяц расчета НМЦК, начальной цены единицы лекарственного препарата приостановлено в порядке, установленном частью 1 статьи 6.5.
A5: Расчет средневзвешенной цены по контрактам
A7: № п/п | B7: Международное непатентованное или химическое или группировочное наименование | C7: Предмет закупки | D7: Единица измерения | E7: Грамм в упаковке | F7: Цена за упаковку Товара без НДС и оптовой надбавки согласно протоколу согласования цен на ЖНВЛП | G7: Цена за единицу измерения Товара согласно протоколу согласования цен на ЖНВЛП | H7: Кол-во в единицах измерения | I7: Средневзвешенная цена за единицу измерения | J7: Номер сведений о контракте (реестровой записи) и даты заключения контракта | K7: Ссылка на страницу в сети Интернет
A8: 1 | B8: ='тарифный метод (только ЖНВЛП)'!B9 -> Хлоргексидин | C8: - | D8: - | F8: - | G8: - | H8: - | I8: - | J8: -

Sheet Выбор минимального значения
A2: Минимальное значение НМЦ Товара за единицу измерения, установленное в ходе проведенного анализа, принимается в качестве начальной (максимальной) цены за единицу товара при расчете начальной (максимальной) цены государственного контракта.
A4: № п\п | B4: МНН или при отсутствии МНН химическое, группировочное наименование Товара | C4: Код позиции КТРУ / Реестровая запись. | D4: Единицы измерения (количество товара, объем работы, услуги по ОКЕИ) | E4: Лекарственная форма | F4: Дозировка | G4: Метод сопоставимых рыночных цен (анализ рынка) (ч.2-6 ст.22 44-ФЗ), без учета НДС и оптовой надбавки | H4: Тарифный метод (ч.8 ст.22 44-ФЗ), без учета НДС и оптовой надбавки | I4: Расчет референтных цен, без учета НДС и оптовой надбавки | J4: Расчет средневзвешенной цены по контрактам (в случае заключения единственного контракта – цены по контракту) | K4: Минимальное значение НМЦ Товара за единицу измерения, руб.
A5: 1 | B5: ='Справочник лекарств'!B7 -> Хлоргексидин | C5: ='Справочник лекарств'!C7 -> 21.20.10.158-000002-1-00104-0000000000000 | D5: ='Справочник лекарств'!D7 -> см[3*];^мл | E5: ='Справочник лекарств'!E7 -> раствор для местного и наружного применения | F5: ='Справочник лекарств'!F7 -> 0,5 мг/мл | G5: ='анализ рынка'!M10 -> 0.14 | H5: =+'тарифный метод (только ЖНВЛП)'!K9 -> 0.1235 | I5: 0.15 | J5: =+Средневзвешенная!I8 -> - | K5: =MIN(G5:I5) -> 0.1235
A6: Обоснование формирования начальной (максимальной) цены контракта:
A7: В соответствии с приказом Министерства здравоохранения Российской Федерации от 19 декабря 2019 года № 1064н «Об утверждении Порядка определения начальной (максимальной) цены контракта, цены контракта, заключаемого с единственным поставщиком (подрядчиком, исполнителем), начальной цены единицы товара, работы, услуги при осуществлении закупок лекарственных препаратов для медицинского применения» при определение начальной (максимальной) цены (далее – НМЦ) Товара за единицу измерения использовались:
A8: а) метод сопоставимых рыночных цен (анализ рынка) по коммерческим предложением полученных заказчиком и контрактам ЕИС (отсутствие информации о ценах от потенциальных поставщиков).
A9: б) тарифный метод, предусмотренный пунктом 3 части 1 статьи 22 Федерального закона от 05.04.2013 N 44-ФЗ "О контрактной системе в сфере закупок товаров, работ, услуг для обеспечения государственных и муниципальных нужд"
A10: в) метод использования цены, которая рассчитывается автоматически в единой государственной информационной системе в сфере здравоохранения, сведения о которой предоставляются в единую информационную систему в сфере закупок посредством информационного взаимодействия между указанными системами.
A11: г) метод расчета средневзвешенной цены на основании всех исполненных Заказчиком государственных контрактов на поставку планируемого к закупке лекарственного препарата с учетом эквивалентных лекарственных форм и дозировок за 12 месяцев

Sheet РНМЦД
A2: РАСЧЕТ НАЧАЛЬНОЙ (МАКСИМАЛЬНОЙ) ЦЕНЫ КОНТРАКТА
A4: Начальная (максимальная) цена контракта определена в соответствии с Порядком, утвержденном Приказом Министерства здравоохранения Российской Федерации от 19 декабря 2019 года № 1064н «Об утверждении Порядка определения начальной (максимальной) цены контракта, цены контракта, заключаемого с единственным поставщиком (подрядчиком, исполнителем), начальной цены единицы товара, работы, услуги при осуществлении закупок лекарственных препаратов для медицинского применения».
A5: Расчет начальной (максимальной) цены контракта осуществляется по формуле:
A6: где: n - количество поставляемых лекарственных препаратов; Цi - цена единицы i-го лекарственного препарата с учетом налога на добавленную стоимость (далее - НДС) и оптовой надбавки; Vi - объем поставки i-го лекарственного препарата
A8: № п/п | B8: ЖНВЛП | C8: МНН или при отсутствии МНН химическое, группировочное наименование Товара | D8: Код позиции КТРУ / Реестровая запись. | E8: Единицы измерения (количество товара, объем работы, услуги по ОКЕИ) | F8: Лекарственная форма | G8: Дозировка | H8: Количество единиц измерения к обеспечению* | I8: Минимальное значение цены без учета НДС и оптовой надбавки** | J8: Цена с НДС **** | K8: Надбавка оптовая *** | L8: Цена для формирования НЦК с НДС и оптовой надбавкой для ЖНВЛП | M8: Цена для формирования НЦК с НДС с округлением | N8: Ценаза упаковку с НДС с округлением | O8: Начальная (максимальная цена контракта с НДС и оптовой надбавкой
A9: 1 | B9: Да | C9: ='Справочник лекарств'!B7 -> Хлоргексидин | D9: ='Справочник лекарств'!C7 -> 21.20.10.158-000002-1-00104-0000000000000 | E9: ='Справочник лекарств'!D7 -> см[3*];^мл | F9: ='Справочник лекарств'!E7 -> раствор для местного и наружного применения | G9: ='Справочник лекарств'!F7 -> 0,5 мг/мл | H9: 150000 | I9: ='Выбор минимального значения'!K5 -> 0.1235 | J9: =(I9*10/100)+I9 -> 0.13585 | K9: 0.18 | L9: =J9*1.18 -> 0.160303 | M9: 0.16 | N9: =M9*100 -> 16 | O9: =ROUND(M9*H9,2) -> 24000
O10: =SUM(O9:O9) -> 24000
D12: Начальная (максимальная) цена договора составляет: | G12: =O10 -> 24000
A14: *Участник размещения заказа вправе предложить другое количество единиц товара в потребительской упаковке. При этом количесвто упаковок к поставке должно пересчитываться соответственно объему (не менее), заявленному Заказчиком, без нарушения потребительской упаковки.
A15: **при расчете НМЦК учтены все эквивалентные лекарственные формы и дозировки лекарственного препарата, предусмотренного к закупке.
A16: *** Оптовая надбавка устанавливается только для лекарственных препаратов, включенных в перечень жизненно необходимых и важнейших лекарственных препаратов
A17: **** НДС +10%, в соответствии с подпунктом 4 пункта 2 статьи 164 «Налогового кодекса Российской Федерации (часть вторая)» от 05.08.2000 № 117-ФЗ.
