Workbook

Sheet Окончательный расчёт
A1: Сформировано в системе СТАР - универсальном сервисе для работы с закупками РФ
A3: Обоснование начальной (максимальной) цены контракта на поставку лекарственных средств
A4: Наименование организации: | H4: САНКТ-ПЕТЕРБУРГСКОЕ ГОСУДАРСТВЕННОЕ КАЗЕННОЕ УЧРЕЖДЕНИЕ ЗДРАВООХРАНЕНИЯ "ПСИХОНЕВРОЛОГИЧЕСКИЙ ДИСПАНСЕР № 4" ИНН: 7813338617 КПП: 781301001
T5: STAR-PRO NMC
A6: Наименование пользователя: | H6: СПБ ГКУЗ "ПНД № 4" ИНН:7813338617 КПП:781301001
A7: Используемый метод определения НМЦК: | H7: в соответствии с приказом Министерства здравоохранения РФ от 19.12.2019 N 1064н
A8: Используемый способ округления: | H8: округление вниз с точностью до копейки
A10: Формула расчета:
A11: где:
A12: n - количество поставляемых лекарственных препаратов;
A13: Цi - цена единицы i-го лекарственного препарата с учетом НДС и оптовой надбавки;
A14: Vi - объем поставки i-го лекарственного препарата.
A15: Дата выполнения расчёта: | H15: 26.06.2024 12:32
A16: Объект закупки (предмет контракта):
A17: Начальная (максимальная) цена контракта (далее - НМЦК) определена Приказом Минздрава России от 19.12.2019 N 1064н "Об утверждении Порядка определения начальной (максимальной) цены контракта, цены контракта, заключаемого с единственным поставщиком (подрядчиком, исполнителем), начальной цены единицы товара, работы, услуги при осуществлении закупок лекарственных препаратов для медицинского применения" (далее - Порядок).
A19: № | B19: Объект закупки - МНН/Торговое наименование | C19: КТРУ | E19: Форма выпуска | F19: Дозировка / Кол-во акт вещества | H19: Ед изм КТРУ - наим-е | I19: В реестре ЖНВЛП? | J19: В реестре нарк. препаратов? | K19: Ед изм для рассчета | M19: Цена за единицу измерения, руб | Q19: Min цена за единицу измерения, руб | R19: Оптовая надбавка, % | S19: НДС, % | T19: Цена единицы планируемого к закупке лекарственного препарата с учетом НДС и оптовой надбавки (руб.)*** | U19: НМЦ, руб | V19: Цена за упак. (справочно) | W19: Кол-во упак.
K20: Кол-во | L20: Наим-е | M20: Метод ср.взвеш. цены | N20: Анализ рынка | O20: Тарифный метод | P20: Метод референтных цен
A21: 1 | B21: 2 | C21: 3 | E21: 4 | F21: 5 | H21: 6 | I21: 7 | J21: 8 | K21: 9 | L21: 10 | M21: 11 | N21: 12 | O21: 13 | P21: 14 | Q21: 15 | R21: 16 | S21: 17 | T21: 18 | U21: 19 | V21: 20 | W21: 21
A22: 1 | B22: ВЕНЛАФАКСИН | C22: 21.20.10.236-000033-1-00159-0000000000000 | E22: ТАБЛЕТКИ | F22: 75 мг | H22: ШТ | I22: Нет | J22: Нет | K22: 896 | L22: ШТ | M22: =IF('Метод ср.взвеш. цены'!M13>0,'Метод ср.взвеш. цены'!M13,TEXT(VALUE('Метод ср.взвеш. цены'!M13),"#")) -> 18.2 | N22: =IF('Анализ рынка'!L15>0,'Анализ рынка'!L15,TEXT(VALUE('Анализ рынка'!L15),"#")) -> 50.75 | O22: =IF('Реестр пред. отп. цен на ЖНВЛП'!Q11>0,'Реестр пред. отп. цен на ЖНВЛП'!Q11,TEXT(VALUE('Реестр пред. отп. цен на ЖНВЛП'!Q11),"#")) | Q22: {=ROUNDDOWN(MIN(IF(M22:P22 <> 0, M22:P22)),2)} -> 18.2 | R22: 0 | S22: 10 | T22: =ROUNDDOWN(Q22*(1+R22*0.01)*(1+S22*0.01),2) -> 20.02 | U22: =ROUNDDOWN(K22*T22,2) -> 17937.92 | V22: 560.56 | W22: 32
A23: 2 | B23: ВЕНЛАФАКСИН | C23: 21.20.10.236-000033-1-00233-0000000000000 | E23: ТАБЛЕТКИ | F23: 37.5 мг | H23: ШТ | I23: Нет | J23: Нет | K23: 900 | L23: ШТ | M23: =IF('Метод ср.взвеш. цены'!M18>0,'Метод ср.взвеш. цены'!M18,TEXT(VALUE('Метод ср.взвеш. цены'!M18),"#")) -> 13.06 | N23: =IF('Анализ рынка'!L27>0,'Анализ рынка'!L27,TEXT(VALUE('Анализ рынка'!L27),"#")) -> 29.55 | O23: =IF('Реестр пред. отп. цен на ЖНВЛП'!Q19>0,'Реестр пред. отп. цен на ЖНВЛП'!Q19,TEXT(VALUE('Реестр пред. отп. цен на ЖНВЛП'!Q19),"#")) | Q23: {=ROUNDDOWN(MIN(IF(M23:P23 <> 0, M23:P23)),2)} -> 13.06 | R23: 0 | S23: 10 | T23: =ROUNDDOWN(Q23*(1+R23*0.01)*(1+S23*0.01),2) -> 14.36 | U23: =ROUNDDOWN(K23*T23,2) -> 12924 | V23: 430.8 | W23: 30
A24: 3 | B24: ГАЛОПЕРИДОЛ | C24: 21.20.10.235-000015-1-00294-0000000000000 | E24: РАСТВОР ДЛЯ ВНУТРИВЕННОГО И ВНУТРИМЫШЕЧНОГО ВВЕДЕНИЯ | F24: 5 мг/мл | H24: МЛ | I24: Да | J24: Нет | K24: 100 | L24: МЛ | M24: =IF('Метод ср.взвеш. цены'!M23>0,'Метод ср.взвеш. цены'!M23,TEXT(VALUE('Метод ср.взвеш. цены'!M23),"#")) | N24: =IF('Анализ рынка'!L39>0,'Анализ рынка'!L39,TEXT(VALUE('Анализ рынка'!L39),"#")) -> 14.52 | O24: =IF('Реестр пред. отп. цен на ЖНВЛП'!Q39>0,'Реестр пред. отп. цен на ЖНВЛП'!Q39,TEXT(VALUE('Реестр пред. отп. цен на ЖНВЛП'!Q39),"#")) -> 6.65 | Q24: {=ROUNDDOWN(MIN(IF(M24:P24 <> 0, M24:P24)),2)} -> 6.65 | R24: 12 | S24: 10 | T24: =ROUNDDOWN(Q24*(1+R24*0.01)*(1+S24*0.01),2) -> 8.19 | U24: =ROUNDDOWN(K24*T24,2) -> 819 | V24: 81.9 | W24: 10
A25: 4 | B25: КВЕТИАПИН | C25: 21.20.10.235-000020-1-00034-0000000000000 | E25: ТАБЛЕТКИ, ПОКРЫТЫЕ ОБОЛОЧКОЙ | F25: 25 мг | H25: ШТ | I25: Да | J25: Нет | K25: 600 | L25: ШТ | M25: =IF('Метод ср.взвеш. цены'!M28>0,'Метод ср.взвеш. цены'!M28,TEXT(VALUE('Метод ср.взвеш. цены'!M28),"#")) | N25: =IF('Анализ рынка'!L51>0,'Анализ рынка'!L51,TEXT(VALUE('Анализ рынка'!L51),"#")) -> 11.96 | O25: =IF('Реестр пред. отп. цен на ЖНВЛП'!Q67>0,'Реестр пред. отп. цен на ЖНВЛП'!Q67,TEXT(VALUE('Реестр пред. отп. цен на ЖНВЛП'!Q67),"#")) -> 4 | Q25: {=ROUNDDOWN(MIN(IF(M25:P25 <> 0, M25:P25)),2)} -> 4 | R25: 10 | S25: 10 | T25: =ROUNDDOWN(Q25*(1+R25*0.01)*(1+S25*0.01),2) -> 4.84 | U25: =ROUNDDOWN(K25*T25,2) -> 2904 | V25: 290.4 | W25: 10
A26: 5 | B26: АМИТРИПТИЛИН | C26: 21.20.10.236-000013-1-00095-0000000000000 | E26: РАСТВОР ДЛЯ ВНУТРИВЕННОГО И ВНУТРИМЫШЕЧНОГО ВВЕДЕНИЯ | F26: 10 мг/мл | H26: МЛ | I26: Да | J26: Нет | K26: 200 | L26: МЛ | M26: =IF('Метод ср.взвеш. цены'!M33>0,'Метод ср.взвеш. цены'!M33,TEXT(VALUE('Метод ср.взвеш. цены'!M33),"#")) -> 4.13 | N26: =IF('Анализ рынка'!L63>0,'Анализ рынка'!L63,TEXT(VALUE('Анализ рынка'!L63),"#")) -> 3.99 | O26: =IF('Реестр пред. отп. цен на ЖНВЛП'!Q75>0,'Реестр пред. отп. цен на ЖНВЛП'!Q75,TEXT(VALUE('Реестр пред. отп. цен на ЖНВЛП'!Q75),"#")) -> 4.3 | Q26: {=ROUNDDOWN(MIN(IF(M26:P26 <> 0, M26:P26)),2)} -> 3.99 | R26: 18 | S26: 10 | T26: =ROUNDDOWN(Q26*(1+R26*0.01)*(1+S26*0.01),2) -> 5.17 | U26: =ROUNDDOWN(K26*T26,2) -> 1034 | V26: 103.4 | W26: 10
A27: 6 | B27: РИСПЕРИДОН | C27: 21.20.10.235-000019-1-00288-0000000000000 | E27: ПОРОШОК ДЛЯ ПРИГОТОВЛЕНИЯ СУСПЕНЗИИ ДЛЯ ВНУТРИМЫШЕЧНОГО ВВЕДЕНИЯ | F27: 50 мг | H27: МГ | I27: Да | J27: Нет | K27: 1000 | L27: МГ | M27: =IF('Метод ср.взвеш. цены'!M38>0,'Метод ср.взвеш. цены'!M38,TEXT(VALUE('Метод ср.взвеш. цены'!M38),"#")) | N27: =IF('Анализ рынка'!L75>0,'Анализ рынка'!L75,TEXT(VALUE('Анализ рынка'!L75),"#")) -> 99.77 | O27: =IF('Реестр пред. отп. цен на ЖНВЛП'!Q83>0,'Реестр пред. отп. цен на ЖНВЛП'!Q83,TEXT(VALUE('Реестр пред. отп. цен на ЖНВЛП'!Q83),"#")) -> 93.81 | Q27: {=ROUNDDOWN(MIN(IF(M27:P27 <> 0, M27:P27)),2)} -> 93.81 | R27: 10 | S27: 10 | T27: =ROUNDDOWN(Q27*(1+R27*0.01)*(1+S27*0.01),2) -> 113.51 | U27: =ROUNDDOWN(K27*T27,2) -> 113510 | V27: 5675.5 | W27: 20
A28: 7 | B28: ЭСЦИТАЛОПРАМ | C28: 21.20.10.236-000005-1-00166-0000000000000 | E28: ТАБЛЕТКИ, ПОКРЫТЫЕ ОБОЛОЧКОЙ | F28: 10 мг | H28: ШТ | I28: Нет | J28: Нет | K28: 420 | L28: ШТ | M28: =IF('Метод ср.взвеш. цены'!M43>0,'Метод ср.взвеш. цены'!M43,TEXT(VALUE('Метод ср.взвеш. цены'!M43),"#")) | N28: =IF('Анализ рынка'!L87>0,'Анализ рынка'!L87,TEXT(VALUE('Анализ рынка'!L87),"#")) -> 13.1 | O28: =IF('Реестр пред. отп. цен на ЖНВЛП'!Q91>0,'Реестр пред. отп. цен на ЖНВЛП'!Q91,TEXT(VALUE('Реестр пред. отп. цен на ЖНВЛП'!Q91),"#")) | Q28: {=ROUNDDOWN(MIN(IF(M28:P28 <> 0, M28:P28)),2)} -> 13.1 | R28: 0 | S28: 10 | T28: =ROUNDDOWN(Q28*(1+R28*0.01)*(1+S28*0.01),2) -> 14.41 | U28: =ROUNDDOWN(K28*T28,2) -> 6052.2 | V28: 403.48 | W28: 15
A29: 8 | B29: ЭСЦИТАЛОПРАМ | C29: 21.20.10.236-000005-1-00224-0000000000000 | E29: ТАБЛЕТКИ, ПОКРЫТЫЕ ОБОЛОЧКОЙ | F29: 5 мг | H29: ШТ | I29: Нет | J29: Нет | K29: 420 | L29: ШТ | M29: =IF('Метод ср.взвеш. цены'!M48>0,'Метод ср.взвеш. цены'!M48,TEXT(VALUE('Метод ср.взвеш. цены'!M48),"#")) | N29: =IF('Анализ рынка'!L99>0,'Анализ рынка'!L99,TEXT(VALUE('Анализ рынка'!L99),"#")) -> 20.94 | O29: =IF('Реестр пред. отп. цен на ЖНВЛП'!Q99>0,'Реестр пред. отп. цен на ЖНВЛП'!Q99,TEXT(VALUE('Реестр пред. отп. цен на ЖНВЛП'!Q99),"#")) | Q29: {=ROUNDDOWN(MIN(IF(M29:P29 <> 0, M29:P29)),2)} -> 20.94 | R29: 0 | S29: 10 | T29: =ROUNDDOWN(Q29*(1+R29*0.01)*(1+S29*0.01),2) -> 23.03 | U29: =ROUNDDOWN(K29*T29,2) -> 9672.6 | V29: 644.84 | W29: 15
A30: Начальная максимальная цена контракта, руб | U30: =ROUNDDOWN(SUM(U22:U29),2) -> 164853.72
A31: * Расчет референтных цен не применяются до размещения соответствующих данных в ЕИС (согласно п.6 Порядка Приказа 1064н)
A32: Дата подготовки обоснования НМЦК: _________________________
A33: Руководитель контрактной службы: _________________________

Sheet Метод ср.взвеш. цены
A1: Сформировано в системе СТАР - универсальном сервисе для работы с закупками РФ
A3: "Метод средневзвешенной цены" расчёта НМЦК | E3: В соответствии с ч.5 приказа Министерства здравоохранения РФ от 19.12.2019 N 1064н
A5: Формула расчета:
A6: где:
A7: Ц - цена единицы лекарственного препарата без учета НДС и оптовой надбавки;
A8: k - количество закупленных лекарственных препаратов в эквивалентных лекарственных формах и дозировках
A10: № | B10: Объект закупки - МНН/Торговое наименование | C10: Форма выпуска | D10: Дозировка / Кол-во акт вещества | E10: Контракты ЕИС | G10: Ед изм в источнике | H10: Кол-во в контракте | I10: Цена в контракте, руб | J10: Ед изм для расчёта | K10: Кол-во ед изм для расчёта | L10: Цена за единицу, без НДС и опт.надбавки, руб. | M10: Средневзвешенная цена за единицу товара без учета НДС и опт.надбавки, руб
E11: № Контракта ЕИС | F11: Дата подписания контракта
A12: 1 | B12: 2 | C12: 3 | D12: 4 | E12: 5 | F12: 6 | G12: 7 | H12: 8 | I12: 9 | J12: 10 | K12: 11 | L12: 12 | M12: 13
A13: 1 | B13: ВЕНЛАФАКСИН | D13: 75 мг | G13: ШТ | H13: 31 | J13: ШТ | K13: 930 | L13: 18.2 | M13: =ROUNDDOWN(((SUMPRODUCT(K13:K14,L13:L14)))/MAX(SUM(K13:K14),1),2) -> 18.2
A15: № | B15: Объект закупки - МНН/Торговое наименование | C15: Форма выпуска | D15: Дозировка / Кол-во акт вещества | E15: Контракты ЕИС | G15: Ед изм в источнике | H15: Кол-во в контракте | I15: Цена в контракте, руб | J15: Ед изм для расчёта | K15: Кол-во ед изм для расчёта | L15: Цена за единицу, без НДС и опт.надбавки, руб. | M15: Средневзвешенная цена за единицу товара без учета НДС и опт.надбавки, руб
E16: № Контракта ЕИС | F16: Дата подписания контракта
A17: 1 | B17: 2 | C17: 3 | D17: 4 | E17: 5 | F17: 6 | G17: 7 | H17: 8 | I17: 9 | J17: 10 | K17: 11 | L17: 12 | M17: 13
A18: 1 | B18: ВЕНЛАФАКСИН | D18: 37.5 мг | G18: ШТ | H18: 12 | J18: ШТ | K18: 360 | L18: 13.06 | M18: =ROUNDDOWN(((SUMPRODUCT(K18:K19,L18:L19)))/MAX(SUM(K18:K19),1),2) -> 13.06
A20: № | B20: Объект закупки - МНН/Торговое наименование | C20: Форма выпуска | D20: Дозировка / Кол-во акт вещества | E20: Контракты ЕИС | G20: Ед изм в источнике | H20: Кол-во в контракте | I20: Цена в контракте, руб | J20: Ед изм для расчёта | K20: Кол-во ед изм для расчёта | L20: Цена за единицу, без НДС и опт.надбавки, руб. | M20: Средневзвешенная цена за единицу товара без учета НДС и опт.надбавки, руб
E21: № Контракта ЕИС | F21: Дата подписания контракта
A22: 1 | B22: 2 | C22: 3 | D22: 4 | E22: 5 | F22: 6 | G22: 7 | H22: 8 | I22: 9 | J22: 10 | K22: 11 | L22: 12 | M22: 13
A23: 1 | K23: 0 | L23: 0 | M23: =ROUNDDOWN(((SUMPRODUCT(K23:K24,L23:L24)))/MAX(SUM(K23:K24),1),2) -> 0
A25: № | B25: Объект закупки - МНН/Торговое наименование | C25: Форма выпуска | D25: Дозировка / Кол-во акт вещества | E25: Контракты ЕИС | G25: Ед изм в источнике | H25: Кол-во в контракте | I25: Цена в контракте, руб | J25: Ед изм для расчёта | K25: Кол-во ед изм для расчёта | L25: Цена за единицу, без НДС и опт.надбавки, руб. | M25: Средневзвешенная цена за единицу товара без учета НДС и опт.надбавки, руб
E26: № Контракта ЕИС | F26: Дата подписания контракта
A27: 1 | B27: 2 | C27: 3 | D27: 4 | E27: 5 | F27: 6 | G27: 7 | H27: 8 | I27: 9 | J27: 10 | K27: 11 | L27: 12 | M27: 13
A28: 1 | K28: 0 | L28: 0 | M28: =ROUNDDOWN(((SUMPRODUCT(K28:K29,L28:L29)))/MAX(SUM(K28:K29),1),2) -> 0
A30: № | B30: Объект закупки - МНН/Торговое наименование | C30: Форма выпуска | D30: Дозировка / Кол-во акт вещества | E30: Контракты ЕИС | G30: Ед изм в источнике | H30: Кол-во в контракте | I30: Цена в контракте, руб | J30: Ед изм для расчёта | K30: Кол-во ед изм для расчёта | L30: Цена за единицу, без НДС и опт.надбавки, руб. | M30: Средневзвешенная цена за единицу товара без учета НДС и опт.надбавки, руб
E31: № Контракта ЕИС | F31: Дата подписания контракта
A32: 1 | B32: 2 | C32: 3 | D32: 4 | E32: 5 | F32: 6 | G32: 7 | H32: 8 | I32: 9 | J32: 10 | K32: 11 | L32: 12 | M32: 13
A33: 1 | B33: АМИТРИПТИЛИН | D33: 10 мг/мл 2 | F33: 27 ноября 2023 | H33: 15 | J33: МЛ | K33: 15 | L33: 4.13 | M33: =ROUNDDOWN(((SUMPRODUCT(K33:K34,L33:L34)))/MAX(SUM(K33:K34),1),2) -> 4.13
A35: № | B35: Объект закупки - МНН/Торговое наименование | C35: Форма выпуска | D35: Дозировка / Кол-во акт вещества | E35: Контракты ЕИС | G35: Ед изм в источнике | H35: Кол-во в контракте | I35: Цена в контракте, руб | J35: Ед изм для расчёта | K35: Кол-во ед изм для расчёта | L35: Цена за единицу, без НДС и опт.надбавки, руб. | M35: Средневзвешенная цена за единицу товара без учета НДС и опт.надбавки, руб
E36: № Контракта ЕИС | F36: Дата подписания контракта
A37: 1 | B37: 2 | C37: 3 | D37: 4 | E37: 5 | F37: 6 | G37: 7 | H37: 8 | I37: 9 | J37: 10 | K37: 11 | L37: 12 | M37: 13
A38: 1 | K38: 0 | L38: 0 | M38: =ROUNDDOWN(((SUMPRODUCT(K38:K39,L38:L39)))/MAX(SUM(K38:K39),1),2) -> 0
A40: № | B40: Объект закупки - МНН/Торговое наименование | C40: Форма выпуска | D40: Дозировка / Кол-во акт вещества | E40: Контракты ЕИС | G40: Ед изм в источнике | H40: Кол-во в контракте | I40: Цена в контракте, руб | J40: Ед изм для расчёта | K40: Кол-во ед изм для расчёта | L40: Цена за единицу, без НДС и опт.надбавки, руб. | M40: Средневзвешенная цена за единицу товара без учета НДС и опт.надбавки, руб
E41: № Контракта ЕИС | F41: Дата подписания контракта
A42: 1 | B42: 2 | C42: 3 | D42: 4 | E42: 5 | F42: 6 | G42: 7 | H42: 8 | I42: 9 | J42: 10 | K42: 11 | L42: 12 | M42: 13
A43: 1 | K43: 0 | L43: 0 | M43: =ROUNDDOWN(((SUMPRODUCT(K43:K44,L43:L44)))/MAX(SUM(K43:K44),1),2) -> 0
A45: № | B45: Объект закупки - МНН/Торговое наименование | C45: Форма выпуска | D45: Дозировка / Кол-во акт вещества | E45: Контракты ЕИС | G45: Ед изм в источнике | H45: Кол-во в контракте | I45: Цена в контракте, руб | J45: Ед изм для расчёта | K45: Кол-во ед изм для расчёта | L45: Цена за единицу, без НДС и опт.надбавки, руб. | M45: Средневзвешенная цена за единицу товара без учета НДС и опт.надбавки, руб
E46: № Контракта ЕИС | F46: Дата подписания контракта
A47: 1 | B47: 2 | C47: 3 | D47: 4 | E47: 5 | F47: 6 | G47: 7 | H47: 8 | I47: 9 | J47: 10 | K47: 11 | L47: 12 | M47: 13
A48: 1 | K48: 0 | L48: 0 | M48: =ROUNDDOWN(((SUMPRODUCT(K48:K49,L48:L49)))/MAX(SUM(K48:K49),1),2) -> 0

Sheet Анализ рынка
A1: Сформировано в системе СТАР - универсальном сервисе для работы с закупками РФ
A3: Метод "Анализ рынка" расчёта НМЦК | D3: В соответствии с ч.3 приказа Министерства здравоохранения РФ от 19.12.2019 N 1064н
A5: № | B5: Объект закупки - МНН/Торговое наименование | C5: Форма выпуска | D5: Дозировка / Кол-во акт вещества | E5: Контракты ЕИС | G5: Ед изм в источнике | H5: Кол-во в контракте | I5: Цена в контракте, руб | J5: Ед изм для расчёта | K5: Кол-во ед изм для расчёта | L5: Цена для расчёта, руб
E6: № Контракта ЕИС | F6: Дата подписания контракта
A7: 1 | B7: 2 | C7: 3 | D7: 4 | E7: 5 | F7: 6 | G7: 7 | H7: 7 | I7: 8 | J7: 9 | K7: 10 | L7: 11
A8: 1 | B8: ВЕНЛАФАКСИН | D8: 75 мг | E8: КП № | G8: ШТ | H8: 32 | J8: ШТ | K8: 896 | L8: 50.79
A9: 2 | B9: ВЕНЛАФАКСИН | D9: 75 мг | E9: КП № | G9: ШТ | H9: 32 | J9: ШТ | K9: 896 | L9: 50.77
A10: 3 | B10: ВЕНЛАФАКСИН | D10: 75 мг | E10: КП № | G10: ШТ | H10: 32 | J10: ШТ | K10: 896 | L10: 50.75
A11: Мин. цена за ед. изм., руб. | L11: =ROUNDDOWN(MIN(L8,L9,L10),2) -> 50.75
A12: Ср. ар. цена за ед. изм., руб. <ц> | L12: =ROUNDDOWN(AVERAGE(L8,L9,L10),2) -> 50.77
A13: Ср. кв. откл. | L13: =ROUNDDOWN(STDEV(L8,L9,L10),2) -> 0.01
A14: Коэфф. Вариации | L14: =ROUNDDOWN(L13/L12*100,2) -> 0.01
A15: Цена за ед. изм. (шт) с округлением (руб.) | L15: =L11 -> 50.75
A17: № | B17: Объект закупки - МНН/Торговое наименование | C17: Форма выпуска | D17: Дозировка / Кол-во акт вещества | E17: Контракты ЕИС | G17: Ед изм в источнике | H17: Кол-во в контракте | I17: Цена в контракте, руб | J17: Ед изм для расчёта | K17: Кол-во ед изм для расчёта | L17: Цена для расчёта, руб
E18: № Контракта ЕИС | F18: Дата подписания контракта
A19: 1 | B19: 2 | C19: 3 | D19: 4 | E19: 5 | F19: 6 | G19: 7 | H19: 7 | I19: 8 | J19: 9 | K19: 10 | L19: 11
A20: 1 | B20: ВЕНЛАФАКСИН | D20: 37.5 мг | E20: КП № | G20: ШТ | H20: 30 | J20: ШТ | K20: 900 | L20: 29.58
A21: 2 | B21: ВЕНЛАФАКСИН | D21: 37.5 мг | E21: КП № | G21: ШТ | H21: 30 | J21: ШТ | K21: 900 | L21: 29.56
A22: 3 | B22: ВЕНЛАФАКСИН | D22: 37.5 мг | E22: КП № | G22: ШТ | H22: 30 | J22: ШТ | K22: 900 | L22: 29.55
A23: Мин. цена за ед. изм., руб. | L23: =ROUNDDOWN(MIN(L20,L21,L22),2) -> 29.55
A24: Ср. ар. цена за ед. изм., руб. <ц> | L24: =ROUNDDOWN(AVERAGE(L20,L21,L22),2) -> 29.56
A25: Ср. кв. откл. | L25: =ROUNDDOWN(STDEV(L20,L21,L22),2) -> 0.01
A26: Коэфф. Вариации | L26: =ROUNDDOWN(L25/L24*100,2) -> 0.03
A27: Цена за ед. изм. (шт) с округлением (руб.) | L27: =L23 -> 29.55
A29: № | B29: Объект закупки - МНН/Торговое наименование | C29: Форма выпуска | D29: Дозировка / Кол-во акт вещества | E29: Контракты ЕИС | G29: Ед изм в источнике | H29: Кол-во в контракте | I29: Цена в контракте, руб | J29: Ед изм для расчёта | K29: Кол-во ед изм для расчёта | L29: Цена для расчёта, руб
E30: № Контракта ЕИС | F30: Дата подписания контракта
A31: 1 | B31: 2 | C31: 3 | D31: 4 | E31: 5 | F31: 6 | G31: 7 | H31: 7 | I31: 8 | J31: 9 | K31: 10 | L31: 11
A32: 1 | B32: ГАЛОПЕРИДОЛ | D32: 5 мг/мл | E32: КП № | G32: МЛ | H32: 10 | J32: МЛ | K32: 100 | L32: 14.52
A33: 2 | B33: ГАЛОПЕРИДОЛ | D33: 5 мг/мл | E33: КП № | G33: МЛ | H33: 10 | J33: МЛ | K33: 100 | L33: 14.52
A34: 3 | B34: ГАЛОПЕРИДОЛ | D34: 5 мг/мл | E34: КП № | G34: МЛ | H34: 10 | J34: МЛ | K34: 100 | L34: 14.52
A35: Мин. цена за ед. изм., руб. | L35: =ROUNDDOWN(MIN(L32,L33,L34),2) -> 14.52
A36: Ср. ар. цена за ед. изм., руб. <ц> | L36: =ROUNDDOWN(AVERAGE(L32,L33,L34),2) -> 14.52
A37: Ср. кв. откл. | L37: =ROUNDDOWN(STDEV(L32,L33,L34),2) -> 0
A38: Коэфф. Вариации | L38: =ROUNDDOWN(L37/L36*100,2) -> 0
A39: Цена за ед. изм. (шт) с округлением (руб.) | L39: =L35 -> 14.52
A41: № | B41: Объект закупки - МНН/Торговое наименование | C41: Форма выпуска | D41: Дозировка / Кол-во акт вещества | E41: Контракты ЕИС | G41: Ед изм в источнике | H41: Кол-во в контракте | I41: Цена в контракте, руб | J41: Ед изм для расчёта | K41: Кол-во ед изм для расчёта | L41: Цена для расчёта, руб
E42: № Контракта ЕИС | F42: Дата подписания контракта
A43: 1 | B43: 2 | C43: 3 | D43: 4 | E43: 5 | F43: 6 | G43: 7 | H43: 7 | I43: 8 | J43: 9 | K43: 10 | L43: 11
A44: 1 | B44: КВЕТИАПИН | D44: 25 мг | E44: КП № | G44: ШТ | H44: 10 | J44: ШТ | K44: 600 | L44: 11.96
A45: 2 | B45: КВЕТИАПИН | D45: 25 мг | E45: КП № | G45: ШТ | H45: 10 | J45: ШТ | K45: 600 | L45: 11.96
...

Sheet Реестр пред. отп. цен на ЖНВЛП
A1: Сформировано в системе СТАР - универсальном сервисе для работы с закупками РФ
A3: "Реестр предельных отпускных цен на ЖНВЛП" расчёта НМЦК | F3: В соответствии с ч.4 приказа Министерства здравоохранения РФ от 19.12.2019 N 1064н
A5: Расчёт по препарату: | D5: ВЕНЛАФАКСИН 75 мг
A6: № | B6: МНН | C6: Торговое наименование лекарственного препарата | D6: Лекарственная форма, дозировка, упаковка (полная) | E6: Сведения о форме выпуска из ГРЛС | I6: Владелец РУ/производитель/упаковщик/Выпускающий контроль | J6: Предельная цена руб. без НДС | K6: Цена указана для первич. упаковки | L6: № РУ | M6: Дата регистрации цены (№ решения) | N6: Штрих-код (EAN13) | O6: АТХ | P6: Ед.изм.для расчета | Q6: Цена за ед для расчёта, руб
E7: Кол-во лек. форм в первичной упаковке | G7: Кол-во первичных упак. в потреб-х упак. | H7: Кол-во потреб-х ед. в потреб-ой упаковке
A8: 1 | B8: 2 | C8: 3 | D8: 4 | E8: 5 | G8: 6 | H8: 7 | I8: 8 | J8: 10 | K8: 11 | L8: 12 | M8: 13 | N8: 14 | O8: 15 | P8: 16 | Q8: 17
A9: 1 | Q9: 0
A10: Максимальное значение за единицу измерения, руб | Q10: =ROUNDDOWN(MAX(Q9),2) -> 0
A11: Минимальное значение за единицу измерения, руб | Q11: =ROUNDDOWN(MIN(Q9),2) -> 0
A13: Расчёт по препарату: | D13: ВЕНЛАФАКСИН 37.5 мг
A14: № | B14: МНН | C14: Торговое наименование лекарственного препарата | D14: Лекарственная форма, дозировка, упаковка (полная) | E14: Сведения о форме выпуска из ГРЛС | I14: Владелец РУ/производитель/упаковщик/Выпускающий контроль | J14: Предельная цена руб. без НДС | K14: Цена указана для первич. упаковки | L14: № РУ | M14: Дата регистрации цены (№ решения) | N14: Штрих-код (EAN13) | O14: АТХ | P14: Ед.изм.для расчета | Q14: Цена за ед для расчёта, руб
E15: Кол-во лек. форм в первичной упаковке | G15: Кол-во первичных упак. в потреб-х упак. | H15: Кол-во потреб-х ед. в потреб-ой упаковке
A16: 1 | B16: 2 | C16: 3 | D16: 4 | E16: 5 | G16: 6 | H16: 7 | I16: 8 | J16: 10 | K16: 11 | L16: 12 | M16: 13 | N16: 14 | O16: 15 | P16: 16 | Q16: 17
A17: 1 | Q17: 0
A18: Максимальное значение за единицу измерения, руб | Q18: =ROUNDDOWN(MAX(Q17),2) -> 0
A19: Минимальное значение за единицу измерения, руб | Q19: =ROUNDDOWN(MIN(Q17),2) -> 0
A21: Расчёт по препарату: | D21: ГАЛОПЕРИДОЛ 5 мг/мл
A22: № | B22: МНН | C22: Торговое наименование лекарственного препарата | D22: Лекарственная форма, дозировка, упаковка (полная) | E22: Сведения о форме выпуска из ГРЛС | I22: Владелец РУ/производитель/упаковщик/Выпускающий контроль | J22: Предельная цена руб. без НДС | K22: Цена указана для первич. упаковки | L22: № РУ | M22: Дата регистрации цены (№ решения) | N22: Штрих-код (EAN13) | O22: АТХ | P22: Ед.изм.для расчета | Q22: Цена за ед для расчёта, руб
E23: Кол-во лек. форм в первичной упаковке | G23: Кол-во первичных упак. в потреб-х упак. | H23: Кол-во потреб-х ед. в потреб-ой упаковке
A24: 1 | B24: 2 | C24: 3 | D24: 4 | E24: 5 | G24: 6 | H24: 7 | I24: 8 | J24: 10 | K24: 11 | L24: 12 | M24: 13 | N24: 14 | O24: 15 | P24: 16 | Q24: 17
A25: 1 | B25: ГАЛОПЕРИДОЛ | C25: Галоперидол | D25: раствор для внутривенного и внутримышечного введения, 5.00 мг/мл | E25: 1 | G25: 5 | H25: 5 | I25: Вл.Общество с ограниченной ответственностью "Атолл" (ООО "Атолл"), Россия (6345021323); Вып.к.Перв.Уп.Втор.Уп.Пр.Общество с ограниченной ответственность "Озон" (ООО "Озон"), Россия; | J25: 62.1 | L25: ЛП-002603 | M25: 03.08.2020 0:00:00 | P25: МЛ | Q25: 12.42
A26: 2 | B26: ГАЛОПЕРИДОЛ | C26: Галоперидол | D26: раствор для внутривенного и внутримышечного введения, 5.00 мг/мл | E26: 1 | G26: 10 | H26: 10 | I26: Вл.Общество с ограниченной ответственностью "Атолл" (ООО "Атолл"), Россия (6345021323); Вып.к.Перв.Уп.Втор.Уп.Пр.Общество с ограниченной ответственностью "Озон" (ООО "Озон"), Россия (6345002063); | J26: 133.77 | L26: ЛП-№(002359)-(РГ-RU) | M26: 24.04.2024 0:00:00 | P26: МЛ | Q26: 13.37
A27: 3 | B27: ГАЛОПЕРИДОЛ | C27: Галоперидол | D27: раствор для внутривенного и внутримышечного введения, 5.00 мг/мл | E27: 1 | G27: 10 | H27: 10 | I27: Вл.Общество с ограниченной ответственностью "Атолл" (ООО "Атолл"), Россия (6345021323); Вып.к.Перв.Уп.Втор.Уп.Пр.Общество с ограниченной ответственность "Озон" (ООО "Озон"), Россия; | J27: 124.2 | L27: ЛП-002603 | M27: 03.08.2020 0:00:00 | P27: МЛ | Q27: 12.42
A28: 4 | B28: ГАЛОПЕРИДОЛ | C28: Галоперидол Велфарм | D28: раствор для внутривенного и внутримышечного введения, 5.00 мг/мл | E28: 1 | G28: 10 | H28: 10 | I28: Вл.Общество с ограниченной ответственностью "Велфарм" (ООО "Велфарм"), Россия (7733691513); Вып.к.Перв.Уп.Втор.Уп.Пр.Общество с ограниченной ответственностью "Велфарм" (ООО "Велфарм"), Россия (7733691513); | J28: 145.22 | L28: ЛП-№(002657)-(РГ-RU) | M28: 27.07.2023 0:00:00 | P28: МЛ | Q28: 14.52
A29: 5 | B29: ГАЛОПЕРИДОЛ | C29: Галоперидол-Ферейн® | D29: раствор для внутривенного и внутримышечного введения, 5.00 мг/мл | E29: 1 | G29: 10 | H29: 10 | I29: Вл.Вып.к.Перв.Уп.Втор.Уп.Пр.Акционерное общество "Брынцалов-А" (АО "Брынцалов-А"), Россия (0411032048); | J29: 66.53 | L29: Р N002933/01 | M29: 24.04.2024 0:00:00 | P29: МЛ | Q29: 6.65
A30: 6 | B30: ГАЛОПЕРИДОЛ | C30: Галоперидол Велфарм | D30: раствор для внутривенного и внутримышечного введения, 5.00 мг/мл | E30: 2 | G30: 10 | H30: 20 | I30: Вл.Общество с ограниченной ответственностью "Велфарм" (ООО "Велфарм"), Россия (7733691513); Вып.к.Перв.Уп.Втор.Уп.Пр.Общество с ограниченной ответственностью "Велфарм" (ООО "Велфарм"), Россия (7733691513); | J30: 290.44 | L30: ЛП-№(002657)-(РГ-RU) | M30: 27.07.2023 0:00:00 | P30: МЛ | Q30: 14.52
A31: 7 | B31: ГАЛОПЕРИДОЛ | C31: Галоперидол Велфарм | D31: раствор для внутривенного и внутримышечного введения, 5.00 мг/мл | E31: 2 | G31: 5 | H31: 10 | I31: Вл.Общество с ограниченной ответственностью "Велфарм" (ООО "Велфарм"), Россия (7733691513); Вып.к.Перв.Уп.Втор.Уп.Пр.Общество с ограниченной ответственностью "Велфарм" (ООО "Велфарм"), Россия (7733691513); | J31: 145.22 | L31: ЛП-№(002657)-(РГ-RU) | M31: 27.07.2023 0:00:00 | P31: МЛ | Q31: 14.52
A32: 8 | B32: ГАЛОПЕРИДОЛ | C32: Галоперидол Велфарм | D32: раствор для внутривенного и внутримышечного введения, 5.00 мг/мл | E32: 1 | G32: 10 | H32: 10 | I32: Вл.Общество с ограниченной ответственностью "Велфарм" (ООО "Велфарм"), Россия (7733691513); Вып.к.Перв.Уп.Втор.Уп.Пр.Общество с ограниченной ответственностью "Велфарм" (ООО "Велфарм"), Россия; | J32: 145.22 | L32: ЛП-005104 | M32: 03.08.2020 0:00:00 | P32: МЛ | Q32: 14.52
A33: 9 | B33: ГАЛОПЕРИДОЛ | C33: Галоперидол Велфарм | D33: раствор для внутривенного и внутримышечного введения, 5.00 мг/мл | E33: 2 | G33: 5 | H33: 10 | I33: Вл.Общество с ограниченной ответственностью "Велфарм" (ООО "Велфарм"), Россия (7733691513); Вып.к.Перв.Уп.Втор.Уп.Пр.Общество с ограниченной ответственностью "Велфарм" (ООО "Велфарм"), Россия; | J33: 145.22 | L33: ЛП-005104 | M33: 03.08.2020 0:00:00 | P33: МЛ | Q33: 14.52
A34: 10 | B34: ГАЛОПЕРИДОЛ | C34: Галоперидол Велфарм | D34: раствор для внутривенного и внутримышечного введения, 5.00 мг/мл | E34: 1 | G34: 5 | H34: 5 | I34: Вл.Общество с ограниченной ответственностью "Велфарм" (ООО "Велфарм"), Россия (7733691513); Вып.к.Перв.Уп.Втор.Уп.Пр.Общество с ограниченной ответственностью "Велфарм" (ООО "Велфарм"), Россия; | J34: 72.61 | L34: ЛП-005104 | M34: 03.08.2020 0:00:00 | P34: МЛ | Q34: 14.52
A35: 11 | B35: ГАЛОПЕРИДОЛ | C35: Галоперидол Велфарм | D35: раствор для внутривенного и внутримышечного введения, 5.00 мг/мл | E35: 2 | G35: 10 | H35: 20 | I35: Вл.Общество с ограниченной ответственностью "Велфарм" (ООО "Велфарм"), Россия (7733691513); Вып.к.Перв.Уп.Втор.Уп.Пр.Общество с ограниченной ответственностью "Велфарм" (ООО "Велфарм"), Россия; | J35: 290.44 | L35: ЛП-005104 | M35: 03.08.2020 0:00:00 | P35: МЛ | Q35: 14.52
A36: 12 | B36: ГАЛОПЕРИДОЛ | C36: Галоперидол | D36: раствор для внутривенного и внутримышечного введения, 5.00 мг/мл | E36: 1 | G36: 5 | H36: 5 | I36: Вл.Общество с ограниченной ответственностью "Атолл" (ООО "Атолл"), Россия (6345021323); Вып.к.Перв.Уп.Втор.Уп.Пр.Общество с ограниченной ответственностью "Озон" (ООО "Озон"), Россия (6345002063); | J36: 71.26 | L36: ЛП-№(002359)-(РГ-RU) | M36: 24.04.2024 0:00:00 | P36: МЛ | Q36: 14.25
A37: 13 | B37: ГАЛОПЕРИДОЛ | C37: Галоперидол Велфарм | D37: раствор для внутривенного и внутримышечного введения, 5.00 мг/мл | E37: 1 | G37: 5 | H37: 5 | I37: Вл.Общество с ограниченной ответственностью "Велфарм" (ООО "Велфарм"), Россия (7733691513); Вып.к.Перв.Уп.Втор.Уп.Пр.Общество с ограниченной ответственностью "Велфарм" (ООО "Велфарм"), Россия (7733691513); | J37: 72.61 | L37: ЛП-№(002657)-(РГ-RU) | M37: 27.07.2023 0:00:00 | P37: МЛ | Q37: 14.52
A38: Максимальное значение за единицу измерения, руб | Q38: =ROUNDDOWN(MAX(Q25:Q37),2) -> 14.52
A39: Минимальное значение за единицу измерения, руб | Q39: =ROUNDDOWN(MIN(Q25:Q37),2) -> 6.65
A41: Расчёт по препарату: | D41: КВЕТИАПИН 25 мг
A42: № | B42: МНН | C42: Торговое наименование лекарственного препарата | D42: Лекарственная форма, дозировка, упаковка (полная) | E42: Сведения о форме выпуска из ГРЛС | I42: Владелец РУ/производитель/упаковщик/Выпускающий контроль | J42: Предельная цена руб. без НДС | K42: Цена указана для первич. упаковки | L42: № РУ | M42: Дата регистрации цены (№ решения) | N42: Штрих-код (EAN13) | O42: АТХ | P42: Ед.изм.для расчета | Q42: Цена за ед для расчёта, руб
E43: Кол-во лек. форм в первичной упаковке | G43: Кол-во первичных упак. в потреб-х упак. | H43: Кол-во потреб-х ед. в потреб-ой упаковке
A44: 1 | B44: 2 | C44: 3 | D44: 4 | E44: 5 | G44: 6 | H44: 7 | I44: 8 | J44: 10 | K44: 11 | L44: 12 | M44: 13 | N44: 14 | O44: 15 | P44: 16 | Q44: 17
A45: 1 | B45: КВЕТИАПИН | C45: Кветиапин | D45: таблетки покрытые пленочной оболочкой, 25.00 мг | E45: 1 | G45: 30 | H45: 30 | I45: Вл.Общество с ограниченной ответственностью "Технология лекарств" (ООО "Технология лекарств"), Россия (5047082270); Вып.к.Перв.Уп.Втор.Уп.Пр.АО "Р-Фарм", Россия (7726311464); | J45: 319.95 | L45: ЛСР-008008/10 | M45: 07.09.2021 0:00:00 | P45: ШТ | Q45: 10.66
...

Sheet Метод референтных цен
A1: Сформировано в системе СТАР - универсальном сервисе для работы с закупками РФ
A3: Метод "Референтных цен" расчёта НМЦК | B3: * Расчет референтных цен не применяются до размещения соответствующих данных в ЕИС (согласно п.6 Порядка Приказа 1064н)
