Workbook
Name _GoBack1: НМЦК!$B$37
Name _GoBack1: 'НМЦК восстановление'!$B$42
Name _GoBack1: 'НМЦК заправка'!$B$42
Name _GoBack1: 'НМЦК профилактика'!$B$42
Name _GoBack1: 'НМЦК ремонт'!$B$36
Name _GoBack2: НМЦК!$B$38
Name _GoBack2: 'НМЦК восстановление'!$B$43
Name _GoBack2: 'НМЦК заправка'!$B$43
Name _GoBack2: 'НМЦК профилактика'!$B$43
Name _GoBack2: 'НМЦК ремонт'!$B$37

Sheet НМЦК
A3: Обоснование начальной (максимальной) цены контракта, цены контракта, заключаемого с единственным поставщиком (подрядчиком, исполнителем)
A5: Характеристики объекта закупки: | C5: Оказание услуг по комплексному техническому обслуживанию оргтехники в 2025 году
A7: Используемый метод определения НМЦК с обоснованием: | C7: Метод сопоставимых рыночных цен (анализа рынка) В соответствии с п. 5.2 Положения о закупке товаров, работ, услуг Санкт-Петербургского государственного бюджетного учреждения «Психоневрологический диспансер № 10», утвержденного Распоряжением администрации Адмиралтейского района №3412 от 29.11.2024 г., применен метод обоснования начальной (максимальной) цены: метод рыночных цен (анализ рынка).
A9: Расчёт НМЦК(ЦК)
A13: № | B13: Наименование товара, услуги (работы) | D13: ОКПД2/КТРУ | E13: Единица измерения | F13: Кол-во | G13: Источники цены (руб.) | K13: Среднее квадратичное отклонение | L13: Коэффициент вариации (%) | M13: Средняя цена (руб.) | N13: Минимальная цена (руб.) * | O13: НМЦК(ЦК) (руб.)
G14: цена источника 1 (вх. № 503 от 04.07.2025) | H14: цена источника 2 (вх. № 504 от 04.07.2025) | I14: цена источника 3 (вх. № 505 от 04.07.2025) | J14: Количество источников ценовой информации
A15: 1 | B15: Оказание услуг по заправке картриджей | D15: 95.11.10.130 | E15: УСЛ.ЕД. | F15: 1 | G15: =SUMPRODUCT('НМЦК заправка'!$F$15:$F$23,'НМЦК заправка'!G15:G23) -> 89730 | H15: =SUMPRODUCT('НМЦК заправка'!$F$15:$F$23,'НМЦК заправка'!H15:H23) -> 88959 | I15: =SUMPRODUCT('НМЦК заправка'!$F$15:$F$23,'НМЦК заправка'!I15:I23) -> 87600 | J15: 3 | K15: =SQRT(((SUM((POWER(G15-M15,2)),(POWER(H15-M15,2)),(POWER(I15-M15,2)))/(J15-1)))) -> 1078.4419 | L15: =(K15*100)/M15 -> 1.2149679 | M15: =(G15+H15+I15)/3 -> 88763 | N15: ='НМЦК заправка'!J26 -> 87532 | O15: =F15*N15 -> 87532
A16: 2 | B16: Оказание услуг по восстановлению картриджей | D16: 95.11.10.130 | E16: УСЛ.ЕД. | F16: 1 | G16: =SUMPRODUCT('НМЦК восстановление'!$F$15:$F$23,'НМЦК восстановление'!G15:G23) -> 38170 | H16: =SUMPRODUCT('НМЦК восстановление'!$F$15:$F$23,'НМЦК восстановление'!H15:H23) -> 37450 | I16: =SUMPRODUCT('НМЦК восстановление'!$F$15:$F$23,'НМЦК восстановление'!I15:I23) -> 37952 | J16: 3 | K16: =SQRT(((SUM((POWER(G16-M16,2)),(POWER(H16-M16,2)),(POWER(I16-M16,2)))/(J16-1)))) -> 369.21719 | L16: =(K16*100)/M16 -> 0.97528578 | M16: =(G16+H16+I16)/3 -> 37857.333 | N16: ='НМЦК восстановление'!J26 -> 37320 | O16: =F16*N16 -> 37320
A17: 3 | B17: Оказание услуг по ремонту оргтехники | D17: 95.11.10.190 | E17: УСЛ.ЕД. | F17: 1 | G17: =SUMPRODUCT('НМЦК ремонт'!$F$15:$F$17,'НМЦК ремонт'!G15:G17) -> 40069 | H17: =SUMPRODUCT('НМЦК ремонт'!$F$15:$F$17,'НМЦК ремонт'!H15:H17) -> 39909 | I17: =SUMPRODUCT('НМЦК ремонт'!$F$15:$F$17,'НМЦК ремонт'!I15:I17) -> 39749 | J17: 3 | K17: =SQRT(((SUM((POWER(G17-M17,2)),(POWER(H17-M17,2)),(POWER(I17-M17,2)))/(J17-1)))) -> 160 | L17: =(K17*100)/M17 -> 0.40091207 | M17: =(G17+H17+I17)/3 -> 39909 | N17: ='НМЦК ремонт'!J20 -> 39749 | O17: =F17*N17 -> 39749
A18: 4 | B18: Оказание услуг по диагностике/профилактике оргтехники | D18: 95.11.10.190 | E18: УСЛ.ЕД. | F18: 1 | G18: =SUMPRODUCT('НМЦК профилактика'!$F$15:$F$23,'НМЦК профилактика'!G15:G23) -> 33770 | H18: =SUMPRODUCT('НМЦК профилактика'!$F$15:$F$23,'НМЦК профилактика'!H15:H23) -> 33370 | I18: =SUMPRODUCT('НМЦК профилактика'!$F$15:$F$23,'НМЦК профилактика'!I15:I23) -> 33256 | J18: 3 | K18: =SQRT(((SUM((POWER(G18-M18,2)),(POWER(H18-M18,2)),(POWER(I18-M18,2)))/(J18-1)))) -> 269.93579 | L18: =(K18*100)/M18 -> 0.8066132 | M18: =(G18+H18+I18)/3 -> 33465.333 | N18: ='НМЦК профилактика'!J26 -> 33004 | O18: =F18*N18 -> 33004
F19: Итого: | G19: =SUM(G15:G18) -> 201739 | H19: =SUM(H15:H18) -> 199688 | I19: =SUM(I15:I18) -> 198557 | N19: Итого: | O19: =SUM(O15:O18) -> 197605 | P19: =J21-'НМЦК заправка'!J26-'НМЦК восстановление'!J26-'НМЦК ремонт'!J20-'НМЦК профилактика'!J26 -> 0
A21: На основании проведенного анализа рынка и расчетов, НМЦК(ЦК) составляет: | J21: =O19 -> 197605 | K21: рублей
A22: * Основываясь на принципе эффективности использования бюджетных средств (статья 34 Бюджетного кодекса Российской Федерации от 31.07.1998 N 145-ФЗ) для расчета цены контракта выбраны минимальные ценовые предложения.
A23: Дата подготовки обоснования НМЦК: 23.07.2025
A25: Работник контрактной службы/контрактный управляющий:
A26: Экономист
A27: (должность)
A28: /Платонова Н.В.
A29: (подпись/расшифровка подписи)

Sheet НМЦК заправка
A3: Обоснование начальной (максимальной) цены контракта, цены контракта, заключаемого с единственным поставщиком (подрядчиком, исполнителем)
A5: Характеристики объекта закупки: | C5: Оказание услуг по заправке картриджей
A7: Используемый метод определения НМЦК с обоснованием: | C7: Метод сопоставимых рыночных цен (анализа рынка) В соответствии с п. 5.2 Положения о закупке товаров, работ, услуг Санкт-Петербургского государственного бюджетного учреждения «Психоневрологический диспансер № 10», утвержденного Распоряжением администрации Адмиралтейского района №3412 от 29.11.2024 г., применен метод обоснования начальной (максимальной) цены: метод рыночных цен (анализ рынка).
A9: Расчёт НМЦК(ЦК)
A13: № | B13: Наименование товара, услуги (работы) | C13: Модель | D13: ОКПД2/КТРУ | E13: Единица измерения | F13: Кол-во | G13: Источники цены (руб.) | K13: Среднее квадратичное отклонение | L13: Коэффициент вариации (%) | M13: Средняя цена (руб.) | N13: Минимальная цена (руб.) * | O13: НМЦК(ЦК) (руб.)
G14: цена источника 1 (вх. № 503 от 04.07.2025) | H14: цена источника 2 (вх. № 504 от 04.07.2025) | I14: цена источника 3 (вх. № 505 от 04.07.2025) | J14: Количество источников ценовой информации
A15: 1 | B15: МФУ Pantum BM5100ADN | C15: TL-5120X/DL-5120 | D15: 95.11.10.130 | E15: ШТ | F15: 17 | G15: 1120 | H15: 1100 | I15: 1104 | J15: 3 | K15: =SQRT(((SUM((POWER(G15-M15,2)),(POWER(H15-M15,2)),(POWER(I15-M15,2)))/(J15-1)))) -> 10.583005 | L15: =(K15*100)/M15 -> 0.95514488 | M15: =(G15+H15+I15)/3 -> 1108 | N15: =MIN(G15:I15) -> 1100 | O15: =F15*N15 -> 18700
A16: 2 | B16: Принтер XEROX Phaser 3250 | C16: 106R01374 | D16: 95.11.10.130 | E16: ШТ | F16: 13 | G16: 730 | H16: 750 | I16: 720 | J16: 3 | K16: =SQRT(((SUM((POWER(G16-M16,2)),(POWER(H16-M16,2)),(POWER(I16-M16,2)))/(J16-1)))) -> 15.275252 | L16: =(K16*100)/M16 -> 2.082989 | M16: =(G16+H16+I16)/3 -> 733.33333 | N16: =MIN(G16:I16) -> 720 | O16: =F16*N16 -> 9360
A17: 3 | B17: Принтер Xerox Phaser 3260 | C17: 106R02778/101R00474 | D17: 95.11.10.130 | E17: ШТ | F17: 20 | G17: 800 | H17: 790 | I17: 760 | J17: 3 | K17: =SQRT(((SUM((POWER(G17-M17,2)),(POWER(H17-M17,2)),(POWER(I17-M17,2)))/(J17-1)))) -> 20.81666 | L17: =(K17*100)/M17 -> 2.657446 | M17: =(G17+H17+I17)/3 -> 783.33333 | N17: =MIN(G17:I17) -> 760 | O17: =F17*N17 -> 15200
A18: 4 | B18: Принтер Xerox phaser 6600DN | C18: 106R02236, 106R02235, 106R02233, 106R02234/108R01121 | D18: 95.11.10.130 | E18: ШТ | F18: 16 | G18: 1110 | H18: 1099 | I18: 1096 | J18: 3 | K18: =SQRT(((SUM((POWER(G18-M18,2)),(POWER(H18-M18,2)),(POWER(I18-M18,2)))/(J18-1)))) -> 7.3711148 | L18: =(K18*100)/M18 -> 0.66908758 | M18: =(G18+H18+I18)/3 -> 1101.6667 | N18: =MIN(G18:I18) -> 1096 | O18: =F18*N18 -> 17536
A19: 5 | B19: МФУ XEROX WorkCentre 3335 | C19: 106R03623/101R00555 | D19: 95.11.10.130 | E19: ШТ | F19: 10 | G19: 1750 | H19: 1740 | I19: 1704 | J19: 3 | K19: =SQRT(((SUM((POWER(G19-M19,2)),(POWER(H19-M19,2)),(POWER(I19-M19,2)))/(J19-1)))) -> 24.193663 | L19: =(K19*100)/M19 -> 1.3974006 | M19: =(G19+H19+I19)/3 -> 1731.3333 | N19: =MIN(G19:I19) -> 1704 | O19: =F19*N19 -> 17040
A20: 6 | B20: МФУ CANON i-SENSYS MF269dw | C20: 051H/051 | D20: 95.11.10.130 | E20: ШТ | F20: 5 | G20: 890 | H20: 860 | I20: 856 | J20: 3 | K20: =SQRT(((SUM((POWER(G20-M20,2)),(POWER(H20-M20,2)),(POWER(I20-M20,2)))/(J20-1)))) -> 18.583146 | L20: =(K20*100)/M20 -> 2.1392724 | M20: =(G20+H20+I20)/3 -> 868.66667 | N20: =MIN(G20:I20) -> 856 | O20: =F20*N20 -> 4280
A21: 7 | B21: МФУ XeroxWorkcentre 5024 | C21: 006R01573 | D21: 95.11.10.130 | E21: ШТ | F21: 1 | G21: 990 | H21: 970 | I21: 968 | J21: 3 | K21: =SQRT(((SUM((POWER(G21-M21,2)),(POWER(H21-M21,2)),(POWER(I21-M21,2)))/(J21-1)))) -> 12.165525 | L21: =(K21*100)/M21 -> 1.2464677 | M21: =(G21+H21+I21)/3 -> 976 | N21: =MIN(G21:I21) -> 968 | O21: =F21*N21 -> 968
A22: 8 | B22: МФУ Xerox WC 5330 | C22: 006R01160 | D22: 95.11.10.130 | E22: ШТ | F22: 1 | G22: 2300 | H22: 2275 | I22: 2272 | J22: 3 | K22: =SQRT(((SUM((POWER(G22-M22,2)),(POWER(H22-M22,2)),(POWER(I22-M22,2)))/(J22-1)))) -> 15.373137 | L22: =(K22*100)/M22 -> 0.67357106 | M22: =(G22+H22+I22)/3 -> 2282.3333 | N22: =MIN(G22:I22) -> 2272 | O22: =F22*N22 -> 2272
A23: 9 | B23: МФУ Kyocera M2040DN | C23: ТК-1170 | D23: 95.11.10.130 | E23: ШТ | F23: 2 | G23: 1100 | H23: 1090 | I23: 1088 | J23: 3 | K23: =SQRT(((SUM((POWER(G23-M23,2)),(POWER(H23-M23,2)),(POWER(I23-M23,2)))/(J23-1)))) -> 6.4291005 | L23: =(K23*100)/M23 -> 0.58838626 | M23: =(G23+H23+I23)/3 -> 1092.6667 | N23: =MIN(G23:I23) -> 1088 | O23: =F23*N23 -> 2176
E24: Итого: | F24: =SUM(F15:F23) -> 85 | G24: =SUM(G15:G23) -> 10790 | H24: =SUM(H15:H23) -> 10674 | I24: =SUM(I15:I23) -> 10568 | N24: Итого: | O24: =SUM(O15:O23) -> 87532
A26: На основании проведенного анализа рынка и расчетов, НМЦК(ЦК) составляет: | J26: =O24 -> 87532 | K26: рублей
A27: * Основываясь на принципе эффективности использования бюджетных средств (статья 34 Бюджетного кодекса Российской Федерации от 31.07.1998 N 145-ФЗ) для расчета цены контракта выбраны минимальные ценовые предложения.
A28: Дата подготовки обоснования НМЦК: 23.07.2025
A30: Работник контрактной службы/контрактный управляющий:
A31: Экономист
A32: (должность)
A33: /Платонова Н.В.
A34: (подпись/расшифровка подписи)

Sheet НМЦК восстановление
A3: Обоснование начальной (максимальной) цены контракта, цены контракта, заключаемого с единственным поставщиком (подрядчиком, исполнителем)
A5: Характеристики объекта закупки: | C5: Оказание услуг по восстановлению картриджей
A7: Используемый метод определения НМЦК с обоснованием: | C7: Метод сопоставимых рыночных цен (анализа рынка) В соответствии с п. 5.2 Положения о закупке товаров, работ, услуг Санкт-Петербургского государственного бюджетного учреждения «Психоневрологический диспансер № 10», утвержденного Распоряжением администрации Адмиралтейского района №3412 от 29.11.2024 г., применен метод обоснования начальной (максимальной) цены: метод рыночных цен (анализ рынка).
A9: Расчёт НМЦК(ЦК)
A13: № | B13: Наименование товара, услуги (работы) | C13: Модель | D13: ОКПД2/КТРУ | E13: Единица измерения | F13: Кол-во | G13: Источники цены (руб.) | K13: Среднее квадратичное отклонение | L13: Коэффициент вариации (%) | M13: Средняя цена (руб.) | N13: Минимальная цена (руб.) * | O13: НМЦК(ЦК) (руб.)
G14: цена источника 1 (вх. № 503 от 04.07.2025) | H14: цена источника 2 (вх. № 504 от 04.07.2025) | I14: цена источника 3 (вх. № 505 от 04.07.2025) | J14: Количество источников ценовой информации
A15: 1 | B15: МФУ Pantum BM5100ADN | C15: TL-5120X/DL-5120 | D15: 95.11.10.130 | E15: ШТ | F15: 8 | G15: 2320 | H15: 2300 | I15: 2304 | J15: 3 | K15: =SQRT(((SUM((POWER(G15-M15,2)),(POWER(H15-M15,2)),(POWER(I15-M15,2)))/(J15-1)))) -> 10.583005 | L15: =(K15*100)/M15 -> 0.45853576 | M15: =(G15+H15+I15)/3 -> 2308 | N15: =MIN(G15:I15) -> 2300 | O15: =F15*N15 -> 18400
A16: 2 | B16: Принтер XEROX Phaser 3250 | C16: 106R01374 | D16: 95.11.10.130 | E16: ШТ | F16: 13 | G16: 350 | H16: 330 | I16: 320 | J16: 3 | K16: =SQRT(((SUM((POWER(G16-M16,2)),(POWER(H16-M16,2)),(POWER(I16-M16,2)))/(J16-1)))) -> 15.275252 | L16: =(K16*100)/M16 -> 4.5825757 | M16: =(G16+H16+I16)/3 -> 333.33333 | N16: =MIN(G16:I16) -> 320 | O16: =F16*N16 -> 4160
A17: 3 | B17: Принтер Xerox Phaser 3260 | C17: 106R02778/101R00474 | D17: 95.11.10.130 | E17: ШТ | F17: 6 | G17: 1130 | H17: 1100 | I17: 1200 | J17: 3 | K17: =SQRT(((SUM((POWER(G17-M17,2)),(POWER(H17-M17,2)),(POWER(I17-M17,2)))/(J17-1)))) -> 51.316014 | L17: =(K17*100)/M17 -> 4.4882811 | M17: =(G17+H17+I17)/3 -> 1143.3333 | N17: =MIN(G17:I17) -> 1100 | O17: =F17*N17 -> 6600
A18: 4 | B18: Принтер Xerox phaser 6600DN | C18: 106R02236, 106R02235, 106R02233, 106R02234/108R01121 | D18: 95.11.10.130 | E18: ШТ | F18: 0 | J18: 3 | K18: =SQRT(((SUM((POWER(G18-M18,2)),(POWER(H18-M18,2)),(POWER(I18-M18,2)))/(J18-1)))) -> 0 | M18: =(G18+H18+I18)/3 -> 0 | N18: =MIN(G18:I18) -> 0 | O18: =F18*N18 -> 0
A19: 5 | B19: МФУ XEROX WorkCentre 3335 | C19: 106R03623/101R00555 | D19: 95.11.10.130 | E19: ШТ | F19: 5 | G19: 1220 | H19: 1200 | I19: 1200 | J19: 3 | K19: =SQRT(((SUM((POWER(G19-M19,2)),(POWER(H19-M19,2)),(POWER(I19-M19,2)))/(J19-1)))) -> 11.547005 | L19: =(K19*100)/M19 -> 0.95693415 | M19: =(G19+H19+I19)/3 -> 1206.6667 | N19: =MIN(G19:I19) -> 1200 | O19: =F19*N19 -> 6000
A20: 6 | B20: МФУ CANON i-SENSYS MF269dw | C20: 051H/051 | D20: 95.11.10.130 | E20: ШТ | F20: 2 | G20: 1090 | H20: 1080 | I20: 1080 | J20: 3 | K20: =SQRT(((SUM((POWER(G20-M20,2)),(POWER(H20-M20,2)),(POWER(I20-M20,2)))/(J20-1)))) -> 5.7735027 | L20: =(K20*100)/M20 -> 0.53293871 | M20: =(G20+H20+I20)/3 -> 1083.3333 | N20: =MIN(G20:I20) -> 1080 | O20: =F20*N20 -> 2160
A21: 7 | B21: МФУ XeroxWorkcentre 5024 | C21: 006R01573 | D21: 95.11.10.130 | E21: ШТ | F21: 0 | J21: 3 | K21: =SQRT(((SUM((POWER(G21-M21,2)),(POWER(H21-M21,2)),(POWER(I21-M21,2)))/(J21-1)))) -> 0 | M21: =(G21+H21+I21)/3 -> 0 | N21: =MIN(G21:I21) -> 0 | O21: =F21*N21 -> 0
A22: 8 | B22: МФУ Xerox WC 5330 | C22: 006R01160 | D22: 95.11.10.130 | E22: ШТ | F22: 0 | J22: 3 | K22: =SQRT(((SUM((POWER(G22-M22,2)),(POWER(H22-M22,2)),(POWER(I22-M22,2)))/(J22-1)))) -> 0 | M22: =(G22+H22+I22)/3 -> 0 | N22: =MIN(G22:I22) -> 0 | O22: =F22*N22 -> 0
A23: 9 | B23: МФУ Kyocera M2040DN | C23: ТК-1170 | D23: 95.11.10.130 | E23: ШТ | F23: 0 | J23: 3 | K23: =SQRT(((SUM((POWER(G23-M23,2)),(POWER(H23-M23,2)),(POWER(I23-M23,2)))/(J23-1)))) -> 0 | M23: =(G23+H23+I23)/3 -> 0 | N23: =MIN(G23:I23) -> 0 | O23: =F23*N23 -> 0
E24: Итого: | F24: =SUM(F15:F23) -> 34 | G24: =SUM(G15:G23) -> 6110 | H24: =SUM(H15:H23) -> 6010 | I24: =SUM(I15:I23) -> 6104 | N24: Итого: | O24: =SUM(O15:O23) -> 37320
A26: На основании проведенного анализа рынка и расчетов, НМЦК(ЦК) составляет: | J26: =O24 -> 37320 | K26: рублей
A27: * Основываясь на принципе эффективности использования бюджетных средств (статья 34 Бюджетного кодекса Российской Федерации от 31.07.1998 N 145-ФЗ) для расчета цены контракта выбраны минимальные ценовые предложения.
A28: Дата подготовки обоснования НМЦК: 23.07.2025
A30: Работник контрактной службы/контрактный управляющий:
A31: Экономист
A32: (должность)
A33: /Платонова Н.В.
A34: (подпись/расшифровка подписи)

Sheet НМЦК ремонт
A3: Обоснование начальной (максимальной) цены контракта, цены контракта, заключаемого с единственным поставщиком (подрядчиком, исполнителем)
A5: Характеристики объекта закупки: | C5: Оказание услуг по ремонту оргтехники
A7: Используемый метод определения НМЦК с обоснованием: | C7: Метод сопоставимых рыночных цен (анализа рынка) В соответствии с п. 5.2 Положения о закупке товаров, работ, услуг Санкт-Петербургского государственного бюджетного учреждения «Психоневрологический диспансер № 10», утвержденного Распоряжением администрации Адмиралтейского района №3412 от 29.11.2024 г., применен метод обоснования начальной (максимальной) цены: метод рыночных цен (анализ рынка).
A9: Расчёт НМЦК(ЦК)
A13: № | B13: Наименование товара, услуги (работы) | C13: Модель | D13: ОКПД2/КТРУ | E13: Единица измерения | F13: Кол-во | G13: Источники цены (руб.) | K13: Среднее квадратичное отклонение | L13: Коэффициент вариации (%) | M13: Средняя цена (руб.) | N13: Минимальная цена (руб.) * | O13: НМЦК(ЦК) (руб.)
G14: цена источника 1 (вх. № 503 от 04.07.2025) | H14: цена источника 2 (вх. № 504 от 04.07.2025) | I14: цена источника 3 (вх. № 505 от 04.07.2025) | J14: Количество источников ценовой информации
A15: 1 | B15: Ремонт принтера (замена тормозной площадки JC96-04743A, ролика захвата бумаги 130N01540) | C15: Принтер XEROX Phaser 3250 | D15: 95.11.10.190 | E15: ШТ | F15: 3 | G15: 2004 | H15: 1984 | I15: 1964 | J15: 3 | K15: =SQRT(((SUM((POWER(G15-M15,2)),(POWER(H15-M15,2)),(POWER(I15-M15,2)))/(J15-1)))) -> 20 | L15: =(K15*100)/M15 -> 1.0080645 | M15: =(G15+H15+I15)/3 -> 1984 | N15: =MIN(G15:I15) -> 1964 | O15: =F15*N15 -> 5892
A16: 2 | B16: Ремонт принтера (замена термоблока в сборе 126N00296 | 126N00296) | C16: Принтер XEROX Phaser 3250 | D16: 95.11.10.190 | E16: ШТ | F16: 1 | G16: 7905 | H16: 7885 | I16: 7865 | J16: 3 | K16: =SQRT(((SUM((POWER(G16-M16,2)),(POWER(H16-M16,2)),(POWER(I16-M16,2)))/(J16-1)))) -> 20 | L16: =(K16*100)/M16 -> 0.25364616 | M16: =(G16+H16+I16)/3 -> 7885 | N16: =MIN(G16:I16) -> 7865 | O16: =F16*N16 -> 7865
A17: 3 | B17: Ремонт принтера (замена ролика захвата 130N01760, и отделения 050N00683 бумаги) | C17: Принтер XEROX Phaser 3260 | D17: 95.11.10.190 | E17: ШТ | F17: 4 | G17: 6538 | H17: 6518 | I17: 6498 | J17: 3 | K17: =SQRT(((SUM((POWER(G17-M17,2)),(POWER(H17-M17,2)),(POWER(I17-M17,2)))/(J17-1)))) -> 20 | L17: =(K17*100)/M17 -> 0.30684259 | M17: =(G17+H17+I17)/3 -> 6518 | N17: =MIN(G17:I17) -> 6498 | O17: =F17*N17 -> 25992
E18: Итого: | F18: =SUM(F15:F17) -> 8 | G18: =SUM(G15:G17) -> 16447 | H18: =SUM(H15:H17) -> 16387 | I18: =SUM(I15:I17) -> 16327 | N18: Итого: | O18: =SUM(O15:O17) -> 39749
A20: На основании проведенного анализа рынка и расчетов, НМЦК(ЦК) составляет: | J20: =O18 -> 39749 | K20: рублей
A21: * Основываясь на принципе эффективности использования бюджетных средств (статья 34 Бюджетного кодекса Российской Федерации от 31.07.1998 N 145-ФЗ) для расчета цены контракта выбраны минимальные ценовые предложения.
A22: Дата подготовки обоснования НМЦК: 23.07.2025
A24: Работник контрактной службы/контрактный управляющий:
A25: Экономист
A26: (должность)
A27: /Платонова Н.В.
A28: (подпись/расшифровка подписи)

Sheet НМЦК профилактика
A3: Обоснование начальной (максимальной) цены контракта, цены контракта, заключаемого с единственным поставщиком (подрядчиком, исполнителем)
A5: Характеристики объекта закупки: | C5: Оказание услуг по диагностике/профилактике оргтехники
A7: Используемый метод определения НМЦК с обоснованием: | C7: Метод сопоставимых рыночных цен (анализа рынка) В соответствии с п. 5.2 Положения о закупке товаров, работ, услуг Санкт-Петербургского государственного бюджетного учреждения «Психоневрологический диспансер № 10», утвержденного Распоряжением администрации Адмиралтейского района №3412 от 29.11.2024 г., применен метод обоснования начальной (максимальной) цены: метод рыночных цен (анализ рынка).
A9: Расчёт НМЦК(ЦК)
A13: № | B13: Наименование товара, услуги (работы) | D13: ОКПД2/КТРУ | E13: Единица измерения | F13: Кол-во | G13: Источники цены (руб.) | K13: Среднее квадратичное отклонение | L13: Коэффициент вариации (%) | M13: Средняя цена (руб.) | N13: Минимальная цена (руб.) * | O13: НМЦК(ЦК) (руб.)
G14: цена источника 1 (вх. № 503 от 04.07.2025) | H14: цена источника 2 (вх. № 504 от 04.07.2025) | I14: цена источника 3 (вх. № 505 от 04.07.2025) | J14: Количество источников ценовой информации
A15: 1 | B15: Принтер XEROX Phaser 3250dn | C15: Диагностика/профилактика | D15: 95.11.10.190 | E15: ШТ | F15: 7 | G15: 990 | H15: 980 | I15: 960 | J15: 3 | K15: =SQRT(((SUM((POWER(G15-M15,2)),(POWER(H15-M15,2)),(POWER(I15-M15,2)))/(J15-1)))) -> 15.275252 | L15: =(K15*100)/M15 -> 1.564019 | M15: =(G15+H15+I15)/3 -> 976.66667 | N15: =MIN(G15:I15) -> 960 | O15: =F15*N15 -> 6720
A16: 2 | B16: Принтер Xerox Phaser 3260 D | C16: Диагностика/профилактика | D16: 95.11.10.190 | E16: ШТ | F16: 7 | G16: 990 | H16: 980 | I16: 960 | J16: 3 | K16: =SQRT(((SUM((POWER(G16-M16,2)),(POWER(H16-M16,2)),(POWER(I16-M16,2)))/(J16-1)))) -> 15.275252 | L16: =(K16*100)/M16 -> 1.564019 | M16: =(G16+H16+I16)/3 -> 976.66667 | N16: =MIN(G16:I16) -> 960 | O16: =F16*N16 -> 6720
A17: 3 | B17: Принтер Xerox Phaser 6600DN | C17: Диагностика/профилактика | D17: 95.11.10.190 | E17: ШТ | F17: 2 | G17: 1450 | H17: 1440 | I17: 1440 | J17: 3 | K17: =SQRT(((SUM((POWER(G17-M17,2)),(POWER(H17-M17,2)),(POWER(I17-M17,2)))/(J17-1)))) -> 5.7735027 | L17: =(K17*100)/M17 -> 0.40001173 | M17: =(G17+H17+I17)/3 -> 1443.3333 | N17: =MIN(G17:I17) -> 1440 | O17: =F17*N17 -> 2880
A18: 4 | B18: МФУ XEROX WorkCentre 3335DNI WC3345 | C18: Диагностика/профилактика | D18: 95.11.10.190 | E18: ШТ | F18: 4 | G18: 1450 | H18: 1440 | I18: 1432 | J18: 3 | K18: =SQRT(((SUM((POWER(G18-M18,2)),(POWER(H18-M18,2)),(POWER(I18-M18,2)))/(J18-1)))) -> 9.0184995 | L18: =(K18*100)/M18 -> 0.62599488 | M18: =(G18+H18+I18)/3 -> 1440.6667 | N18: =MIN(G18:I18) -> 1432 | O18: =F18*N18 -> 5728
A19: 5 | B19: МФУ CANON i-SENSYS MF269dw | C19: Диагностика/профилактика | D19: 95.11.10.190 | E19: ШТ | F19: 3 | G19: 1450 | H19: 1440 | I19: 1432 | J19: 3 | K19: =SQRT(((SUM((POWER(G19-M19,2)),(POWER(H19-M19,2)),(POWER(I19-M19,2)))/(J19-1)))) -> 9.0184995 | L19: =(K19*100)/M19 -> 0.62599488 | M19: =(G19+H19+I19)/3 -> 1440.6667 | N19: =MIN(G19:I19) -> 1432 | O19: =F19*N19 -> 4296
A20: 6 | B20: Принтер Samsung SL-M2020 | C20: Диагностика/профилактика | D20: 95.11.10.190 | E20: ШТ | F20: 1 | G20: 1010 | H20: 990 | I20: 960 | J20: 3 | K20: =SQRT(((SUM((POWER(G20-M20,2)),(POWER(H20-M20,2)),(POWER(I20-M20,2)))/(J20-1)))) -> 25.166115 | L20: =(K20*100)/M20 -> 2.5506197 | M20: =(G20+H20+I20)/3 -> 986.66667 | N20: =MIN(G20:I20) -> 960 | O20: =F20*N20 -> 960
A21: 7 | B21: МФУ XeroxWorkcentre 5024 | C21: Диагностика/профилактика | D21: 95.11.10.190 | E21: ШТ | F21: 1 | G21: 1950 | H21: 1900 | I21: 1984 | J21: 3 | K21: =SQRT(((SUM((POWER(G21-M21,2)),(POWER(H21-M21,2)),(POWER(I21-M21,2)))/(J21-1)))) -> 42.253205 | L21: =(K21*100)/M21 -> 2.1727737 | M21: =(G21+H21+I21)/3 -> 1944.6667 | N21: =MIN(G21:I21) -> 1900 | O21: =F21*N21 -> 1900
A22: 8 | B22: МФУ Xerox WC 5330 | C22: Диагностика/профилактика | D22: 95.11.10.190 | E22: ШТ | F22: 1 | G22: 1950 | H22: 1900 | I22: 1984 | J22: 3 | K22: =SQRT(((SUM((POWER(G22-M22,2)),(POWER(H22-M22,2)),(POWER(I22-M22,2)))/(J22-1)))) -> 42.253205 | L22: =(K22*100)/M22 -> 2.1727737 | M22: =(G22+H22+I22)/3 -> 1944.6667 | N22: =MIN(G22:I22) -> 1900 | O22: =F22*N22 -> 1900
A23: 9 | B23: МФУ Kyocera taskaifa 181 | C23: Диагностика/профилактика | D23: 95.11.10.190 | E23: ШТ | F23: 1 | G23: 1950 | H23: 1900 | I23: 1984 | J23: 3 | K23: =SQRT(((SUM((POWER(G23-M23,2)),(POWER(H23-M23,2)),(POWER(I23-M23,2)))/(J23-1)))) -> 42.253205 | L23: =(K23*100)/M23 -> 2.1727737 | M23: =(G23+H23+I23)/3 -> 1944.6667 | N23: =MIN(G23:I23) -> 1900 | O23: =F23*N23 -> 1900
E24: Итого: | F24: =SUM(F15:F23) -> 27 | G24: =SUM(G15:G23) -> 13190 | H24: =SUM(H15:H23) -> 12970 | I24: =SUM(I15:I23) -> 13136 | N24: Итого: | O24: =SUM(O15:O23) -> 33004
A26: На основании проведенного анализа рынка и расчетов, НМЦК(ЦК) составляет: | J26: =O24 -> 33004 | K26: рублей
A27: * Основываясь на принципе эффективности использования бюджетных средств (статья 34 Бюджетного кодекса Российской Федерации от 31.07.1998 N 145-ФЗ) для расчета цены контракта выбраны минимальные ценовые предложения.
A28: Дата подготовки обоснования НМЦК: 23.07.2025
A30: Работник контрактной службы/контрактный управляющий:
A31: Экономист
A32: (должность)
A33: /Платонова Н.В.
A34: (подпись/расшифровка подписи)
